{"text_format":"1","workbook":"xlsx","n_sheets":7,"sheets":["Kollega oplysninger","Lokallønsprocenten","Uddybende lønoplysninger","Baglandsarbejdet","Økonomisk råderum","Hjælpeark til beregning","NULSTIL"],"not_rendered":{"charts":0,"images":4,"macros":1,"external_links":0,"defined_names":6,"comments":6,"pivot_tables":0},"unopened":[],"bounds":{"document_bytes":16777216,"sheet_cells":100000,"rows_first":2000,"rows_last":500,"rows_between":2000,"halvings":0,"cell_chars":16384,"cell_head_chars":4096},"cells_cut":0,"cells_raw":0,"read":"whole","date_system":"1900"}

{"sheet":"Kollega oplysninger","index":0,"n_rows":6,"n_cols":16,"rows_kept":6,"cut":false,"hidden":false,"merged":[[3,15,9,16]]}
[]
[null,null,null,null,"Listen opdateret:","xx.xx.xxxx"]
[]
[null,"Navn","Fødsels-","Adresse","Postnr.","Telefon-","Mobil-","Email-","Faggruppe","Stilling","Arbejds-","Timer","FOA","Tillids-",null,"I hver kolonneoverskrift er der en lille rød trekant i hjørnet. Klik på trekanten for vejledning til den enkelte kolonne"]
[null,null,"Dato",null,"By","nummer","nummer","Adresse",null,null,"sted","pr uge","medlem","hverv"]
[null,"Jane Doe","1985-01-12","Hovedgaden 12","7430 Ikast",12345678,23456789,"abcd@mail.dk","SOSU-hjælper","dagvagt","Kløvervangen","32/37","ja","nej"]

{"sheet":"Lokallønsprocenten","index":1,"n_rows":506,"n_cols":39,"rows_kept":506,"cut":false,"hidden":false,"merged":[[16,35,17,35],[17,28,29,28],[18,35,19,35],[6,28,7,28],[6,35,7,35],[8,28,9,28],[8,35,9,35],[11,35,12,35],[13,35,14,35],[3,35,4,35],[0,9,0,10],[0,12,0,21],[2,9,2,10],[2,12,2,14],[2,16,2,18],[2,20,2,21],[2,30,2,33],[3,26,4,26],[3,28,4,28],[3,30,4,30],[3,32,4,32]]}
[null,null,null,null,null,null,null,null,null,null,null,null,"I disse kolonner skrives alle tillæg uanset om de er centralt eller lokalt aftalt"]
[null,null,null,null,"Listen opdateret:","xx.xx.xxxx"]
[null,null,null,null,null,null,null,null,null,"Grundløn",null,null,"Kvalifikationsløn",null,null,null,"Funktionsløn",null,null,null,"Resultatløn",null,null,null,null,null,null,null,null,null,"Andelen af lokalløn fordelt efter type"]
[null,"Navn","Fødsels-","Ansat","ancinnitet",{"$f":"IF('Kollega oplysninger'!I4=\"\",\"\",'Kollega oplysninger'!I4)","v":"Faggruppe"},{"$f":"IF('Kollega oplysninger'!J4=\"\",\"\",'Kollega oplysninger'!J4)","v":"Stilling"},{"$f":"'Kollega oplysninger'!L4","v":"Timer"},null,"løn i","løn i kr.",null,"løn i","løn i kr.","Givet ",null,"løn i","løn i kr.","Givet ",null,"løn i kr.","Givet ",null,"Andel af","Løn","Lokal","FOA",null,"Gennemsnit",null,"Kvalifikations-løn","Lokal","Funktionsløn","Lokal",null,"Gennemsnit"]
[null,null,"Dato","dato","data",{"$f":"IF('Kollega oplysninger'!I5=\"\",\"\",'Kollega oplysninger'!I5)","v":""},{"$f":"IF('Kollega oplysninger'!J5=\"\",\"\",'Kollega oplysninger'!J5)","v":""},{"$f":"'Kollega oplysninger'!L5","v":"pr uge"},null,"trin","tillæg",null,"trin","tillæg","for",null,"trin","tillæg","for",null,"tillæg","for",null,"lokal løn","i alt kr.","løn %",null,null,null,null,null,"løn %",null,"løn %"]
[null,{"$f":"IF('Kollega oplysninger'!B6=\"\",\"\",'Kollega oplysninger'!B6)","v":"Jane Doe"},{"$f":"IF('Kollega oplysninger'!C6=\"\",\"\",'Kollega oplysninger'!C6)","v":"1985-01-12"},null,"xx.xx.xxxx",{"$f":"IF('Kollega oplysninger'!I6=\"\",\"\",'Kollega oplysninger'!I6)","v":"SOSU-hjælper"},{"$f":"IF('Kollega oplysninger'!J6=\"\",\"\",'Kollega oplysninger'!J6)","v":"dagvagt"},{"$f":"IF('Kollega oplysninger'!L6=\"\",\"\",'Kollega oplysninger'!L6)","v":"32/37"},null,"trin 20",12900,null,"6 trin",12900,"note",null,"2 trin",12900,"note",null,12900,"note",null,500,22343.74,{"$f":"IF(Y6<X6,\"fejl\",IF(Y6=\"\",\"\",IF(X6=\"\",0,X6/Y6)))","v":2.2377632392786524E-2},{"$f":"IF('Kollega oplysninger'!M6=\"\",\"\",'Kollega oplysninger'!M6)","v":"ja"},null,null,null,200,{"$f":"IF(Y6<AE6,\"fejl\",IF(Y6=\"\",\"\",IF(AE6=\"\",0,AE6/Y6)))","v":8.9510529571146091E-3},300,{"$f":"IF(Y6<AG6,\"fejl\",IF(Y6=\"\",\"\",IF(AG6=\"\",0,AG6/Y6)))","v":1.3426579435671914E-2},null,null,null,{"$f":"IF(Z6=\"fejl\",X6,\"\")","v":""},{"$f":"IF(Z6=\"fejl\",Y6,\"\")","v":""}]
[null,{"$f":"IF('Kollega oplysninger'!B7=\"\",\"\",'Kollega oplysninger'!B7)","v":""},{"$f":"IF('Kollega oplysninger'!C7=\"\",\"\",'Kollega oplysninger'!C7)","v":""},null,null,{"$f":"IF('Kollega oplysninger'!I7=\"\",\"\",'Kollega oplysninger'!I7)","v":""},{"$f":"IF('Kollega oplysninger'!J7=\"\",\"\",'Kollega oplysninger'!J7)","v":""},{"$f":"IF('Kollega oplysninger'!L7=\"\",\"\",'Kollega oplysninger'!L7)","v":""},null,null,null,null,null,null,null,null,null,null,null,null,null,null,null,null,null,{"$f":"IF(Y7<X7,\"fejl\",IF(Y7=\"\",\"\",IF(X7=\"\",0,X7/Y7)))","v":""},{"$f":"IF('Kollega oplysninger'!M7=\"\",\"\",'Kollega oplysninger'!M7)","v":""},null,"Samlet       lokalløn %",null,null,{"$f":"IF(Y7<AE7,\"fejl\",IF(Y7=\"\",\"\",IF(AE7=\"\",0,AE7/Y7)))","v":""},null,{"$f":"IF(Y7<AG7,\"fejl\",IF(Y7=\"\",\"\",IF(AG7=\"\",0,AG7/Y7)))","v":""},null,"Heraf    Kvalifkationsløn %",null,{"$f":"IF(Z7=\"fejl\",X7,\"\")","v":""},{"$f":"IF(Z7=\"fejl\",Y7,\"\")","v":""}]
[null,{"$f":"IF('Kollega oplysninger'!B8=\"\",\"\",'Kollega oplysninger'!B8)","v":""},{"$f":"IF('Kollega oplysninger'!C8=\"\",\"\",'Kollega oplysninger'!C8)","v":""},null,null,{"$f":"IF('Kollega oplysninger'!I8=\"\",\"\",'Kollega oplysninger'!I8)","v":""},{"$f":"IF('Kollega oplysninger'!J8=\"\",\"\",'Kollega oplysninger'!J8)","v":""},{"$f":"IF('Kollega oplysninger'!L8=\"\",\"\",'Kollega oplysninger'!L8)","v":""},null,null,null,null,null,null,null,null,null,null,null,null,null,null,null,null,null,"",{"$f":"IF('Kollega oplysninger'!M8=\"\",\"\",'Kollega oplysninger'!M8)","v":""},null,null,null,null,"",null,"",null,null,null,"",""]
[null,{"$f":"IF('Kollega oplysninger'!B9=\"\",\"\",'Kollega oplysninger'!B9)","v":""},{"$f":"IF('Kollega oplysninger'!C9=\"\",\"\",'Kollega oplysninger'!C9)","v":""},null,null,{"$f":"IF('Kollega oplysninger'!I9=\"\",\"\",'Kollega oplysninger'!I9)","v":""},{"$f":"IF('Kollega oplysninger'!J9=\"\",\"\",'Kollega oplysninger'!J9)","v":""},{"$f":"IF('Kollega oplysninger'!L9=\"\",\"\",'Kollega oplysninger'!L9)","v":""},null,null,null,null,null,null,null,null,null,null,null,null,null,null,null,null,null,"",{"$f":"IF('Kollega oplysninger'!M9=\"\",\"\",'Kollega oplysninger'!M9)","v":""},null,{"$f":"(X506-AL506)/(Y506-AM506)*100","v":2.2377632392786522},null,null,"",null,"",null,{"$f":"AE506/Y506*100","v":0.89510529571146091},null,"",""]
[null,{"$f":"IF('Kollega oplysninger'!B10=\"\",\"\",'Kollega oplysninger'!B10)","v":""},{"$f":"IF('Kollega oplysninger'!C10=\"\",\"\",'Kollega oplysninger'!C10)","v":""},null,null,{"$f":"IF('Kollega oplysninger'!I10=\"\",\"\",'Kollega oplysninger'!I10)","v":""},{"$f":"IF('Kollega oplysninger'!J10=\"\",\"\",'Kollega oplysninger'!J10)","v":""},{"$f":"IF('Kollega oplysninger'!L10=\"\",\"\",'Kollega oplysninger'!L10)","v":""},null,null,null,null,null,null,null,null,null,null,null,null,null,null,null,null,null,"",{"$f":"IF('Kollega oplysninger'!M10=\"\",\"\",'Kollega oplysninger'!M10)","v":""},null,null,null,null,"",null,"",null,null,null,"",""]
[null,{"$f":"IF('Kollega oplysninger'!B11=\"\",\"\",'Kollega oplysninger'!B11)","v":""},{"$f":"IF('Kollega oplysninger'!C11=\"\",\"\",'Kollega oplysninger'!C11)","v":""},null,null,{"$f":"IF('Kollega oplysninger'!I11=\"\",\"\",'Kollega oplysninger'!I11)","v":""},{"$f":"IF('Kollega oplysninger'!J11=\"\",\"\",'Kollega oplysninger'!J11)","v":""},{"$f":"IF('Kollega oplysninger'!L11=\"\",\"\",'Kollega oplysninger'!L11)","v":""},null,null,null,null,null,null,null,null,null,null,null,null,null,null,null,null,null,"",{"$f":"IF('Kollega oplysninger'!M11=\"\",\"\",'Kollega oplysninger'!M11)","v":""},null,null,null,null,"",null,"",null,null,null,"",""]
[null,{"$f":"IF('Kollega oplysninger'!B12=\"\",\"\",'Kollega oplysninger'!B12)","v":""},{"$f":"IF('Kollega oplysninger'!C12=\"\",\"\",'Kollega oplysninger'!C12)","v":""},null,null,{"$f":"IF('Kollega oplysninger'!I12=\"\",\"\",'Kollega oplysninger'!I12)","v":""},{"$f":"IF('Kollega oplysninger'!J12=\"\",\"\",'Kollega oplysninger'!J12)","v":""},{"$f":"IF('Kollega oplysninger'!L12=\"\",\"\",'Kollega oplysninger'!L12)","v":""},null,null,null,null,null,null,null,null,null,null,null,null,null,null,null,null,null,"",{"$f":"IF('Kollega oplysninger'!M12=\"\",\"\",'Kollega oplysninger'!M12)","v":""},null,null,null,null,"",null,"",null,"Heraf  Funktionsløn %",null,"",""]
[null,{"$f":"IF('Kollega oplysninger'!B13=\"\",\"\",'Kollega oplysninger'!B13)","v":""},{"$f":"IF('Kollega oplysninger'!C13=\"\",\"\",'Kollega oplysninger'!C13)","v":""},null,null,{"$f":"IF('Kollega oplysninger'!I13=\"\",\"\",'Kollega oplysninger'!I13)","v":""},{"$f":"IF('Kollega oplysninger'!J13=\"\",\"\",'Kollega oplysninger'!J13)","v":""},{"$f":"IF('Kollega oplysninger'!L13=\"\",\"\",'Kollega oplysninger'!L13)","v":""},null,null,null,null,null,null,null,null,null,null,null,null,null,null,null,null,null,"",{"$f":"IF('Kollega oplysninger'!M13=\"\",\"\",'Kollega oplysninger'!M13)","v":""},null,null,null,null,"",null,"",null,null,null,"",""]
[null,{"$f":"IF('Kollega oplysninger'!B14=\"\",\"\",'Kollega oplysninger'!B14)","v":""},{"$f":"IF('Kollega oplysninger'!C14=\"\",\"\",'Kollega oplysninger'!C14)","v":""},null,null,{"$f":"IF('Kollega oplysninger'!I14=\"\",\"\",'Kollega oplysninger'!I14)","v":""},{"$f":"IF('Kollega oplysninger'!J14=\"\",\"\",'Kollega oplysninger'!J14)","v":""},{"$f":"IF('Kollega oplysninger'!L14=\"\",\"\",'Kollega oplysninger'!L14)","v":""},null,null,null,null,null,null,null,null,null,null,null,null,null,null,null,null,null,"",{"$f":"IF('Kollega oplysninger'!M14=\"\",\"\",'Kollega oplysninger'!M14)","v":""},null,null,null,null,"",null,"",null,{"$f":"AG506/Y506*100","v":1.3426579435671915},null,"",""]
[null,{"$f":"IF('Kollega oplysninger'!B15=\"\",\"\",'Kollega oplysninger'!B15)","v":""},{"$f":"IF('Kollega oplysninger'!C15=\"\",\"\",'Kollega oplysninger'!C15)","v":""},null,null,{"$f":"IF('Kollega oplysninger'!I15=\"\",\"\",'Kollega oplysninger'!I15)","v":""},{"$f":"IF('Kollega oplysninger'!J15=\"\",\"\",'Kollega oplysninger'!J15)","v":""},{"$f":"IF('Kollega oplysninger'!L15=\"\",\"\",'Kollega oplysninger'!L15)","v":""},null,null,null,null,null,null,null,null,null,null,null,null,null,null,null,null,null,"",{"$f":"IF('Kollega oplysninger'!M15=\"\",\"\",'Kollega oplysninger'!M15)","v":""},null,null,null,null,"",null,"",null,null,null,"",""]
[null,{"$f":"IF('Kollega oplysninger'!B16=\"\",\"\",'Kollega oplysninger'!B16)","v":""},{"$f":"IF('Kollega oplysninger'!C16=\"\",\"\",'Kollega oplysninger'!C16)","v":""},null,null,{"$f":"IF('Kollega oplysninger'!I16=\"\",\"\",'Kollega oplysninger'!I16)","v":""},{"$f":"IF('Kollega oplysninger'!J16=\"\",\"\",'Kollega oplysninger'!J16)","v":""},{"$f":"IF('Kollega oplysninger'!L16=\"\",\"\",'Kollega oplysninger'!L16)","v":""},null,null,null,null,null,null,null,null,null,null,null,null,null,null,null,null,null,"",{"$f":"IF('Kollega oplysninger'!M16=\"\",\"\",'Kollega oplysninger'!M16)","v":""},null,null,null,null,"",null,"",null,null,null,"",""]
[null,{"$f":"IF('Kollega oplysninger'!B17=\"\",\"\",'Kollega oplysninger'!B17)","v":""},{"$f":"IF('Kollega oplysninger'!C17=\"\",\"\",'Kollega oplysninger'!C17)","v":""},null,null,{"$f":"IF('Kollega oplysninger'!I17=\"\",\"\",'Kollega oplysninger'!I17)","v":""},{"$f":"IF('Kollega oplysninger'!J17=\"\",\"\",'Kollega oplysninger'!J17)","v":""},{"$f":"IF('Kollega oplysninger'!L17=\"\",\"\",'Kollega oplysninger'!L17)","v":""},null,null,null,null,null,null,null,null,null,null,null,null,null,null,null,null,null,"",{"$f":"IF('Kollega oplysninger'!M17=\"\",\"\",'Kollega oplysninger'!M17)","v":""},null,null,null,null,"",null,"",null,"Samlet       lokalløn %",null,"",""]
[null,{"$f":"IF('Kollega oplysninger'!B18=\"\",\"\",'Kollega oplysninger'!B18)","v":""},{"$f":"IF('Kollega oplysninger'!C18=\"\",\"\",'Kollega oplysninger'!C18)","v":""},null,null,{"$f":"IF('Kollega oplysninger'!I18=\"\",\"\",'Kollega oplysninger'!I18)","v":""},{"$f":"IF('Kollega oplysninger'!J18=\"\",\"\",'Kollega oplysninger'!J18)","v":""},{"$f":"IF('Kollega oplysninger'!L18=\"\",\"\",'Kollega oplysninger'!L18)","v":""},null,null,null,null,null,null,null,null,null,null,null,null,null,null,null,null,null,"",{"$f":"IF('Kollega oplysninger'!M18=\"\",\"\",'Kollega oplysninger'!M18)","v":""},null,"Hvis du er interesseret i at opdele lokallønsprocenten i hvor stor en andel der er kvalifikationsløn og funktionsløn kan du opdele lønnen i de følgende kolonner. ",null,null,"",null,"",null,null,null,"",""]
[null,{"$f":"IF('Kollega oplysninger'!B19=\"\",\"\",'Kollega oplysninger'!B19)","v":""},{"$f":"IF('Kollega oplysninger'!C19=\"\",\"\",'Kollega oplysninger'!C19)","v":""},null,null,{"$f":"IF('Kollega oplysninger'!I19=\"\",\"\",'Kollega oplysninger'!I19)","v":""},{"$f":"IF('Kollega oplysninger'!J19=\"\",\"\",'Kollega oplysninger'!J19)","v":""},{"$f":"IF('Kollega oplysninger'!L19=\"\",\"\",'Kollega oplysninger'!L19)","v":""},null,null,null,null,null,null,null,null,null,null,null,null,null,null,null,null,null,"",{"$f":"IF('Kollega oplysninger'!M19=\"\",\"\",'Kollega oplysninger'!M19)","v":""},null,null,null,null,"",null,"",null,{"$f":"AJ14+AJ9","v":2.2377632392786522},null,"",""]
[null,{"$f":"IF('Kollega oplysninger'!B20=\"\",\"\",'Kollega oplysninger'!B20)","v":""},{"$f":"IF('Kollega oplysninger'!C20=\"\",\"\",'Kollega oplysninger'!C20)","v":""},null,null,{"$f":"IF('Kollega oplysninger'!I20=\"\",\"\",'Kollega oplysninger'!I20)","v":""},{"$f":"IF('Kollega oplysninger'!J20=\"\",\"\",'Kollega oplysninger'!J20)","v":""},{"$f":"IF('Kollega oplysninger'!L20=\"\",\"\",'Kollega oplysninger'!L20)","v":""},null,null,null,null,null,null,null,null,null,null,null,null,null,null,null,null,null,"",{"$f":"IF('Kollega oplysninger'!M20=\"\",\"\",'Kollega oplysninger'!M20)","v":""},null,null,null,null,"",null,"",null,null,null,"",""]
[null,{"$f":"IF('Kollega oplysninger'!B21=\"\",\"\",'Kollega oplysninger'!B21)","v":""},{"$f":"IF('Kollega oplysninger'!C21=\"\",\"\",'Kollega oplysninger'!C21)","v":""},null,null,{"$f":"IF('Kollega oplysninger'!I21=\"\",\"\",'Kollega oplysninger'!I21)","v":""},{"$f":"IF('Kollega oplysninger'!J21=\"\",\"\",'Kollega oplysninger'!J21)","v":""},{"$f":"IF('Kollega oplysninger'!L21=\"\",\"\",'Kollega oplysninger'!L21)","v":""},null,null,null,null,null,null,null,null,null,null,null,null,null,null,null,null,null,"",{"$f":"IF('Kollega oplysninger'!M21=\"\",\"\",'Kollega oplysninger'!M21)","v":""},null,null,null,null,"",null,"",null,null,null,"",""]
[null,{"$f":"IF('Kollega oplysninger'!B22=\"\",\"\",'Kollega oplysninger'!B22)","v":""},{"$f":"IF('Kollega oplysninger'!C22=\"\",\"\",'Kollega oplysninger'!C22)","v":""},null,null,{"$f":"IF('Kollega oplysninger'!I22=\"\",\"\",'Kollega oplysninger'!I22)","v":""},{"$f":"IF('Kollega oplysninger'!J22=\"\",\"\",'Kollega oplysninger'!J22)","v":""},{"$f":"IF('Kollega oplysninger'!L22=\"\",\"\",'Kollega oplysninger'!L22)","v":""},null,null,null,null,null,null,null,null,null,null,null,null,null,null,null,null,null,"",{"$f":"IF('Kollega oplysninger'!M22=\"\",\"\",'Kollega oplysninger'!M22)","v":""},null,null,null,null,"",null,"",null,null,null,"",""]
[null,{"$f":"IF('Kollega oplysninger'!B23=\"\",\"\",'Kollega oplysninger'!B23)","v":""},{"$f":"IF('Kollega oplysninger'!C23=\"\",\"\",'Kollega oplysninger'!C23)","v":""},null,null,{"$f":"IF('Kollega oplysninger'!I23=\"\",\"\",'Kollega oplysninger'!I23)","v":""},{"$f":"IF('Kollega oplysninger'!J23=\"\",\"\",'Kollega oplysninger'!J23)","v":""},{"$f":"IF('Kollega oplysninger'!L23=\"\",\"\",'Kollega oplysninger'!L23)","v":""},null,null,null,null,null,null,null,null,null,null,null,null,null,null,null,null,null,"",{"$f":"IF('Kollega oplysninger'!M23=\"\",\"\",'Kollega oplysninger'!M23)","v":""},null,null,null,null,"",null,"",null,null,null,"",""]
[null,{"$f":"IF('Kollega oplysninger'!B24=\"\",\"\",'Kollega oplysninger'!B24)","v":""},{"$f":"IF('Kollega oplysninger'!C24=\"\",\"\",'Kollega oplysninger'!C24)","v":""},null,null,{"$f":"IF('Kollega oplysninger'!I24=\"\",\"\",'Kollega oplysninger'!I24)","v":""},{"$f":"IF('Kollega oplysninger'!J24=\"\",\"\",'Kollega oplysninger'!J24)","v":""},{"$f":"IF('Kollega oplysninger'!L24=\"\",\"\",'Kollega oplysninger'!L24)","v":""},null,null,null,null,null,null,null,null,null,null,null,null,null,null,null,null,null,"",{"$f":"IF('Kollega oplysninger'!M24=\"\",\"\",'Kollega oplysninger'!M24)","v":""},null,null,null,null,"",null,"",null,null,null,"",""]
[null,{"$f":"IF('Kollega oplysninger'!B25=\"\",\"\",'Kollega oplysninger'!B25)","v":""},{"$f":"IF('Kollega oplysninger'!C25=\"\",\"\",'Kollega oplysninger'!C25)","v":""},null,null,{"$f":"IF('Kollega oplysninger'!I25=\"\",\"\",'Kollega oplysninger'!I25)","v":""},{"$f":"IF('Kollega oplysninger'!J25=\"\",\"\",'Kollega oplysninger'!J25)","v":""},{"$f":"IF('Kollega oplysninger'!L25=\"\",\"\",'Kollega oplysninger'!L25)","v":""},null,null,null,null,null,null,null,null,null,null,null,null,null,null,null,null,null,"",{"$f":"IF('Kollega oplysninger'!M25=\"\",\"\",'Kollega oplysninger'!M25)","v":""},null,null,null,null,"",null,"",null,null,null,"",""]
[null,{"$f":"IF('Kollega oplysninger'!B26=\"\",\"\",'Kollega oplysninger'!B26)","v":""},{"$f":"IF('Kollega oplysninger'!C26=\"\",\"\",'Kollega oplysninger'!C26)","v":""},null,null,{"$f":"IF('Kollega oplysninger'!I26=\"\",\"\",'Kollega oplysninger'!I26)","v":""},{"$f":"IF('Kollega oplysninger'!J26=\"\",\"\",'Kollega oplysninger'!J26)","v":""},{"$f":"IF('Kollega oplysninger'!L26=\"\",\"\",'Kollega oplysninger'!L26)","v":""},null,null,null,null,null,null,null,null,null,null,null,null,null,null,null,null,null,"",{"$f":"IF('Kollega oplysninger'!M26=\"\",\"\",'Kollega oplysninger'!M26)","v":""},null,null,null,null,"",null,"",null,null,null,"",""]
[null,{"$f":"IF('Kollega oplysninger'!B27=\"\",\"\",'Kollega oplysninger'!B27)","v":""},{"$f":"IF('Kollega oplysninger'!C27=\"\",\"\",'Kollega oplysninger'!C27)","v":""},null,null,{"$f":"IF('Kollega oplysninger'!I27=\"\",\"\",'Kollega oplysninger'!I27)","v":""},{"$f":"IF('Kollega oplysninger'!J27=\"\",\"\",'Kollega oplysninger'!J27)","v":""},{"$f":"IF('Kollega oplysninger'!L27=\"\",\"\",'Kollega oplysninger'!L27)","v":""},null,null,null,null,null,null,null,null,null,null,null,null,null,null,null,null,null,"",{"$f":"IF('Kollega oplysninger'!M27=\"\",\"\",'Kollega oplysninger'!M27)","v":""},null,null,null,null,"",null,"",null,null,null,"",""]
[null,{"$f":"IF('Kollega oplysninger'!B28=\"\",\"\",'Kollega oplysninger'!B28)","v":""},{"$f":"IF('Kollega oplysninger'!C28=\"\",\"\",'Kollega oplysninger'!C28)","v":""},null,null,{"$f":"IF('Kollega oplysninger'!I28=\"\",\"\",'Kollega oplysninger'!I28)","v":""},{"$f":"IF('Kollega oplysninger'!J28=\"\",\"\",'Kollega oplysninger'!J28)","v":""},{"$f":"IF('Kollega oplysninger'!L28=\"\",\"\",'Kollega oplysninger'!L28)","v":""},null,null,null,null,null,null,null,null,null,null,null,null,null,null,null,null,null,"",{"$f":"IF('Kollega oplysninger'!M28=\"\",\"\",'Kollega oplysninger'!M28)","v":""},null,null,null,null,"",null,"",null,null,null,"",""]
[null,{"$f":"IF('Kollega oplysninger'!B29=\"\",\"\",'Kollega oplysninger'!B29)","v":""},{"$f":"IF('Kollega oplysninger'!C29=\"\",\"\",'Kollega oplysninger'!C29)","v":""},null,null,{"$f":"IF('Kollega oplysninger'!I29=\"\",\"\",'Kollega oplysninger'!I29)","v":""},{"$f":"IF('Kollega oplysninger'!J29=\"\",\"\",'Kollega oplysninger'!J29)","v":""},{"$f":"IF('Kollega oplysninger'!L29=\"\",\"\",'Kollega oplysninger'!L29)","v":""},null,null,null,null,null,null,null,null,null,null,null,null,null,null,null,null,null,"",{"$f":"IF('Kollega oplysninger'!M29=\"\",\"\",'Kollega oplysninger'!M29)","v":""},null,null,null,null,"",null,"",null,null,null,"",""]
[null,{"$f":"IF('Kollega oplysninger'!B30=\"\",\"\",'Kollega oplysninger'!B30)","v":""},{"$f":"IF('Kollega oplysninger'!C30=\"\",\"\",'Kollega oplysninger'!C30)","v":""},null,null,{"$f":"IF('Kollega oplysninger'!I30=\"\",\"\",'Kollega oplysninger'!I30)","v":""},{"$f":"IF('Kollega oplysninger'!J30=\"\",\"\",'Kollega oplysninger'!J30)","v":""},{"$f":"IF('Kollega oplysninger'!L30=\"\",\"\",'Kollega oplysninger'!L30)","v":""},null,null,null,null,null,null,null,null,null,null,null,null,null,null,null,null,null,"",{"$f":"IF('Kollega oplysninger'!M30=\"\",\"\",'Kollega oplysninger'!M30)","v":""},null,null,null,null,"",null,"",null,null,null,"",""]
[null,{"$f":"IF('Kollega oplysninger'!B31=\"\",\"\",'Kollega oplysninger'!B31)","v":""},{"$f":"IF('Kollega oplysninger'!C31=\"\",\"\",'Kollega oplysninger'!C31)","v":""},null,null,{"$f":"IF('Kollega oplysninger'!I31=\"\",\"\",'Kollega oplysninger'!I31)","v":""},{"$f":"IF('Kollega oplysninger'!J31=\"\",\"\",'Kollega oplysninger'!J31)","v":""},{"$f":"IF('Kollega oplysninger'!L31=\"\",\"\",'Kollega oplysninger'!L31)","v":""},null,null,null,null,null,null,null,null,null,null,null,null,null,null,null,null,null,"",{"$f":"IF('Kollega oplysninger'!M31=\"\",\"\",'Kollega oplysninger'!M31)","v":""},null,null,null,null,"",null,"",null,null,null,"",""]
[null,{"$f":"IF('Kollega oplysninger'!B32=\"\",\"\",'Kollega oplysninger'!B32)","v":""},{"$f":"IF('Kollega oplysninger'!C32=\"\",\"\",'Kollega oplysninger'!C32)","v":""},null,null,{"$f":"IF('Kollega oplysninger'!I32=\"\",\"\",'Kollega oplysninger'!I32)","v":""},{"$f":"IF('Kollega oplysninger'!J32=\"\",\"\",'Kollega oplysninger'!J32)","v":""},{"$f":"IF('Kollega oplysninger'!L32=\"\",\"\",'Kollega oplysninger'!L32)","v":""},null,null,null,null,null,null,null,null,null,null,null,null,null,null,null,null,null,"",{"$f":"IF('Kollega oplysninger'!M32=\"\",\"\",'Kollega oplysninger'!M32)","v":""},null,null,null,null,"",null,"",null,null,null,"",""]
[null,{"$f":"IF('Kollega oplysninger'!B33=\"\",\"\",'Kollega oplysninger'!B33)","v":""},{"$f":"IF('Kollega oplysninger'!C33=\"\",\"\",'Kollega oplysninger'!C33)","v":""},null,null,{"$f":"IF('Kollega oplysninger'!I33=\"\",\"\",'Kollega oplysninger'!I33)","v":""},{"$f":"IF('Kollega oplysninger'!J33=\"\",\"\",'Kollega oplysninger'!J33)","v":""},{"$f":"IF('Kollega oplysninger'!L33=\"\",\"\",'Kollega oplysninger'!L33)","v":""},null,null,null,null,null,null,null,null,null,null,null,null,null,null,null,null,null,"",{"$f":"IF('Kollega oplysninger'!M33=\"\",\"\",'Kollega oplysninger'!M33)","v":""},null,null,null,null,"",null,"",null,null,null,"",""]
[null,{"$f":"IF('Kollega oplysninger'!B34=\"\",\"\",'Kollega oplysninger'!B34)","v":""},{"$f":"IF('Kollega oplysninger'!C34=\"\",\"\",'Kollega oplysninger'!C34)","v":""},null,null,{"$f":"IF('Kollega oplysninger'!I34=\"\",\"\",'Kollega oplysninger'!I34)","v":""},{"$f":"IF('Kollega oplysninger'!J34=\"\",\"\",'Kollega oplysninger'!J34)","v":""},{"$f":"IF('Kollega oplysninger'!L34=\"\",\"\",'Kollega oplysninger'!L34)","v":""},null,null,null,null,null,null,null,null,null,null,null,null,null,null,null,null,null,"",{"$f":"IF('Kollega oplysninger'!M34=\"\",\"\",'Kollega oplysninger'!M34)","v":""},null,null,null,null,"",null,"",null,null,null,"",""]
[null,{"$f":"IF('Kollega oplysninger'!B35=\"\",\"\",'Kollega oplysninger'!B35)","v":""},{"$f":"IF('Kollega oplysninger'!C35=\"\",\"\",'Kollega oplysninger'!C35)","v":""},null,null,{"$f":"IF('Kollega oplysninger'!I35=\"\",\"\",'Kollega oplysninger'!I35)","v":""},{"$f":"IF('Kollega oplysninger'!J35=\"\",\"\",'Kollega oplysninger'!J35)","v":""},{"$f":"IF('Kollega oplysninger'!L35=\"\",\"\",'Kollega oplysninger'!L35)","v":""},null,null,null,null,null,null,null,null,null,null,null,null,null,null,null,null,null,"",{"$f":"IF('Kollega oplysninger'!M35=\"\",\"\",'Kollega oplysninger'!M35)","v":""},null,null,null,null,"",null,"",null,null,null,"",""]
[null,{"$f":"IF('Kollega oplysninger'!B36=\"\",\"\",'Kollega oplysninger'!B36)","v":""},{"$f":"IF('Kollega oplysninger'!C36=\"\",\"\",'Kollega oplysninger'!C36)","v":""},null,null,{"$f":"IF('Kollega oplysninger'!I36=\"\",\"\",'Kollega oplysninger'!I36)","v":""},{"$f":"IF('Kollega oplysninger'!J36=\"\",\"\",'Kollega oplysninger'!J36)","v":""},{"$f":"IF('Kollega oplysninger'!L36=\"\",\"\",'Kollega oplysninger'!L36)","v":""},null,null,null,null,null,null,null,null,null,null,null,null,null,null,null,null,null,"",{"$f":"IF('Kollega oplysninger'!M36=\"\",\"\",'Kollega oplysninger'!M36)","v":""},null,null,null,null,"",null,"",null,null,null,"",""]
[null,{"$f":"IF('Kollega oplysninger'!B37=\"\",\"\",'Kollega oplysninger'!B37)","v":""},{"$f":"IF('Kollega oplysninger'!C37=\"\",\"\",'Kollega oplysninger'!C37)","v":""},null,null,{"$f":"IF('Kollega oplysninger'!I37=\"\",\"\",'Kollega oplysninger'!I37)","v":""},{"$f":"IF('Kollega oplysninger'!J37=\"\",\"\",'Kollega oplysninger'!J37)","v":""},{"$f":"IF('Kollega oplysninger'!L37=\"\",\"\",'Kollega oplysninger'!L37)","v":""},null,null,null,null,null,null,null,null,null,null,null,null,null,null,null,null,null,"",{"$f":"IF('Kollega oplysninger'!M37=\"\",\"\",'Kollega oplysninger'!M37)","v":""},null,null,null,null,"",null,"",null,null,null,"",""]
[null,{"$f":"IF('Kollega oplysninger'!B38=\"\",\"\",'Kollega oplysninger'!B38)","v":""},{"$f":"IF('Kollega oplysninger'!C38=\"\",\"\",'Kollega oplysninger'!C38)","v":""},null,null,{"$f":"IF('Kollega oplysninger'!I38=\"\",\"\",'Kollega oplysninger'!I38)","v":""},{"$f":"IF('Kollega oplysninger'!J38=\"\",\"\",'Kollega oplysninger'!J38)","v":""},{"$f":"IF('Kollega oplysninger'!L38=\"\",\"\",'Kollega oplysninger'!L38)","v":""},null,null,null,null,null,null,null,null,null,null,null,null,null,null,null,null,null,"",{"$f":"IF('Kollega oplysninger'!M38=\"\",\"\",'Kollega oplysninger'!M38)","v":""},null,null,null,null,"",null,"",null,null,null,"",""]
[null,{"$f":"IF('Kollega oplysninger'!B39=\"\",\"\",'Kollega oplysninger'!B39)","v":""},{"$f":"IF('Kollega oplysninger'!C39=\"\",\"\",'Kollega oplysninger'!C39)","v":""},null,null,{"$f":"IF('Kollega oplysninger'!I39=\"\",\"\",'Kollega oplysninger'!I39)","v":""},{"$f":"IF('Kollega oplysninger'!J39=\"\",\"\",'Kollega oplysninger'!J39)","v":""},{"$f":"IF('Kollega oplysninger'!L39=\"\",\"\",'Kollega oplysninger'!L39)","v":""},null,null,null,null,null,null,null,null,null,null,null,null,null,null,null,null,null,"",{"$f":"IF('Kollega oplysninger'!M39=\"\",\"\",'Kollega oplysninger'!M39)","v":""},null,null,null,null,"",null,"",null,null,null,"",""]
[null,{"$f":"IF('Kollega oplysninger'!B40=\"\",\"\",'Kollega oplysninger'!B40)","v":""},{"$f":"IF('Kollega oplysninger'!C40=\"\",\"\",'Kollega oplysninger'!C40)","v":""},null,null,{"$f":"IF('Kollega oplysninger'!I40=\"\",\"\",'Kollega oplysninger'!I40)","v":""},{"$f":"IF('Kollega oplysninger'!J40=\"\",\"\",'Kollega oplysninger'!J40)","v":""},{"$f":"IF('Kollega oplysninger'!L40=\"\",\"\",'Kollega oplysninger'!L40)","v":""},null,null,null,null,null,null,null,null,null,null,null,null,null,null,null,null,null,"",{"$f":"IF('Kollega oplysninger'!M40=\"\",\"\",'Kollega oplysninger'!M40)","v":""},null,null,null,null,"",null,"",null,null,null,"",""]
[null,{"$f":"IF('Kollega oplysninger'!B41=\"\",\"\",'Kollega oplysninger'!B41)","v":""},{"$f":"IF('Kollega oplysninger'!C41=\"\",\"\",'Kollega oplysninger'!C41)","v":""},null,null,{"$f":"IF('Kollega oplysninger'!I41=\"\",\"\",'Kollega oplysninger'!I41)","v":""},{"$f":"IF('Kollega oplysninger'!J41=\"\",\"\",'Kollega oplysninger'!J41)","v":""},{"$f":"IF('Kollega oplysninger'!L41=\"\",\"\",'Kollega oplysninger'!L41)","v":""},null,null,null,null,null,null,null,null,null,null,null,null,null,null,null,null,null,"",{"$f":"IF('Kollega oplysninger'!M41=\"\",\"\",'Kollega oplysninger'!M41)","v":""},null,null,null,null,"",null,"",null,null,null,"",""]
[null,{"$f":"IF('Kollega oplysninger'!B42=\"\",\"\",'Kollega oplysninger'!B42)","v":""},{"$f":"IF('Kollega oplysninger'!C42=\"\",\"\",'Kollega oplysninger'!C42)","v":""},null,null,{"$f":"IF('Kollega oplysninger'!I42=\"\",\"\",'Kollega oplysninger'!I42)","v":""},{"$f":"IF('Kollega oplysninger'!J42=\"\",\"\",'Kollega oplysninger'!J42)","v":""},{"$f":"IF('Kollega oplysninger'!L42=\"\",\"\",'Kollega oplysninger'!L42)","v":""},null,null,null,null,null,null,null,null,null,null,null,null,null,null,null,null,null,"",{"$f":"IF('Kollega oplysninger'!M42=\"\",\"\",'Kollega oplysninger'!M42)","v":""},null,null,null,null,"",null,"",null,null,null,"",""]
[null,{"$f":"IF('Kollega oplysninger'!B43=\"\",\"\",'Kollega oplysninger'!B43)","v":""},{"$f":"IF('Kollega oplysninger'!C43=\"\",\"\",'Kollega oplysninger'!C43)","v":""},null,null,{"$f":"IF('Kollega oplysninger'!I43=\"\",\"\",'Kollega oplysninger'!I43)","v":""},{"$f":"IF('Kollega oplysninger'!J43=\"\",\"\",'Kollega oplysninger'!J43)","v":""},{"$f":"IF('Kollega oplysninger'!L43=\"\",\"\",'Kollega oplysninger'!L43)","v":""},null,null,null,null,null,null,null,null,null,null,null,null,null,null,null,null,null,"",{"$f":"IF('Kollega oplysninger'!M43=\"\",\"\",'Kollega oplysninger'!M43)","v":""},null,null,null,null,"",null,"",null,null,null,"",""]
[null,{"$f":"IF('Kollega oplysninger'!B44=\"\",\"\",'Kollega oplysninger'!B44)","v":""},{"$f":"IF('Kollega oplysninger'!C44=\"\",\"\",'Kollega oplysninger'!C44)","v":""},null,null,{"$f":"IF('Kollega oplysninger'!I44=\"\",\"\",'Kollega oplysninger'!I44)","v":""},{"$f":"IF('Kollega oplysninger'!J44=\"\",\"\",'Kollega oplysninger'!J44)","v":""},{"$f":"IF('Kollega oplysninger'!L44=\"\",\"\",'Kollega oplysninger'!L44)","v":""},null,null,null,null,null,null,null,null,null,null,null,null,null,null,null,null,null,"",{"$f":"IF('Kollega oplysninger'!M44=\"\",\"\",'Kollega oplysninger'!M44)","v":""},null,null,null,null,"",null,"",null,null,null,"",""]
[null,{"$f":"IF('Kollega oplysninger'!B45=\"\",\"\",'Kollega oplysninger'!B45)","v":""},{"$f":"IF('Kollega oplysninger'!C45=\"\",\"\",'Kollega oplysninger'!C45)","v":""},null,null,{"$f":"IF('Kollega oplysninger'!I45=\"\",\"\",'Kollega oplysninger'!I45)","v":""},{"$f":"IF('Kollega oplysninger'!J45=\"\",\"\",'Kollega oplysninger'!J45)","v":""},{"$f":"IF('Kollega oplysninger'!L45=\"\",\"\",'Kollega oplysninger'!L45)","v":""},null,null,null,null,null,null,null,null,null,null,null,null,null,null,null,null,null,"",{"$f":"IF('Kollega oplysninger'!M45=\"\",\"\",'Kollega oplysninger'!M45)","v":""},null,null,null,null,"",null,"",null,null,null,"",""]
[null,{"$f":"IF('Kollega oplysninger'!B46=\"\",\"\",'Kollega oplysninger'!B46)","v":""},{"$f":"IF('Kollega oplysninger'!C46=\"\",\"\",'Kollega oplysninger'!C46)","v":""},null,null,{"$f":"IF('Kollega oplysninger'!I46=\"\",\"\",'Kollega oplysninger'!I46)","v":""},{"$f":"IF('Kollega oplysninger'!J46=\"\",\"\",'Kollega oplysninger'!J46)","v":""},{"$f":"IF('Kollega oplysninger'!L46=\"\",\"\",'Kollega oplysninger'!L46)","v":""},null,null,null,null,null,null,null,null,null,null,null,null,null,null,null,null,null,"",{"$f":"IF('Kollega oplysninger'!M46=\"\",\"\",'Kollega oplysninger'!M46)","v":""},null,null,null,null,"",null,"",null,null,null,"",""]
[null,{"$f":"IF('Kollega oplysninger'!B47=\"\",\"\",'Kollega oplysninger'!B47)","v":""},{"$f":"IF('Kollega oplysninger'!C47=\"\",\"\",'Kollega oplysninger'!C47)","v":""},null,null,{"$f":"IF('Kollega oplysninger'!I47=\"\",\"\",'Kollega oplysninger'!I47)","v":""},{"$f":"IF('Kollega oplysninger'!J47=\"\",\"\",'Kollega oplysninger'!J47)","v":""},{"$f":"IF('Kollega oplysninger'!L47=\"\",\"\",'Kollega oplysninger'!L47)","v":""},null,null,null,null,null,null,null,null,null,null,null,null,null,null,null,null,null,"",{"$f":"IF('Kollega oplysninger'!M47=\"\",\"\",'Kollega oplysninger'!M47)","v":""},null,null,null,null,"",null,"",null,null,null,"",""]
[null,{"$f":"IF('Kollega oplysninger'!B48=\"\",\"\",'Kollega oplysninger'!B48)","v":""},{"$f":"IF('Kollega oplysninger'!C48=\"\",\"\",'Kollega oplysninger'!C48)","v":""},null,null,{"$f":"IF('Kollega oplysninger'!I48=\"\",\"\",'Kollega oplysninger'!I48)","v":""},{"$f":"IF('Kollega oplysninger'!J48=\"\",\"\",'Kollega oplysninger'!J48)","v":""},{"$f":"IF('Kollega oplysninger'!L48=\"\",\"\",'Kollega oplysninger'!L48)","v":""},null,null,null,null,null,null,null,null,null,null,null,null,null,null,null,null,null,"",{"$f":"IF('Kollega oplysninger'!M48=\"\",\"\",'Kollega oplysninger'!M48)","v":""},null,null,null,null,"",null,"",null,null,null,"",""]
[null,{"$f":"IF('Kollega oplysninger'!B49=\"\",\"\",'Kollega oplysninger'!B49)","v":""},{"$f":"IF('Kollega oplysninger'!C49=\"\",\"\",'Kollega oplysninger'!C49)","v":""},null,null,{"$f":"IF('Kollega oplysninger'!I49=\"\",\"\",'Kollega oplysninger'!I49)","v":""},{"$f":"IF('Kollega oplysninger'!J49=\"\",\"\",'Kollega oplysninger'!J49)","v":""},{"$f":"IF('Kollega oplysninger'!L49=\"\",\"\",'Kollega oplysninger'!L49)","v":""},null,null,null,null,null,null,null,null,null,null,null,null,null,null,null,null,null,"",{"$f":"IF('Kollega oplysninger'!M49=\"\",\"\",'Kollega oplysninger'!M49)","v":""},null,null,null,null,"",null,"",null,null,null,"",""]
[null,{"$f":"IF('Kollega oplysninger'!B50=\"\",\"\",'Kollega oplysninger'!B50)","v":""},{"$f":"IF('Kollega oplysninger'!C50=\"\",\"\",'Kollega oplysninger'!C50)","v":""},null,null,{"$f":"IF('Kollega oplysninger'!I50=\"\",\"\",'Kollega oplysninger'!I50)","v":""},{"$f":"IF('Kollega oplysninger'!J50=\"\",\"\",'Kollega oplysninger'!J50)","v":""},{"$f":"IF('Kollega oplysninger'!L50=\"\",\"\",'Kollega oplysninger'!L50)","v":""},null,null,null,null,null,null,null,null,null,null,null,null,null,null,null,null,null,"",{"$f":"IF('Kollega oplysninger'!M50=\"\",\"\",'Kollega oplysninger'!M50)","v":""},null,null,null,null,"",null,"",null,null,null,"",""]
[null,{"$f":"IF('Kollega oplysninger'!B51=\"\",\"\",'Kollega oplysninger'!B51)","v":""},{"$f":"IF('Kollega oplysninger'!C51=\"\",\"\",'Kollega oplysninger'!C51)","v":""},null,null,{"$f":"IF('Kollega oplysninger'!I51=\"\",\"\",'Kollega oplysninger'!I51)","v":""},{"$f":"IF('Kollega oplysninger'!J51=\"\",\"\",'Kollega oplysninger'!J51)","v":""},{"$f":"IF('Kollega oplysninger'!L51=\"\",\"\",'Kollega oplysninger'!L51)","v":""},null,null,null,null,null,null,null,null,null,null,null,null,null,null,null,null,null,"",{"$f":"IF('Kollega oplysninger'!M51=\"\",\"\",'Kollega oplysninger'!M51)","v":""},null,null,null,null,"",null,"",null,null,null,"",""]
[null,{"$f":"IF('Kollega oplysninger'!B52=\"\",\"\",'Kollega oplysninger'!B52)","v":""},{"$f":"IF('Kollega oplysninger'!C52=\"\",\"\",'Kollega oplysninger'!C52)","v":""},null,null,{"$f":"IF('Kollega oplysninger'!I52=\"\",\"\",'Kollega oplysninger'!I52)","v":""},{"$f":"IF('Kollega oplysninger'!J52=\"\",\"\",'Kollega oplysninger'!J52)","v":""},{"$f":"IF('Kollega oplysninger'!L52=\"\",\"\",'Kollega oplysninger'!L52)","v":""},null,null,null,null,null,null,null,null,null,null,null,null,null,null,null,null,null,"",{"$f":"IF('Kollega oplysninger'!M52=\"\",\"\",'Kollega oplysninger'!M52)","v":""},null,null,null,null,"",null,"",null,null,null,"",""]
[null,{"$f":"IF('Kollega oplysninger'!B53=\"\",\"\",'Kollega oplysninger'!B53)","v":""},{"$f":"IF('Kollega oplysninger'!C53=\"\",\"\",'Kollega oplysninger'!C53)","v":""},null,null,{"$f":"IF('Kollega oplysninger'!I53=\"\",\"\",'Kollega oplysninger'!I53)","v":""},{"$f":"IF('Kollega oplysninger'!J53=\"\",\"\",'Kollega oplysninger'!J53)","v":""},{"$f":"IF('Kollega oplysninger'!L53=\"\",\"\",'Kollega oplysninger'!L53)","v":""},null,null,null,null,null,null,null,null,null,null,null,null,null,null,null,null,null,"",{"$f":"IF('Kollega oplysninger'!M53=\"\",\"\",'Kollega oplysninger'!M53)","v":""},null,null,null,null,"",null,"",null,null,null,"",""]
[null,{"$f":"IF('Kollega oplysninger'!B54=\"\",\"\",'Kollega oplysninger'!B54)","v":""},{"$f":"IF('Kollega oplysninger'!C54=\"\",\"\",'Kollega oplysninger'!C54)","v":""},null,null,{"$f":"IF('Kollega oplysninger'!I54=\"\",\"\",'Kollega oplysninger'!I54)","v":""},{"$f":"IF('Kollega oplysninger'!J54=\"\",\"\",'Kollega oplysninger'!J54)","v":""},{"$f":"IF('Kollega oplysninger'!L54=\"\",\"\",'Kollega oplysninger'!L54)","v":""},null,null,null,null,null,null,null,null,null,null,null,null,null,null,null,null,null,"",{"$f":"IF('Kollega oplysninger'!M54=\"\",\"\",'Kollega oplysninger'!M54)","v":""},null,null,null,null,"",null,"",null,null,null,"",""]
[null,{"$f":"IF('Kollega oplysninger'!B55=\"\",\"\",'Kollega oplysninger'!B55)","v":""},{"$f":"IF('Kollega oplysninger'!C55=\"\",\"\",'Kollega oplysninger'!C55)","v":""},null,null,{"$f":"IF('Kollega oplysninger'!I55=\"\",\"\",'Kollega oplysninger'!I55)","v":""},{"$f":"IF('Kollega oplysninger'!J55=\"\",\"\",'Kollega oplysninger'!J55)","v":""},{"$f":"IF('Kollega oplysninger'!L55=\"\",\"\",'Kollega oplysninger'!L55)","v":""},null,null,null,null,null,null,null,null,null,null,null,null,null,null,null,null,null,"",{"$f":"IF('Kollega oplysninger'!M55=\"\",\"\",'Kollega oplysninger'!M55)","v":""},null,null,null,null,"",null,"",null,null,null,"",""]
[null,{"$f":"IF('Kollega oplysninger'!B56=\"\",\"\",'Kollega oplysninger'!B56)","v":""},{"$f":"IF('Kollega oplysninger'!C56=\"\",\"\",'Kollega oplysninger'!C56)","v":""},null,null,{"$f":"IF('Kollega oplysninger'!I56=\"\",\"\",'Kollega oplysninger'!I56)","v":""},{"$f":"IF('Kollega oplysninger'!J56=\"\",\"\",'Kollega oplysninger'!J56)","v":""},{"$f":"IF('Kollega oplysninger'!L56=\"\",\"\",'Kollega oplysninger'!L56)","v":""},null,null,null,null,null,null,null,null,null,null,null,null,null,null,null,null,null,"",{"$f":"IF('Kollega oplysninger'!M56=\"\",\"\",'Kollega oplysninger'!M56)","v":""},null,null,null,null,"",null,"",null,null,null,"",""]
[null,{"$f":"IF('Kollega oplysninger'!B57=\"\",\"\",'Kollega oplysninger'!B57)","v":""},{"$f":"IF('Kollega oplysninger'!C57=\"\",\"\",'Kollega oplysninger'!C57)","v":""},null,null,{"$f":"IF('Kollega oplysninger'!I57=\"\",\"\",'Kollega oplysninger'!I57)","v":""},{"$f":"IF('Kollega oplysninger'!J57=\"\",\"\",'Kollega oplysninger'!J57)","v":""},{"$f":"IF('Kollega oplysninger'!L57=\"\",\"\",'Kollega oplysninger'!L57)","v":""},null,null,null,null,null,null,null,null,null,null,null,null,null,null,null,null,null,"",{"$f":"IF('Kollega oplysninger'!M57=\"\",\"\",'Kollega oplysninger'!M57)","v":""},null,null,null,null,"",null,"",null,null,null,"",""]
[null,{"$f":"IF('Kollega oplysninger'!B58=\"\",\"\",'Kollega oplysninger'!B58)","v":""},{"$f":"IF('Kollega oplysninger'!C58=\"\",\"\",'Kollega oplysninger'!C58)","v":""},null,null,{"$f":"IF('Kollega oplysninger'!I58=\"\",\"\",'Kollega oplysninger'!I58)","v":""},{"$f":"IF('Kollega oplysninger'!J58=\"\",\"\",'Kollega oplysninger'!J58)","v":""},{"$f":"IF('Kollega oplysninger'!L58=\"\",\"\",'Kollega oplysninger'!L58)","v":""},null,null,null,null,null,null,null,null,null,null,null,null,null,null,null,null,null,"",{"$f":"IF('Kollega oplysninger'!M58=\"\",\"\",'Kollega oplysninger'!M58)","v":""},null,null,null,null,"",null,"",null,null,null,"",""]
[null,{"$f":"IF('Kollega oplysninger'!B59=\"\",\"\",'Kollega oplysninger'!B59)","v":""},{"$f":"IF('Kollega oplysninger'!C59=\"\",\"\",'Kollega oplysninger'!C59)","v":""},null,null,{"$f":"IF('Kollega oplysninger'!I59=\"\",\"\",'Kollega oplysninger'!I59)","v":""},{"$f":"IF('Kollega oplysninger'!J59=\"\",\"\",'Kollega oplysninger'!J59)","v":""},{"$f":"IF('Kollega oplysninger'!L59=\"\",\"\",'Kollega oplysninger'!L59)","v":""},null,null,null,null,null,null,null,null,null,null,null,null,null,null,null,null,null,"",{"$f":"IF('Kollega oplysninger'!M59=\"\",\"\",'Kollega oplysninger'!M59)","v":""},null,null,null,null,"",null,"",null,null,null,"",""]
[null,{"$f":"IF('Kollega oplysninger'!B60=\"\",\"\",'Kollega oplysninger'!B60)","v":""},{"$f":"IF('Kollega oplysninger'!C60=\"\",\"\",'Kollega oplysninger'!C60)","v":""},null,null,{"$f":"IF('Kollega oplysninger'!I60=\"\",\"\",'Kollega oplysninger'!I60)","v":""},{"$f":"IF('Kollega oplysninger'!J60=\"\",\"\",'Kollega oplysninger'!J60)","v":""},{"$f":"IF('Kollega oplysninger'!L60=\"\",\"\",'Kollega oplysninger'!L60)","v":""},null,null,null,null,null,null,null,null,null,null,null,null,null,null,null,null,null,"",{"$f":"IF('Kollega oplysninger'!M60=\"\",\"\",'Kollega oplysninger'!M60)","v":""},null,null,null,null,"",null,"",null,null,null,"",""]
[null,{"$f":"IF('Kollega oplysninger'!B61=\"\",\"\",'Kollega oplysninger'!B61)","v":""},{"$f":"IF('Kollega oplysninger'!C61=\"\",\"\",'Kollega oplysninger'!C61)","v":""},null,null,{"$f":"IF('Kollega oplysninger'!I61=\"\",\"\",'Kollega oplysninger'!I61)","v":""},{"$f":"IF('Kollega oplysninger'!J61=\"\",\"\",'Kollega oplysninger'!J61)","v":""},{"$f":"IF('Kollega oplysninger'!L61=\"\",\"\",'Kollega oplysninger'!L61)","v":""},null,null,null,null,null,null,null,null,null,null,null,null,null,null,null,null,null,"",{"$f":"IF('Kollega oplysninger'!M61=\"\",\"\",'Kollega oplysninger'!M61)","v":""},null,null,null,null,"",null,"",null,null,null,"",""]
[null,{"$f":"IF('Kollega oplysninger'!B62=\"\",\"\",'Kollega oplysninger'!B62)","v":""},{"$f":"IF('Kollega oplysninger'!C62=\"\",\"\",'Kollega oplysninger'!C62)","v":""},null,null,{"$f":"IF('Kollega oplysninger'!I62=\"\",\"\",'Kollega oplysninger'!I62)","v":""},{"$f":"IF('Kollega oplysninger'!J62=\"\",\"\",'Kollega oplysninger'!J62)","v":""},{"$f":"IF('Kollega oplysninger'!L62=\"\",\"\",'Kollega oplysninger'!L62)","v":""},null,null,null,null,null,null,null,null,null,null,null,null,null,null,null,null,null,"",{"$f":"IF('Kollega oplysninger'!M62=\"\",\"\",'Kollega oplysninger'!M62)","v":""},null,null,null,null,"",null,"",null,null,null,"",""]
[null,{"$f":"IF('Kollega oplysninger'!B63=\"\",\"\",'Kollega oplysninger'!B63)","v":""},{"$f":"IF('Kollega oplysninger'!C63=\"\",\"\",'Kollega oplysninger'!C63)","v":""},null,null,{"$f":"IF('Kollega oplysninger'!I63=\"\",\"\",'Kollega oplysninger'!I63)","v":""},{"$f":"IF('Kollega oplysninger'!J63=\"\",\"\",'Kollega oplysninger'!J63)","v":""},{"$f":"IF('Kollega oplysninger'!L63=\"\",\"\",'Kollega oplysninger'!L63)","v":""},null,null,null,null,null,null,null,null,null,null,null,null,null,null,null,null,null,"",{"$f":"IF('Kollega oplysninger'!M63=\"\",\"\",'Kollega oplysninger'!M63)","v":""},null,null,null,null,"",null,"",null,null,null,"",""]
[null,{"$f":"IF('Kollega oplysninger'!B64=\"\",\"\",'Kollega oplysninger'!B64)","v":""},{"$f":"IF('Kollega oplysninger'!C64=\"\",\"\",'Kollega oplysninger'!C64)","v":""},null,null,{"$f":"IF('Kollega oplysninger'!I64=\"\",\"\",'Kollega oplysninger'!I64)","v":""},{"$f":"IF('Kollega oplysninger'!J64=\"\",\"\",'Kollega oplysninger'!J64)","v":""},{"$f":"IF('Kollega oplysninger'!L64=\"\",\"\",'Kollega oplysninger'!L64)","v":""},null,null,null,null,null,null,null,null,null,null,null,null,null,null,null,null,null,"",{"$f":"IF('Kollega oplysninger'!M64=\"\",\"\",'Kollega oplysninger'!M64)","v":""},null,null,null,null,"",null,"",null,null,null,"",""]
[null,{"$f":"IF('Kollega oplysninger'!B65=\"\",\"\",'Kollega oplysninger'!B65)","v":""},{"$f":"IF('Kollega oplysninger'!C65=\"\",\"\",'Kollega oplysninger'!C65)","v":""},null,null,{"$f":"IF('Kollega oplysninger'!I65=\"\",\"\",'Kollega oplysninger'!I65)","v":""},{"$f":"IF('Kollega oplysninger'!J65=\"\",\"\",'Kollega oplysninger'!J65)","v":""},{"$f":"IF('Kollega oplysninger'!L65=\"\",\"\",'Kollega oplysninger'!L65)","v":""},null,null,null,null,null,null,null,null,null,null,null,null,null,null,null,null,null,"",{"$f":"IF('Kollega oplysninger'!M65=\"\",\"\",'Kollega oplysninger'!M65)","v":""},null,null,null,null,"",null,"",null,null,null,"",""]
[null,{"$f":"IF('Kollega oplysninger'!B66=\"\",\"\",'Kollega oplysninger'!B66)","v":""},{"$f":"IF('Kollega oplysninger'!C66=\"\",\"\",'Kollega oplysninger'!C66)","v":""},null,null,{"$f":"IF('Kollega oplysninger'!I66=\"\",\"\",'Kollega oplysninger'!I66)","v":""},{"$f":"IF('Kollega oplysninger'!J66=\"\",\"\",'Kollega oplysninger'!J66)","v":""},{"$f":"IF('Kollega oplysninger'!L66=\"\",\"\",'Kollega oplysninger'!L66)","v":""},null,null,null,null,null,null,null,null,null,null,null,null,null,null,null,null,null,"",{"$f":"IF('Kollega oplysninger'!M66=\"\",\"\",'Kollega oplysninger'!M66)","v":""},null,null,null,null,"",null,"",null,null,null,"",""]
[null,{"$f":"IF('Kollega oplysninger'!B67=\"\",\"\",'Kollega oplysninger'!B67)","v":""},{"$f":"IF('Kollega oplysninger'!C67=\"\",\"\",'Kollega oplysninger'!C67)","v":""},null,null,{"$f":"IF('Kollega oplysninger'!I67=\"\",\"\",'Kollega oplysninger'!I67)","v":""},{"$f":"IF('Kollega oplysninger'!J67=\"\",\"\",'Kollega oplysninger'!J67)","v":""},{"$f":"IF('Kollega oplysninger'!L67=\"\",\"\",'Kollega oplysninger'!L67)","v":""},null,null,null,null,null,null,null,null,null,null,null,null,null,null,null,null,null,"",{"$f":"IF('Kollega oplysninger'!M67=\"\",\"\",'Kollega oplysninger'!M67)","v":""},null,null,null,null,"",null,"",null,null,null,"",""]
[null,{"$f":"IF('Kollega oplysninger'!B68=\"\",\"\",'Kollega oplysninger'!B68)","v":""},{"$f":"IF('Kollega oplysninger'!C68=\"\",\"\",'Kollega oplysninger'!C68)","v":""},null,null,{"$f":"IF('Kollega oplysninger'!I68=\"\",\"\",'Kollega oplysninger'!I68)","v":""},{"$f":"IF('Kollega oplysninger'!J68=\"\",\"\",'Kollega oplysninger'!J68)","v":""},{"$f":"IF('Kollega oplysninger'!L68=\"\",\"\",'Kollega oplysninger'!L68)","v":""},null,null,null,null,null,null,null,null,null,null,null,null,null,null,null,null,null,"",{"$f":"IF('Kollega oplysninger'!M68=\"\",\"\",'Kollega oplysninger'!M68)","v":""},null,null,null,null,"",null,"",null,null,null,"",""]
[null,{"$f":"IF('Kollega oplysninger'!B69=\"\",\"\",'Kollega oplysninger'!B69)","v":""},{"$f":"IF('Kollega oplysninger'!C69=\"\",\"\",'Kollega oplysninger'!C69)","v":""},null,null,{"$f":"IF('Kollega oplysninger'!I69=\"\",\"\",'Kollega oplysninger'!I69)","v":""},{"$f":"IF('Kollega oplysninger'!J69=\"\",\"\",'Kollega oplysninger'!J69)","v":""},{"$f":"IF('Kollega oplysninger'!L69=\"\",\"\",'Kollega oplysninger'!L69)","v":""},null,null,null,null,null,null,null,null,null,null,null,null,null,null,null,null,null,"",{"$f":"IF('Kollega oplysninger'!M69=\"\",\"\",'Kollega oplysninger'!M69)","v":""},null,null,null,null,"",null,"",null,null,null,"",""]
[null,{"$f":"IF('Kollega oplysninger'!B70=\"\",\"\",'Kollega oplysninger'!B70)","v":""},{"$f":"IF('Kollega oplysninger'!C70=\"\",\"\",'Kollega oplysninger'!C70)","v":""},null,null,{"$f":"IF('Kollega oplysninger'!I70=\"\",\"\",'Kollega oplysninger'!I70)","v":""},{"$f":"IF('Kollega oplysninger'!J70=\"\",\"\",'Kollega oplysninger'!J70)","v":""},{"$f":"IF('Kollega oplysninger'!L70=\"\",\"\",'Kollega oplysninger'!L70)","v":""},null,null,null,null,null,null,null,null,null,null,null,null,null,null,null,null,null,"",{"$f":"IF('Kollega oplysninger'!M70=\"\",\"\",'Kollega oplysninger'!M70)","v":""},null,null,null,null,"",null,"",null,null,null,"",""]
[null,{"$f":"IF('Kollega oplysninger'!B71=\"\",\"\",'Kollega oplysninger'!B71)","v":""},{"$f":"IF('Kollega oplysninger'!C71=\"\",\"\",'Kollega oplysninger'!C71)","v":""},null,null,{"$f":"IF('Kollega oplysninger'!I71=\"\",\"\",'Kollega oplysninger'!I71)","v":""},{"$f":"IF('Kollega oplysninger'!J71=\"\",\"\",'Kollega oplysninger'!J71)","v":""},{"$f":"IF('Kollega oplysninger'!L71=\"\",\"\",'Kollega oplysninger'!L71)","v":""},null,null,null,null,null,null,null,null,null,null,null,null,null,null,null,null,null,"",{"$f":"IF('Kollega oplysninger'!M71=\"\",\"\",'Kollega oplysninger'!M71)","v":""},null,null,null,null,{"$f":"IF(Y71<AE71,\"fejl\",IF(Y71=\"\",\"\",IF(AE71=\"\",0,AE71/Y71)))","v":""},null,{"$f":"IF(Y71<AG71,\"fejl\",IF(Y71=\"\",\"\",IF(AG71=\"\",0,AG71/Y71)))","v":""},null,null,null,{"$f":"IF(Z71=\"fejl\",X71,\"\")","v":""},{"$f":"IF(Z71=\"fejl\",Y71,\"\")","v":""}]
[null,{"$f":"IF('Kollega oplysninger'!B72=\"\",\"\",'Kollega oplysninger'!B72)","v":""},{"$f":"IF('Kollega oplysninger'!C72=\"\",\"\",'Kollega oplysninger'!C72)","v":""},null,null,{"$f":"IF('Kollega oplysninger'!I72=\"\",\"\",'Kollega oplysninger'!I72)","v":""},{"$f":"IF('Kollega oplysninger'!J72=\"\",\"\",'Kollega oplysninger'!J72)","v":""},{"$f":"IF('Kollega oplysninger'!L72=\"\",\"\",'Kollega oplysninger'!L72)","v":""},null,null,null,null,null,null,null,null,null,null,null,null,null,null,null,null,null,{"$f":"IF(Y72<X72,\"fejl\",IF(Y72=\"\",\"\",IF(X72=\"\",0,X72/Y72)))","v":""},{"$f":"IF('Kollega oplysninger'!M72=\"\",\"\",'Kollega oplysninger'!M72)","v":""},null,null,null,null,"",null,"",null,null,null,"",""]
[null,{"$f":"IF('Kollega oplysninger'!B73=\"\",\"\",'Kollega oplysninger'!B73)","v":""},{"$f":"IF('Kollega oplysninger'!C73=\"\",\"\",'Kollega oplysninger'!C73)","v":""},null,null,{"$f":"IF('Kollega oplysninger'!I73=\"\",\"\",'Kollega oplysninger'!I73)","v":""},{"$f":"IF('Kollega oplysninger'!J73=\"\",\"\",'Kollega oplysninger'!J73)","v":""},{"$f":"IF('Kollega oplysninger'!L73=\"\",\"\",'Kollega oplysninger'!L73)","v":""},null,null,null,null,null,null,null,null,null,null,null,null,null,null,null,null,null,"",{"$f":"IF('Kollega oplysninger'!M73=\"\",\"\",'Kollega oplysninger'!M73)","v":""},null,null,null,null,"",null,"",null,null,null,"",""]
[null,{"$f":"IF('Kollega oplysninger'!B74=\"\",\"\",'Kollega oplysninger'!B74)","v":""},{"$f":"IF('Kollega oplysninger'!C74=\"\",\"\",'Kollega oplysninger'!C74)","v":""},null,null,{"$f":"IF('Kollega oplysninger'!I74=\"\",\"\",'Kollega oplysninger'!I74)","v":""},{"$f":"IF('Kollega oplysninger'!J74=\"\",\"\",'Kollega oplysninger'!J74)","v":""},{"$f":"IF('Kollega oplysninger'!L74=\"\",\"\",'Kollega oplysninger'!L74)","v":""},null,null,null,null,null,null,null,null,null,null,null,null,null,null,null,null,null,"",{"$f":"IF('Kollega oplysninger'!M74=\"\",\"\",'Kollega oplysninger'!M74)","v":""},null,null,null,null,"",null,"",null,null,null,"",""]
[null,{"$f":"IF('Kollega oplysninger'!B75=\"\",\"\",'Kollega oplysninger'!B75)","v":""},{"$f":"IF('Kollega oplysninger'!C75=\"\",\"\",'Kollega oplysninger'!C75)","v":""},null,null,{"$f":"IF('Kollega oplysninger'!I75=\"\",\"\",'Kollega oplysninger'!I75)","v":""},{"$f":"IF('Kollega oplysninger'!J75=\"\",\"\",'Kollega oplysninger'!J75)","v":""},{"$f":"IF('Kollega oplysninger'!L75=\"\",\"\",'Kollega oplysninger'!L75)","v":""},null,null,null,null,null,null,null,null,null,null,null,null,null,null,null,null,null,"",{"$f":"IF('Kollega oplysninger'!M75=\"\",\"\",'Kollega oplysninger'!M75)","v":""},null,null,null,null,"",null,"",null,null,null,"",""]
[null,{"$f":"IF('Kollega oplysninger'!B76=\"\",\"\",'Kollega oplysninger'!B76)","v":""},{"$f":"IF('Kollega oplysninger'!C76=\"\",\"\",'Kollega oplysninger'!C76)","v":""},null,null,{"$f":"IF('Kollega oplysninger'!I76=\"\",\"\",'Kollega oplysninger'!I76)","v":""},{"$f":"IF('Kollega oplysninger'!J76=\"\",\"\",'Kollega oplysninger'!J76)","v":""},{"$f":"IF('Kollega oplysninger'!L76=\"\",\"\",'Kollega oplysninger'!L76)","v":""},null,null,null,null,null,null,null,null,null,null,null,null,null,null,null,null,null,"",{"$f":"IF('Kollega oplysninger'!M76=\"\",\"\",'Kollega oplysninger'!M76)","v":""},null,null,null,null,"",null,"",null,null,null,"",""]
[null,{"$f":"IF('Kollega oplysninger'!B77=\"\",\"\",'Kollega oplysninger'!B77)","v":""},{"$f":"IF('Kollega oplysninger'!C77=\"\",\"\",'Kollega oplysninger'!C77)","v":""},null,null,{"$f":"IF('Kollega oplysninger'!I77=\"\",\"\",'Kollega oplysninger'!I77)","v":""},{"$f":"IF('Kollega oplysninger'!J77=\"\",\"\",'Kollega oplysninger'!J77)","v":""},{"$f":"IF('Kollega oplysninger'!L77=\"\",\"\",'Kollega oplysninger'!L77)","v":""},null,null,null,null,null,null,null,null,null,null,null,null,null,null,null,null,null,"",{"$f":"IF('Kollega oplysninger'!M77=\"\",\"\",'Kollega oplysninger'!M77)","v":""},null,null,null,null,"",null,"",null,null,null,"",""]
[null,{"$f":"IF('Kollega oplysninger'!B78=\"\",\"\",'Kollega oplysninger'!B78)","v":""},{"$f":"IF('Kollega oplysninger'!C78=\"\",\"\",'Kollega oplysninger'!C78)","v":""},null,null,{"$f":"IF('Kollega oplysninger'!I78=\"\",\"\",'Kollega oplysninger'!I78)","v":""},{"$f":"IF('Kollega oplysninger'!J78=\"\",\"\",'Kollega oplysninger'!J78)","v":""},{"$f":"IF('Kollega oplysninger'!L78=\"\",\"\",'Kollega oplysninger'!L78)","v":""},null,null,null,null,null,null,null,null,null,null,null,null,null,null,null,null,null,"",{"$f":"IF('Kollega oplysninger'!M78=\"\",\"\",'Kollega oplysninger'!M78)","v":""},null,null,null,null,"",null,"",null,null,null,"",""]
[null,{"$f":"IF('Kollega oplysninger'!B79=\"\",\"\",'Kollega oplysninger'!B79)","v":""},{"$f":"IF('Kollega oplysninger'!C79=\"\",\"\",'Kollega oplysninger'!C79)","v":""},null,null,{"$f":"IF('Kollega oplysninger'!I79=\"\",\"\",'Kollega oplysninger'!I79)","v":""},{"$f":"IF('Kollega oplysninger'!J79=\"\",\"\",'Kollega oplysninger'!J79)","v":""},{"$f":"IF('Kollega oplysninger'!L79=\"\",\"\",'Kollega oplysninger'!L79)","v":""},null,null,null,null,null,null,null,null,null,null,null,null,null,null,null,null,null,"",{"$f":"IF('Kollega oplysninger'!M79=\"\",\"\",'Kollega oplysninger'!M79)","v":""},null,null,null,null,"",null,"",null,null,null,"",""]
[null,{"$f":"IF('Kollega oplysninger'!B80=\"\",\"\",'Kollega oplysninger'!B80)","v":""},{"$f":"IF('Kollega oplysninger'!C80=\"\",\"\",'Kollega oplysninger'!C80)","v":""},null,null,{"$f":"IF('Kollega oplysninger'!I80=\"\",\"\",'Kollega oplysninger'!I80)","v":""},{"$f":"IF('Kollega oplysninger'!J80=\"\",\"\",'Kollega oplysninger'!J80)","v":""},{"$f":"IF('Kollega oplysninger'!L80=\"\",\"\",'Kollega oplysninger'!L80)","v":""},null,null,null,null,null,null,null,null,null,null,null,null,null,null,null,null,null,"",{"$f":"IF('Kollega oplysninger'!M80=\"\",\"\",'Kollega oplysninger'!M80)","v":""},null,null,null,null,"",null,"",null,null,null,"",""]
[null,{"$f":"IF('Kollega oplysninger'!B81=\"\",\"\",'Kollega oplysninger'!B81)","v":""},{"$f":"IF('Kollega oplysninger'!C81=\"\",\"\",'Kollega oplysninger'!C81)","v":""},null,null,{"$f":"IF('Kollega oplysninger'!I81=\"\",\"\",'Kollega oplysninger'!I81)","v":""},{"$f":"IF('Kollega oplysninger'!J81=\"\",\"\",'Kollega oplysninger'!J81)","v":""},{"$f":"IF('Kollega oplysninger'!L81=\"\",\"\",'Kollega oplysninger'!L81)","v":""},null,null,null,null,null,null,null,null,null,null,null,null,null,null,null,null,null,"",{"$f":"IF('Kollega oplysninger'!M81=\"\",\"\",'Kollega oplysninger'!M81)","v":""},null,null,null,null,"",null,"",null,null,null,"",""]
[null,{"$f":"IF('Kollega oplysninger'!B82=\"\",\"\",'Kollega oplysninger'!B82)","v":""},{"$f":"IF('Kollega oplysninger'!C82=\"\",\"\",'Kollega oplysninger'!C82)","v":""},null,null,{"$f":"IF('Kollega oplysninger'!I82=\"\",\"\",'Kollega oplysninger'!I82)","v":""},{"$f":"IF('Kollega oplysninger'!J82=\"\",\"\",'Kollega oplysninger'!J82)","v":""},{"$f":"IF('Kollega oplysninger'!L82=\"\",\"\",'Kollega oplysninger'!L82)","v":""},null,null,null,null,null,null,null,null,null,null,null,null,null,null,null,null,null,"",{"$f":"IF('Kollega oplysninger'!M82=\"\",\"\",'Kollega oplysninger'!M82)","v":""},null,null,null,null,"",null,"",null,null,null,"",""]
[null,{"$f":"IF('Kollega oplysninger'!B83=\"\",\"\",'Kollega oplysninger'!B83)","v":""},{"$f":"IF('Kollega oplysninger'!C83=\"\",\"\",'Kollega oplysninger'!C83)","v":""},null,null,{"$f":"IF('Kollega oplysninger'!I83=\"\",\"\",'Kollega oplysninger'!I83)","v":""},{"$f":"IF('Kollega oplysninger'!J83=\"\",\"\",'Kollega oplysninger'!J83)","v":""},{"$f":"IF('Kollega oplysninger'!L83=\"\",\"\",'Kollega oplysninger'!L83)","v":""},null,null,null,null,null,null,null,null,null,null,null,null,null,null,null,null,null,"",{"$f":"IF('Kollega oplysninger'!M83=\"\",\"\",'Kollega oplysninger'!M83)","v":""},null,null,null,null,"",null,"",null,null,null,"",""]
[null,{"$f":"IF('Kollega oplysninger'!B84=\"\",\"\",'Kollega oplysninger'!B84)","v":""},{"$f":"IF('Kollega oplysninger'!C84=\"\",\"\",'Kollega oplysninger'!C84)","v":""},null,null,{"$f":"IF('Kollega oplysninger'!I84=\"\",\"\",'Kollega oplysninger'!I84)","v":""},{"$f":"IF('Kollega oplysninger'!J84=\"\",\"\",'Kollega oplysninger'!J84)","v":""},{"$f":"IF('Kollega oplysninger'!L84=\"\",\"\",'Kollega oplysninger'!L84)","v":""},null,null,null,null,null,null,null,null,null,null,null,null,null,null,null,null,null,"",{"$f":"IF('Kollega oplysninger'!M84=\"\",\"\",'Kollega oplysninger'!M84)","v":""},null,null,null,null,"",null,"",null,null,null,"",""]
[null,{"$f":"IF('Kollega oplysninger'!B85=\"\",\"\",'Kollega oplysninger'!B85)","v":""},{"$f":"IF('Kollega oplysninger'!C85=\"\",\"\",'Kollega oplysninger'!C85)","v":""},null,null,{"$f":"IF('Kollega oplysninger'!I85=\"\",\"\",'Kollega oplysninger'!I85)","v":""},{"$f":"IF('Kollega oplysninger'!J85=\"\",\"\",'Kollega oplysninger'!J85)","v":""},{"$f":"IF('Kollega oplysninger'!L85=\"\",\"\",'Kollega oplysninger'!L85)","v":""},null,null,null,null,null,null,null,null,null,null,null,null,null,null,null,null,null,"",{"$f":"IF('Kollega oplysninger'!M85=\"\",\"\",'Kollega oplysninger'!M85)","v":""},null,null,null,null,"",null,"",null,null,null,"",""]
[null,{"$f":"IF('Kollega oplysninger'!B86=\"\",\"\",'Kollega oplysninger'!B86)","v":""},{"$f":"IF('Kollega oplysninger'!C86=\"\",\"\",'Kollega oplysninger'!C86)","v":""},null,null,{"$f":"IF('Kollega oplysninger'!I86=\"\",\"\",'Kollega oplysninger'!I86)","v":""},{"$f":"IF('Kollega oplysninger'!J86=\"\",\"\",'Kollega oplysninger'!J86)","v":""},{"$f":"IF('Kollega oplysninger'!L86=\"\",\"\",'Kollega oplysninger'!L86)","v":""},null,null,null,null,null,null,null,null,null,null,null,null,null,null,null,null,null,"",{"$f":"IF('Kollega oplysninger'!M86=\"\",\"\",'Kollega oplysninger'!M86)","v":""},null,null,null,null,"",null,"",null,null,null,"",""]
[null,{"$f":"IF('Kollega oplysninger'!B87=\"\",\"\",'Kollega oplysninger'!B87)","v":""},{"$f":"IF('Kollega oplysninger'!C87=\"\",\"\",'Kollega oplysninger'!C87)","v":""},null,null,{"$f":"IF('Kollega oplysninger'!I87=\"\",\"\",'Kollega oplysninger'!I87)","v":""},{"$f":"IF('Kollega oplysninger'!J87=\"\",\"\",'Kollega oplysninger'!J87)","v":""},{"$f":"IF('Kollega oplysninger'!L87=\"\",\"\",'Kollega oplysninger'!L87)","v":""},null,null,null,null,null,null,null,null,null,null,null,null,null,null,null,null,null,"",{"$f":"IF('Kollega oplysninger'!M87=\"\",\"\",'Kollega oplysninger'!M87)","v":""},null,null,null,null,"",null,"",null,null,null,"",""]
[null,{"$f":"IF('Kollega oplysninger'!B88=\"\",\"\",'Kollega oplysninger'!B88)","v":""},{"$f":"IF('Kollega oplysninger'!C88=\"\",\"\",'Kollega oplysninger'!C88)","v":""},null,null,{"$f":"IF('Kollega oplysninger'!I88=\"\",\"\",'Kollega oplysninger'!I88)","v":""},{"$f":"IF('Kollega oplysninger'!J88=\"\",\"\",'Kollega oplysninger'!J88)","v":""},{"$f":"IF('Kollega oplysninger'!L88=\"\",\"\",'Kollega oplysninger'!L88)","v":""},null,null,null,null,null,null,null,null,null,null,null,null,null,null,null,null,null,"",{"$f":"IF('Kollega oplysninger'!M88=\"\",\"\",'Kollega oplysninger'!M88)","v":""},null,null,null,null,"",null,"",null,null,null,"",""]
[null,{"$f":"IF('Kollega oplysninger'!B89=\"\",\"\",'Kollega oplysninger'!B89)","v":""},{"$f":"IF('Kollega oplysninger'!C89=\"\",\"\",'Kollega oplysninger'!C89)","v":""},null,null,{"$f":"IF('Kollega oplysninger'!I89=\"\",\"\",'Kollega oplysninger'!I89)","v":""},{"$f":"IF('Kollega oplysninger'!J89=\"\",\"\",'Kollega oplysninger'!J89)","v":""},{"$f":"IF('Kollega oplysninger'!L89=\"\",\"\",'Kollega oplysninger'!L89)","v":""},null,null,null,null,null,null,null,null,null,null,null,null,null,null,null,null,null,"",{"$f":"IF('Kollega oplysninger'!M89=\"\",\"\",'Kollega oplysninger'!M89)","v":""},null,null,null,null,"",null,"",null,null,null,"",""]
[null,{"$f":"IF('Kollega oplysninger'!B90=\"\",\"\",'Kollega oplysninger'!B90)","v":""},{"$f":"IF('Kollega oplysninger'!C90=\"\",\"\",'Kollega oplysninger'!C90)","v":""},null,null,{"$f":"IF('Kollega oplysninger'!I90=\"\",\"\",'Kollega oplysninger'!I90)","v":""},{"$f":"IF('Kollega oplysninger'!J90=\"\",\"\",'Kollega oplysninger'!J90)","v":""},{"$f":"IF('Kollega oplysninger'!L90=\"\",\"\",'Kollega oplysninger'!L90)","v":""},null,null,null,null,null,null,null,null,null,null,null,null,null,null,null,null,null,"",{"$f":"IF('Kollega oplysninger'!M90=\"\",\"\",'Kollega oplysninger'!M90)","v":""},null,null,null,null,"",null,"",null,null,null,"",""]
[null,{"$f":"IF('Kollega oplysninger'!B91=\"\",\"\",'Kollega oplysninger'!B91)","v":""},{"$f":"IF('Kollega oplysninger'!C91=\"\",\"\",'Kollega oplysninger'!C91)","v":""},null,null,{"$f":"IF('Kollega oplysninger'!I91=\"\",\"\",'Kollega oplysninger'!I91)","v":""},{"$f":"IF('Kollega oplysninger'!J91=\"\",\"\",'Kollega oplysninger'!J91)","v":""},{"$f":"IF('Kollega oplysninger'!L91=\"\",\"\",'Kollega oplysninger'!L91)","v":""},null,null,null,null,null,null,null,null,null,null,null,null,null,null,null,null,null,"",{"$f":"IF('Kollega oplysninger'!M91=\"\",\"\",'Kollega oplysninger'!M91)","v":""},null,null,null,null,"",null,"",null,null,null,"",""]
[null,{"$f":"IF('Kollega oplysninger'!B92=\"\",\"\",'Kollega oplysninger'!B92)","v":""},{"$f":"IF('Kollega oplysninger'!C92=\"\",\"\",'Kollega oplysninger'!C92)","v":""},null,null,{"$f":"IF('Kollega oplysninger'!I92=\"\",\"\",'Kollega oplysninger'!I92)","v":""},{"$f":"IF('Kollega oplysninger'!J92=\"\",\"\",'Kollega oplysninger'!J92)","v":""},{"$f":"IF('Kollega oplysninger'!L92=\"\",\"\",'Kollega oplysninger'!L92)","v":""},null,null,null,null,null,null,null,null,null,null,null,null,null,null,null,null,null,"",{"$f":"IF('Kollega oplysninger'!M92=\"\",\"\",'Kollega oplysninger'!M92)","v":""},null,null,null,null,"",null,"",null,null,null,"",""]
[null,{"$f":"IF('Kollega oplysninger'!B93=\"\",\"\",'Kollega oplysninger'!B93)","v":""},{"$f":"IF('Kollega oplysninger'!C93=\"\",\"\",'Kollega oplysninger'!C93)","v":""},null,null,{"$f":"IF('Kollega oplysninger'!I93=\"\",\"\",'Kollega oplysninger'!I93)","v":""},{"$f":"IF('Kollega oplysninger'!J93=\"\",\"\",'Kollega oplysninger'!J93)","v":""},{"$f":"IF('Kollega oplysninger'!L93=\"\",\"\",'Kollega oplysninger'!L93)","v":""},null,null,null,null,null,null,null,null,null,null,null,null,null,null,null,null,null,"",{"$f":"IF('Kollega oplysninger'!M93=\"\",\"\",'Kollega oplysninger'!M93)","v":""},null,null,null,null,"",null,"",null,null,null,"",""]
[null,{"$f":"IF('Kollega oplysninger'!B94=\"\",\"\",'Kollega oplysninger'!B94)","v":""},{"$f":"IF('Kollega oplysninger'!C94=\"\",\"\",'Kollega oplysninger'!C94)","v":""},null,null,{"$f":"IF('Kollega oplysninger'!I94=\"\",\"\",'Kollega oplysninger'!I94)","v":""},{"$f":"IF('Kollega oplysninger'!J94=\"\",\"\",'Kollega oplysninger'!J94)","v":""},{"$f":"IF('Kollega oplysninger'!L94=\"\",\"\",'Kollega oplysninger'!L94)","v":""},null,null,null,null,null,null,null,null,null,null,null,null,null,null,null,null,null,"",{"$f":"IF('Kollega oplysninger'!M94=\"\",\"\",'Kollega oplysninger'!M94)","v":""},null,null,null,null,"",null,"",null,null,null,"",""]
[null,{"$f":"IF('Kollega oplysninger'!B95=\"\",\"\",'Kollega oplysninger'!B95)","v":""},{"$f":"IF('Kollega oplysninger'!C95=\"\",\"\",'Kollega oplysninger'!C95)","v":""},null,null,{"$f":"IF('Kollega oplysninger'!I95=\"\",\"\",'Kollega oplysninger'!I95)","v":""},{"$f":"IF('Kollega oplysninger'!J95=\"\",\"\",'Kollega oplysninger'!J95)","v":""},{"$f":"IF('Kollega oplysninger'!L95=\"\",\"\",'Kollega oplysninger'!L95)","v":""},null,null,null,null,null,null,null,null,null,null,null,null,null,null,null,null,null,"",{"$f":"IF('Kollega oplysninger'!M95=\"\",\"\",'Kollega oplysninger'!M95)","v":""},null,null,null,null,"",null,"",null,null,null,"",""]
[null,{"$f":"IF('Kollega oplysninger'!B96=\"\",\"\",'Kollega oplysninger'!B96)","v":""},{"$f":"IF('Kollega oplysninger'!C96=\"\",\"\",'Kollega oplysninger'!C96)","v":""},null,null,{"$f":"IF('Kollega oplysninger'!I96=\"\",\"\",'Kollega oplysninger'!I96)","v":""},{"$f":"IF('Kollega oplysninger'!J96=\"\",\"\",'Kollega oplysninger'!J96)","v":""},{"$f":"IF('Kollega oplysninger'!L96=\"\",\"\",'Kollega oplysninger'!L96)","v":""},null,null,null,null,null,null,null,null,null,null,null,null,null,null,null,null,null,"",{"$f":"IF('Kollega oplysninger'!M96=\"\",\"\",'Kollega oplysninger'!M96)","v":""},null,null,null,null,"",null,"",null,null,null,"",""]
[null,{"$f":"IF('Kollega oplysninger'!B97=\"\",\"\",'Kollega oplysninger'!B97)","v":""},{"$f":"IF('Kollega oplysninger'!C97=\"\",\"\",'Kollega oplysninger'!C97)","v":""},null,null,{"$f":"IF('Kollega oplysninger'!I97=\"\",\"\",'Kollega oplysninger'!I97)","v":""},{"$f":"IF('Kollega oplysninger'!J97=\"\",\"\",'Kollega oplysninger'!J97)","v":""},{"$f":"IF('Kollega oplysninger'!L97=\"\",\"\",'Kollega oplysninger'!L97)","v":""},null,null,null,null,null,null,null,null,null,null,null,null,null,null,null,null,null,"",{"$f":"IF('Kollega oplysninger'!M97=\"\",\"\",'Kollega oplysninger'!M97)","v":""},null,null,null,null,"",null,"",null,null,null,"",""]
[null,{"$f":"IF('Kollega oplysninger'!B98=\"\",\"\",'Kollega oplysninger'!B98)","v":""},{"$f":"IF('Kollega oplysninger'!C98=\"\",\"\",'Kollega oplysninger'!C98)","v":""},null,null,{"$f":"IF('Kollega oplysninger'!I98=\"\",\"\",'Kollega oplysninger'!I98)","v":""},{"$f":"IF('Kollega oplysninger'!J98=\"\",\"\",'Kollega oplysninger'!J98)","v":""},{"$f":"IF('Kollega oplysninger'!L98=\"\",\"\",'Kollega oplysninger'!L98)","v":""},null,null,null,null,null,null,null,null,null,null,null,null,null,null,null,null,null,"",{"$f":"IF('Kollega oplysninger'!M98=\"\",\"\",'Kollega oplysninger'!M98)","v":""},null,null,null,null,"",null,"",null,null,null,"",""]
[null,{"$f":"IF('Kollega oplysninger'!B99=\"\",\"\",'Kollega oplysninger'!B99)","v":""},{"$f":"IF('Kollega oplysninger'!C99=\"\",\"\",'Kollega oplysninger'!C99)","v":""},null,null,{"$f":"IF('Kollega oplysninger'!I99=\"\",\"\",'Kollega oplysninger'!I99)","v":""},{"$f":"IF('Kollega oplysninger'!J99=\"\",\"\",'Kollega oplysninger'!J99)","v":""},{"$f":"IF('Kollega oplysninger'!L99=\"\",\"\",'Kollega oplysninger'!L99)","v":""},null,null,null,null,null,null,null,null,null,null,null,null,null,null,null,null,null,"",{"$f":"IF('Kollega oplysninger'!M99=\"\",\"\",'Kollega oplysninger'!M99)","v":""},null,null,null,null,"",null,"",null,null,null,"",""]
[null,{"$f":"IF('Kollega oplysninger'!B100=\"\",\"\",'Kollega oplysninger'!B100)","v":""},{"$f":"IF('Kollega oplysninger'!C100=\"\",\"\",'Kollega oplysninger'!C100)","v":""},null,null,{"$f":"IF('Kollega oplysninger'!I100=\"\",\"\",'Kollega oplysninger'!I100)","v":""},{"$f":"IF('Kollega oplysninger'!J100=\"\",\"\",'Kollega oplysninger'!J100)","v":""},{"$f":"IF('Kollega oplysninger'!L100=\"\",\"\",'Kollega oplysninger'!L100)","v":""},null,null,null,null,null,null,null,null,null,null,null,null,null,null,null,null,null,"",{"$f":"IF('Kollega oplysninger'!M100=\"\",\"\",'Kollega oplysninger'!M100)","v":""},null,null,null,null,"",null,"",null,null,null,"",""]
[null,{"$f":"IF('Kollega oplysninger'!B101=\"\",\"\",'Kollega oplysninger'!B101)","v":""},{"$f":"IF('Kollega oplysninger'!C101=\"\",\"\",'Kollega oplysninger'!C101)","v":""},null,null,{"$f":"IF('Kollega oplysninger'!I101=\"\",\"\",'Kollega oplysninger'!I101)","v":""},{"$f":"IF('Kollega oplysninger'!J101=\"\",\"\",'Kollega oplysninger'!J101)","v":""},{"$f":"IF('Kollega oplysninger'!L101=\"\",\"\",'Kollega oplysninger'!L101)","v":""},null,null,null,null,null,null,null,null,null,null,null,null,null,null,null,null,null,"",{"$f":"IF('Kollega oplysninger'!M101=\"\",\"\",'Kollega oplysninger'!M101)","v":""},null,null,null,null,"",null,"",null,null,null,"",""]
[null,{"$f":"IF('Kollega oplysninger'!B102=\"\",\"\",'Kollega oplysninger'!B102)","v":""},{"$f":"IF('Kollega oplysninger'!C102=\"\",\"\",'Kollega oplysninger'!C102)","v":""},null,null,{"$f":"IF('Kollega oplysninger'!I102=\"\",\"\",'Kollega oplysninger'!I102)","v":""},{"$f":"IF('Kollega oplysninger'!J102=\"\",\"\",'Kollega oplysninger'!J102)","v":""},{"$f":"IF('Kollega oplysninger'!L102=\"\",\"\",'Kollega oplysninger'!L102)","v":""},null,null,null,null,null,null,null,null,null,null,null,null,null,null,null,null,null,"",{"$f":"IF('Kollega oplysninger'!M102=\"\",\"\",'Kollega oplysninger'!M102)","v":""},null,null,null,null,"",null,"",null,null,null,"",""]
[null,{"$f":"IF('Kollega oplysninger'!B103=\"\",\"\",'Kollega oplysninger'!B103)","v":""},{"$f":"IF('Kollega oplysninger'!C103=\"\",\"\",'Kollega oplysninger'!C103)","v":""},null,null,{"$f":"IF('Kollega oplysninger'!I103=\"\",\"\",'Kollega oplysninger'!I103)","v":""},{"$f":"IF('Kollega oplysninger'!J103=\"\",\"\",'Kollega oplysninger'!J103)","v":""},{"$f":"IF('Kollega oplysninger'!L103=\"\",\"\",'Kollega oplysninger'!L103)","v":""},null,null,null,null,null,null,null,null,null,null,null,null,null,null,null,null,null,"",{"$f":"IF('Kollega oplysninger'!M103=\"\",\"\",'Kollega oplysninger'!M103)","v":""},null,null,null,null,"",null,"",null,null,null,"",""]
[null,{"$f":"IF('Kollega oplysninger'!B104=\"\",\"\",'Kollega oplysninger'!B104)","v":""},{"$f":"IF('Kollega oplysninger'!C104=\"\",\"\",'Kollega oplysninger'!C104)","v":""},null,null,{"$f":"IF('Kollega oplysninger'!I104=\"\",\"\",'Kollega oplysninger'!I104)","v":""},{"$f":"IF('Kollega oplysninger'!J104=\"\",\"\",'Kollega oplysninger'!J104)","v":""},{"$f":"IF('Kollega oplysninger'!L104=\"\",\"\",'Kollega oplysninger'!L104)","v":""},null,null,null,null,null,null,null,null,null,null,null,null,null,null,null,null,null,"",{"$f":"IF('Kollega oplysninger'!M104=\"\",\"\",'Kollega oplysninger'!M104)","v":""},null,null,null,null,"",null,"",null,null,null,"",""]
[null,{"$f":"IF('Kollega oplysninger'!B105=\"\",\"\",'Kollega oplysninger'!B105)","v":""},{"$f":"IF('Kollega oplysninger'!C105=\"\",\"\",'Kollega oplysninger'!C105)","v":""},null,null,{"$f":"IF('Kollega oplysninger'!I105=\"\",\"\",'Kollega oplysninger'!I105)","v":""},{"$f":"IF('Kollega oplysninger'!J105=\"\",\"\",'Kollega oplysninger'!J105)","v":""},{"$f":"IF('Kollega oplysninger'!L105=\"\",\"\",'Kollega oplysninger'!L105)","v":""},null,null,null,null,null,null,null,null,null,null,null,null,null,null,null,null,null,"",{"$f":"IF('Kollega oplysninger'!M105=\"\",\"\",'Kollega oplysninger'!M105)","v":""},null,null,null,null,"",null,"",null,null,null,"",""]
[null,{"$f":"IF('Kollega oplysninger'!B106=\"\",\"\",'Kollega oplysninger'!B106)","v":""},{"$f":"IF('Kollega oplysninger'!C106=\"\",\"\",'Kollega oplysninger'!C106)","v":""},null,null,{"$f":"IF('Kollega oplysninger'!I106=\"\",\"\",'Kollega oplysninger'!I106)","v":""},{"$f":"IF('Kollega oplysninger'!J106=\"\",\"\",'Kollega oplysninger'!J106)","v":""},{"$f":"IF('Kollega oplysninger'!L106=\"\",\"\",'Kollega oplysninger'!L106)","v":""},null,null,null,null,null,null,null,null,null,null,null,null,null,null,null,null,null,"",{"$f":"IF('Kollega oplysninger'!M106=\"\",\"\",'Kollega oplysninger'!M106)","v":""},null,null,null,null,"",null,"",null,null,null,"",""]
[null,{"$f":"IF('Kollega oplysninger'!B107=\"\",\"\",'Kollega oplysninger'!B107)","v":""},{"$f":"IF('Kollega oplysninger'!C107=\"\",\"\",'Kollega oplysninger'!C107)","v":""},null,null,{"$f":"IF('Kollega oplysninger'!I107=\"\",\"\",'Kollega oplysninger'!I107)","v":""},{"$f":"IF('Kollega oplysninger'!J107=\"\",\"\",'Kollega oplysninger'!J107)","v":""},{"$f":"IF('Kollega oplysninger'!L107=\"\",\"\",'Kollega oplysninger'!L107)","v":""},null,null,null,null,null,null,null,null,null,null,null,null,null,null,null,null,null,"",{"$f":"IF('Kollega oplysninger'!M107=\"\",\"\",'Kollega oplysninger'!M107)","v":""},null,null,null,null,"",null,"",null,null,null,"",""]
[null,{"$f":"IF('Kollega oplysninger'!B108=\"\",\"\",'Kollega oplysninger'!B108)","v":""},{"$f":"IF('Kollega oplysninger'!C108=\"\",\"\",'Kollega oplysninger'!C108)","v":""},null,null,{"$f":"IF('Kollega oplysninger'!I108=\"\",\"\",'Kollega oplysninger'!I108)","v":""},{"$f":"IF('Kollega oplysninger'!J108=\"\",\"\",'Kollega oplysninger'!J108)","v":""},{"$f":"IF('Kollega oplysninger'!L108=\"\",\"\",'Kollega oplysninger'!L108)","v":""},null,null,null,null,null,null,null,null,null,null,null,null,null,null,null,null,null,"",{"$f":"IF('Kollega oplysninger'!M108=\"\",\"\",'Kollega oplysninger'!M108)","v":""},null,null,null,null,"",null,"",null,null,null,"",""]
[null,{"$f":"IF('Kollega oplysninger'!B109=\"\",\"\",'Kollega oplysninger'!B109)","v":""},{"$f":"IF('Kollega oplysninger'!C109=\"\",\"\",'Kollega oplysninger'!C109)","v":""},null,null,{"$f":"IF('Kollega oplysninger'!I109=\"\",\"\",'Kollega oplysninger'!I109)","v":""},{"$f":"IF('Kollega oplysninger'!J109=\"\",\"\",'Kollega oplysninger'!J109)","v":""},{"$f":"IF('Kollega oplysninger'!L109=\"\",\"\",'Kollega oplysninger'!L109)","v":""},null,null,null,null,null,null,null,null,null,null,null,null,null,null,null,null,null,"",{"$f":"IF('Kollega oplysninger'!M109=\"\",\"\",'Kollega oplysninger'!M109)","v":""},null,null,null,null,"",null,"",null,null,null,"",""]
[null,{"$f":"IF('Kollega oplysninger'!B110=\"\",\"\",'Kollega oplysninger'!B110)","v":""},{"$f":"IF('Kollega oplysninger'!C110=\"\",\"\",'Kollega oplysninger'!C110)","v":""},null,null,{"$f":"IF('Kollega oplysninger'!I110=\"\",\"\",'Kollega oplysninger'!I110)","v":""},{"$f":"IF('Kollega oplysninger'!J110=\"\",\"\",'Kollega oplysninger'!J110)","v":""},{"$f":"IF('Kollega oplysninger'!L110=\"\",\"\",'Kollega oplysninger'!L110)","v":""},null,null,null,null,null,null,null,null,null,null,null,null,null,null,null,null,null,"",{"$f":"IF('Kollega oplysninger'!M110=\"\",\"\",'Kollega oplysninger'!M110)","v":""},null,null,null,null,"",null,"",null,null,null,"",""]
[null,{"$f":"IF('Kollega oplysninger'!B111=\"\",\"\",'Kollega oplysninger'!B111)","v":""},{"$f":"IF('Kollega oplysninger'!C111=\"\",\"\",'Kollega oplysninger'!C111)","v":""},null,null,{"$f":"IF('Kollega oplysninger'!I111=\"\",\"\",'Kollega oplysninger'!I111)","v":""},{"$f":"IF('Kollega oplysninger'!J111=\"\",\"\",'Kollega oplysninger'!J111)","v":""},{"$f":"IF('Kollega oplysninger'!L111=\"\",\"\",'Kollega oplysninger'!L111)","v":""},null,null,null,null,null,null,null,null,null,null,null,null,null,null,null,null,null,"",{"$f":"IF('Kollega oplysninger'!M111=\"\",\"\",'Kollega oplysninger'!M111)","v":""},null,null,null,null,"",null,"",null,null,null,"",""]
[null,{"$f":"IF('Kollega oplysninger'!B112=\"\",\"\",'Kollega oplysninger'!B112)","v":""},{"$f":"IF('Kollega oplysninger'!C112=\"\",\"\",'Kollega oplysninger'!C112)","v":""},null,null,{"$f":"IF('Kollega oplysninger'!I112=\"\",\"\",'Kollega oplysninger'!I112)","v":""},{"$f":"IF('Kollega oplysninger'!J112=\"\",\"\",'Kollega oplysninger'!J112)","v":""},{"$f":"IF('Kollega oplysninger'!L112=\"\",\"\",'Kollega oplysninger'!L112)","v":""},null,null,null,null,null,null,null,null,null,null,null,null,null,null,null,null,null,"",{"$f":"IF('Kollega oplysninger'!M112=\"\",\"\",'Kollega oplysninger'!M112)","v":""},null,null,null,null,"",null,"",null,null,null,"",""]
[null,{"$f":"IF('Kollega oplysninger'!B113=\"\",\"\",'Kollega oplysninger'!B113)","v":""},{"$f":"IF('Kollega oplysninger'!C113=\"\",\"\",'Kollega oplysninger'!C113)","v":""},null,null,{"$f":"IF('Kollega oplysninger'!I113=\"\",\"\",'Kollega oplysninger'!I113)","v":""},{"$f":"IF('Kollega oplysninger'!J113=\"\",\"\",'Kollega oplysninger'!J113)","v":""},{"$f":"IF('Kollega oplysninger'!L113=\"\",\"\",'Kollega oplysninger'!L113)","v":""},null,null,null,null,null,null,null,null,null,null,null,null,null,null,null,null,null,"",{"$f":"IF('Kollega oplysninger'!M113=\"\",\"\",'Kollega oplysninger'!M113)","v":""},null,null,null,null,"",null,"",null,null,null,"",""]
[null,{"$f":"IF('Kollega oplysninger'!B114=\"\",\"\",'Kollega oplysninger'!B114)","v":""},{"$f":"IF('Kollega oplysninger'!C114=\"\",\"\",'Kollega oplysninger'!C114)","v":""},null,null,{"$f":"IF('Kollega oplysninger'!I114=\"\",\"\",'Kollega oplysninger'!I114)","v":""},{"$f":"IF('Kollega oplysninger'!J114=\"\",\"\",'Kollega oplysninger'!J114)","v":""},{"$f":"IF('Kollega oplysninger'!L114=\"\",\"\",'Kollega oplysninger'!L114)","v":""},null,null,null,null,null,null,null,null,null,null,null,null,null,null,null,null,null,"",{"$f":"IF('Kollega oplysninger'!M114=\"\",\"\",'Kollega oplysninger'!M114)","v":""},null,null,null,null,"",null,"",null,null,null,"",""]
[null,{"$f":"IF('Kollega oplysninger'!B115=\"\",\"\",'Kollega oplysninger'!B115)","v":""},{"$f":"IF('Kollega oplysninger'!C115=\"\",\"\",'Kollega oplysninger'!C115)","v":""},null,null,{"$f":"IF('Kollega oplysninger'!I115=\"\",\"\",'Kollega oplysninger'!I115)","v":""},{"$f":"IF('Kollega oplysninger'!J115=\"\",\"\",'Kollega oplysninger'!J115)","v":""},{"$f":"IF('Kollega oplysninger'!L115=\"\",\"\",'Kollega oplysninger'!L115)","v":""},null,null,null,null,null,null,null,null,null,null,null,null,null,null,null,null,null,"",{"$f":"IF('Kollega oplysninger'!M115=\"\",\"\",'Kollega oplysninger'!M115)","v":""},null,null,null,null,"",null,"",null,null,null,"",""]
[null,{"$f":"IF('Kollega oplysninger'!B116=\"\",\"\",'Kollega oplysninger'!B116)","v":""},{"$f":"IF('Kollega oplysninger'!C116=\"\",\"\",'Kollega oplysninger'!C116)","v":""},null,null,{"$f":"IF('Kollega oplysninger'!I116=\"\",\"\",'Kollega oplysninger'!I116)","v":""},{"$f":"IF('Kollega oplysninger'!J116=\"\",\"\",'Kollega oplysninger'!J116)","v":""},{"$f":"IF('Kollega oplysninger'!L116=\"\",\"\",'Kollega oplysninger'!L116)","v":""},null,null,null,null,null,null,null,null,null,null,null,null,null,null,null,null,null,"",{"$f":"IF('Kollega oplysninger'!M116=\"\",\"\",'Kollega oplysninger'!M116)","v":""},null,null,null,null,"",null,"",null,null,null,"",""]
[null,{"$f":"IF('Kollega oplysninger'!B117=\"\",\"\",'Kollega oplysninger'!B117)","v":""},{"$f":"IF('Kollega oplysninger'!C117=\"\",\"\",'Kollega oplysninger'!C117)","v":""},null,null,{"$f":"IF('Kollega oplysninger'!I117=\"\",\"\",'Kollega oplysninger'!I117)","v":""},{"$f":"IF('Kollega oplysninger'!J117=\"\",\"\",'Kollega oplysninger'!J117)","v":""},{"$f":"IF('Kollega oplysninger'!L117=\"\",\"\",'Kollega oplysninger'!L117)","v":""},null,null,null,null,null,null,null,null,null,null,null,null,null,null,null,null,null,"",{"$f":"IF('Kollega oplysninger'!M117=\"\",\"\",'Kollega oplysninger'!M117)","v":""},null,null,null,null,"",null,"",null,null,null,"",""]
[null,{"$f":"IF('Kollega oplysninger'!B118=\"\",\"\",'Kollega oplysninger'!B118)","v":""},{"$f":"IF('Kollega oplysninger'!C118=\"\",\"\",'Kollega oplysninger'!C118)","v":""},null,null,{"$f":"IF('Kollega oplysninger'!I118=\"\",\"\",'Kollega oplysninger'!I118)","v":""},{"$f":"IF('Kollega oplysninger'!J118=\"\",\"\",'Kollega oplysninger'!J118)","v":""},{"$f":"IF('Kollega oplysninger'!L118=\"\",\"\",'Kollega oplysninger'!L118)","v":""},null,null,null,null,null,null,null,null,null,null,null,null,null,null,null,null,null,"",{"$f":"IF('Kollega oplysninger'!M118=\"\",\"\",'Kollega oplysninger'!M118)","v":""},null,null,null,null,"",null,"",null,null,null,"",""]
[null,{"$f":"IF('Kollega oplysninger'!B119=\"\",\"\",'Kollega oplysninger'!B119)","v":""},{"$f":"IF('Kollega oplysninger'!C119=\"\",\"\",'Kollega oplysninger'!C119)","v":""},null,null,{"$f":"IF('Kollega oplysninger'!I119=\"\",\"\",'Kollega oplysninger'!I119)","v":""},{"$f":"IF('Kollega oplysninger'!J119=\"\",\"\",'Kollega oplysninger'!J119)","v":""},{"$f":"IF('Kollega oplysninger'!L119=\"\",\"\",'Kollega oplysninger'!L119)","v":""},null,null,null,null,null,null,null,null,null,null,null,null,null,null,null,null,null,"",{"$f":"IF('Kollega oplysninger'!M119=\"\",\"\",'Kollega oplysninger'!M119)","v":""},null,null,null,null,"",null,"",null,null,null,"",""]
[null,{"$f":"IF('Kollega oplysninger'!B120=\"\",\"\",'Kollega oplysninger'!B120)","v":""},{"$f":"IF('Kollega oplysninger'!C120=\"\",\"\",'Kollega oplysninger'!C120)","v":""},null,null,{"$f":"IF('Kollega oplysninger'!I120=\"\",\"\",'Kollega oplysninger'!I120)","v":""},{"$f":"IF('Kollega oplysninger'!J120=\"\",\"\",'Kollega oplysninger'!J120)","v":""},{"$f":"IF('Kollega oplysninger'!L120=\"\",\"\",'Kollega oplysninger'!L120)","v":""},null,null,null,null,null,null,null,null,null,null,null,null,null,null,null,null,null,"",{"$f":"IF('Kollega oplysninger'!M120=\"\",\"\",'Kollega oplysninger'!M120)","v":""},null,null,null,null,"",null,"",null,null,null,"",""]
[null,{"$f":"IF('Kollega oplysninger'!B121=\"\",\"\",'Kollega oplysninger'!B121)","v":""},{"$f":"IF('Kollega oplysninger'!C121=\"\",\"\",'Kollega oplysninger'!C121)","v":""},null,null,{"$f":"IF('Kollega oplysninger'!I121=\"\",\"\",'Kollega oplysninger'!I121)","v":""},{"$f":"IF('Kollega oplysninger'!J121=\"\",\"\",'Kollega oplysninger'!J121)","v":""},{"$f":"IF('Kollega oplysninger'!L121=\"\",\"\",'Kollega oplysninger'!L121)","v":""},null,null,null,null,null,null,null,null,null,null,null,null,null,null,null,null,null,"",{"$f":"IF('Kollega oplysninger'!M121=\"\",\"\",'Kollega oplysninger'!M121)","v":""},null,null,null,null,"",null,"",null,null,null,"",""]
[null,{"$f":"IF('Kollega oplysninger'!B122=\"\",\"\",'Kollega oplysninger'!B122)","v":""},{"$f":"IF('Kollega oplysninger'!C122=\"\",\"\",'Kollega oplysninger'!C122)","v":""},null,null,{"$f":"IF('Kollega oplysninger'!I122=\"\",\"\",'Kollega oplysninger'!I122)","v":""},{"$f":"IF('Kollega oplysninger'!J122=\"\",\"\",'Kollega oplysninger'!J122)","v":""},{"$f":"IF('Kollega oplysninger'!L122=\"\",\"\",'Kollega oplysninger'!L122)","v":""},null,null,null,null,null,null,null,null,null,null,null,null,null,null,null,null,null,"",{"$f":"IF('Kollega oplysninger'!M122=\"\",\"\",'Kollega oplysninger'!M122)","v":""},null,null,null,null,"",null,"",null,null,null,"",""]
[null,{"$f":"IF('Kollega oplysninger'!B123=\"\",\"\",'Kollega oplysninger'!B123)","v":""},{"$f":"IF('Kollega oplysninger'!C123=\"\",\"\",'Kollega oplysninger'!C123)","v":""},null,null,{"$f":"IF('Kollega oplysninger'!I123=\"\",\"\",'Kollega oplysninger'!I123)","v":""},{"$f":"IF('Kollega oplysninger'!J123=\"\",\"\",'Kollega oplysninger'!J123)","v":""},{"$f":"IF('Kollega oplysninger'!L123=\"\",\"\",'Kollega oplysninger'!L123)","v":""},null,null,null,null,null,null,null,null,null,null,null,null,null,null,null,null,null,"",{"$f":"IF('Kollega oplysninger'!M123=\"\",\"\",'Kollega oplysninger'!M123)","v":""},null,null,null,null,"",null,"",null,null,null,"",""]
[null,{"$f":"IF('Kollega oplysninger'!B124=\"\",\"\",'Kollega oplysninger'!B124)","v":""},{"$f":"IF('Kollega oplysninger'!C124=\"\",\"\",'Kollega oplysninger'!C124)","v":""},null,null,{"$f":"IF('Kollega oplysninger'!I124=\"\",\"\",'Kollega oplysninger'!I124)","v":""},{"$f":"IF('Kollega oplysninger'!J124=\"\",\"\",'Kollega oplysninger'!J124)","v":""},{"$f":"IF('Kollega oplysninger'!L124=\"\",\"\",'Kollega oplysninger'!L124)","v":""},null,null,null,null,null,null,null,null,null,null,null,null,null,null,null,null,null,"",{"$f":"IF('Kollega oplysninger'!M124=\"\",\"\",'Kollega oplysninger'!M124)","v":""},null,null,null,null,"",null,"",null,null,null,"",""]
[null,{"$f":"IF('Kollega oplysninger'!B125=\"\",\"\",'Kollega oplysninger'!B125)","v":""},{"$f":"IF('Kollega oplysninger'!C125=\"\",\"\",'Kollega oplysninger'!C125)","v":""},null,null,{"$f":"IF('Kollega oplysninger'!I125=\"\",\"\",'Kollega oplysninger'!I125)","v":""},{"$f":"IF('Kollega oplysninger'!J125=\"\",\"\",'Kollega oplysninger'!J125)","v":""},{"$f":"IF('Kollega oplysninger'!L125=\"\",\"\",'Kollega oplysninger'!L125)","v":""},null,null,null,null,null,null,null,null,null,null,null,null,null,null,null,null,null,"",{"$f":"IF('Kollega oplysninger'!M125=\"\",\"\",'Kollega oplysninger'!M125)","v":""},null,null,null,null,"",null,"",null,null,null,"",""]
[null,{"$f":"IF('Kollega oplysninger'!B126=\"\",\"\",'Kollega oplysninger'!B126)","v":""},{"$f":"IF('Kollega oplysninger'!C126=\"\",\"\",'Kollega oplysninger'!C126)","v":""},null,null,{"$f":"IF('Kollega oplysninger'!I126=\"\",\"\",'Kollega oplysninger'!I126)","v":""},{"$f":"IF('Kollega oplysninger'!J126=\"\",\"\",'Kollega oplysninger'!J126)","v":""},{"$f":"IF('Kollega oplysninger'!L126=\"\",\"\",'Kollega oplysninger'!L126)","v":""},null,null,null,null,null,null,null,null,null,null,null,null,null,null,null,null,null,"",{"$f":"IF('Kollega oplysninger'!M126=\"\",\"\",'Kollega oplysninger'!M126)","v":""},null,null,null,null,"",null,"",null,null,null,"",""]
[null,{"$f":"IF('Kollega oplysninger'!B127=\"\",\"\",'Kollega oplysninger'!B127)","v":""},{"$f":"IF('Kollega oplysninger'!C127=\"\",\"\",'Kollega oplysninger'!C127)","v":""},null,null,{"$f":"IF('Kollega oplysninger'!I127=\"\",\"\",'Kollega oplysninger'!I127)","v":""},{"$f":"IF('Kollega oplysninger'!J127=\"\",\"\",'Kollega oplysninger'!J127)","v":""},{"$f":"IF('Kollega oplysninger'!L127=\"\",\"\",'Kollega oplysninger'!L127)","v":""},null,null,null,null,null,null,null,null,null,null,null,null,null,null,null,null,null,"",{"$f":"IF('Kollega oplysninger'!M127=\"\",\"\",'Kollega oplysninger'!M127)","v":""},null,null,null,null,"",null,"",null,null,null,"",""]
[null,{"$f":"IF('Kollega oplysninger'!B128=\"\",\"\",'Kollega oplysninger'!B128)","v":""},{"$f":"IF('Kollega oplysninger'!C128=\"\",\"\",'Kollega oplysninger'!C128)","v":""},null,null,{"$f":"IF('Kollega oplysninger'!I128=\"\",\"\",'Kollega oplysninger'!I128)","v":""},{"$f":"IF('Kollega oplysninger'!J128=\"\",\"\",'Kollega oplysninger'!J128)","v":""},{"$f":"IF('Kollega oplysninger'!L128=\"\",\"\",'Kollega oplysninger'!L128)","v":""},null,null,null,null,null,null,null,null,null,null,null,null,null,null,null,null,null,"",{"$f":"IF('Kollega oplysninger'!M128=\"\",\"\",'Kollega oplysninger'!M128)","v":""},null,null,null,null,"",null,"",null,null,null,"",""]
[null,{"$f":"IF('Kollega oplysninger'!B129=\"\",\"\",'Kollega oplysninger'!B129)","v":""},{"$f":"IF('Kollega oplysninger'!C129=\"\",\"\",'Kollega oplysninger'!C129)","v":""},null,null,{"$f":"IF('Kollega oplysninger'!I129=\"\",\"\",'Kollega oplysninger'!I129)","v":""},{"$f":"IF('Kollega oplysninger'!J129=\"\",\"\",'Kollega oplysninger'!J129)","v":""},{"$f":"IF('Kollega oplysninger'!L129=\"\",\"\",'Kollega oplysninger'!L129)","v":""},null,null,null,null,null,null,null,null,null,null,null,null,null,null,null,null,null,"",{"$f":"IF('Kollega oplysninger'!M129=\"\",\"\",'Kollega oplysninger'!M129)","v":""},null,null,null,null,"",null,"",null,null,null,"",""]
[null,{"$f":"IF('Kollega oplysninger'!B130=\"\",\"\",'Kollega oplysninger'!B130)","v":""},{"$f":"IF('Kollega oplysninger'!C130=\"\",\"\",'Kollega oplysninger'!C130)","v":""},null,null,{"$f":"IF('Kollega oplysninger'!I130=\"\",\"\",'Kollega oplysninger'!I130)","v":""},{"$f":"IF('Kollega oplysninger'!J130=\"\",\"\",'Kollega oplysninger'!J130)","v":""},{"$f":"IF('Kollega oplysninger'!L130=\"\",\"\",'Kollega oplysninger'!L130)","v":""},null,null,null,null,null,null,null,null,null,null,null,null,null,null,null,null,null,"",{"$f":"IF('Kollega oplysninger'!M130=\"\",\"\",'Kollega oplysninger'!M130)","v":""},null,null,null,null,"",null,"",null,null,null,"",""]
[null,{"$f":"IF('Kollega oplysninger'!B131=\"\",\"\",'Kollega oplysninger'!B131)","v":""},{"$f":"IF('Kollega oplysninger'!C131=\"\",\"\",'Kollega oplysninger'!C131)","v":""},null,null,{"$f":"IF('Kollega oplysninger'!I131=\"\",\"\",'Kollega oplysninger'!I131)","v":""},{"$f":"IF('Kollega oplysninger'!J131=\"\",\"\",'Kollega oplysninger'!J131)","v":""},{"$f":"IF('Kollega oplysninger'!L131=\"\",\"\",'Kollega oplysninger'!L131)","v":""},null,null,null,null,null,null,null,null,null,null,null,null,null,null,null,null,null,"",{"$f":"IF('Kollega oplysninger'!M131=\"\",\"\",'Kollega oplysninger'!M131)","v":""},null,null,null,null,"",null,"",null,null,null,"",""]
[null,{"$f":"IF('Kollega oplysninger'!B132=\"\",\"\",'Kollega oplysninger'!B132)","v":""},{"$f":"IF('Kollega oplysninger'!C132=\"\",\"\",'Kollega oplysninger'!C132)","v":""},null,null,{"$f":"IF('Kollega oplysninger'!I132=\"\",\"\",'Kollega oplysninger'!I132)","v":""},{"$f":"IF('Kollega oplysninger'!J132=\"\",\"\",'Kollega oplysninger'!J132)","v":""},{"$f":"IF('Kollega oplysninger'!L132=\"\",\"\",'Kollega oplysninger'!L132)","v":""},null,null,null,null,null,null,null,null,null,null,null,null,null,null,null,null,null,"",{"$f":"IF('Kollega oplysninger'!M132=\"\",\"\",'Kollega oplysninger'!M132)","v":""},null,null,null,null,"",null,"",null,null,null,"",""]
[null,{"$f":"IF('Kollega oplysninger'!B133=\"\",\"\",'Kollega oplysninger'!B133)","v":""},{"$f":"IF('Kollega oplysninger'!C133=\"\",\"\",'Kollega oplysninger'!C133)","v":""},null,null,{"$f":"IF('Kollega oplysninger'!I133=\"\",\"\",'Kollega oplysninger'!I133)","v":""},{"$f":"IF('Kollega oplysninger'!J133=\"\",\"\",'Kollega oplysninger'!J133)","v":""},{"$f":"IF('Kollega oplysninger'!L133=\"\",\"\",'Kollega oplysninger'!L133)","v":""},null,null,null,null,null,null,null,null,null,null,null,null,null,null,null,null,null,"",{"$f":"IF('Kollega oplysninger'!M133=\"\",\"\",'Kollega oplysninger'!M133)","v":""},null,null,null,null,"",null,"",null,null,null,"",""]
[null,{"$f":"IF('Kollega oplysninger'!B134=\"\",\"\",'Kollega oplysninger'!B134)","v":""},{"$f":"IF('Kollega oplysninger'!C134=\"\",\"\",'Kollega oplysninger'!C134)","v":""},null,null,{"$f":"IF('Kollega oplysninger'!I134=\"\",\"\",'Kollega oplysninger'!I134)","v":""},{"$f":"IF('Kollega oplysninger'!J134=\"\",\"\",'Kollega oplysninger'!J134)","v":""},{"$f":"IF('Kollega oplysninger'!L134=\"\",\"\",'Kollega oplysninger'!L134)","v":""},null,null,null,null,null,null,null,null,null,null,null,null,null,null,null,null,null,"",{"$f":"IF('Kollega oplysninger'!M134=\"\",\"\",'Kollega oplysninger'!M134)","v":""},null,null,null,null,"",null,"",null,null,null,"",""]
[null,{"$f":"IF('Kollega oplysninger'!B135=\"\",\"\",'Kollega oplysninger'!B135)","v":""},{"$f":"IF('Kollega oplysninger'!C135=\"\",\"\",'Kollega oplysninger'!C135)","v":""},null,null,{"$f":"IF('Kollega oplysninger'!I135=\"\",\"\",'Kollega oplysninger'!I135)","v":""},{"$f":"IF('Kollega oplysninger'!J135=\"\",\"\",'Kollega oplysninger'!J135)","v":""},{"$f":"IF('Kollega oplysninger'!L135=\"\",\"\",'Kollega oplysninger'!L135)","v":""},null,null,null,null,null,null,null,null,null,null,null,null,null,null,null,null,null,"",{"$f":"IF('Kollega oplysninger'!M135=\"\",\"\",'Kollega oplysninger'!M135)","v":""},null,null,null,null,{"$f":"IF(Y135<AE135,\"fejl\",IF(Y135=\"\",\"\",IF(AE135=\"\",0,AE135/Y135)))","v":""},null,{"$f":"IF(Y135<AG135,\"fejl\",IF(Y135=\"\",\"\",IF(AG135=\"\",0,AG135/Y135)))","v":""},null,null,null,{"$f":"IF(Z135=\"fejl\",X135,\"\")","v":""},{"$f":"IF(Z135=\"fejl\",Y135,\"\")","v":""}]
[null,{"$f":"IF('Kollega oplysninger'!B136=\"\",\"\",'Kollega oplysninger'!B136)","v":""},{"$f":"IF('Kollega oplysninger'!C136=\"\",\"\",'Kollega oplysninger'!C136)","v":""},null,null,{"$f":"IF('Kollega oplysninger'!I136=\"\",\"\",'Kollega oplysninger'!I136)","v":""},{"$f":"IF('Kollega oplysninger'!J136=\"\",\"\",'Kollega oplysninger'!J136)","v":""},{"$f":"IF('Kollega oplysninger'!L136=\"\",\"\",'Kollega oplysninger'!L136)","v":""},null,null,null,null,null,null,null,null,null,null,null,null,null,null,null,null,null,{"$f":"IF(Y136<X136,\"fejl\",IF(Y136=\"\",\"\",IF(X136=\"\",0,X136/Y136)))","v":""},{"$f":"IF('Kollega oplysninger'!M136=\"\",\"\",'Kollega oplysninger'!M136)","v":""},null,null,null,null,"",null,"",null,null,null,"",""]
[null,{"$f":"IF('Kollega oplysninger'!B137=\"\",\"\",'Kollega oplysninger'!B137)","v":""},{"$f":"IF('Kollega oplysninger'!C137=\"\",\"\",'Kollega oplysninger'!C137)","v":""},null,null,{"$f":"IF('Kollega oplysninger'!I137=\"\",\"\",'Kollega oplysninger'!I137)","v":""},{"$f":"IF('Kollega oplysninger'!J137=\"\",\"\",'Kollega oplysninger'!J137)","v":""},{"$f":"IF('Kollega oplysninger'!L137=\"\",\"\",'Kollega oplysninger'!L137)","v":""},null,null,null,null,null,null,null,null,null,null,null,null,null,null,null,null,null,"",{"$f":"IF('Kollega oplysninger'!M137=\"\",\"\",'Kollega oplysninger'!M137)","v":""},null,null,null,null,"",null,"",null,null,null,"",""]
[null,{"$f":"IF('Kollega oplysninger'!B138=\"\",\"\",'Kollega oplysninger'!B138)","v":""},{"$f":"IF('Kollega oplysninger'!C138=\"\",\"\",'Kollega oplysninger'!C138)","v":""},null,null,{"$f":"IF('Kollega oplysninger'!I138=\"\",\"\",'Kollega oplysninger'!I138)","v":""},{"$f":"IF('Kollega oplysninger'!J138=\"\",\"\",'Kollega oplysninger'!J138)","v":""},{"$f":"IF('Kollega oplysninger'!L138=\"\",\"\",'Kollega oplysninger'!L138)","v":""},null,null,null,null,null,null,null,null,null,null,null,null,null,null,null,null,null,"",{"$f":"IF('Kollega oplysninger'!M138=\"\",\"\",'Kollega oplysninger'!M138)","v":""},null,null,null,null,"",null,"",null,null,null,"",""]
[null,{"$f":"IF('Kollega oplysninger'!B139=\"\",\"\",'Kollega oplysninger'!B139)","v":""},{"$f":"IF('Kollega oplysninger'!C139=\"\",\"\",'Kollega oplysninger'!C139)","v":""},null,null,{"$f":"IF('Kollega oplysninger'!I139=\"\",\"\",'Kollega oplysninger'!I139)","v":""},{"$f":"IF('Kollega oplysninger'!J139=\"\",\"\",'Kollega oplysninger'!J139)","v":""},{"$f":"IF('Kollega oplysninger'!L139=\"\",\"\",'Kollega oplysninger'!L139)","v":""},null,null,null,null,null,null,null,null,null,null,null,null,null,null,null,null,null,"",{"$f":"IF('Kollega oplysninger'!M139=\"\",\"\",'Kollega oplysninger'!M139)","v":""},null,null,null,null,"",null,"",null,null,null,"",""]
[null,{"$f":"IF('Kollega oplysninger'!B140=\"\",\"\",'Kollega oplysninger'!B140)","v":""},{"$f":"IF('Kollega oplysninger'!C140=\"\",\"\",'Kollega oplysninger'!C140)","v":""},null,null,{"$f":"IF('Kollega oplysninger'!I140=\"\",\"\",'Kollega oplysninger'!I140)","v":""},{"$f":"IF('Kollega oplysninger'!J140=\"\",\"\",'Kollega oplysninger'!J140)","v":""},{"$f":"IF('Kollega oplysninger'!L140=\"\",\"\",'Kollega oplysninger'!L140)","v":""},null,null,null,null,null,null,null,null,null,null,null,null,null,null,null,null,null,"",{"$f":"IF('Kollega oplysninger'!M140=\"\",\"\",'Kollega oplysninger'!M140)","v":""},null,null,null,null,"",null,"",null,null,null,"",""]
[null,{"$f":"IF('Kollega oplysninger'!B141=\"\",\"\",'Kollega oplysninger'!B141)","v":""},{"$f":"IF('Kollega oplysninger'!C141=\"\",\"\",'Kollega oplysninger'!C141)","v":""},null,null,{"$f":"IF('Kollega oplysninger'!I141=\"\",\"\",'Kollega oplysninger'!I141)","v":""},{"$f":"IF('Kollega oplysninger'!J141=\"\",\"\",'Kollega oplysninger'!J141)","v":""},{"$f":"IF('Kollega oplysninger'!L141=\"\",\"\",'Kollega oplysninger'!L141)","v":""},null,null,null,null,null,null,null,null,null,null,null,null,null,null,null,null,null,"",{"$f":"IF('Kollega oplysninger'!M141=\"\",\"\",'Kollega oplysninger'!M141)","v":""},null,null,null,null,"",null,"",null,null,null,"",""]
[null,{"$f":"IF('Kollega oplysninger'!B142=\"\",\"\",'Kollega oplysninger'!B142)","v":""},{"$f":"IF('Kollega oplysninger'!C142=\"\",\"\",'Kollega oplysninger'!C142)","v":""},null,null,{"$f":"IF('Kollega oplysninger'!I142=\"\",\"\",'Kollega oplysninger'!I142)","v":""},{"$f":"IF('Kollega oplysninger'!J142=\"\",\"\",'Kollega oplysninger'!J142)","v":""},{"$f":"IF('Kollega oplysninger'!L142=\"\",\"\",'Kollega oplysninger'!L142)","v":""},null,null,null,null,null,null,null,null,null,null,null,null,null,null,null,null,null,"",{"$f":"IF('Kollega oplysninger'!M142=\"\",\"\",'Kollega oplysninger'!M142)","v":""},null,null,null,null,"",null,"",null,null,null,"",""]
[null,{"$f":"IF('Kollega oplysninger'!B143=\"\",\"\",'Kollega oplysninger'!B143)","v":""},{"$f":"IF('Kollega oplysninger'!C143=\"\",\"\",'Kollega oplysninger'!C143)","v":""},null,null,{"$f":"IF('Kollega oplysninger'!I143=\"\",\"\",'Kollega oplysninger'!I143)","v":""},{"$f":"IF('Kollega oplysninger'!J143=\"\",\"\",'Kollega oplysninger'!J143)","v":""},{"$f":"IF('Kollega oplysninger'!L143=\"\",\"\",'Kollega oplysninger'!L143)","v":""},null,null,null,null,null,null,null,null,null,null,null,null,null,null,null,null,null,"",{"$f":"IF('Kollega oplysninger'!M143=\"\",\"\",'Kollega oplysninger'!M143)","v":""},null,null,null,null,"",null,"",null,null,null,"",""]
[null,{"$f":"IF('Kollega oplysninger'!B144=\"\",\"\",'Kollega oplysninger'!B144)","v":""},{"$f":"IF('Kollega oplysninger'!C144=\"\",\"\",'Kollega oplysninger'!C144)","v":""},null,null,{"$f":"IF('Kollega oplysninger'!I144=\"\",\"\",'Kollega oplysninger'!I144)","v":""},{"$f":"IF('Kollega oplysninger'!J144=\"\",\"\",'Kollega oplysninger'!J144)","v":""},{"$f":"IF('Kollega oplysninger'!L144=\"\",\"\",'Kollega oplysninger'!L144)","v":""},null,null,null,null,null,null,null,null,null,null,null,null,null,null,null,null,null,"",{"$f":"IF('Kollega oplysninger'!M144=\"\",\"\",'Kollega oplysninger'!M144)","v":""},null,null,null,null,"",null,"",null,null,null,"",""]
[null,{"$f":"IF('Kollega oplysninger'!B145=\"\",\"\",'Kollega oplysninger'!B145)","v":""},{"$f":"IF('Kollega oplysninger'!C145=\"\",\"\",'Kollega oplysninger'!C145)","v":""},null,null,{"$f":"IF('Kollega oplysninger'!I145=\"\",\"\",'Kollega oplysninger'!I145)","v":""},{"$f":"IF('Kollega oplysninger'!J145=\"\",\"\",'Kollega oplysninger'!J145)","v":""},{"$f":"IF('Kollega oplysninger'!L145=\"\",\"\",'Kollega oplysninger'!L145)","v":""},null,null,null,null,null,null,null,null,null,null,null,null,null,null,null,null,null,"",{"$f":"IF('Kollega oplysninger'!M145=\"\",\"\",'Kollega oplysninger'!M145)","v":""},null,null,null,null,"",null,"",null,null,null,"",""]
[null,{"$f":"IF('Kollega oplysninger'!B146=\"\",\"\",'Kollega oplysninger'!B146)","v":""},{"$f":"IF('Kollega oplysninger'!C146=\"\",\"\",'Kollega oplysninger'!C146)","v":""},null,null,{"$f":"IF('Kollega oplysninger'!I146=\"\",\"\",'Kollega oplysninger'!I146)","v":""},{"$f":"IF('Kollega oplysninger'!J146=\"\",\"\",'Kollega oplysninger'!J146)","v":""},{"$f":"IF('Kollega oplysninger'!L146=\"\",\"\",'Kollega oplysninger'!L146)","v":""},null,null,null,null,null,null,null,null,null,null,null,null,null,null,null,null,null,"",{"$f":"IF('Kollega oplysninger'!M146=\"\",\"\",'Kollega oplysninger'!M146)","v":""},null,null,null,null,"",null,"",null,null,null,"",""]
[null,{"$f":"IF('Kollega oplysninger'!B147=\"\",\"\",'Kollega oplysninger'!B147)","v":""},{"$f":"IF('Kollega oplysninger'!C147=\"\",\"\",'Kollega oplysninger'!C147)","v":""},null,null,{"$f":"IF('Kollega oplysninger'!I147=\"\",\"\",'Kollega oplysninger'!I147)","v":""},{"$f":"IF('Kollega oplysninger'!J147=\"\",\"\",'Kollega oplysninger'!J147)","v":""},{"$f":"IF('Kollega oplysninger'!L147=\"\",\"\",'Kollega oplysninger'!L147)","v":""},null,null,null,null,null,null,null,null,null,null,null,null,null,null,null,null,null,"",{"$f":"IF('Kollega oplysninger'!M147=\"\",\"\",'Kollega oplysninger'!M147)","v":""},null,null,null,null,"",null,"",null,null,null,"",""]
[null,{"$f":"IF('Kollega oplysninger'!B148=\"\",\"\",'Kollega oplysninger'!B148)","v":""},{"$f":"IF('Kollega oplysninger'!C148=\"\",\"\",'Kollega oplysninger'!C148)","v":""},null,null,{"$f":"IF('Kollega oplysninger'!I148=\"\",\"\",'Kollega oplysninger'!I148)","v":""},{"$f":"IF('Kollega oplysninger'!J148=\"\",\"\",'Kollega oplysninger'!J148)","v":""},{"$f":"IF('Kollega oplysninger'!L148=\"\",\"\",'Kollega oplysninger'!L148)","v":""},null,null,null,null,null,null,null,null,null,null,null,null,null,null,null,null,null,"",{"$f":"IF('Kollega oplysninger'!M148=\"\",\"\",'Kollega oplysninger'!M148)","v":""},null,null,null,null,"",null,"",null,null,null,"",""]
[null,{"$f":"IF('Kollega oplysninger'!B149=\"\",\"\",'Kollega oplysninger'!B149)","v":""},{"$f":"IF('Kollega oplysninger'!C149=\"\",\"\",'Kollega oplysninger'!C149)","v":""},null,null,{"$f":"IF('Kollega oplysninger'!I149=\"\",\"\",'Kollega oplysninger'!I149)","v":""},{"$f":"IF('Kollega oplysninger'!J149=\"\",\"\",'Kollega oplysninger'!J149)","v":""},{"$f":"IF('Kollega oplysninger'!L149=\"\",\"\",'Kollega oplysninger'!L149)","v":""},null,null,null,null,null,null,null,null,null,null,null,null,null,null,null,null,null,"",{"$f":"IF('Kollega oplysninger'!M149=\"\",\"\",'Kollega oplysninger'!M149)","v":""},null,null,null,null,"",null,"",null,null,null,"",""]
[null,{"$f":"IF('Kollega oplysninger'!B150=\"\",\"\",'Kollega oplysninger'!B150)","v":""},{"$f":"IF('Kollega oplysninger'!C150=\"\",\"\",'Kollega oplysninger'!C150)","v":""},null,null,{"$f":"IF('Kollega oplysninger'!I150=\"\",\"\",'Kollega oplysninger'!I150)","v":""},{"$f":"IF('Kollega oplysninger'!J150=\"\",\"\",'Kollega oplysninger'!J150)","v":""},{"$f":"IF('Kollega oplysninger'!L150=\"\",\"\",'Kollega oplysninger'!L150)","v":""},null,null,null,null,null,null,null,null,null,null,null,null,null,null,null,null,null,"",{"$f":"IF('Kollega oplysninger'!M150=\"\",\"\",'Kollega oplysninger'!M150)","v":""},null,null,null,null,"",null,"",null,null,null,"",""]
[null,{"$f":"IF('Kollega oplysninger'!B151=\"\",\"\",'Kollega oplysninger'!B151)","v":""},{"$f":"IF('Kollega oplysninger'!C151=\"\",\"\",'Kollega oplysninger'!C151)","v":""},null,null,{"$f":"IF('Kollega oplysninger'!I151=\"\",\"\",'Kollega oplysninger'!I151)","v":""},{"$f":"IF('Kollega oplysninger'!J151=\"\",\"\",'Kollega oplysninger'!J151)","v":""},{"$f":"IF('Kollega oplysninger'!L151=\"\",\"\",'Kollega oplysninger'!L151)","v":""},null,null,null,null,null,null,null,null,null,null,null,null,null,null,null,null,null,"",{"$f":"IF('Kollega oplysninger'!M151=\"\",\"\",'Kollega oplysninger'!M151)","v":""},null,null,null,null,"",null,"",null,null,null,"",""]
[null,{"$f":"IF('Kollega oplysninger'!B152=\"\",\"\",'Kollega oplysninger'!B152)","v":""},{"$f":"IF('Kollega oplysninger'!C152=\"\",\"\",'Kollega oplysninger'!C152)","v":""},null,null,{"$f":"IF('Kollega oplysninger'!I152=\"\",\"\",'Kollega oplysninger'!I152)","v":""},{"$f":"IF('Kollega oplysninger'!J152=\"\",\"\",'Kollega oplysninger'!J152)","v":""},{"$f":"IF('Kollega oplysninger'!L152=\"\",\"\",'Kollega oplysninger'!L152)","v":""},null,null,null,null,null,null,null,null,null,null,null,null,null,null,null,null,null,"",{"$f":"IF('Kollega oplysninger'!M152=\"\",\"\",'Kollega oplysninger'!M152)","v":""},null,null,null,null,"",null,"",null,null,null,"",""]
[null,{"$f":"IF('Kollega oplysninger'!B153=\"\",\"\",'Kollega oplysninger'!B153)","v":""},{"$f":"IF('Kollega oplysninger'!C153=\"\",\"\",'Kollega oplysninger'!C153)","v":""},null,null,{"$f":"IF('Kollega oplysninger'!I153=\"\",\"\",'Kollega oplysninger'!I153)","v":""},{"$f":"IF('Kollega oplysninger'!J153=\"\",\"\",'Kollega oplysninger'!J153)","v":""},{"$f":"IF('Kollega oplysninger'!L153=\"\",\"\",'Kollega oplysninger'!L153)","v":""},null,null,null,null,null,null,null,null,null,null,null,null,null,null,null,null,null,"",{"$f":"IF('Kollega oplysninger'!M153=\"\",\"\",'Kollega oplysninger'!M153)","v":""},null,null,null,null,"",null,"",null,null,null,"",""]
[null,{"$f":"IF('Kollega oplysninger'!B154=\"\",\"\",'Kollega oplysninger'!B154)","v":""},{"$f":"IF('Kollega oplysninger'!C154=\"\",\"\",'Kollega oplysninger'!C154)","v":""},null,null,{"$f":"IF('Kollega oplysninger'!I154=\"\",\"\",'Kollega oplysninger'!I154)","v":""},{"$f":"IF('Kollega oplysninger'!J154=\"\",\"\",'Kollega oplysninger'!J154)","v":""},{"$f":"IF('Kollega oplysninger'!L154=\"\",\"\",'Kollega oplysninger'!L154)","v":""},null,null,null,null,null,null,null,null,null,null,null,null,null,null,null,null,null,"",{"$f":"IF('Kollega oplysninger'!M154=\"\",\"\",'Kollega oplysninger'!M154)","v":""},null,null,null,null,"",null,"",null,null,null,"",""]
[null,{"$f":"IF('Kollega oplysninger'!B155=\"\",\"\",'Kollega oplysninger'!B155)","v":""},{"$f":"IF('Kollega oplysninger'!C155=\"\",\"\",'Kollega oplysninger'!C155)","v":""},null,null,{"$f":"IF('Kollega oplysninger'!I155=\"\",\"\",'Kollega oplysninger'!I155)","v":""},{"$f":"IF('Kollega oplysninger'!J155=\"\",\"\",'Kollega oplysninger'!J155)","v":""},{"$f":"IF('Kollega oplysninger'!L155=\"\",\"\",'Kollega oplysninger'!L155)","v":""},null,null,null,null,null,null,null,null,null,null,null,null,null,null,null,null,null,"",{"$f":"IF('Kollega oplysninger'!M155=\"\",\"\",'Kollega oplysninger'!M155)","v":""},null,null,null,null,"",null,"",null,null,null,"",""]
[null,{"$f":"IF('Kollega oplysninger'!B156=\"\",\"\",'Kollega oplysninger'!B156)","v":""},{"$f":"IF('Kollega oplysninger'!C156=\"\",\"\",'Kollega oplysninger'!C156)","v":""},null,null,{"$f":"IF('Kollega oplysninger'!I156=\"\",\"\",'Kollega oplysninger'!I156)","v":""},{"$f":"IF('Kollega oplysninger'!J156=\"\",\"\",'Kollega oplysninger'!J156)","v":""},{"$f":"IF('Kollega oplysninger'!L156=\"\",\"\",'Kollega oplysninger'!L156)","v":""},null,null,null,null,null,null,null,null,null,null,null,null,null,null,null,null,null,"",{"$f":"IF('Kollega oplysninger'!M156=\"\",\"\",'Kollega oplysninger'!M156)","v":""},null,null,null,null,"",null,"",null,null,null,"",""]
[null,{"$f":"IF('Kollega oplysninger'!B157=\"\",\"\",'Kollega oplysninger'!B157)","v":""},{"$f":"IF('Kollega oplysninger'!C157=\"\",\"\",'Kollega oplysninger'!C157)","v":""},null,null,{"$f":"IF('Kollega oplysninger'!I157=\"\",\"\",'Kollega oplysninger'!I157)","v":""},{"$f":"IF('Kollega oplysninger'!J157=\"\",\"\",'Kollega oplysninger'!J157)","v":""},{"$f":"IF('Kollega oplysninger'!L157=\"\",\"\",'Kollega oplysninger'!L157)","v":""},null,null,null,null,null,null,null,null,null,null,null,null,null,null,null,null,null,"",{"$f":"IF('Kollega oplysninger'!M157=\"\",\"\",'Kollega oplysninger'!M157)","v":""},null,null,null,null,"",null,"",null,null,null,"",""]
[null,{"$f":"IF('Kollega oplysninger'!B158=\"\",\"\",'Kollega oplysninger'!B158)","v":""},{"$f":"IF('Kollega oplysninger'!C158=\"\",\"\",'Kollega oplysninger'!C158)","v":""},null,null,{"$f":"IF('Kollega oplysninger'!I158=\"\",\"\",'Kollega oplysninger'!I158)","v":""},{"$f":"IF('Kollega oplysninger'!J158=\"\",\"\",'Kollega oplysninger'!J158)","v":""},{"$f":"IF('Kollega oplysninger'!L158=\"\",\"\",'Kollega oplysninger'!L158)","v":""},null,null,null,null,null,null,null,null,null,null,null,null,null,null,null,null,null,"",{"$f":"IF('Kollega oplysninger'!M158=\"\",\"\",'Kollega oplysninger'!M158)","v":""},null,null,null,null,"",null,"",null,null,null,"",""]
[null,{"$f":"IF('Kollega oplysninger'!B159=\"\",\"\",'Kollega oplysninger'!B159)","v":""},{"$f":"IF('Kollega oplysninger'!C159=\"\",\"\",'Kollega oplysninger'!C159)","v":""},null,null,{"$f":"IF('Kollega oplysninger'!I159=\"\",\"\",'Kollega oplysninger'!I159)","v":""},{"$f":"IF('Kollega oplysninger'!J159=\"\",\"\",'Kollega oplysninger'!J159)","v":""},{"$f":"IF('Kollega oplysninger'!L159=\"\",\"\",'Kollega oplysninger'!L159)","v":""},null,null,null,null,null,null,null,null,null,null,null,null,null,null,null,null,null,"",{"$f":"IF('Kollega oplysninger'!M159=\"\",\"\",'Kollega oplysninger'!M159)","v":""},null,null,null,null,"",null,"",null,null,null,"",""]
[null,{"$f":"IF('Kollega oplysninger'!B160=\"\",\"\",'Kollega oplysninger'!B160)","v":""},{"$f":"IF('Kollega oplysninger'!C160=\"\",\"\",'Kollega oplysninger'!C160)","v":""},null,null,{"$f":"IF('Kollega oplysninger'!I160=\"\",\"\",'Kollega oplysninger'!I160)","v":""},{"$f":"IF('Kollega oplysninger'!J160=\"\",\"\",'Kollega oplysninger'!J160)","v":""},{"$f":"IF('Kollega oplysninger'!L160=\"\",\"\",'Kollega oplysninger'!L160)","v":""},null,null,null,null,null,null,null,null,null,null,null,null,null,null,null,null,null,"",{"$f":"IF('Kollega oplysninger'!M160=\"\",\"\",'Kollega oplysninger'!M160)","v":""},null,null,null,null,"",null,"",null,null,null,"",""]
[null,{"$f":"IF('Kollega oplysninger'!B161=\"\",\"\",'Kollega oplysninger'!B161)","v":""},{"$f":"IF('Kollega oplysninger'!C161=\"\",\"\",'Kollega oplysninger'!C161)","v":""},null,null,{"$f":"IF('Kollega oplysninger'!I161=\"\",\"\",'Kollega oplysninger'!I161)","v":""},{"$f":"IF('Kollega oplysninger'!J161=\"\",\"\",'Kollega oplysninger'!J161)","v":""},{"$f":"IF('Kollega oplysninger'!L161=\"\",\"\",'Kollega oplysninger'!L161)","v":""},null,null,null,null,null,null,null,null,null,null,null,null,null,null,null,null,null,"",{"$f":"IF('Kollega oplysninger'!M161=\"\",\"\",'Kollega oplysninger'!M161)","v":""},null,null,null,null,"",null,"",null,null,null,"",""]
[null,{"$f":"IF('Kollega oplysninger'!B162=\"\",\"\",'Kollega oplysninger'!B162)","v":""},{"$f":"IF('Kollega oplysninger'!C162=\"\",\"\",'Kollega oplysninger'!C162)","v":""},null,null,{"$f":"IF('Kollega oplysninger'!I162=\"\",\"\",'Kollega oplysninger'!I162)","v":""},{"$f":"IF('Kollega oplysninger'!J162=\"\",\"\",'Kollega oplysninger'!J162)","v":""},{"$f":"IF('Kollega oplysninger'!L162=\"\",\"\",'Kollega oplysninger'!L162)","v":""},null,null,null,null,null,null,null,null,null,null,null,null,null,null,null,null,null,"",{"$f":"IF('Kollega oplysninger'!M162=\"\",\"\",'Kollega oplysninger'!M162)","v":""},null,null,null,null,"",null,"",null,null,null,"",""]
[null,{"$f":"IF('Kollega oplysninger'!B163=\"\",\"\",'Kollega oplysninger'!B163)","v":""},{"$f":"IF('Kollega oplysninger'!C163=\"\",\"\",'Kollega oplysninger'!C163)","v":""},null,null,{"$f":"IF('Kollega oplysninger'!I163=\"\",\"\",'Kollega oplysninger'!I163)","v":""},{"$f":"IF('Kollega oplysninger'!J163=\"\",\"\",'Kollega oplysninger'!J163)","v":""},{"$f":"IF('Kollega oplysninger'!L163=\"\",\"\",'Kollega oplysninger'!L163)","v":""},null,null,null,null,null,null,null,null,null,null,null,null,null,null,null,null,null,"",{"$f":"IF('Kollega oplysninger'!M163=\"\",\"\",'Kollega oplysninger'!M163)","v":""},null,null,null,null,"",null,"",null,null,null,"",""]
[null,{"$f":"IF('Kollega oplysninger'!B164=\"\",\"\",'Kollega oplysninger'!B164)","v":""},{"$f":"IF('Kollega oplysninger'!C164=\"\",\"\",'Kollega oplysninger'!C164)","v":""},null,null,{"$f":"IF('Kollega oplysninger'!I164=\"\",\"\",'Kollega oplysninger'!I164)","v":""},{"$f":"IF('Kollega oplysninger'!J164=\"\",\"\",'Kollega oplysninger'!J164)","v":""},{"$f":"IF('Kollega oplysninger'!L164=\"\",\"\",'Kollega oplysninger'!L164)","v":""},null,null,null,null,null,null,null,null,null,null,null,null,null,null,null,null,null,"",{"$f":"IF('Kollega oplysninger'!M164=\"\",\"\",'Kollega oplysninger'!M164)","v":""},null,null,null,null,"",null,"",null,null,null,"",""]
[null,{"$f":"IF('Kollega oplysninger'!B165=\"\",\"\",'Kollega oplysninger'!B165)","v":""},{"$f":"IF('Kollega oplysninger'!C165=\"\",\"\",'Kollega oplysninger'!C165)","v":""},null,null,{"$f":"IF('Kollega oplysninger'!I165=\"\",\"\",'Kollega oplysninger'!I165)","v":""},{"$f":"IF('Kollega oplysninger'!J165=\"\",\"\",'Kollega oplysninger'!J165)","v":""},{"$f":"IF('Kollega oplysninger'!L165=\"\",\"\",'Kollega oplysninger'!L165)","v":""},null,null,null,null,null,null,null,null,null,null,null,null,null,null,null,null,null,"",{"$f":"IF('Kollega oplysninger'!M165=\"\",\"\",'Kollega oplysninger'!M165)","v":""},null,null,null,null,"",null,"",null,null,null,"",""]
[null,{"$f":"IF('Kollega oplysninger'!B166=\"\",\"\",'Kollega oplysninger'!B166)","v":""},{"$f":"IF('Kollega oplysninger'!C166=\"\",\"\",'Kollega oplysninger'!C166)","v":""},null,null,{"$f":"IF('Kollega oplysninger'!I166=\"\",\"\",'Kollega oplysninger'!I166)","v":""},{"$f":"IF('Kollega oplysninger'!J166=\"\",\"\",'Kollega oplysninger'!J166)","v":""},{"$f":"IF('Kollega oplysninger'!L166=\"\",\"\",'Kollega oplysninger'!L166)","v":""},null,null,null,null,null,null,null,null,null,null,null,null,null,null,null,null,null,"",{"$f":"IF('Kollega oplysninger'!M166=\"\",\"\",'Kollega oplysninger'!M166)","v":""},null,null,null,null,"",null,"",null,null,null,"",""]
[null,{"$f":"IF('Kollega oplysninger'!B167=\"\",\"\",'Kollega oplysninger'!B167)","v":""},{"$f":"IF('Kollega oplysninger'!C167=\"\",\"\",'Kollega oplysninger'!C167)","v":""},null,null,{"$f":"IF('Kollega oplysninger'!I167=\"\",\"\",'Kollega oplysninger'!I167)","v":""},{"$f":"IF('Kollega oplysninger'!J167=\"\",\"\",'Kollega oplysninger'!J167)","v":""},{"$f":"IF('Kollega oplysninger'!L167=\"\",\"\",'Kollega oplysninger'!L167)","v":""},null,null,null,null,null,null,null,null,null,null,null,null,null,null,null,null,null,"",{"$f":"IF('Kollega oplysninger'!M167=\"\",\"\",'Kollega oplysninger'!M167)","v":""},null,null,null,null,"",null,"",null,null,null,"",""]
[null,{"$f":"IF('Kollega oplysninger'!B168=\"\",\"\",'Kollega oplysninger'!B168)","v":""},{"$f":"IF('Kollega oplysninger'!C168=\"\",\"\",'Kollega oplysninger'!C168)","v":""},null,null,{"$f":"IF('Kollega oplysninger'!I168=\"\",\"\",'Kollega oplysninger'!I168)","v":""},{"$f":"IF('Kollega oplysninger'!J168=\"\",\"\",'Kollega oplysninger'!J168)","v":""},{"$f":"IF('Kollega oplysninger'!L168=\"\",\"\",'Kollega oplysninger'!L168)","v":""},null,null,null,null,null,null,null,null,null,null,null,null,null,null,null,null,null,"",{"$f":"IF('Kollega oplysninger'!M168=\"\",\"\",'Kollega oplysninger'!M168)","v":""},null,null,null,null,"",null,"",null,null,null,"",""]
[null,{"$f":"IF('Kollega oplysninger'!B169=\"\",\"\",'Kollega oplysninger'!B169)","v":""},{"$f":"IF('Kollega oplysninger'!C169=\"\",\"\",'Kollega oplysninger'!C169)","v":""},null,null,{"$f":"IF('Kollega oplysninger'!I169=\"\",\"\",'Kollega oplysninger'!I169)","v":""},{"$f":"IF('Kollega oplysninger'!J169=\"\",\"\",'Kollega oplysninger'!J169)","v":""},{"$f":"IF('Kollega oplysninger'!L169=\"\",\"\",'Kollega oplysninger'!L169)","v":""},null,null,null,null,null,null,null,null,null,null,null,null,null,null,null,null,null,"",{"$f":"IF('Kollega oplysninger'!M169=\"\",\"\",'Kollega oplysninger'!M169)","v":""},null,null,null,null,"",null,"",null,null,null,"",""]
[null,{"$f":"IF('Kollega oplysninger'!B170=\"\",\"\",'Kollega oplysninger'!B170)","v":""},{"$f":"IF('Kollega oplysninger'!C170=\"\",\"\",'Kollega oplysninger'!C170)","v":""},null,null,{"$f":"IF('Kollega oplysninger'!I170=\"\",\"\",'Kollega oplysninger'!I170)","v":""},{"$f":"IF('Kollega oplysninger'!J170=\"\",\"\",'Kollega oplysninger'!J170)","v":""},{"$f":"IF('Kollega oplysninger'!L170=\"\",\"\",'Kollega oplysninger'!L170)","v":""},null,null,null,null,null,null,null,null,null,null,null,null,null,null,null,null,null,"",{"$f":"IF('Kollega oplysninger'!M170=\"\",\"\",'Kollega oplysninger'!M170)","v":""},null,null,null,null,"",null,"",null,null,null,"",""]
[null,{"$f":"IF('Kollega oplysninger'!B171=\"\",\"\",'Kollega oplysninger'!B171)","v":""},{"$f":"IF('Kollega oplysninger'!C171=\"\",\"\",'Kollega oplysninger'!C171)","v":""},null,null,{"$f":"IF('Kollega oplysninger'!I171=\"\",\"\",'Kollega oplysninger'!I171)","v":""},{"$f":"IF('Kollega oplysninger'!J171=\"\",\"\",'Kollega oplysninger'!J171)","v":""},{"$f":"IF('Kollega oplysninger'!L171=\"\",\"\",'Kollega oplysninger'!L171)","v":""},null,null,null,null,null,null,null,null,null,null,null,null,null,null,null,null,null,"",{"$f":"IF('Kollega oplysninger'!M171=\"\",\"\",'Kollega oplysninger'!M171)","v":""},null,null,null,null,"",null,"",null,null,null,"",""]
[null,{"$f":"IF('Kollega oplysninger'!B172=\"\",\"\",'Kollega oplysninger'!B172)","v":""},{"$f":"IF('Kollega oplysninger'!C172=\"\",\"\",'Kollega oplysninger'!C172)","v":""},null,null,{"$f":"IF('Kollega oplysninger'!I172=\"\",\"\",'Kollega oplysninger'!I172)","v":""},{"$f":"IF('Kollega oplysninger'!J172=\"\",\"\",'Kollega oplysninger'!J172)","v":""},{"$f":"IF('Kollega oplysninger'!L172=\"\",\"\",'Kollega oplysninger'!L172)","v":""},null,null,null,null,null,null,null,null,null,null,null,null,null,null,null,null,null,"",{"$f":"IF('Kollega oplysninger'!M172=\"\",\"\",'Kollega oplysninger'!M172)","v":""},null,null,null,null,"",null,"",null,null,null,"",""]
[null,{"$f":"IF('Kollega oplysninger'!B173=\"\",\"\",'Kollega oplysninger'!B173)","v":""},{"$f":"IF('Kollega oplysninger'!C173=\"\",\"\",'Kollega oplysninger'!C173)","v":""},null,null,{"$f":"IF('Kollega oplysninger'!I173=\"\",\"\",'Kollega oplysninger'!I173)","v":""},{"$f":"IF('Kollega oplysninger'!J173=\"\",\"\",'Kollega oplysninger'!J173)","v":""},{"$f":"IF('Kollega oplysninger'!L173=\"\",\"\",'Kollega oplysninger'!L173)","v":""},null,null,null,null,null,null,null,null,null,null,null,null,null,null,null,null,null,"",{"$f":"IF('Kollega oplysninger'!M173=\"\",\"\",'Kollega oplysninger'!M173)","v":""},null,null,null,null,"",null,"",null,null,null,"",""]
[null,{"$f":"IF('Kollega oplysninger'!B174=\"\",\"\",'Kollega oplysninger'!B174)","v":""},{"$f":"IF('Kollega oplysninger'!C174=\"\",\"\",'Kollega oplysninger'!C174)","v":""},null,null,{"$f":"IF('Kollega oplysninger'!I174=\"\",\"\",'Kollega oplysninger'!I174)","v":""},{"$f":"IF('Kollega oplysninger'!J174=\"\",\"\",'Kollega oplysninger'!J174)","v":""},{"$f":"IF('Kollega oplysninger'!L174=\"\",\"\",'Kollega oplysninger'!L174)","v":""},null,null,null,null,null,null,null,null,null,null,null,null,null,null,null,null,null,"",{"$f":"IF('Kollega oplysninger'!M174=\"\",\"\",'Kollega oplysninger'!M174)","v":""},null,null,null,null,"",null,"",null,null,null,"",""]
[null,{"$f":"IF('Kollega oplysninger'!B175=\"\",\"\",'Kollega oplysninger'!B175)","v":""},{"$f":"IF('Kollega oplysninger'!C175=\"\",\"\",'Kollega oplysninger'!C175)","v":""},null,null,{"$f":"IF('Kollega oplysninger'!I175=\"\",\"\",'Kollega oplysninger'!I175)","v":""},{"$f":"IF('Kollega oplysninger'!J175=\"\",\"\",'Kollega oplysninger'!J175)","v":""},{"$f":"IF('Kollega oplysninger'!L175=\"\",\"\",'Kollega oplysninger'!L175)","v":""},null,null,null,null,null,null,null,null,null,null,null,null,null,null,null,null,null,"",{"$f":"IF('Kollega oplysninger'!M175=\"\",\"\",'Kollega oplysninger'!M175)","v":""},null,null,null,null,"",null,"",null,null,null,"",""]
[null,{"$f":"IF('Kollega oplysninger'!B176=\"\",\"\",'Kollega oplysninger'!B176)","v":""},{"$f":"IF('Kollega oplysninger'!C176=\"\",\"\",'Kollega oplysninger'!C176)","v":""},null,null,{"$f":"IF('Kollega oplysninger'!I176=\"\",\"\",'Kollega oplysninger'!I176)","v":""},{"$f":"IF('Kollega oplysninger'!J176=\"\",\"\",'Kollega oplysninger'!J176)","v":""},{"$f":"IF('Kollega oplysninger'!L176=\"\",\"\",'Kollega oplysninger'!L176)","v":""},null,null,null,null,null,null,null,null,null,null,null,null,null,null,null,null,null,"",{"$f":"IF('Kollega oplysninger'!M176=\"\",\"\",'Kollega oplysninger'!M176)","v":""},null,null,null,null,"",null,"",null,null,null,"",""]
[null,{"$f":"IF('Kollega oplysninger'!B177=\"\",\"\",'Kollega oplysninger'!B177)","v":""},{"$f":"IF('Kollega oplysninger'!C177=\"\",\"\",'Kollega oplysninger'!C177)","v":""},null,null,{"$f":"IF('Kollega oplysninger'!I177=\"\",\"\",'Kollega oplysninger'!I177)","v":""},{"$f":"IF('Kollega oplysninger'!J177=\"\",\"\",'Kollega oplysninger'!J177)","v":""},{"$f":"IF('Kollega oplysninger'!L177=\"\",\"\",'Kollega oplysninger'!L177)","v":""},null,null,null,null,null,null,null,null,null,null,null,null,null,null,null,null,null,"",{"$f":"IF('Kollega oplysninger'!M177=\"\",\"\",'Kollega oplysninger'!M177)","v":""},null,null,null,null,"",null,"",null,null,null,"",""]
[null,{"$f":"IF('Kollega oplysninger'!B178=\"\",\"\",'Kollega oplysninger'!B178)","v":""},{"$f":"IF('Kollega oplysninger'!C178=\"\",\"\",'Kollega oplysninger'!C178)","v":""},null,null,{"$f":"IF('Kollega oplysninger'!I178=\"\",\"\",'Kollega oplysninger'!I178)","v":""},{"$f":"IF('Kollega oplysninger'!J178=\"\",\"\",'Kollega oplysninger'!J178)","v":""},{"$f":"IF('Kollega oplysninger'!L178=\"\",\"\",'Kollega oplysninger'!L178)","v":""},null,null,null,null,null,null,null,null,null,null,null,null,null,null,null,null,null,"",{"$f":"IF('Kollega oplysninger'!M178=\"\",\"\",'Kollega oplysninger'!M178)","v":""},null,null,null,null,"",null,"",null,null,null,"",""]
[null,{"$f":"IF('Kollega oplysninger'!B179=\"\",\"\",'Kollega oplysninger'!B179)","v":""},{"$f":"IF('Kollega oplysninger'!C179=\"\",\"\",'Kollega oplysninger'!C179)","v":""},null,null,{"$f":"IF('Kollega oplysninger'!I179=\"\",\"\",'Kollega oplysninger'!I179)","v":""},{"$f":"IF('Kollega oplysninger'!J179=\"\",\"\",'Kollega oplysninger'!J179)","v":""},{"$f":"IF('Kollega oplysninger'!L179=\"\",\"\",'Kollega oplysninger'!L179)","v":""},null,null,null,null,null,null,null,null,null,null,null,null,null,null,null,null,null,"",{"$f":"IF('Kollega oplysninger'!M179=\"\",\"\",'Kollega oplysninger'!M179)","v":""},null,null,null,null,"",null,"",null,null,null,"",""]
[null,{"$f":"IF('Kollega oplysninger'!B180=\"\",\"\",'Kollega oplysninger'!B180)","v":""},{"$f":"IF('Kollega oplysninger'!C180=\"\",\"\",'Kollega oplysninger'!C180)","v":""},null,null,{"$f":"IF('Kollega oplysninger'!I180=\"\",\"\",'Kollega oplysninger'!I180)","v":""},{"$f":"IF('Kollega oplysninger'!J180=\"\",\"\",'Kollega oplysninger'!J180)","v":""},{"$f":"IF('Kollega oplysninger'!L180=\"\",\"\",'Kollega oplysninger'!L180)","v":""},null,null,null,null,null,null,null,null,null,null,null,null,null,null,null,null,null,"",{"$f":"IF('Kollega oplysninger'!M180=\"\",\"\",'Kollega oplysninger'!M180)","v":""},null,null,null,null,"",null,"",null,null,null,"",""]
[null,{"$f":"IF('Kollega oplysninger'!B181=\"\",\"\",'Kollega oplysninger'!B181)","v":""},{"$f":"IF('Kollega oplysninger'!C181=\"\",\"\",'Kollega oplysninger'!C181)","v":""},null,null,{"$f":"IF('Kollega oplysninger'!I181=\"\",\"\",'Kollega oplysninger'!I181)","v":""},{"$f":"IF('Kollega oplysninger'!J181=\"\",\"\",'Kollega oplysninger'!J181)","v":""},{"$f":"IF('Kollega oplysninger'!L181=\"\",\"\",'Kollega oplysninger'!L181)","v":""},null,null,null,null,null,null,null,null,null,null,null,null,null,null,null,null,null,"",{"$f":"IF('Kollega oplysninger'!M181=\"\",\"\",'Kollega oplysninger'!M181)","v":""},null,null,null,null,"",null,"",null,null,null,"",""]
[null,{"$f":"IF('Kollega oplysninger'!B182=\"\",\"\",'Kollega oplysninger'!B182)","v":""},{"$f":"IF('Kollega oplysninger'!C182=\"\",\"\",'Kollega oplysninger'!C182)","v":""},null,null,{"$f":"IF('Kollega oplysninger'!I182=\"\",\"\",'Kollega oplysninger'!I182)","v":""},{"$f":"IF('Kollega oplysninger'!J182=\"\",\"\",'Kollega oplysninger'!J182)","v":""},{"$f":"IF('Kollega oplysninger'!L182=\"\",\"\",'Kollega oplysninger'!L182)","v":""},null,null,null,null,null,null,null,null,null,null,null,null,null,null,null,null,null,"",{"$f":"IF('Kollega oplysninger'!M182=\"\",\"\",'Kollega oplysninger'!M182)","v":""},null,null,null,null,"",null,"",null,null,null,"",""]
[null,{"$f":"IF('Kollega oplysninger'!B183=\"\",\"\",'Kollega oplysninger'!B183)","v":""},{"$f":"IF('Kollega oplysninger'!C183=\"\",\"\",'Kollega oplysninger'!C183)","v":""},null,null,{"$f":"IF('Kollega oplysninger'!I183=\"\",\"\",'Kollega oplysninger'!I183)","v":""},{"$f":"IF('Kollega oplysninger'!J183=\"\",\"\",'Kollega oplysninger'!J183)","v":""},{"$f":"IF('Kollega oplysninger'!L183=\"\",\"\",'Kollega oplysninger'!L183)","v":""},null,null,null,null,null,null,null,null,null,null,null,null,null,null,null,null,null,"",{"$f":"IF('Kollega oplysninger'!M183=\"\",\"\",'Kollega oplysninger'!M183)","v":""},null,null,null,null,"",null,"",null,null,null,"",""]
[null,{"$f":"IF('Kollega oplysninger'!B184=\"\",\"\",'Kollega oplysninger'!B184)","v":""},{"$f":"IF('Kollega oplysninger'!C184=\"\",\"\",'Kollega oplysninger'!C184)","v":""},null,null,{"$f":"IF('Kollega oplysninger'!I184=\"\",\"\",'Kollega oplysninger'!I184)","v":""},{"$f":"IF('Kollega oplysninger'!J184=\"\",\"\",'Kollega oplysninger'!J184)","v":""},{"$f":"IF('Kollega oplysninger'!L184=\"\",\"\",'Kollega oplysninger'!L184)","v":""},null,null,null,null,null,null,null,null,null,null,null,null,null,null,null,null,null,"",{"$f":"IF('Kollega oplysninger'!M184=\"\",\"\",'Kollega oplysninger'!M184)","v":""},null,null,null,null,"",null,"",null,null,null,"",""]
[null,{"$f":"IF('Kollega oplysninger'!B185=\"\",\"\",'Kollega oplysninger'!B185)","v":""},{"$f":"IF('Kollega oplysninger'!C185=\"\",\"\",'Kollega oplysninger'!C185)","v":""},null,null,{"$f":"IF('Kollega oplysninger'!I185=\"\",\"\",'Kollega oplysninger'!I185)","v":""},{"$f":"IF('Kollega oplysninger'!J185=\"\",\"\",'Kollega oplysninger'!J185)","v":""},{"$f":"IF('Kollega oplysninger'!L185=\"\",\"\",'Kollega oplysninger'!L185)","v":""},null,null,null,null,null,null,null,null,null,null,null,null,null,null,null,null,null,"",{"$f":"IF('Kollega oplysninger'!M185=\"\",\"\",'Kollega oplysninger'!M185)","v":""},null,null,null,null,"",null,"",null,null,null,"",""]
[null,{"$f":"IF('Kollega oplysninger'!B186=\"\",\"\",'Kollega oplysninger'!B186)","v":""},{"$f":"IF('Kollega oplysninger'!C186=\"\",\"\",'Kollega oplysninger'!C186)","v":""},null,null,{"$f":"IF('Kollega oplysninger'!I186=\"\",\"\",'Kollega oplysninger'!I186)","v":""},{"$f":"IF('Kollega oplysninger'!J186=\"\",\"\",'Kollega oplysninger'!J186)","v":""},{"$f":"IF('Kollega oplysninger'!L186=\"\",\"\",'Kollega oplysninger'!L186)","v":""},null,null,null,null,null,null,null,null,null,null,null,null,null,null,null,null,null,"",{"$f":"IF('Kollega oplysninger'!M186=\"\",\"\",'Kollega oplysninger'!M186)","v":""},null,null,null,null,"",null,"",null,null,null,"",""]
[null,{"$f":"IF('Kollega oplysninger'!B187=\"\",\"\",'Kollega oplysninger'!B187)","v":""},{"$f":"IF('Kollega oplysninger'!C187=\"\",\"\",'Kollega oplysninger'!C187)","v":""},null,null,{"$f":"IF('Kollega oplysninger'!I187=\"\",\"\",'Kollega oplysninger'!I187)","v":""},{"$f":"IF('Kollega oplysninger'!J187=\"\",\"\",'Kollega oplysninger'!J187)","v":""},{"$f":"IF('Kollega oplysninger'!L187=\"\",\"\",'Kollega oplysninger'!L187)","v":""},null,null,null,null,null,null,null,null,null,null,null,null,null,null,null,null,null,"",{"$f":"IF('Kollega oplysninger'!M187=\"\",\"\",'Kollega oplysninger'!M187)","v":""},null,null,null,null,"",null,"",null,null,null,"",""]
[null,{"$f":"IF('Kollega oplysninger'!B188=\"\",\"\",'Kollega oplysninger'!B188)","v":""},{"$f":"IF('Kollega oplysninger'!C188=\"\",\"\",'Kollega oplysninger'!C188)","v":""},null,null,{"$f":"IF('Kollega oplysninger'!I188=\"\",\"\",'Kollega oplysninger'!I188)","v":""},{"$f":"IF('Kollega oplysninger'!J188=\"\",\"\",'Kollega oplysninger'!J188)","v":""},{"$f":"IF('Kollega oplysninger'!L188=\"\",\"\",'Kollega oplysninger'!L188)","v":""},null,null,null,null,null,null,null,null,null,null,null,null,null,null,null,null,null,"",{"$f":"IF('Kollega oplysninger'!M188=\"\",\"\",'Kollega oplysninger'!M188)","v":""},null,null,null,null,"",null,"",null,null,null,"",""]
[null,{"$f":"IF('Kollega oplysninger'!B189=\"\",\"\",'Kollega oplysninger'!B189)","v":""},{"$f":"IF('Kollega oplysninger'!C189=\"\",\"\",'Kollega oplysninger'!C189)","v":""},null,null,{"$f":"IF('Kollega oplysninger'!I189=\"\",\"\",'Kollega oplysninger'!I189)","v":""},{"$f":"IF('Kollega oplysninger'!J189=\"\",\"\",'Kollega oplysninger'!J189)","v":""},{"$f":"IF('Kollega oplysninger'!L189=\"\",\"\",'Kollega oplysninger'!L189)","v":""},null,null,null,null,null,null,null,null,null,null,null,null,null,null,null,null,null,"",{"$f":"IF('Kollega oplysninger'!M189=\"\",\"\",'Kollega oplysninger'!M189)","v":""},null,null,null,null,"",null,"",null,null,null,"",""]
[null,{"$f":"IF('Kollega oplysninger'!B190=\"\",\"\",'Kollega oplysninger'!B190)","v":""},{"$f":"IF('Kollega oplysninger'!C190=\"\",\"\",'Kollega oplysninger'!C190)","v":""},null,null,{"$f":"IF('Kollega oplysninger'!I190=\"\",\"\",'Kollega oplysninger'!I190)","v":""},{"$f":"IF('Kollega oplysninger'!J190=\"\",\"\",'Kollega oplysninger'!J190)","v":""},{"$f":"IF('Kollega oplysninger'!L190=\"\",\"\",'Kollega oplysninger'!L190)","v":""},null,null,null,null,null,null,null,null,null,null,null,null,null,null,null,null,null,"",{"$f":"IF('Kollega oplysninger'!M190=\"\",\"\",'Kollega oplysninger'!M190)","v":""},null,null,null,null,"",null,"",null,null,null,"",""]
[null,{"$f":"IF('Kollega oplysninger'!B191=\"\",\"\",'Kollega oplysninger'!B191)","v":""},{"$f":"IF('Kollega oplysninger'!C191=\"\",\"\",'Kollega oplysninger'!C191)","v":""},null,null,{"$f":"IF('Kollega oplysninger'!I191=\"\",\"\",'Kollega oplysninger'!I191)","v":""},{"$f":"IF('Kollega oplysninger'!J191=\"\",\"\",'Kollega oplysninger'!J191)","v":""},{"$f":"IF('Kollega oplysninger'!L191=\"\",\"\",'Kollega oplysninger'!L191)","v":""},null,null,null,null,null,null,null,null,null,null,null,null,null,null,null,null,null,"",{"$f":"IF('Kollega oplysninger'!M191=\"\",\"\",'Kollega oplysninger'!M191)","v":""},null,null,null,null,"",null,"",null,null,null,"",""]
[null,{"$f":"IF('Kollega oplysninger'!B192=\"\",\"\",'Kollega oplysninger'!B192)","v":""},{"$f":"IF('Kollega oplysninger'!C192=\"\",\"\",'Kollega oplysninger'!C192)","v":""},null,null,{"$f":"IF('Kollega oplysninger'!I192=\"\",\"\",'Kollega oplysninger'!I192)","v":""},{"$f":"IF('Kollega oplysninger'!J192=\"\",\"\",'Kollega oplysninger'!J192)","v":""},{"$f":"IF('Kollega oplysninger'!L192=\"\",\"\",'Kollega oplysninger'!L192)","v":""},null,null,null,null,null,null,null,null,null,null,null,null,null,null,null,null,null,"",{"$f":"IF('Kollega oplysninger'!M192=\"\",\"\",'Kollega oplysninger'!M192)","v":""},null,null,null,null,"",null,"",null,null,null,"",""]
[null,{"$f":"IF('Kollega oplysninger'!B193=\"\",\"\",'Kollega oplysninger'!B193)","v":""},{"$f":"IF('Kollega oplysninger'!C193=\"\",\"\",'Kollega oplysninger'!C193)","v":""},null,null,{"$f":"IF('Kollega oplysninger'!I193=\"\",\"\",'Kollega oplysninger'!I193)","v":""},{"$f":"IF('Kollega oplysninger'!J193=\"\",\"\",'Kollega oplysninger'!J193)","v":""},{"$f":"IF('Kollega oplysninger'!L193=\"\",\"\",'Kollega oplysninger'!L193)","v":""},null,null,null,null,null,null,null,null,null,null,null,null,null,null,null,null,null,"",{"$f":"IF('Kollega oplysninger'!M193=\"\",\"\",'Kollega oplysninger'!M193)","v":""},null,null,null,null,"",null,"",null,null,null,"",""]
[null,{"$f":"IF('Kollega oplysninger'!B194=\"\",\"\",'Kollega oplysninger'!B194)","v":""},{"$f":"IF('Kollega oplysninger'!C194=\"\",\"\",'Kollega oplysninger'!C194)","v":""},null,null,{"$f":"IF('Kollega oplysninger'!I194=\"\",\"\",'Kollega oplysninger'!I194)","v":""},{"$f":"IF('Kollega oplysninger'!J194=\"\",\"\",'Kollega oplysninger'!J194)","v":""},{"$f":"IF('Kollega oplysninger'!L194=\"\",\"\",'Kollega oplysninger'!L194)","v":""},null,null,null,null,null,null,null,null,null,null,null,null,null,null,null,null,null,"",{"$f":"IF('Kollega oplysninger'!M194=\"\",\"\",'Kollega oplysninger'!M194)","v":""},null,null,null,null,"",null,"",null,null,null,"",""]
[null,{"$f":"IF('Kollega oplysninger'!B195=\"\",\"\",'Kollega oplysninger'!B195)","v":""},{"$f":"IF('Kollega oplysninger'!C195=\"\",\"\",'Kollega oplysninger'!C195)","v":""},null,null,{"$f":"IF('Kollega oplysninger'!I195=\"\",\"\",'Kollega oplysninger'!I195)","v":""},{"$f":"IF('Kollega oplysninger'!J195=\"\",\"\",'Kollega oplysninger'!J195)","v":""},{"$f":"IF('Kollega oplysninger'!L195=\"\",\"\",'Kollega oplysninger'!L195)","v":""},null,null,null,null,null,null,null,null,null,null,null,null,null,null,null,null,null,"",{"$f":"IF('Kollega oplysninger'!M195=\"\",\"\",'Kollega oplysninger'!M195)","v":""},null,null,null,null,"",null,"",null,null,null,"",""]
[null,{"$f":"IF('Kollega oplysninger'!B196=\"\",\"\",'Kollega oplysninger'!B196)","v":""},{"$f":"IF('Kollega oplysninger'!C196=\"\",\"\",'Kollega oplysninger'!C196)","v":""},null,null,{"$f":"IF('Kollega oplysninger'!I196=\"\",\"\",'Kollega oplysninger'!I196)","v":""},{"$f":"IF('Kollega oplysninger'!J196=\"\",\"\",'Kollega oplysninger'!J196)","v":""},{"$f":"IF('Kollega oplysninger'!L196=\"\",\"\",'Kollega oplysninger'!L196)","v":""},null,null,null,null,null,null,null,null,null,null,null,null,null,null,null,null,null,"",{"$f":"IF('Kollega oplysninger'!M196=\"\",\"\",'Kollega oplysninger'!M196)","v":""},null,null,null,null,"",null,"",null,null,null,"",""]
[null,{"$f":"IF('Kollega oplysninger'!B197=\"\",\"\",'Kollega oplysninger'!B197)","v":""},{"$f":"IF('Kollega oplysninger'!C197=\"\",\"\",'Kollega oplysninger'!C197)","v":""},null,null,{"$f":"IF('Kollega oplysninger'!I197=\"\",\"\",'Kollega oplysninger'!I197)","v":""},{"$f":"IF('Kollega oplysninger'!J197=\"\",\"\",'Kollega oplysninger'!J197)","v":""},{"$f":"IF('Kollega oplysninger'!L197=\"\",\"\",'Kollega oplysninger'!L197)","v":""},null,null,null,null,null,null,null,null,null,null,null,null,null,null,null,null,null,"",{"$f":"IF('Kollega oplysninger'!M197=\"\",\"\",'Kollega oplysninger'!M197)","v":""},null,null,null,null,"",null,"",null,null,null,"",""]
[null,{"$f":"IF('Kollega oplysninger'!B198=\"\",\"\",'Kollega oplysninger'!B198)","v":""},{"$f":"IF('Kollega oplysninger'!C198=\"\",\"\",'Kollega oplysninger'!C198)","v":""},null,null,{"$f":"IF('Kollega oplysninger'!I198=\"\",\"\",'Kollega oplysninger'!I198)","v":""},{"$f":"IF('Kollega oplysninger'!J198=\"\",\"\",'Kollega oplysninger'!J198)","v":""},{"$f":"IF('Kollega oplysninger'!L198=\"\",\"\",'Kollega oplysninger'!L198)","v":""},null,null,null,null,null,null,null,null,null,null,null,null,null,null,null,null,null,"",{"$f":"IF('Kollega oplysninger'!M198=\"\",\"\",'Kollega oplysninger'!M198)","v":""},null,null,null,null,"",null,"",null,null,null,"",""]
[null,{"$f":"IF('Kollega oplysninger'!B199=\"\",\"\",'Kollega oplysninger'!B199)","v":""},{"$f":"IF('Kollega oplysninger'!C199=\"\",\"\",'Kollega oplysninger'!C199)","v":""},null,null,{"$f":"IF('Kollega oplysninger'!I199=\"\",\"\",'Kollega oplysninger'!I199)","v":""},{"$f":"IF('Kollega oplysninger'!J199=\"\",\"\",'Kollega oplysninger'!J199)","v":""},{"$f":"IF('Kollega oplysninger'!L199=\"\",\"\",'Kollega oplysninger'!L199)","v":""},null,null,null,null,null,null,null,null,null,null,null,null,null,null,null,null,null,"",{"$f":"IF('Kollega oplysninger'!M199=\"\",\"\",'Kollega oplysninger'!M199)","v":""},null,null,null,null,{"$f":"IF(Y199<AE199,\"fejl\",IF(Y199=\"\",\"\",IF(AE199=\"\",0,AE199/Y199)))","v":""},null,{"$f":"IF(Y199<AG199,\"fejl\",IF(Y199=\"\",\"\",IF(AG199=\"\",0,AG199/Y199)))","v":""},null,null,null,{"$f":"IF(Z199=\"fejl\",X199,\"\")","v":""},{"$f":"IF(Z199=\"fejl\",Y199,\"\")","v":""}]
[null,{"$f":"IF('Kollega oplysninger'!B200=\"\",\"\",'Kollega oplysninger'!B200)","v":""},{"$f":"IF('Kollega oplysninger'!C200=\"\",\"\",'Kollega oplysninger'!C200)","v":""},null,null,{"$f":"IF('Kollega oplysninger'!I200=\"\",\"\",'Kollega oplysninger'!I200)","v":""},{"$f":"IF('Kollega oplysninger'!J200=\"\",\"\",'Kollega oplysninger'!J200)","v":""},{"$f":"IF('Kollega oplysninger'!L200=\"\",\"\",'Kollega oplysninger'!L200)","v":""},null,null,null,null,null,null,null,null,null,null,null,null,null,null,null,null,null,{"$f":"IF(Y200<X200,\"fejl\",IF(Y200=\"\",\"\",IF(X200=\"\",0,X200/Y200)))","v":""},{"$f":"IF('Kollega oplysninger'!M200=\"\",\"\",'Kollega oplysninger'!M200)","v":""},null,null,null,null,"",null,"",null,null,null,"",""]
[null,{"$f":"IF('Kollega oplysninger'!B201=\"\",\"\",'Kollega oplysninger'!B201)","v":""},{"$f":"IF('Kollega oplysninger'!C201=\"\",\"\",'Kollega oplysninger'!C201)","v":""},null,null,{"$f":"IF('Kollega oplysninger'!I201=\"\",\"\",'Kollega oplysninger'!I201)","v":""},{"$f":"IF('Kollega oplysninger'!J201=\"\",\"\",'Kollega oplysninger'!J201)","v":""},{"$f":"IF('Kollega oplysninger'!L201=\"\",\"\",'Kollega oplysninger'!L201)","v":""},null,null,null,null,null,null,null,null,null,null,null,null,null,null,null,null,null,"",{"$f":"IF('Kollega oplysninger'!M201=\"\",\"\",'Kollega oplysninger'!M201)","v":""},null,null,null,null,"",null,"",null,null,null,"",""]
[null,{"$f":"IF('Kollega oplysninger'!B202=\"\",\"\",'Kollega oplysninger'!B202)","v":""},{"$f":"IF('Kollega oplysninger'!C202=\"\",\"\",'Kollega oplysninger'!C202)","v":""},null,null,{"$f":"IF('Kollega oplysninger'!I202=\"\",\"\",'Kollega oplysninger'!I202)","v":""},{"$f":"IF('Kollega oplysninger'!J202=\"\",\"\",'Kollega oplysninger'!J202)","v":""},{"$f":"IF('Kollega oplysninger'!L202=\"\",\"\",'Kollega oplysninger'!L202)","v":""},null,null,null,null,null,null,null,null,null,null,null,null,null,null,null,null,null,"",{"$f":"IF('Kollega oplysninger'!M202=\"\",\"\",'Kollega oplysninger'!M202)","v":""},null,null,null,null,"",null,"",null,null,null,"",""]
[null,{"$f":"IF('Kollega oplysninger'!B203=\"\",\"\",'Kollega oplysninger'!B203)","v":""},{"$f":"IF('Kollega oplysninger'!C203=\"\",\"\",'Kollega oplysninger'!C203)","v":""},null,null,{"$f":"IF('Kollega oplysninger'!I203=\"\",\"\",'Kollega oplysninger'!I203)","v":""},{"$f":"IF('Kollega oplysninger'!J203=\"\",\"\",'Kollega oplysninger'!J203)","v":""},{"$f":"IF('Kollega oplysninger'!L203=\"\",\"\",'Kollega oplysninger'!L203)","v":""},null,null,null,null,null,null,null,null,null,null,null,null,null,null,null,null,null,"",{"$f":"IF('Kollega oplysninger'!M203=\"\",\"\",'Kollega oplysninger'!M203)","v":""},null,null,null,null,"",null,"",null,null,null,"",""]
[null,{"$f":"IF('Kollega oplysninger'!B204=\"\",\"\",'Kollega oplysninger'!B204)","v":""},{"$f":"IF('Kollega oplysninger'!C204=\"\",\"\",'Kollega oplysninger'!C204)","v":""},null,null,{"$f":"IF('Kollega oplysninger'!I204=\"\",\"\",'Kollega oplysninger'!I204)","v":""},{"$f":"IF('Kollega oplysninger'!J204=\"\",\"\",'Kollega oplysninger'!J204)","v":""},{"$f":"IF('Kollega oplysninger'!L204=\"\",\"\",'Kollega oplysninger'!L204)","v":""},null,null,null,null,null,null,null,null,null,null,null,null,null,null,null,null,null,"",{"$f":"IF('Kollega oplysninger'!M204=\"\",\"\",'Kollega oplysninger'!M204)","v":""},null,null,null,null,"",null,"",null,null,null,"",""]
[null,{"$f":"IF('Kollega oplysninger'!B205=\"\",\"\",'Kollega oplysninger'!B205)","v":""},{"$f":"IF('Kollega oplysninger'!C205=\"\",\"\",'Kollega oplysninger'!C205)","v":""},null,null,{"$f":"IF('Kollega oplysninger'!I205=\"\",\"\",'Kollega oplysninger'!I205)","v":""},{"$f":"IF('Kollega oplysninger'!J205=\"\",\"\",'Kollega oplysninger'!J205)","v":""},{"$f":"IF('Kollega oplysninger'!L205=\"\",\"\",'Kollega oplysninger'!L205)","v":""},null,null,null,null,null,null,null,null,null,null,null,null,null,null,null,null,null,"",{"$f":"IF('Kollega oplysninger'!M205=\"\",\"\",'Kollega oplysninger'!M205)","v":""},null,null,null,null,"",null,"",null,null,null,"",""]
[null,{"$f":"IF('Kollega oplysninger'!B206=\"\",\"\",'Kollega oplysninger'!B206)","v":""},{"$f":"IF('Kollega oplysninger'!C206=\"\",\"\",'Kollega oplysninger'!C206)","v":""},null,null,{"$f":"IF('Kollega oplysninger'!I206=\"\",\"\",'Kollega oplysninger'!I206)","v":""},{"$f":"IF('Kollega oplysninger'!J206=\"\",\"\",'Kollega oplysninger'!J206)","v":""},{"$f":"IF('Kollega oplysninger'!L206=\"\",\"\",'Kollega oplysninger'!L206)","v":""},null,null,null,null,null,null,null,null,null,null,null,null,null,null,null,null,null,"",{"$f":"IF('Kollega oplysninger'!M206=\"\",\"\",'Kollega oplysninger'!M206)","v":""},null,null,null,null,"",null,"",null,null,null,"",""]
[null,{"$f":"IF('Kollega oplysninger'!B207=\"\",\"\",'Kollega oplysninger'!B207)","v":""},{"$f":"IF('Kollega oplysninger'!C207=\"\",\"\",'Kollega oplysninger'!C207)","v":""},null,null,{"$f":"IF('Kollega oplysninger'!I207=\"\",\"\",'Kollega oplysninger'!I207)","v":""},{"$f":"IF('Kollega oplysninger'!J207=\"\",\"\",'Kollega oplysninger'!J207)","v":""},{"$f":"IF('Kollega oplysninger'!L207=\"\",\"\",'Kollega oplysninger'!L207)","v":""},null,null,null,null,null,null,null,null,null,null,null,null,null,null,null,null,null,"",{"$f":"IF('Kollega oplysninger'!M207=\"\",\"\",'Kollega oplysninger'!M207)","v":""},null,null,null,null,"",null,"",null,null,null,"",""]
[null,{"$f":"IF('Kollega oplysninger'!B208=\"\",\"\",'Kollega oplysninger'!B208)","v":""},{"$f":"IF('Kollega oplysninger'!C208=\"\",\"\",'Kollega oplysninger'!C208)","v":""},null,null,{"$f":"IF('Kollega oplysninger'!I208=\"\",\"\",'Kollega oplysninger'!I208)","v":""},{"$f":"IF('Kollega oplysninger'!J208=\"\",\"\",'Kollega oplysninger'!J208)","v":""},{"$f":"IF('Kollega oplysninger'!L208=\"\",\"\",'Kollega oplysninger'!L208)","v":""},null,null,null,null,null,null,null,null,null,null,null,null,null,null,null,null,null,"",{"$f":"IF('Kollega oplysninger'!M208=\"\",\"\",'Kollega oplysninger'!M208)","v":""},null,null,null,null,"",null,"",null,null,null,"",""]
[null,{"$f":"IF('Kollega oplysninger'!B209=\"\",\"\",'Kollega oplysninger'!B209)","v":""},{"$f":"IF('Kollega oplysninger'!C209=\"\",\"\",'Kollega oplysninger'!C209)","v":""},null,null,{"$f":"IF('Kollega oplysninger'!I209=\"\",\"\",'Kollega oplysninger'!I209)","v":""},{"$f":"IF('Kollega oplysninger'!J209=\"\",\"\",'Kollega oplysninger'!J209)","v":""},{"$f":"IF('Kollega oplysninger'!L209=\"\",\"\",'Kollega oplysninger'!L209)","v":""},null,null,null,null,null,null,null,null,null,null,null,null,null,null,null,null,null,"",{"$f":"IF('Kollega oplysninger'!M209=\"\",\"\",'Kollega oplysninger'!M209)","v":""},null,null,null,null,"",null,"",null,null,null,"",""]
[null,{"$f":"IF('Kollega oplysninger'!B210=\"\",\"\",'Kollega oplysninger'!B210)","v":""},{"$f":"IF('Kollega oplysninger'!C210=\"\",\"\",'Kollega oplysninger'!C210)","v":""},null,null,{"$f":"IF('Kollega oplysninger'!I210=\"\",\"\",'Kollega oplysninger'!I210)","v":""},{"$f":"IF('Kollega oplysninger'!J210=\"\",\"\",'Kollega oplysninger'!J210)","v":""},{"$f":"IF('Kollega oplysninger'!L210=\"\",\"\",'Kollega oplysninger'!L210)","v":""},null,null,null,null,null,null,null,null,null,null,null,null,null,null,null,null,null,"",{"$f":"IF('Kollega oplysninger'!M210=\"\",\"\",'Kollega oplysninger'!M210)","v":""},null,null,null,null,"",null,"",null,null,null,"",""]
[null,{"$f":"IF('Kollega oplysninger'!B211=\"\",\"\",'Kollega oplysninger'!B211)","v":""},{"$f":"IF('Kollega oplysninger'!C211=\"\",\"\",'Kollega oplysninger'!C211)","v":""},null,null,{"$f":"IF('Kollega oplysninger'!I211=\"\",\"\",'Kollega oplysninger'!I211)","v":""},{"$f":"IF('Kollega oplysninger'!J211=\"\",\"\",'Kollega oplysninger'!J211)","v":""},{"$f":"IF('Kollega oplysninger'!L211=\"\",\"\",'Kollega oplysninger'!L211)","v":""},null,null,null,null,null,null,null,null,null,null,null,null,null,null,null,null,null,"",{"$f":"IF('Kollega oplysninger'!M211=\"\",\"\",'Kollega oplysninger'!M211)","v":""},null,null,null,null,"",null,"",null,null,null,"",""]
[null,{"$f":"IF('Kollega oplysninger'!B212=\"\",\"\",'Kollega oplysninger'!B212)","v":""},{"$f":"IF('Kollega oplysninger'!C212=\"\",\"\",'Kollega oplysninger'!C212)","v":""},null,null,{"$f":"IF('Kollega oplysninger'!I212=\"\",\"\",'Kollega oplysninger'!I212)","v":""},{"$f":"IF('Kollega oplysninger'!J212=\"\",\"\",'Kollega oplysninger'!J212)","v":""},{"$f":"IF('Kollega oplysninger'!L212=\"\",\"\",'Kollega oplysninger'!L212)","v":""},null,null,null,null,null,null,null,null,null,null,null,null,null,null,null,null,null,"",{"$f":"IF('Kollega oplysninger'!M212=\"\",\"\",'Kollega oplysninger'!M212)","v":""},null,null,null,null,"",null,"",null,null,null,"",""]
[null,{"$f":"IF('Kollega oplysninger'!B213=\"\",\"\",'Kollega oplysninger'!B213)","v":""},{"$f":"IF('Kollega oplysninger'!C213=\"\",\"\",'Kollega oplysninger'!C213)","v":""},null,null,{"$f":"IF('Kollega oplysninger'!I213=\"\",\"\",'Kollega oplysninger'!I213)","v":""},{"$f":"IF('Kollega oplysninger'!J213=\"\",\"\",'Kollega oplysninger'!J213)","v":""},{"$f":"IF('Kollega oplysninger'!L213=\"\",\"\",'Kollega oplysninger'!L213)","v":""},null,null,null,null,null,null,null,null,null,null,null,null,null,null,null,null,null,"",{"$f":"IF('Kollega oplysninger'!M213=\"\",\"\",'Kollega oplysninger'!M213)","v":""},null,null,null,null,"",null,"",null,null,null,"",""]
[null,{"$f":"IF('Kollega oplysninger'!B214=\"\",\"\",'Kollega oplysninger'!B214)","v":""},{"$f":"IF('Kollega oplysninger'!C214=\"\",\"\",'Kollega oplysninger'!C214)","v":""},null,null,{"$f":"IF('Kollega oplysninger'!I214=\"\",\"\",'Kollega oplysninger'!I214)","v":""},{"$f":"IF('Kollega oplysninger'!J214=\"\",\"\",'Kollega oplysninger'!J214)","v":""},{"$f":"IF('Kollega oplysninger'!L214=\"\",\"\",'Kollega oplysninger'!L214)","v":""},null,null,null,null,null,null,null,null,null,null,null,null,null,null,null,null,null,"",{"$f":"IF('Kollega oplysninger'!M214=\"\",\"\",'Kollega oplysninger'!M214)","v":""},null,null,null,null,"",null,"",null,null,null,"",""]
[null,{"$f":"IF('Kollega oplysninger'!B215=\"\",\"\",'Kollega oplysninger'!B215)","v":""},{"$f":"IF('Kollega oplysninger'!C215=\"\",\"\",'Kollega oplysninger'!C215)","v":""},null,null,{"$f":"IF('Kollega oplysninger'!I215=\"\",\"\",'Kollega oplysninger'!I215)","v":""},{"$f":"IF('Kollega oplysninger'!J215=\"\",\"\",'Kollega oplysninger'!J215)","v":""},{"$f":"IF('Kollega oplysninger'!L215=\"\",\"\",'Kollega oplysninger'!L215)","v":""},null,null,null,null,null,null,null,null,null,null,null,null,null,null,null,null,null,"",{"$f":"IF('Kollega oplysninger'!M215=\"\",\"\",'Kollega oplysninger'!M215)","v":""},null,null,null,null,"",null,"",null,null,null,"",""]
[null,{"$f":"IF('Kollega oplysninger'!B216=\"\",\"\",'Kollega oplysninger'!B216)","v":""},{"$f":"IF('Kollega oplysninger'!C216=\"\",\"\",'Kollega oplysninger'!C216)","v":""},null,null,{"$f":"IF('Kollega oplysninger'!I216=\"\",\"\",'Kollega oplysninger'!I216)","v":""},{"$f":"IF('Kollega oplysninger'!J216=\"\",\"\",'Kollega oplysninger'!J216)","v":""},{"$f":"IF('Kollega oplysninger'!L216=\"\",\"\",'Kollega oplysninger'!L216)","v":""},null,null,null,null,null,null,null,null,null,null,null,null,null,null,null,null,null,"",{"$f":"IF('Kollega oplysninger'!M216=\"\",\"\",'Kollega oplysninger'!M216)","v":""},null,null,null,null,"",null,"",null,null,null,"",""]
[null,{"$f":"IF('Kollega oplysninger'!B217=\"\",\"\",'Kollega oplysninger'!B217)","v":""},{"$f":"IF('Kollega oplysninger'!C217=\"\",\"\",'Kollega oplysninger'!C217)","v":""},null,null,{"$f":"IF('Kollega oplysninger'!I217=\"\",\"\",'Kollega oplysninger'!I217)","v":""},{"$f":"IF('Kollega oplysninger'!J217=\"\",\"\",'Kollega oplysninger'!J217)","v":""},{"$f":"IF('Kollega oplysninger'!L217=\"\",\"\",'Kollega oplysninger'!L217)","v":""},null,null,null,null,null,null,null,null,null,null,null,null,null,null,null,null,null,"",{"$f":"IF('Kollega oplysninger'!M217=\"\",\"\",'Kollega oplysninger'!M217)","v":""},null,null,null,null,"",null,"",null,null,null,"",""]
[null,{"$f":"IF('Kollega oplysninger'!B218=\"\",\"\",'Kollega oplysninger'!B218)","v":""},{"$f":"IF('Kollega oplysninger'!C218=\"\",\"\",'Kollega oplysninger'!C218)","v":""},null,null,{"$f":"IF('Kollega oplysninger'!I218=\"\",\"\",'Kollega oplysninger'!I218)","v":""},{"$f":"IF('Kollega oplysninger'!J218=\"\",\"\",'Kollega oplysninger'!J218)","v":""},{"$f":"IF('Kollega oplysninger'!L218=\"\",\"\",'Kollega oplysninger'!L218)","v":""},null,null,null,null,null,null,null,null,null,null,null,null,null,null,null,null,null,"",{"$f":"IF('Kollega oplysninger'!M218=\"\",\"\",'Kollega oplysninger'!M218)","v":""},null,null,null,null,"",null,"",null,null,null,"",""]
[null,{"$f":"IF('Kollega oplysninger'!B219=\"\",\"\",'Kollega oplysninger'!B219)","v":""},{"$f":"IF('Kollega oplysninger'!C219=\"\",\"\",'Kollega oplysninger'!C219)","v":""},null,null,{"$f":"IF('Kollega oplysninger'!I219=\"\",\"\",'Kollega oplysninger'!I219)","v":""},{"$f":"IF('Kollega oplysninger'!J219=\"\",\"\",'Kollega oplysninger'!J219)","v":""},{"$f":"IF('Kollega oplysninger'!L219=\"\",\"\",'Kollega oplysninger'!L219)","v":""},null,null,null,null,null,null,null,null,null,null,null,null,null,null,null,null,null,"",{"$f":"IF('Kollega oplysninger'!M219=\"\",\"\",'Kollega oplysninger'!M219)","v":""},null,null,null,null,"",null,"",null,null,null,"",""]
[null,{"$f":"IF('Kollega oplysninger'!B220=\"\",\"\",'Kollega oplysninger'!B220)","v":""},{"$f":"IF('Kollega oplysninger'!C220=\"\",\"\",'Kollega oplysninger'!C220)","v":""},null,null,{"$f":"IF('Kollega oplysninger'!I220=\"\",\"\",'Kollega oplysninger'!I220)","v":""},{"$f":"IF('Kollega oplysninger'!J220=\"\",\"\",'Kollega oplysninger'!J220)","v":""},{"$f":"IF('Kollega oplysninger'!L220=\"\",\"\",'Kollega oplysninger'!L220)","v":""},null,null,null,null,null,null,null,null,null,null,null,null,null,null,null,null,null,"",{"$f":"IF('Kollega oplysninger'!M220=\"\",\"\",'Kollega oplysninger'!M220)","v":""},null,null,null,null,"",null,"",null,null,null,"",""]
[null,{"$f":"IF('Kollega oplysninger'!B221=\"\",\"\",'Kollega oplysninger'!B221)","v":""},{"$f":"IF('Kollega oplysninger'!C221=\"\",\"\",'Kollega oplysninger'!C221)","v":""},null,null,{"$f":"IF('Kollega oplysninger'!I221=\"\",\"\",'Kollega oplysninger'!I221)","v":""},{"$f":"IF('Kollega oplysninger'!J221=\"\",\"\",'Kollega oplysninger'!J221)","v":""},{"$f":"IF('Kollega oplysninger'!L221=\"\",\"\",'Kollega oplysninger'!L221)","v":""},null,null,null,null,null,null,null,null,null,null,null,null,null,null,null,null,null,"",{"$f":"IF('Kollega oplysninger'!M221=\"\",\"\",'Kollega oplysninger'!M221)","v":""},null,null,null,null,"",null,"",null,null,null,"",""]
[null,{"$f":"IF('Kollega oplysninger'!B222=\"\",\"\",'Kollega oplysninger'!B222)","v":""},{"$f":"IF('Kollega oplysninger'!C222=\"\",\"\",'Kollega oplysninger'!C222)","v":""},null,null,{"$f":"IF('Kollega oplysninger'!I222=\"\",\"\",'Kollega oplysninger'!I222)","v":""},{"$f":"IF('Kollega oplysninger'!J222=\"\",\"\",'Kollega oplysninger'!J222)","v":""},{"$f":"IF('Kollega oplysninger'!L222=\"\",\"\",'Kollega oplysninger'!L222)","v":""},null,null,null,null,null,null,null,null,null,null,null,null,null,null,null,null,null,"",{"$f":"IF('Kollega oplysninger'!M222=\"\",\"\",'Kollega oplysninger'!M222)","v":""},null,null,null,null,"",null,"",null,null,null,"",""]
[null,{"$f":"IF('Kollega oplysninger'!B223=\"\",\"\",'Kollega oplysninger'!B223)","v":""},{"$f":"IF('Kollega oplysninger'!C223=\"\",\"\",'Kollega oplysninger'!C223)","v":""},null,null,{"$f":"IF('Kollega oplysninger'!I223=\"\",\"\",'Kollega oplysninger'!I223)","v":""},{"$f":"IF('Kollega oplysninger'!J223=\"\",\"\",'Kollega oplysninger'!J223)","v":""},{"$f":"IF('Kollega oplysninger'!L223=\"\",\"\",'Kollega oplysninger'!L223)","v":""},null,null,null,null,null,null,null,null,null,null,null,null,null,null,null,null,null,"",{"$f":"IF('Kollega oplysninger'!M223=\"\",\"\",'Kollega oplysninger'!M223)","v":""},null,null,null,null,"",null,"",null,null,null,"",""]
[null,{"$f":"IF('Kollega oplysninger'!B224=\"\",\"\",'Kollega oplysninger'!B224)","v":""},{"$f":"IF('Kollega oplysninger'!C224=\"\",\"\",'Kollega oplysninger'!C224)","v":""},null,null,{"$f":"IF('Kollega oplysninger'!I224=\"\",\"\",'Kollega oplysninger'!I224)","v":""},{"$f":"IF('Kollega oplysninger'!J224=\"\",\"\",'Kollega oplysninger'!J224)","v":""},{"$f":"IF('Kollega oplysninger'!L224=\"\",\"\",'Kollega oplysninger'!L224)","v":""},null,null,null,null,null,null,null,null,null,null,null,null,null,null,null,null,null,"",{"$f":"IF('Kollega oplysninger'!M224=\"\",\"\",'Kollega oplysninger'!M224)","v":""},null,null,null,null,"",null,"",null,null,null,"",""]
[null,{"$f":"IF('Kollega oplysninger'!B225=\"\",\"\",'Kollega oplysninger'!B225)","v":""},{"$f":"IF('Kollega oplysninger'!C225=\"\",\"\",'Kollega oplysninger'!C225)","v":""},null,null,{"$f":"IF('Kollega oplysninger'!I225=\"\",\"\",'Kollega oplysninger'!I225)","v":""},{"$f":"IF('Kollega oplysninger'!J225=\"\",\"\",'Kollega oplysninger'!J225)","v":""},{"$f":"IF('Kollega oplysninger'!L225=\"\",\"\",'Kollega oplysninger'!L225)","v":""},null,null,null,null,null,null,null,null,null,null,null,null,null,null,null,null,null,"",{"$f":"IF('Kollega oplysninger'!M225=\"\",\"\",'Kollega oplysninger'!M225)","v":""},null,null,null,null,"",null,"",null,null,null,"",""]
[null,{"$f":"IF('Kollega oplysninger'!B226=\"\",\"\",'Kollega oplysninger'!B226)","v":""},{"$f":"IF('Kollega oplysninger'!C226=\"\",\"\",'Kollega oplysninger'!C226)","v":""},null,null,{"$f":"IF('Kollega oplysninger'!I226=\"\",\"\",'Kollega oplysninger'!I226)","v":""},{"$f":"IF('Kollega oplysninger'!J226=\"\",\"\",'Kollega oplysninger'!J226)","v":""},{"$f":"IF('Kollega oplysninger'!L226=\"\",\"\",'Kollega oplysninger'!L226)","v":""},null,null,null,null,null,null,null,null,null,null,null,null,null,null,null,null,null,"",{"$f":"IF('Kollega oplysninger'!M226=\"\",\"\",'Kollega oplysninger'!M226)","v":""},null,null,null,null,"",null,"",null,null,null,{"$f":"IF(Z226=\"fejl\",X226,\"\")","v":""},""]
[null,{"$f":"IF('Kollega oplysninger'!B227=\"\",\"\",'Kollega oplysninger'!B227)","v":""},{"$f":"IF('Kollega oplysninger'!C227=\"\",\"\",'Kollega oplysninger'!C227)","v":""},null,null,{"$f":"IF('Kollega oplysninger'!I227=\"\",\"\",'Kollega oplysninger'!I227)","v":""},{"$f":"IF('Kollega oplysninger'!J227=\"\",\"\",'Kollega oplysninger'!J227)","v":""},{"$f":"IF('Kollega oplysninger'!L227=\"\",\"\",'Kollega oplysninger'!L227)","v":""},null,null,null,null,null,null,null,null,null,null,null,null,null,null,null,null,null,"",{"$f":"IF('Kollega oplysninger'!M227=\"\",\"\",'Kollega oplysninger'!M227)","v":""},null,null,null,null,"",null,"",null,null,null,"",""]
[null,{"$f":"IF('Kollega oplysninger'!B228=\"\",\"\",'Kollega oplysninger'!B228)","v":""},{"$f":"IF('Kollega oplysninger'!C228=\"\",\"\",'Kollega oplysninger'!C228)","v":""},null,null,{"$f":"IF('Kollega oplysninger'!I228=\"\",\"\",'Kollega oplysninger'!I228)","v":""},{"$f":"IF('Kollega oplysninger'!J228=\"\",\"\",'Kollega oplysninger'!J228)","v":""},{"$f":"IF('Kollega oplysninger'!L228=\"\",\"\",'Kollega oplysninger'!L228)","v":""},null,null,null,null,null,null,null,null,null,null,null,null,null,null,null,null,null,"",{"$f":"IF('Kollega oplysninger'!M228=\"\",\"\",'Kollega oplysninger'!M228)","v":""},null,null,null,null,"",null,"",null,null,null,"",""]
[null,{"$f":"IF('Kollega oplysninger'!B229=\"\",\"\",'Kollega oplysninger'!B229)","v":""},{"$f":"IF('Kollega oplysninger'!C229=\"\",\"\",'Kollega oplysninger'!C229)","v":""},null,null,{"$f":"IF('Kollega oplysninger'!I229=\"\",\"\",'Kollega oplysninger'!I229)","v":""},{"$f":"IF('Kollega oplysninger'!J229=\"\",\"\",'Kollega oplysninger'!J229)","v":""},{"$f":"IF('Kollega oplysninger'!L229=\"\",\"\",'Kollega oplysninger'!L229)","v":""},null,null,null,null,null,null,null,null,null,null,null,null,null,null,null,null,null,"",{"$f":"IF('Kollega oplysninger'!M229=\"\",\"\",'Kollega oplysninger'!M229)","v":""},null,null,null,null,"",null,"",null,null,null,"",""]
[null,{"$f":"IF('Kollega oplysninger'!B230=\"\",\"\",'Kollega oplysninger'!B230)","v":""},{"$f":"IF('Kollega oplysninger'!C230=\"\",\"\",'Kollega oplysninger'!C230)","v":""},null,null,{"$f":"IF('Kollega oplysninger'!I230=\"\",\"\",'Kollega oplysninger'!I230)","v":""},{"$f":"IF('Kollega oplysninger'!J230=\"\",\"\",'Kollega oplysninger'!J230)","v":""},{"$f":"IF('Kollega oplysninger'!L230=\"\",\"\",'Kollega oplysninger'!L230)","v":""},null,null,null,null,null,null,null,null,null,null,null,null,null,null,null,null,null,"",{"$f":"IF('Kollega oplysninger'!M230=\"\",\"\",'Kollega oplysninger'!M230)","v":""},null,null,null,null,"",null,"",null,null,null,"",""]
[null,{"$f":"IF('Kollega oplysninger'!B231=\"\",\"\",'Kollega oplysninger'!B231)","v":""},{"$f":"IF('Kollega oplysninger'!C231=\"\",\"\",'Kollega oplysninger'!C231)","v":""},null,null,{"$f":"IF('Kollega oplysninger'!I231=\"\",\"\",'Kollega oplysninger'!I231)","v":""},{"$f":"IF('Kollega oplysninger'!J231=\"\",\"\",'Kollega oplysninger'!J231)","v":""},{"$f":"IF('Kollega oplysninger'!L231=\"\",\"\",'Kollega oplysninger'!L231)","v":""},null,null,null,null,null,null,null,null,null,null,null,null,null,null,null,null,null,"",{"$f":"IF('Kollega oplysninger'!M231=\"\",\"\",'Kollega oplysninger'!M231)","v":""},null,null,null,null,"",null,"",null,null,null,"",""]
[null,{"$f":"IF('Kollega oplysninger'!B232=\"\",\"\",'Kollega oplysninger'!B232)","v":""},{"$f":"IF('Kollega oplysninger'!C232=\"\",\"\",'Kollega oplysninger'!C232)","v":""},null,null,{"$f":"IF('Kollega oplysninger'!I232=\"\",\"\",'Kollega oplysninger'!I232)","v":""},{"$f":"IF('Kollega oplysninger'!J232=\"\",\"\",'Kollega oplysninger'!J232)","v":""},{"$f":"IF('Kollega oplysninger'!L232=\"\",\"\",'Kollega oplysninger'!L232)","v":""},null,null,null,null,null,null,null,null,null,null,null,null,null,null,null,null,null,"",{"$f":"IF('Kollega oplysninger'!M232=\"\",\"\",'Kollega oplysninger'!M232)","v":""},null,null,null,null,"",null,"",null,null,null,"",""]
[null,{"$f":"IF('Kollega oplysninger'!B233=\"\",\"\",'Kollega oplysninger'!B233)","v":""},{"$f":"IF('Kollega oplysninger'!C233=\"\",\"\",'Kollega oplysninger'!C233)","v":""},null,null,{"$f":"IF('Kollega oplysninger'!I233=\"\",\"\",'Kollega oplysninger'!I233)","v":""},{"$f":"IF('Kollega oplysninger'!J233=\"\",\"\",'Kollega oplysninger'!J233)","v":""},{"$f":"IF('Kollega oplysninger'!L233=\"\",\"\",'Kollega oplysninger'!L233)","v":""},null,null,null,null,null,null,null,null,null,null,null,null,null,null,null,null,null,"",{"$f":"IF('Kollega oplysninger'!M233=\"\",\"\",'Kollega oplysninger'!M233)","v":""},null,null,null,null,"",null,"",null,null,null,"",""]
[null,{"$f":"IF('Kollega oplysninger'!B234=\"\",\"\",'Kollega oplysninger'!B234)","v":""},{"$f":"IF('Kollega oplysninger'!C234=\"\",\"\",'Kollega oplysninger'!C234)","v":""},null,null,{"$f":"IF('Kollega oplysninger'!I234=\"\",\"\",'Kollega oplysninger'!I234)","v":""},{"$f":"IF('Kollega oplysninger'!J234=\"\",\"\",'Kollega oplysninger'!J234)","v":""},{"$f":"IF('Kollega oplysninger'!L234=\"\",\"\",'Kollega oplysninger'!L234)","v":""},null,null,null,null,null,null,null,null,null,null,null,null,null,null,null,null,null,"",{"$f":"IF('Kollega oplysninger'!M234=\"\",\"\",'Kollega oplysninger'!M234)","v":""},null,null,null,null,"",null,"",null,null,null,"",""]
[null,{"$f":"IF('Kollega oplysninger'!B235=\"\",\"\",'Kollega oplysninger'!B235)","v":""},{"$f":"IF('Kollega oplysninger'!C235=\"\",\"\",'Kollega oplysninger'!C235)","v":""},null,null,{"$f":"IF('Kollega oplysninger'!I235=\"\",\"\",'Kollega oplysninger'!I235)","v":""},{"$f":"IF('Kollega oplysninger'!J235=\"\",\"\",'Kollega oplysninger'!J235)","v":""},{"$f":"IF('Kollega oplysninger'!L235=\"\",\"\",'Kollega oplysninger'!L235)","v":""},null,null,null,null,null,null,null,null,null,null,null,null,null,null,null,null,null,"",{"$f":"IF('Kollega oplysninger'!M235=\"\",\"\",'Kollega oplysninger'!M235)","v":""},null,null,null,null,"",null,"",null,null,null,"",""]
[null,{"$f":"IF('Kollega oplysninger'!B236=\"\",\"\",'Kollega oplysninger'!B236)","v":""},{"$f":"IF('Kollega oplysninger'!C236=\"\",\"\",'Kollega oplysninger'!C236)","v":""},null,null,{"$f":"IF('Kollega oplysninger'!I236=\"\",\"\",'Kollega oplysninger'!I236)","v":""},{"$f":"IF('Kollega oplysninger'!J236=\"\",\"\",'Kollega oplysninger'!J236)","v":""},{"$f":"IF('Kollega oplysninger'!L236=\"\",\"\",'Kollega oplysninger'!L236)","v":""},null,null,null,null,null,null,null,null,null,null,null,null,null,null,null,null,null,"",{"$f":"IF('Kollega oplysninger'!M236=\"\",\"\",'Kollega oplysninger'!M236)","v":""},null,null,null,null,"",null,"",null,null,null,"",""]
[null,{"$f":"IF('Kollega oplysninger'!B237=\"\",\"\",'Kollega oplysninger'!B237)","v":""},{"$f":"IF('Kollega oplysninger'!C237=\"\",\"\",'Kollega oplysninger'!C237)","v":""},null,null,{"$f":"IF('Kollega oplysninger'!I237=\"\",\"\",'Kollega oplysninger'!I237)","v":""},{"$f":"IF('Kollega oplysninger'!J237=\"\",\"\",'Kollega oplysninger'!J237)","v":""},{"$f":"IF('Kollega oplysninger'!L237=\"\",\"\",'Kollega oplysninger'!L237)","v":""},null,null,null,null,null,null,null,null,null,null,null,null,null,null,null,null,null,"",{"$f":"IF('Kollega oplysninger'!M237=\"\",\"\",'Kollega oplysninger'!M237)","v":""},null,null,null,null,"",null,"",null,null,null,"",""]
[null,{"$f":"IF('Kollega oplysninger'!B238=\"\",\"\",'Kollega oplysninger'!B238)","v":""},{"$f":"IF('Kollega oplysninger'!C238=\"\",\"\",'Kollega oplysninger'!C238)","v":""},null,null,{"$f":"IF('Kollega oplysninger'!I238=\"\",\"\",'Kollega oplysninger'!I238)","v":""},{"$f":"IF('Kollega oplysninger'!J238=\"\",\"\",'Kollega oplysninger'!J238)","v":""},{"$f":"IF('Kollega oplysninger'!L238=\"\",\"\",'Kollega oplysninger'!L238)","v":""},null,null,null,null,null,null,null,null,null,null,null,null,null,null,null,null,null,"",{"$f":"IF('Kollega oplysninger'!M238=\"\",\"\",'Kollega oplysninger'!M238)","v":""},null,null,null,null,"",null,"",null,null,null,"",""]
[null,{"$f":"IF('Kollega oplysninger'!B239=\"\",\"\",'Kollega oplysninger'!B239)","v":""},{"$f":"IF('Kollega oplysninger'!C239=\"\",\"\",'Kollega oplysninger'!C239)","v":""},null,null,{"$f":"IF('Kollega oplysninger'!I239=\"\",\"\",'Kollega oplysninger'!I239)","v":""},{"$f":"IF('Kollega oplysninger'!J239=\"\",\"\",'Kollega oplysninger'!J239)","v":""},{"$f":"IF('Kollega oplysninger'!L239=\"\",\"\",'Kollega oplysninger'!L239)","v":""},null,null,null,null,null,null,null,null,null,null,null,null,null,null,null,null,null,"",{"$f":"IF('Kollega oplysninger'!M239=\"\",\"\",'Kollega oplysninger'!M239)","v":""},null,null,null,null,"",null,"",null,null,null,"",""]
[null,{"$f":"IF('Kollega oplysninger'!B240=\"\",\"\",'Kollega oplysninger'!B240)","v":""},{"$f":"IF('Kollega oplysninger'!C240=\"\",\"\",'Kollega oplysninger'!C240)","v":""},null,null,{"$f":"IF('Kollega oplysninger'!I240=\"\",\"\",'Kollega oplysninger'!I240)","v":""},{"$f":"IF('Kollega oplysninger'!J240=\"\",\"\",'Kollega oplysninger'!J240)","v":""},{"$f":"IF('Kollega oplysninger'!L240=\"\",\"\",'Kollega oplysninger'!L240)","v":""},null,null,null,null,null,null,null,null,null,null,null,null,null,null,null,null,null,"",{"$f":"IF('Kollega oplysninger'!M240=\"\",\"\",'Kollega oplysninger'!M240)","v":""},null,null,null,null,"",null,"",null,null,null,"",""]
[null,{"$f":"IF('Kollega oplysninger'!B241=\"\",\"\",'Kollega oplysninger'!B241)","v":""},{"$f":"IF('Kollega oplysninger'!C241=\"\",\"\",'Kollega oplysninger'!C241)","v":""},null,null,{"$f":"IF('Kollega oplysninger'!I241=\"\",\"\",'Kollega oplysninger'!I241)","v":""},{"$f":"IF('Kollega oplysninger'!J241=\"\",\"\",'Kollega oplysninger'!J241)","v":""},{"$f":"IF('Kollega oplysninger'!L241=\"\",\"\",'Kollega oplysninger'!L241)","v":""},null,null,null,null,null,null,null,null,null,null,null,null,null,null,null,null,null,"",{"$f":"IF('Kollega oplysninger'!M241=\"\",\"\",'Kollega oplysninger'!M241)","v":""},null,null,null,null,"",null,"",null,null,null,"",""]
[null,{"$f":"IF('Kollega oplysninger'!B242=\"\",\"\",'Kollega oplysninger'!B242)","v":""},{"$f":"IF('Kollega oplysninger'!C242=\"\",\"\",'Kollega oplysninger'!C242)","v":""},null,null,{"$f":"IF('Kollega oplysninger'!I242=\"\",\"\",'Kollega oplysninger'!I242)","v":""},{"$f":"IF('Kollega oplysninger'!J242=\"\",\"\",'Kollega oplysninger'!J242)","v":""},{"$f":"IF('Kollega oplysninger'!L242=\"\",\"\",'Kollega oplysninger'!L242)","v":""},null,null,null,null,null,null,null,null,null,null,null,null,null,null,null,null,null,"",{"$f":"IF('Kollega oplysninger'!M242=\"\",\"\",'Kollega oplysninger'!M242)","v":""},null,null,null,null,"",null,"",null,null,null,"",""]
[null,{"$f":"IF('Kollega oplysninger'!B243=\"\",\"\",'Kollega oplysninger'!B243)","v":""},{"$f":"IF('Kollega oplysninger'!C243=\"\",\"\",'Kollega oplysninger'!C243)","v":""},null,null,{"$f":"IF('Kollega oplysninger'!I243=\"\",\"\",'Kollega oplysninger'!I243)","v":""},{"$f":"IF('Kollega oplysninger'!J243=\"\",\"\",'Kollega oplysninger'!J243)","v":""},{"$f":"IF('Kollega oplysninger'!L243=\"\",\"\",'Kollega oplysninger'!L243)","v":""},null,null,null,null,null,null,null,null,null,null,null,null,null,null,null,null,null,"",{"$f":"IF('Kollega oplysninger'!M243=\"\",\"\",'Kollega oplysninger'!M243)","v":""},null,null,null,null,"",null,"",null,null,null,"",""]
[null,{"$f":"IF('Kollega oplysninger'!B244=\"\",\"\",'Kollega oplysninger'!B244)","v":""},{"$f":"IF('Kollega oplysninger'!C244=\"\",\"\",'Kollega oplysninger'!C244)","v":""},null,null,{"$f":"IF('Kollega oplysninger'!I244=\"\",\"\",'Kollega oplysninger'!I244)","v":""},{"$f":"IF('Kollega oplysninger'!J244=\"\",\"\",'Kollega oplysninger'!J244)","v":""},{"$f":"IF('Kollega oplysninger'!L244=\"\",\"\",'Kollega oplysninger'!L244)","v":""},null,null,null,null,null,null,null,null,null,null,null,null,null,null,null,null,null,"",{"$f":"IF('Kollega oplysninger'!M244=\"\",\"\",'Kollega oplysninger'!M244)","v":""},null,null,null,null,"",null,"",null,null,null,"",""]
[null,{"$f":"IF('Kollega oplysninger'!B245=\"\",\"\",'Kollega oplysninger'!B245)","v":""},{"$f":"IF('Kollega oplysninger'!C245=\"\",\"\",'Kollega oplysninger'!C245)","v":""},null,null,{"$f":"IF('Kollega oplysninger'!I245=\"\",\"\",'Kollega oplysninger'!I245)","v":""},{"$f":"IF('Kollega oplysninger'!J245=\"\",\"\",'Kollega oplysninger'!J245)","v":""},{"$f":"IF('Kollega oplysninger'!L245=\"\",\"\",'Kollega oplysninger'!L245)","v":""},null,null,null,null,null,null,null,null,null,null,null,null,null,null,null,null,null,"",{"$f":"IF('Kollega oplysninger'!M245=\"\",\"\",'Kollega oplysninger'!M245)","v":""},null,null,null,null,"",null,"",null,null,null,"",""]
[null,{"$f":"IF('Kollega oplysninger'!B246=\"\",\"\",'Kollega oplysninger'!B246)","v":""},{"$f":"IF('Kollega oplysninger'!C246=\"\",\"\",'Kollega oplysninger'!C246)","v":""},null,null,{"$f":"IF('Kollega oplysninger'!I246=\"\",\"\",'Kollega oplysninger'!I246)","v":""},{"$f":"IF('Kollega oplysninger'!J246=\"\",\"\",'Kollega oplysninger'!J246)","v":""},{"$f":"IF('Kollega oplysninger'!L246=\"\",\"\",'Kollega oplysninger'!L246)","v":""},null,null,null,null,null,null,null,null,null,null,null,null,null,null,null,null,null,"",{"$f":"IF('Kollega oplysninger'!M246=\"\",\"\",'Kollega oplysninger'!M246)","v":""},null,null,null,null,"",null,"",null,null,null,"",""]
[null,{"$f":"IF('Kollega oplysninger'!B247=\"\",\"\",'Kollega oplysninger'!B247)","v":""},{"$f":"IF('Kollega oplysninger'!C247=\"\",\"\",'Kollega oplysninger'!C247)","v":""},null,null,{"$f":"IF('Kollega oplysninger'!I247=\"\",\"\",'Kollega oplysninger'!I247)","v":""},{"$f":"IF('Kollega oplysninger'!J247=\"\",\"\",'Kollega oplysninger'!J247)","v":""},{"$f":"IF('Kollega oplysninger'!L247=\"\",\"\",'Kollega oplysninger'!L247)","v":""},null,null,null,null,null,null,null,null,null,null,null,null,null,null,null,null,null,"",{"$f":"IF('Kollega oplysninger'!M247=\"\",\"\",'Kollega oplysninger'!M247)","v":""},null,null,null,null,"",null,"",null,null,null,"",""]
[null,{"$f":"IF('Kollega oplysninger'!B248=\"\",\"\",'Kollega oplysninger'!B248)","v":""},{"$f":"IF('Kollega oplysninger'!C248=\"\",\"\",'Kollega oplysninger'!C248)","v":""},null,null,{"$f":"IF('Kollega oplysninger'!I248=\"\",\"\",'Kollega oplysninger'!I248)","v":""},{"$f":"IF('Kollega oplysninger'!J248=\"\",\"\",'Kollega oplysninger'!J248)","v":""},{"$f":"IF('Kollega oplysninger'!L248=\"\",\"\",'Kollega oplysninger'!L248)","v":""},null,null,null,null,null,null,null,null,null,null,null,null,null,null,null,null,null,"",{"$f":"IF('Kollega oplysninger'!M248=\"\",\"\",'Kollega oplysninger'!M248)","v":""},null,null,null,null,"",null,"",null,null,null,"",""]
[null,{"$f":"IF('Kollega oplysninger'!B249=\"\",\"\",'Kollega oplysninger'!B249)","v":""},{"$f":"IF('Kollega oplysninger'!C249=\"\",\"\",'Kollega oplysninger'!C249)","v":""},null,null,{"$f":"IF('Kollega oplysninger'!I249=\"\",\"\",'Kollega oplysninger'!I249)","v":""},{"$f":"IF('Kollega oplysninger'!J249=\"\",\"\",'Kollega oplysninger'!J249)","v":""},{"$f":"IF('Kollega oplysninger'!L249=\"\",\"\",'Kollega oplysninger'!L249)","v":""},null,null,null,null,null,null,null,null,null,null,null,null,null,null,null,null,null,"",{"$f":"IF('Kollega oplysninger'!M249=\"\",\"\",'Kollega oplysninger'!M249)","v":""},null,null,null,null,"",null,"",null,null,null,"",""]
[null,{"$f":"IF('Kollega oplysninger'!B250=\"\",\"\",'Kollega oplysninger'!B250)","v":""},{"$f":"IF('Kollega oplysninger'!C250=\"\",\"\",'Kollega oplysninger'!C250)","v":""},null,null,{"$f":"IF('Kollega oplysninger'!I250=\"\",\"\",'Kollega oplysninger'!I250)","v":""},{"$f":"IF('Kollega oplysninger'!J250=\"\",\"\",'Kollega oplysninger'!J250)","v":""},{"$f":"IF('Kollega oplysninger'!L250=\"\",\"\",'Kollega oplysninger'!L250)","v":""},null,null,null,null,null,null,null,null,null,null,null,null,null,null,null,null,null,"",{"$f":"IF('Kollega oplysninger'!M250=\"\",\"\",'Kollega oplysninger'!M250)","v":""},null,null,null,null,"",null,"",null,null,null,"",""]
[null,{"$f":"IF('Kollega oplysninger'!B251=\"\",\"\",'Kollega oplysninger'!B251)","v":""},{"$f":"IF('Kollega oplysninger'!C251=\"\",\"\",'Kollega oplysninger'!C251)","v":""},null,null,{"$f":"IF('Kollega oplysninger'!I251=\"\",\"\",'Kollega oplysninger'!I251)","v":""},{"$f":"IF('Kollega oplysninger'!J251=\"\",\"\",'Kollega oplysninger'!J251)","v":""},{"$f":"IF('Kollega oplysninger'!L251=\"\",\"\",'Kollega oplysninger'!L251)","v":""},null,null,null,null,null,null,null,null,null,null,null,null,null,null,null,null,null,"",{"$f":"IF('Kollega oplysninger'!M251=\"\",\"\",'Kollega oplysninger'!M251)","v":""},null,null,null,null,"",null,"",null,null,null,"",""]
[null,{"$f":"IF('Kollega oplysninger'!B252=\"\",\"\",'Kollega oplysninger'!B252)","v":""},{"$f":"IF('Kollega oplysninger'!C252=\"\",\"\",'Kollega oplysninger'!C252)","v":""},null,null,{"$f":"IF('Kollega oplysninger'!I252=\"\",\"\",'Kollega oplysninger'!I252)","v":""},{"$f":"IF('Kollega oplysninger'!J252=\"\",\"\",'Kollega oplysninger'!J252)","v":""},{"$f":"IF('Kollega oplysninger'!L252=\"\",\"\",'Kollega oplysninger'!L252)","v":""},null,null,null,null,null,null,null,null,null,null,null,null,null,null,null,null,null,"",{"$f":"IF('Kollega oplysninger'!M252=\"\",\"\",'Kollega oplysninger'!M252)","v":""},null,null,null,null,"",null,"",null,null,null,"",""]
[null,{"$f":"IF('Kollega oplysninger'!B253=\"\",\"\",'Kollega oplysninger'!B253)","v":""},{"$f":"IF('Kollega oplysninger'!C253=\"\",\"\",'Kollega oplysninger'!C253)","v":""},null,null,{"$f":"IF('Kollega oplysninger'!I253=\"\",\"\",'Kollega oplysninger'!I253)","v":""},{"$f":"IF('Kollega oplysninger'!J253=\"\",\"\",'Kollega oplysninger'!J253)","v":""},{"$f":"IF('Kollega oplysninger'!L253=\"\",\"\",'Kollega oplysninger'!L253)","v":""},null,null,null,null,null,null,null,null,null,null,null,null,null,null,null,null,null,"",{"$f":"IF('Kollega oplysninger'!M253=\"\",\"\",'Kollega oplysninger'!M253)","v":""},null,null,null,null,"",null,"",null,null,null,"",""]
[null,{"$f":"IF('Kollega oplysninger'!B254=\"\",\"\",'Kollega oplysninger'!B254)","v":""},{"$f":"IF('Kollega oplysninger'!C254=\"\",\"\",'Kollega oplysninger'!C254)","v":""},null,null,{"$f":"IF('Kollega oplysninger'!I254=\"\",\"\",'Kollega oplysninger'!I254)","v":""},{"$f":"IF('Kollega oplysninger'!J254=\"\",\"\",'Kollega oplysninger'!J254)","v":""},{"$f":"IF('Kollega oplysninger'!L254=\"\",\"\",'Kollega oplysninger'!L254)","v":""},null,null,null,null,null,null,null,null,null,null,null,null,null,null,null,null,null,"",{"$f":"IF('Kollega oplysninger'!M254=\"\",\"\",'Kollega oplysninger'!M254)","v":""},null,null,null,null,"",null,"",null,null,null,"",""]
[null,{"$f":"IF('Kollega oplysninger'!B255=\"\",\"\",'Kollega oplysninger'!B255)","v":""},{"$f":"IF('Kollega oplysninger'!C255=\"\",\"\",'Kollega oplysninger'!C255)","v":""},null,null,{"$f":"IF('Kollega oplysninger'!I255=\"\",\"\",'Kollega oplysninger'!I255)","v":""},{"$f":"IF('Kollega oplysninger'!J255=\"\",\"\",'Kollega oplysninger'!J255)","v":""},{"$f":"IF('Kollega oplysninger'!L255=\"\",\"\",'Kollega oplysninger'!L255)","v":""},null,null,null,null,null,null,null,null,null,null,null,null,null,null,null,null,null,"",{"$f":"IF('Kollega oplysninger'!M255=\"\",\"\",'Kollega oplysninger'!M255)","v":""},null,null,null,null,"",null,"",null,null,null,"",""]
[null,{"$f":"IF('Kollega oplysninger'!B256=\"\",\"\",'Kollega oplysninger'!B256)","v":""},{"$f":"IF('Kollega oplysninger'!C256=\"\",\"\",'Kollega oplysninger'!C256)","v":""},null,null,{"$f":"IF('Kollega oplysninger'!I256=\"\",\"\",'Kollega oplysninger'!I256)","v":""},{"$f":"IF('Kollega oplysninger'!J256=\"\",\"\",'Kollega oplysninger'!J256)","v":""},{"$f":"IF('Kollega oplysninger'!L256=\"\",\"\",'Kollega oplysninger'!L256)","v":""},null,null,null,null,null,null,null,null,null,null,null,null,null,null,null,null,null,"",{"$f":"IF('Kollega oplysninger'!M256=\"\",\"\",'Kollega oplysninger'!M256)","v":""},null,null,null,null,"",null,"",null,null,null,"",""]
[null,{"$f":"IF('Kollega oplysninger'!B257=\"\",\"\",'Kollega oplysninger'!B257)","v":""},{"$f":"IF('Kollega oplysninger'!C257=\"\",\"\",'Kollega oplysninger'!C257)","v":""},null,null,{"$f":"IF('Kollega oplysninger'!I257=\"\",\"\",'Kollega oplysninger'!I257)","v":""},{"$f":"IF('Kollega oplysninger'!J257=\"\",\"\",'Kollega oplysninger'!J257)","v":""},{"$f":"IF('Kollega oplysninger'!L257=\"\",\"\",'Kollega oplysninger'!L257)","v":""},null,null,null,null,null,null,null,null,null,null,null,null,null,null,null,null,null,"",{"$f":"IF('Kollega oplysninger'!M257=\"\",\"\",'Kollega oplysninger'!M257)","v":""},null,null,null,null,"",null,"",null,null,null,"",""]
[null,{"$f":"IF('Kollega oplysninger'!B258=\"\",\"\",'Kollega oplysninger'!B258)","v":""},{"$f":"IF('Kollega oplysninger'!C258=\"\",\"\",'Kollega oplysninger'!C258)","v":""},null,null,{"$f":"IF('Kollega oplysninger'!I258=\"\",\"\",'Kollega oplysninger'!I258)","v":""},{"$f":"IF('Kollega oplysninger'!J258=\"\",\"\",'Kollega oplysninger'!J258)","v":""},{"$f":"IF('Kollega oplysninger'!L258=\"\",\"\",'Kollega oplysninger'!L258)","v":""},null,null,null,null,null,null,null,null,null,null,null,null,null,null,null,null,null,"",{"$f":"IF('Kollega oplysninger'!M258=\"\",\"\",'Kollega oplysninger'!M258)","v":""},null,null,null,null,"",null,"",null,null,null,"",""]
[null,{"$f":"IF('Kollega oplysninger'!B259=\"\",\"\",'Kollega oplysninger'!B259)","v":""},{"$f":"IF('Kollega oplysninger'!C259=\"\",\"\",'Kollega oplysninger'!C259)","v":""},null,null,{"$f":"IF('Kollega oplysninger'!I259=\"\",\"\",'Kollega oplysninger'!I259)","v":""},{"$f":"IF('Kollega oplysninger'!J259=\"\",\"\",'Kollega oplysninger'!J259)","v":""},{"$f":"IF('Kollega oplysninger'!L259=\"\",\"\",'Kollega oplysninger'!L259)","v":""},null,null,null,null,null,null,null,null,null,null,null,null,null,null,null,null,null,"",{"$f":"IF('Kollega oplysninger'!M259=\"\",\"\",'Kollega oplysninger'!M259)","v":""},null,null,null,null,"",null,"",null,null,null,"",""]
[null,{"$f":"IF('Kollega oplysninger'!B260=\"\",\"\",'Kollega oplysninger'!B260)","v":""},{"$f":"IF('Kollega oplysninger'!C260=\"\",\"\",'Kollega oplysninger'!C260)","v":""},null,null,{"$f":"IF('Kollega oplysninger'!I260=\"\",\"\",'Kollega oplysninger'!I260)","v":""},{"$f":"IF('Kollega oplysninger'!J260=\"\",\"\",'Kollega oplysninger'!J260)","v":""},{"$f":"IF('Kollega oplysninger'!L260=\"\",\"\",'Kollega oplysninger'!L260)","v":""},null,null,null,null,null,null,null,null,null,null,null,null,null,null,null,null,null,"",{"$f":"IF('Kollega oplysninger'!M260=\"\",\"\",'Kollega oplysninger'!M260)","v":""},null,null,null,null,"",null,"",null,null,null,"",""]
[null,{"$f":"IF('Kollega oplysninger'!B261=\"\",\"\",'Kollega oplysninger'!B261)","v":""},{"$f":"IF('Kollega oplysninger'!C261=\"\",\"\",'Kollega oplysninger'!C261)","v":""},null,null,{"$f":"IF('Kollega oplysninger'!I261=\"\",\"\",'Kollega oplysninger'!I261)","v":""},{"$f":"IF('Kollega oplysninger'!J261=\"\",\"\",'Kollega oplysninger'!J261)","v":""},{"$f":"IF('Kollega oplysninger'!L261=\"\",\"\",'Kollega oplysninger'!L261)","v":""},null,null,null,null,null,null,null,null,null,null,null,null,null,null,null,null,null,"",{"$f":"IF('Kollega oplysninger'!M261=\"\",\"\",'Kollega oplysninger'!M261)","v":""},null,null,null,null,"",null,"",null,null,null,"",""]
[null,{"$f":"IF('Kollega oplysninger'!B262=\"\",\"\",'Kollega oplysninger'!B262)","v":""},{"$f":"IF('Kollega oplysninger'!C262=\"\",\"\",'Kollega oplysninger'!C262)","v":""},null,null,{"$f":"IF('Kollega oplysninger'!I262=\"\",\"\",'Kollega oplysninger'!I262)","v":""},{"$f":"IF('Kollega oplysninger'!J262=\"\",\"\",'Kollega oplysninger'!J262)","v":""},{"$f":"IF('Kollega oplysninger'!L262=\"\",\"\",'Kollega oplysninger'!L262)","v":""},null,null,null,null,null,null,null,null,null,null,null,null,null,null,null,null,null,"",{"$f":"IF('Kollega oplysninger'!M262=\"\",\"\",'Kollega oplysninger'!M262)","v":""},null,null,null,null,"",null,"",null,null,null,"",""]
[null,{"$f":"IF('Kollega oplysninger'!B263=\"\",\"\",'Kollega oplysninger'!B263)","v":""},{"$f":"IF('Kollega oplysninger'!C263=\"\",\"\",'Kollega oplysninger'!C263)","v":""},null,null,{"$f":"IF('Kollega oplysninger'!I263=\"\",\"\",'Kollega oplysninger'!I263)","v":""},{"$f":"IF('Kollega oplysninger'!J263=\"\",\"\",'Kollega oplysninger'!J263)","v":""},{"$f":"IF('Kollega oplysninger'!L263=\"\",\"\",'Kollega oplysninger'!L263)","v":""},null,null,null,null,null,null,null,null,null,null,null,null,null,null,null,null,null,"",{"$f":"IF('Kollega oplysninger'!M263=\"\",\"\",'Kollega oplysninger'!M263)","v":""},null,null,null,null,{"$f":"IF(Y263<AE263,\"fejl\",IF(Y263=\"\",\"\",IF(AE263=\"\",0,AE263/Y263)))","v":""},null,{"$f":"IF(Y263<AG263,\"fejl\",IF(Y263=\"\",\"\",IF(AG263=\"\",0,AG263/Y263)))","v":""},null,null,null,{"$f":"IF(Z263=\"fejl\",X263,\"\")","v":""},{"$f":"IF(Z263=\"fejl\",Y263,\"\")","v":""}]
[null,{"$f":"IF('Kollega oplysninger'!B264=\"\",\"\",'Kollega oplysninger'!B264)","v":""},{"$f":"IF('Kollega oplysninger'!C264=\"\",\"\",'Kollega oplysninger'!C264)","v":""},null,null,{"$f":"IF('Kollega oplysninger'!I264=\"\",\"\",'Kollega oplysninger'!I264)","v":""},{"$f":"IF('Kollega oplysninger'!J264=\"\",\"\",'Kollega oplysninger'!J264)","v":""},{"$f":"IF('Kollega oplysninger'!L264=\"\",\"\",'Kollega oplysninger'!L264)","v":""},null,null,null,null,null,null,null,null,null,null,null,null,null,null,null,null,null,{"$f":"IF(Y264<X264,\"fejl\",IF(Y264=\"\",\"\",IF(X264=\"\",0,X264/Y264)))","v":""},{"$f":"IF('Kollega oplysninger'!M264=\"\",\"\",'Kollega oplysninger'!M264)","v":""},null,null,null,null,"",null,"",null,null,null,"",""]
[null,{"$f":"IF('Kollega oplysninger'!B265=\"\",\"\",'Kollega oplysninger'!B265)","v":""},{"$f":"IF('Kollega oplysninger'!C265=\"\",\"\",'Kollega oplysninger'!C265)","v":""},null,null,{"$f":"IF('Kollega oplysninger'!I265=\"\",\"\",'Kollega oplysninger'!I265)","v":""},{"$f":"IF('Kollega oplysninger'!J265=\"\",\"\",'Kollega oplysninger'!J265)","v":""},{"$f":"IF('Kollega oplysninger'!L265=\"\",\"\",'Kollega oplysninger'!L265)","v":""},null,null,null,null,null,null,null,null,null,null,null,null,null,null,null,null,null,"",{"$f":"IF('Kollega oplysninger'!M265=\"\",\"\",'Kollega oplysninger'!M265)","v":""},null,null,null,null,"",null,"",null,null,null,"",""]
[null,{"$f":"IF('Kollega oplysninger'!B266=\"\",\"\",'Kollega oplysninger'!B266)","v":""},{"$f":"IF('Kollega oplysninger'!C266=\"\",\"\",'Kollega oplysninger'!C266)","v":""},null,null,{"$f":"IF('Kollega oplysninger'!I266=\"\",\"\",'Kollega oplysninger'!I266)","v":""},{"$f":"IF('Kollega oplysninger'!J266=\"\",\"\",'Kollega oplysninger'!J266)","v":""},{"$f":"IF('Kollega oplysninger'!L266=\"\",\"\",'Kollega oplysninger'!L266)","v":""},null,null,null,null,null,null,null,null,null,null,null,null,null,null,null,null,null,"",{"$f":"IF('Kollega oplysninger'!M266=\"\",\"\",'Kollega oplysninger'!M266)","v":""},null,null,null,null,"",null,"",null,null,null,"",""]
[null,{"$f":"IF('Kollega oplysninger'!B267=\"\",\"\",'Kollega oplysninger'!B267)","v":""},{"$f":"IF('Kollega oplysninger'!C267=\"\",\"\",'Kollega oplysninger'!C267)","v":""},null,null,{"$f":"IF('Kollega oplysninger'!I267=\"\",\"\",'Kollega oplysninger'!I267)","v":""},{"$f":"IF('Kollega oplysninger'!J267=\"\",\"\",'Kollega oplysninger'!J267)","v":""},{"$f":"IF('Kollega oplysninger'!L267=\"\",\"\",'Kollega oplysninger'!L267)","v":""},null,null,null,null,null,null,null,null,null,null,null,null,null,null,null,null,null,"",{"$f":"IF('Kollega oplysninger'!M267=\"\",\"\",'Kollega oplysninger'!M267)","v":""},null,null,null,null,"",null,"",null,null,null,"",""]
[null,{"$f":"IF('Kollega oplysninger'!B268=\"\",\"\",'Kollega oplysninger'!B268)","v":""},{"$f":"IF('Kollega oplysninger'!C268=\"\",\"\",'Kollega oplysninger'!C268)","v":""},null,null,{"$f":"IF('Kollega oplysninger'!I268=\"\",\"\",'Kollega oplysninger'!I268)","v":""},{"$f":"IF('Kollega oplysninger'!J268=\"\",\"\",'Kollega oplysninger'!J268)","v":""},{"$f":"IF('Kollega oplysninger'!L268=\"\",\"\",'Kollega oplysninger'!L268)","v":""},null,null,null,null,null,null,null,null,null,null,null,null,null,null,null,null,null,"",{"$f":"IF('Kollega oplysninger'!M268=\"\",\"\",'Kollega oplysninger'!M268)","v":""},null,null,null,null,"",null,"",null,null,null,"",""]
[null,{"$f":"IF('Kollega oplysninger'!B269=\"\",\"\",'Kollega oplysninger'!B269)","v":""},{"$f":"IF('Kollega oplysninger'!C269=\"\",\"\",'Kollega oplysninger'!C269)","v":""},null,null,{"$f":"IF('Kollega oplysninger'!I269=\"\",\"\",'Kollega oplysninger'!I269)","v":""},{"$f":"IF('Kollega oplysninger'!J269=\"\",\"\",'Kollega oplysninger'!J269)","v":""},{"$f":"IF('Kollega oplysninger'!L269=\"\",\"\",'Kollega oplysninger'!L269)","v":""},null,null,null,null,null,null,null,null,null,null,null,null,null,null,null,null,null,"",{"$f":"IF('Kollega oplysninger'!M269=\"\",\"\",'Kollega oplysninger'!M269)","v":""},null,null,null,null,"",null,"",null,null,null,"",""]
[null,{"$f":"IF('Kollega oplysninger'!B270=\"\",\"\",'Kollega oplysninger'!B270)","v":""},{"$f":"IF('Kollega oplysninger'!C270=\"\",\"\",'Kollega oplysninger'!C270)","v":""},null,null,{"$f":"IF('Kollega oplysninger'!I270=\"\",\"\",'Kollega oplysninger'!I270)","v":""},{"$f":"IF('Kollega oplysninger'!J270=\"\",\"\",'Kollega oplysninger'!J270)","v":""},{"$f":"IF('Kollega oplysninger'!L270=\"\",\"\",'Kollega oplysninger'!L270)","v":""},null,null,null,null,null,null,null,null,null,null,null,null,null,null,null,null,null,"",{"$f":"IF('Kollega oplysninger'!M270=\"\",\"\",'Kollega oplysninger'!M270)","v":""},null,null,null,null,"",null,"",null,null,null,"",""]
[null,{"$f":"IF('Kollega oplysninger'!B271=\"\",\"\",'Kollega oplysninger'!B271)","v":""},{"$f":"IF('Kollega oplysninger'!C271=\"\",\"\",'Kollega oplysninger'!C271)","v":""},null,null,{"$f":"IF('Kollega oplysninger'!I271=\"\",\"\",'Kollega oplysninger'!I271)","v":""},{"$f":"IF('Kollega oplysninger'!J271=\"\",\"\",'Kollega oplysninger'!J271)","v":""},{"$f":"IF('Kollega oplysninger'!L271=\"\",\"\",'Kollega oplysninger'!L271)","v":""},null,null,null,null,null,null,null,null,null,null,null,null,null,null,null,null,null,"",{"$f":"IF('Kollega oplysninger'!M271=\"\",\"\",'Kollega oplysninger'!M271)","v":""},null,null,null,null,"",null,"",null,null,null,"",""]
[null,{"$f":"IF('Kollega oplysninger'!B272=\"\",\"\",'Kollega oplysninger'!B272)","v":""},{"$f":"IF('Kollega oplysninger'!C272=\"\",\"\",'Kollega oplysninger'!C272)","v":""},null,null,{"$f":"IF('Kollega oplysninger'!I272=\"\",\"\",'Kollega oplysninger'!I272)","v":""},{"$f":"IF('Kollega oplysninger'!J272=\"\",\"\",'Kollega oplysninger'!J272)","v":""},{"$f":"IF('Kollega oplysninger'!L272=\"\",\"\",'Kollega oplysninger'!L272)","v":""},null,null,null,null,null,null,null,null,null,null,null,null,null,null,null,null,null,"",{"$f":"IF('Kollega oplysninger'!M272=\"\",\"\",'Kollega oplysninger'!M272)","v":""},null,null,null,null,"",null,"",null,null,null,"",""]
[null,{"$f":"IF('Kollega oplysninger'!B273=\"\",\"\",'Kollega oplysninger'!B273)","v":""},{"$f":"IF('Kollega oplysninger'!C273=\"\",\"\",'Kollega oplysninger'!C273)","v":""},null,null,{"$f":"IF('Kollega oplysninger'!I273=\"\",\"\",'Kollega oplysninger'!I273)","v":""},{"$f":"IF('Kollega oplysninger'!J273=\"\",\"\",'Kollega oplysninger'!J273)","v":""},{"$f":"IF('Kollega oplysninger'!L273=\"\",\"\",'Kollega oplysninger'!L273)","v":""},null,null,null,null,null,null,null,null,null,null,null,null,null,null,null,null,null,"",{"$f":"IF('Kollega oplysninger'!M273=\"\",\"\",'Kollega oplysninger'!M273)","v":""},null,null,null,null,"",null,"",null,null,null,"",""]
[null,{"$f":"IF('Kollega oplysninger'!B274=\"\",\"\",'Kollega oplysninger'!B274)","v":""},{"$f":"IF('Kollega oplysninger'!C274=\"\",\"\",'Kollega oplysninger'!C274)","v":""},null,null,{"$f":"IF('Kollega oplysninger'!I274=\"\",\"\",'Kollega oplysninger'!I274)","v":""},{"$f":"IF('Kollega oplysninger'!J274=\"\",\"\",'Kollega oplysninger'!J274)","v":""},{"$f":"IF('Kollega oplysninger'!L274=\"\",\"\",'Kollega oplysninger'!L274)","v":""},null,null,null,null,null,null,null,null,null,null,null,null,null,null,null,null,null,"",{"$f":"IF('Kollega oplysninger'!M274=\"\",\"\",'Kollega oplysninger'!M274)","v":""},null,null,null,null,"",null,"",null,null,null,"",""]
[null,{"$f":"IF('Kollega oplysninger'!B275=\"\",\"\",'Kollega oplysninger'!B275)","v":""},{"$f":"IF('Kollega oplysninger'!C275=\"\",\"\",'Kollega oplysninger'!C275)","v":""},null,null,{"$f":"IF('Kollega oplysninger'!I275=\"\",\"\",'Kollega oplysninger'!I275)","v":""},{"$f":"IF('Kollega oplysninger'!J275=\"\",\"\",'Kollega oplysninger'!J275)","v":""},{"$f":"IF('Kollega oplysninger'!L275=\"\",\"\",'Kollega oplysninger'!L275)","v":""},null,null,null,null,null,null,null,null,null,null,null,null,null,null,null,null,null,"",{"$f":"IF('Kollega oplysninger'!M275=\"\",\"\",'Kollega oplysninger'!M275)","v":""},null,null,null,null,"",null,"",null,null,null,"",""]
[null,{"$f":"IF('Kollega oplysninger'!B276=\"\",\"\",'Kollega oplysninger'!B276)","v":""},{"$f":"IF('Kollega oplysninger'!C276=\"\",\"\",'Kollega oplysninger'!C276)","v":""},null,null,{"$f":"IF('Kollega oplysninger'!I276=\"\",\"\",'Kollega oplysninger'!I276)","v":""},{"$f":"IF('Kollega oplysninger'!J276=\"\",\"\",'Kollega oplysninger'!J276)","v":""},{"$f":"IF('Kollega oplysninger'!L276=\"\",\"\",'Kollega oplysninger'!L276)","v":""},null,null,null,null,null,null,null,null,null,null,null,null,null,null,null,null,null,"",{"$f":"IF('Kollega oplysninger'!M276=\"\",\"\",'Kollega oplysninger'!M276)","v":""},null,null,null,null,"",null,"",null,null,null,"",""]
[null,{"$f":"IF('Kollega oplysninger'!B277=\"\",\"\",'Kollega oplysninger'!B277)","v":""},{"$f":"IF('Kollega oplysninger'!C277=\"\",\"\",'Kollega oplysninger'!C277)","v":""},null,null,{"$f":"IF('Kollega oplysninger'!I277=\"\",\"\",'Kollega oplysninger'!I277)","v":""},{"$f":"IF('Kollega oplysninger'!J277=\"\",\"\",'Kollega oplysninger'!J277)","v":""},{"$f":"IF('Kollega oplysninger'!L277=\"\",\"\",'Kollega oplysninger'!L277)","v":""},null,null,null,null,null,null,null,null,null,null,null,null,null,null,null,null,null,"",{"$f":"IF('Kollega oplysninger'!M277=\"\",\"\",'Kollega oplysninger'!M277)","v":""},null,null,null,null,"",null,"",null,null,null,"",""]
[null,{"$f":"IF('Kollega oplysninger'!B278=\"\",\"\",'Kollega oplysninger'!B278)","v":""},{"$f":"IF('Kollega oplysninger'!C278=\"\",\"\",'Kollega oplysninger'!C278)","v":""},null,null,{"$f":"IF('Kollega oplysninger'!I278=\"\",\"\",'Kollega oplysninger'!I278)","v":""},{"$f":"IF('Kollega oplysninger'!J278=\"\",\"\",'Kollega oplysninger'!J278)","v":""},{"$f":"IF('Kollega oplysninger'!L278=\"\",\"\",'Kollega oplysninger'!L278)","v":""},null,null,null,null,null,null,null,null,null,null,null,null,null,null,null,null,null,"",{"$f":"IF('Kollega oplysninger'!M278=\"\",\"\",'Kollega oplysninger'!M278)","v":""},null,null,null,null,"",null,"",null,null,null,"",""]
[null,{"$f":"IF('Kollega oplysninger'!B279=\"\",\"\",'Kollega oplysninger'!B279)","v":""},{"$f":"IF('Kollega oplysninger'!C279=\"\",\"\",'Kollega oplysninger'!C279)","v":""},null,null,{"$f":"IF('Kollega oplysninger'!I279=\"\",\"\",'Kollega oplysninger'!I279)","v":""},{"$f":"IF('Kollega oplysninger'!J279=\"\",\"\",'Kollega oplysninger'!J279)","v":""},{"$f":"IF('Kollega oplysninger'!L279=\"\",\"\",'Kollega oplysninger'!L279)","v":""},null,null,null,null,null,null,null,null,null,null,null,null,null,null,null,null,null,"",{"$f":"IF('Kollega oplysninger'!M279=\"\",\"\",'Kollega oplysninger'!M279)","v":""},null,null,null,null,"",null,"",null,null,null,"",""]
[null,{"$f":"IF('Kollega oplysninger'!B280=\"\",\"\",'Kollega oplysninger'!B280)","v":""},{"$f":"IF('Kollega oplysninger'!C280=\"\",\"\",'Kollega oplysninger'!C280)","v":""},null,null,{"$f":"IF('Kollega oplysninger'!I280=\"\",\"\",'Kollega oplysninger'!I280)","v":""},{"$f":"IF('Kollega oplysninger'!J280=\"\",\"\",'Kollega oplysninger'!J280)","v":""},{"$f":"IF('Kollega oplysninger'!L280=\"\",\"\",'Kollega oplysninger'!L280)","v":""},null,null,null,null,null,null,null,null,null,null,null,null,null,null,null,null,null,"",{"$f":"IF('Kollega oplysninger'!M280=\"\",\"\",'Kollega oplysninger'!M280)","v":""},null,null,null,null,"",null,"",null,null,null,"",""]
[null,{"$f":"IF('Kollega oplysninger'!B281=\"\",\"\",'Kollega oplysninger'!B281)","v":""},{"$f":"IF('Kollega oplysninger'!C281=\"\",\"\",'Kollega oplysninger'!C281)","v":""},null,null,{"$f":"IF('Kollega oplysninger'!I281=\"\",\"\",'Kollega oplysninger'!I281)","v":""},{"$f":"IF('Kollega oplysninger'!J281=\"\",\"\",'Kollega oplysninger'!J281)","v":""},{"$f":"IF('Kollega oplysninger'!L281=\"\",\"\",'Kollega oplysninger'!L281)","v":""},null,null,null,null,null,null,null,null,null,null,null,null,null,null,null,null,null,"",{"$f":"IF('Kollega oplysninger'!M281=\"\",\"\",'Kollega oplysninger'!M281)","v":""},null,null,null,null,"",null,"",null,null,null,"",""]
[null,{"$f":"IF('Kollega oplysninger'!B282=\"\",\"\",'Kollega oplysninger'!B282)","v":""},{"$f":"IF('Kollega oplysninger'!C282=\"\",\"\",'Kollega oplysninger'!C282)","v":""},null,null,{"$f":"IF('Kollega oplysninger'!I282=\"\",\"\",'Kollega oplysninger'!I282)","v":""},{"$f":"IF('Kollega oplysninger'!J282=\"\",\"\",'Kollega oplysninger'!J282)","v":""},{"$f":"IF('Kollega oplysninger'!L282=\"\",\"\",'Kollega oplysninger'!L282)","v":""},null,null,null,null,null,null,null,null,null,null,null,null,null,null,null,null,null,"",{"$f":"IF('Kollega oplysninger'!M282=\"\",\"\",'Kollega oplysninger'!M282)","v":""},null,null,null,null,"",null,"",null,null,null,"",""]
[null,{"$f":"IF('Kollega oplysninger'!B283=\"\",\"\",'Kollega oplysninger'!B283)","v":""},{"$f":"IF('Kollega oplysninger'!C283=\"\",\"\",'Kollega oplysninger'!C283)","v":""},null,null,{"$f":"IF('Kollega oplysninger'!I283=\"\",\"\",'Kollega oplysninger'!I283)","v":""},{"$f":"IF('Kollega oplysninger'!J283=\"\",\"\",'Kollega oplysninger'!J283)","v":""},{"$f":"IF('Kollega oplysninger'!L283=\"\",\"\",'Kollega oplysninger'!L283)","v":""},null,null,null,null,null,null,null,null,null,null,null,null,null,null,null,null,null,"",{"$f":"IF('Kollega oplysninger'!M283=\"\",\"\",'Kollega oplysninger'!M283)","v":""},null,null,null,null,"",null,"",null,null,null,"",""]
[null,{"$f":"IF('Kollega oplysninger'!B284=\"\",\"\",'Kollega oplysninger'!B284)","v":""},{"$f":"IF('Kollega oplysninger'!C284=\"\",\"\",'Kollega oplysninger'!C284)","v":""},null,null,{"$f":"IF('Kollega oplysninger'!I284=\"\",\"\",'Kollega oplysninger'!I284)","v":""},{"$f":"IF('Kollega oplysninger'!J284=\"\",\"\",'Kollega oplysninger'!J284)","v":""},{"$f":"IF('Kollega oplysninger'!L284=\"\",\"\",'Kollega oplysninger'!L284)","v":""},null,null,null,null,null,null,null,null,null,null,null,null,null,null,null,null,null,"",{"$f":"IF('Kollega oplysninger'!M284=\"\",\"\",'Kollega oplysninger'!M284)","v":""},null,null,null,null,"",null,"",null,null,null,"",""]
[null,{"$f":"IF('Kollega oplysninger'!B285=\"\",\"\",'Kollega oplysninger'!B285)","v":""},{"$f":"IF('Kollega oplysninger'!C285=\"\",\"\",'Kollega oplysninger'!C285)","v":""},null,null,{"$f":"IF('Kollega oplysninger'!I285=\"\",\"\",'Kollega oplysninger'!I285)","v":""},{"$f":"IF('Kollega oplysninger'!J285=\"\",\"\",'Kollega oplysninger'!J285)","v":""},{"$f":"IF('Kollega oplysninger'!L285=\"\",\"\",'Kollega oplysninger'!L285)","v":""},null,null,null,null,null,null,null,null,null,null,null,null,null,null,null,null,null,"",{"$f":"IF('Kollega oplysninger'!M285=\"\",\"\",'Kollega oplysninger'!M285)","v":""},null,null,null,null,"",null,"",null,null,null,"",""]
[null,{"$f":"IF('Kollega oplysninger'!B286=\"\",\"\",'Kollega oplysninger'!B286)","v":""},{"$f":"IF('Kollega oplysninger'!C286=\"\",\"\",'Kollega oplysninger'!C286)","v":""},null,null,{"$f":"IF('Kollega oplysninger'!I286=\"\",\"\",'Kollega oplysninger'!I286)","v":""},{"$f":"IF('Kollega oplysninger'!J286=\"\",\"\",'Kollega oplysninger'!J286)","v":""},{"$f":"IF('Kollega oplysninger'!L286=\"\",\"\",'Kollega oplysninger'!L286)","v":""},null,null,null,null,null,null,null,null,null,null,null,null,null,null,null,null,null,"",{"$f":"IF('Kollega oplysninger'!M286=\"\",\"\",'Kollega oplysninger'!M286)","v":""},null,null,null,null,"",null,"",null,null,null,"",""]
[null,{"$f":"IF('Kollega oplysninger'!B287=\"\",\"\",'Kollega oplysninger'!B287)","v":""},{"$f":"IF('Kollega oplysninger'!C287=\"\",\"\",'Kollega oplysninger'!C287)","v":""},null,null,{"$f":"IF('Kollega oplysninger'!I287=\"\",\"\",'Kollega oplysninger'!I287)","v":""},{"$f":"IF('Kollega oplysninger'!J287=\"\",\"\",'Kollega oplysninger'!J287)","v":""},{"$f":"IF('Kollega oplysninger'!L287=\"\",\"\",'Kollega oplysninger'!L287)","v":""},null,null,null,null,null,null,null,null,null,null,null,null,null,null,null,null,null,"",{"$f":"IF('Kollega oplysninger'!M287=\"\",\"\",'Kollega oplysninger'!M287)","v":""},null,null,null,null,"",null,"",null,null,null,"",""]
[null,{"$f":"IF('Kollega oplysninger'!B288=\"\",\"\",'Kollega oplysninger'!B288)","v":""},{"$f":"IF('Kollega oplysninger'!C288=\"\",\"\",'Kollega oplysninger'!C288)","v":""},null,null,{"$f":"IF('Kollega oplysninger'!I288=\"\",\"\",'Kollega oplysninger'!I288)","v":""},{"$f":"IF('Kollega oplysninger'!J288=\"\",\"\",'Kollega oplysninger'!J288)","v":""},{"$f":"IF('Kollega oplysninger'!L288=\"\",\"\",'Kollega oplysninger'!L288)","v":""},null,null,null,null,null,null,null,null,null,null,null,null,null,null,null,null,null,"",{"$f":"IF('Kollega oplysninger'!M288=\"\",\"\",'Kollega oplysninger'!M288)","v":""},null,null,null,null,"",null,"",null,null,null,"",""]
[null,{"$f":"IF('Kollega oplysninger'!B289=\"\",\"\",'Kollega oplysninger'!B289)","v":""},{"$f":"IF('Kollega oplysninger'!C289=\"\",\"\",'Kollega oplysninger'!C289)","v":""},null,null,{"$f":"IF('Kollega oplysninger'!I289=\"\",\"\",'Kollega oplysninger'!I289)","v":""},{"$f":"IF('Kollega oplysninger'!J289=\"\",\"\",'Kollega oplysninger'!J289)","v":""},{"$f":"IF('Kollega oplysninger'!L289=\"\",\"\",'Kollega oplysninger'!L289)","v":""},null,null,null,null,null,null,null,null,null,null,null,null,null,null,null,null,null,"",{"$f":"IF('Kollega oplysninger'!M289=\"\",\"\",'Kollega oplysninger'!M289)","v":""},null,null,null,null,"",null,"",null,null,null,"",""]
[null,{"$f":"IF('Kollega oplysninger'!B290=\"\",\"\",'Kollega oplysninger'!B290)","v":""},{"$f":"IF('Kollega oplysninger'!C290=\"\",\"\",'Kollega oplysninger'!C290)","v":""},null,null,{"$f":"IF('Kollega oplysninger'!I290=\"\",\"\",'Kollega oplysninger'!I290)","v":""},{"$f":"IF('Kollega oplysninger'!J290=\"\",\"\",'Kollega oplysninger'!J290)","v":""},{"$f":"IF('Kollega oplysninger'!L290=\"\",\"\",'Kollega oplysninger'!L290)","v":""},null,null,null,null,null,null,null,null,null,null,null,null,null,null,null,null,null,"",{"$f":"IF('Kollega oplysninger'!M290=\"\",\"\",'Kollega oplysninger'!M290)","v":""},null,null,null,null,"",null,"",null,null,null,"",""]
[null,{"$f":"IF('Kollega oplysninger'!B291=\"\",\"\",'Kollega oplysninger'!B291)","v":""},{"$f":"IF('Kollega oplysninger'!C291=\"\",\"\",'Kollega oplysninger'!C291)","v":""},null,null,{"$f":"IF('Kollega oplysninger'!I291=\"\",\"\",'Kollega oplysninger'!I291)","v":""},{"$f":"IF('Kollega oplysninger'!J291=\"\",\"\",'Kollega oplysninger'!J291)","v":""},{"$f":"IF('Kollega oplysninger'!L291=\"\",\"\",'Kollega oplysninger'!L291)","v":""},null,null,null,null,null,null,null,null,null,null,null,null,null,null,null,null,null,"",{"$f":"IF('Kollega oplysninger'!M291=\"\",\"\",'Kollega oplysninger'!M291)","v":""},null,null,null,null,"",null,"",null,null,null,"",""]
[null,{"$f":"IF('Kollega oplysninger'!B292=\"\",\"\",'Kollega oplysninger'!B292)","v":""},{"$f":"IF('Kollega oplysninger'!C292=\"\",\"\",'Kollega oplysninger'!C292)","v":""},null,null,{"$f":"IF('Kollega oplysninger'!I292=\"\",\"\",'Kollega oplysninger'!I292)","v":""},{"$f":"IF('Kollega oplysninger'!J292=\"\",\"\",'Kollega oplysninger'!J292)","v":""},{"$f":"IF('Kollega oplysninger'!L292=\"\",\"\",'Kollega oplysninger'!L292)","v":""},null,null,null,null,null,null,null,null,null,null,null,null,null,null,null,null,null,"",{"$f":"IF('Kollega oplysninger'!M292=\"\",\"\",'Kollega oplysninger'!M292)","v":""},null,null,null,null,"",null,"",null,null,null,"",""]
[null,{"$f":"IF('Kollega oplysninger'!B293=\"\",\"\",'Kollega oplysninger'!B293)","v":""},{"$f":"IF('Kollega oplysninger'!C293=\"\",\"\",'Kollega oplysninger'!C293)","v":""},null,null,{"$f":"IF('Kollega oplysninger'!I293=\"\",\"\",'Kollega oplysninger'!I293)","v":""},{"$f":"IF('Kollega oplysninger'!J293=\"\",\"\",'Kollega oplysninger'!J293)","v":""},{"$f":"IF('Kollega oplysninger'!L293=\"\",\"\",'Kollega oplysninger'!L293)","v":""},null,null,null,null,null,null,null,null,null,null,null,null,null,null,null,null,null,"",{"$f":"IF('Kollega oplysninger'!M293=\"\",\"\",'Kollega oplysninger'!M293)","v":""},null,null,null,null,"",null,"",null,null,null,"",""]
[null,{"$f":"IF('Kollega oplysninger'!B294=\"\",\"\",'Kollega oplysninger'!B294)","v":""},{"$f":"IF('Kollega oplysninger'!C294=\"\",\"\",'Kollega oplysninger'!C294)","v":""},null,null,{"$f":"IF('Kollega oplysninger'!I294=\"\",\"\",'Kollega oplysninger'!I294)","v":""},{"$f":"IF('Kollega oplysninger'!J294=\"\",\"\",'Kollega oplysninger'!J294)","v":""},{"$f":"IF('Kollega oplysninger'!L294=\"\",\"\",'Kollega oplysninger'!L294)","v":""},null,null,null,null,null,null,null,null,null,null,null,null,null,null,null,null,null,"",{"$f":"IF('Kollega oplysninger'!M294=\"\",\"\",'Kollega oplysninger'!M294)","v":""},null,null,null,null,"",null,"",null,null,null,"",""]
[null,{"$f":"IF('Kollega oplysninger'!B295=\"\",\"\",'Kollega oplysninger'!B295)","v":""},{"$f":"IF('Kollega oplysninger'!C295=\"\",\"\",'Kollega oplysninger'!C295)","v":""},null,null,{"$f":"IF('Kollega oplysninger'!I295=\"\",\"\",'Kollega oplysninger'!I295)","v":""},{"$f":"IF('Kollega oplysninger'!J295=\"\",\"\",'Kollega oplysninger'!J295)","v":""},{"$f":"IF('Kollega oplysninger'!L295=\"\",\"\",'Kollega oplysninger'!L295)","v":""},null,null,null,null,null,null,null,null,null,null,null,null,null,null,null,null,null,"",{"$f":"IF('Kollega oplysninger'!M295=\"\",\"\",'Kollega oplysninger'!M295)","v":""},null,null,null,null,"",null,"",null,null,null,"",""]
[null,{"$f":"IF('Kollega oplysninger'!B296=\"\",\"\",'Kollega oplysninger'!B296)","v":""},{"$f":"IF('Kollega oplysninger'!C296=\"\",\"\",'Kollega oplysninger'!C296)","v":""},null,null,{"$f":"IF('Kollega oplysninger'!I296=\"\",\"\",'Kollega oplysninger'!I296)","v":""},{"$f":"IF('Kollega oplysninger'!J296=\"\",\"\",'Kollega oplysninger'!J296)","v":""},{"$f":"IF('Kollega oplysninger'!L296=\"\",\"\",'Kollega oplysninger'!L296)","v":""},null,null,null,null,null,null,null,null,null,null,null,null,null,null,null,null,null,"",{"$f":"IF('Kollega oplysninger'!M296=\"\",\"\",'Kollega oplysninger'!M296)","v":""},null,null,null,null,"",null,"",null,null,null,"",""]
[null,{"$f":"IF('Kollega oplysninger'!B297=\"\",\"\",'Kollega oplysninger'!B297)","v":""},{"$f":"IF('Kollega oplysninger'!C297=\"\",\"\",'Kollega oplysninger'!C297)","v":""},null,null,{"$f":"IF('Kollega oplysninger'!I297=\"\",\"\",'Kollega oplysninger'!I297)","v":""},{"$f":"IF('Kollega oplysninger'!J297=\"\",\"\",'Kollega oplysninger'!J297)","v":""},{"$f":"IF('Kollega oplysninger'!L297=\"\",\"\",'Kollega oplysninger'!L297)","v":""},null,null,null,null,null,null,null,null,null,null,null,null,null,null,null,null,null,"",{"$f":"IF('Kollega oplysninger'!M297=\"\",\"\",'Kollega oplysninger'!M297)","v":""},null,null,null,null,"",null,"",null,null,null,"",""]
[null,{"$f":"IF('Kollega oplysninger'!B298=\"\",\"\",'Kollega oplysninger'!B298)","v":""},{"$f":"IF('Kollega oplysninger'!C298=\"\",\"\",'Kollega oplysninger'!C298)","v":""},null,null,{"$f":"IF('Kollega oplysninger'!I298=\"\",\"\",'Kollega oplysninger'!I298)","v":""},{"$f":"IF('Kollega oplysninger'!J298=\"\",\"\",'Kollega oplysninger'!J298)","v":""},{"$f":"IF('Kollega oplysninger'!L298=\"\",\"\",'Kollega oplysninger'!L298)","v":""},null,null,null,null,null,null,null,null,null,null,null,null,null,null,null,null,null,"",{"$f":"IF('Kollega oplysninger'!M298=\"\",\"\",'Kollega oplysninger'!M298)","v":""},null,null,null,null,"",null,"",null,null,null,"",""]
[null,{"$f":"IF('Kollega oplysninger'!B299=\"\",\"\",'Kollega oplysninger'!B299)","v":""},{"$f":"IF('Kollega oplysninger'!C299=\"\",\"\",'Kollega oplysninger'!C299)","v":""},null,null,{"$f":"IF('Kollega oplysninger'!I299=\"\",\"\",'Kollega oplysninger'!I299)","v":""},{"$f":"IF('Kollega oplysninger'!J299=\"\",\"\",'Kollega oplysninger'!J299)","v":""},{"$f":"IF('Kollega oplysninger'!L299=\"\",\"\",'Kollega oplysninger'!L299)","v":""},null,null,null,null,null,null,null,null,null,null,null,null,null,null,null,null,null,"",{"$f":"IF('Kollega oplysninger'!M299=\"\",\"\",'Kollega oplysninger'!M299)","v":""},null,null,null,null,"",null,"",null,null,null,"",""]
[null,{"$f":"IF('Kollega oplysninger'!B300=\"\",\"\",'Kollega oplysninger'!B300)","v":""},{"$f":"IF('Kollega oplysninger'!C300=\"\",\"\",'Kollega oplysninger'!C300)","v":""},null,null,{"$f":"IF('Kollega oplysninger'!I300=\"\",\"\",'Kollega oplysninger'!I300)","v":""},{"$f":"IF('Kollega oplysninger'!J300=\"\",\"\",'Kollega oplysninger'!J300)","v":""},{"$f":"IF('Kollega oplysninger'!L300=\"\",\"\",'Kollega oplysninger'!L300)","v":""},null,null,null,null,null,null,null,null,null,null,null,null,null,null,null,null,null,"",{"$f":"IF('Kollega oplysninger'!M300=\"\",\"\",'Kollega oplysninger'!M300)","v":""},null,null,null,null,"",null,"",null,null,null,"",""]
[null,{"$f":"IF('Kollega oplysninger'!B301=\"\",\"\",'Kollega oplysninger'!B301)","v":""},{"$f":"IF('Kollega oplysninger'!C301=\"\",\"\",'Kollega oplysninger'!C301)","v":""},null,null,{"$f":"IF('Kollega oplysninger'!I301=\"\",\"\",'Kollega oplysninger'!I301)","v":""},{"$f":"IF('Kollega oplysninger'!J301=\"\",\"\",'Kollega oplysninger'!J301)","v":""},{"$f":"IF('Kollega oplysninger'!L301=\"\",\"\",'Kollega oplysninger'!L301)","v":""},null,null,null,null,null,null,null,null,null,null,null,null,null,null,null,null,null,"",{"$f":"IF('Kollega oplysninger'!M301=\"\",\"\",'Kollega oplysninger'!M301)","v":""},null,null,null,null,"",null,"",null,null,null,"",""]
[null,{"$f":"IF('Kollega oplysninger'!B302=\"\",\"\",'Kollega oplysninger'!B302)","v":""},{"$f":"IF('Kollega oplysninger'!C302=\"\",\"\",'Kollega oplysninger'!C302)","v":""},null,null,{"$f":"IF('Kollega oplysninger'!I302=\"\",\"\",'Kollega oplysninger'!I302)","v":""},{"$f":"IF('Kollega oplysninger'!J302=\"\",\"\",'Kollega oplysninger'!J302)","v":""},{"$f":"IF('Kollega oplysninger'!L302=\"\",\"\",'Kollega oplysninger'!L302)","v":""},null,null,null,null,null,null,null,null,null,null,null,null,null,null,null,null,null,"",{"$f":"IF('Kollega oplysninger'!M302=\"\",\"\",'Kollega oplysninger'!M302)","v":""},null,null,null,null,"",null,"",null,null,null,"",""]
[null,{"$f":"IF('Kollega oplysninger'!B303=\"\",\"\",'Kollega oplysninger'!B303)","v":""},{"$f":"IF('Kollega oplysninger'!C303=\"\",\"\",'Kollega oplysninger'!C303)","v":""},null,null,{"$f":"IF('Kollega oplysninger'!I303=\"\",\"\",'Kollega oplysninger'!I303)","v":""},{"$f":"IF('Kollega oplysninger'!J303=\"\",\"\",'Kollega oplysninger'!J303)","v":""},{"$f":"IF('Kollega oplysninger'!L303=\"\",\"\",'Kollega oplysninger'!L303)","v":""},null,null,null,null,null,null,null,null,null,null,null,null,null,null,null,null,null,"",{"$f":"IF('Kollega oplysninger'!M303=\"\",\"\",'Kollega oplysninger'!M303)","v":""},null,null,null,null,"",null,"",null,null,null,"",""]
[null,{"$f":"IF('Kollega oplysninger'!B304=\"\",\"\",'Kollega oplysninger'!B304)","v":""},{"$f":"IF('Kollega oplysninger'!C304=\"\",\"\",'Kollega oplysninger'!C304)","v":""},null,null,{"$f":"IF('Kollega oplysninger'!I304=\"\",\"\",'Kollega oplysninger'!I304)","v":""},{"$f":"IF('Kollega oplysninger'!J304=\"\",\"\",'Kollega oplysninger'!J304)","v":""},{"$f":"IF('Kollega oplysninger'!L304=\"\",\"\",'Kollega oplysninger'!L304)","v":""},null,null,null,null,null,null,null,null,null,null,null,null,null,null,null,null,null,"",{"$f":"IF('Kollega oplysninger'!M304=\"\",\"\",'Kollega oplysninger'!M304)","v":""},null,null,null,null,"",null,"",null,null,null,"",""]
[null,{"$f":"IF('Kollega oplysninger'!B305=\"\",\"\",'Kollega oplysninger'!B305)","v":""},{"$f":"IF('Kollega oplysninger'!C305=\"\",\"\",'Kollega oplysninger'!C305)","v":""},null,null,{"$f":"IF('Kollega oplysninger'!I305=\"\",\"\",'Kollega oplysninger'!I305)","v":""},{"$f":"IF('Kollega oplysninger'!J305=\"\",\"\",'Kollega oplysninger'!J305)","v":""},{"$f":"IF('Kollega oplysninger'!L305=\"\",\"\",'Kollega oplysninger'!L305)","v":""},null,null,null,null,null,null,null,null,null,null,null,null,null,null,null,null,null,"",{"$f":"IF('Kollega oplysninger'!M305=\"\",\"\",'Kollega oplysninger'!M305)","v":""},null,null,null,null,"",null,"",null,null,null,"",""]
[null,{"$f":"IF('Kollega oplysninger'!B306=\"\",\"\",'Kollega oplysninger'!B306)","v":""},{"$f":"IF('Kollega oplysninger'!C306=\"\",\"\",'Kollega oplysninger'!C306)","v":""},null,null,{"$f":"IF('Kollega oplysninger'!I306=\"\",\"\",'Kollega oplysninger'!I306)","v":""},{"$f":"IF('Kollega oplysninger'!J306=\"\",\"\",'Kollega oplysninger'!J306)","v":""},{"$f":"IF('Kollega oplysninger'!L306=\"\",\"\",'Kollega oplysninger'!L306)","v":""},null,null,null,null,null,null,null,null,null,null,null,null,null,null,null,null,null,"",{"$f":"IF('Kollega oplysninger'!M306=\"\",\"\",'Kollega oplysninger'!M306)","v":""},null,null,null,null,"",null,"",null,null,null,"",""]
[null,{"$f":"IF('Kollega oplysninger'!B307=\"\",\"\",'Kollega oplysninger'!B307)","v":""},{"$f":"IF('Kollega oplysninger'!C307=\"\",\"\",'Kollega oplysninger'!C307)","v":""},null,null,{"$f":"IF('Kollega oplysninger'!I307=\"\",\"\",'Kollega oplysninger'!I307)","v":""},{"$f":"IF('Kollega oplysninger'!J307=\"\",\"\",'Kollega oplysninger'!J307)","v":""},{"$f":"IF('Kollega oplysninger'!L307=\"\",\"\",'Kollega oplysninger'!L307)","v":""},null,null,null,null,null,null,null,null,null,null,null,null,null,null,null,null,null,"",{"$f":"IF('Kollega oplysninger'!M307=\"\",\"\",'Kollega oplysninger'!M307)","v":""},null,null,null,null,"",null,"",null,null,null,"",""]
[null,{"$f":"IF('Kollega oplysninger'!B308=\"\",\"\",'Kollega oplysninger'!B308)","v":""},{"$f":"IF('Kollega oplysninger'!C308=\"\",\"\",'Kollega oplysninger'!C308)","v":""},null,null,{"$f":"IF('Kollega oplysninger'!I308=\"\",\"\",'Kollega oplysninger'!I308)","v":""},{"$f":"IF('Kollega oplysninger'!J308=\"\",\"\",'Kollega oplysninger'!J308)","v":""},{"$f":"IF('Kollega oplysninger'!L308=\"\",\"\",'Kollega oplysninger'!L308)","v":""},null,null,null,null,null,null,null,null,null,null,null,null,null,null,null,null,null,"",{"$f":"IF('Kollega oplysninger'!M308=\"\",\"\",'Kollega oplysninger'!M308)","v":""},null,null,null,null,"",null,"",null,null,null,"",""]
[null,{"$f":"IF('Kollega oplysninger'!B309=\"\",\"\",'Kollega oplysninger'!B309)","v":""},{"$f":"IF('Kollega oplysninger'!C309=\"\",\"\",'Kollega oplysninger'!C309)","v":""},null,null,{"$f":"IF('Kollega oplysninger'!I309=\"\",\"\",'Kollega oplysninger'!I309)","v":""},{"$f":"IF('Kollega oplysninger'!J309=\"\",\"\",'Kollega oplysninger'!J309)","v":""},{"$f":"IF('Kollega oplysninger'!L309=\"\",\"\",'Kollega oplysninger'!L309)","v":""},null,null,null,null,null,null,null,null,null,null,null,null,null,null,null,null,null,"",{"$f":"IF('Kollega oplysninger'!M309=\"\",\"\",'Kollega oplysninger'!M309)","v":""},null,null,null,null,"",null,"",null,null,null,"",""]
[null,{"$f":"IF('Kollega oplysninger'!B310=\"\",\"\",'Kollega oplysninger'!B310)","v":""},{"$f":"IF('Kollega oplysninger'!C310=\"\",\"\",'Kollega oplysninger'!C310)","v":""},null,null,{"$f":"IF('Kollega oplysninger'!I310=\"\",\"\",'Kollega oplysninger'!I310)","v":""},{"$f":"IF('Kollega oplysninger'!J310=\"\",\"\",'Kollega oplysninger'!J310)","v":""},{"$f":"IF('Kollega oplysninger'!L310=\"\",\"\",'Kollega oplysninger'!L310)","v":""},null,null,null,null,null,null,null,null,null,null,null,null,null,null,null,null,null,"",{"$f":"IF('Kollega oplysninger'!M310=\"\",\"\",'Kollega oplysninger'!M310)","v":""},null,null,null,null,"",null,"",null,null,null,"",""]
[null,{"$f":"IF('Kollega oplysninger'!B311=\"\",\"\",'Kollega oplysninger'!B311)","v":""},{"$f":"IF('Kollega oplysninger'!C311=\"\",\"\",'Kollega oplysninger'!C311)","v":""},null,null,{"$f":"IF('Kollega oplysninger'!I311=\"\",\"\",'Kollega oplysninger'!I311)","v":""},{"$f":"IF('Kollega oplysninger'!J311=\"\",\"\",'Kollega oplysninger'!J311)","v":""},{"$f":"IF('Kollega oplysninger'!L311=\"\",\"\",'Kollega oplysninger'!L311)","v":""},null,null,null,null,null,null,null,null,null,null,null,null,null,null,null,null,null,"",{"$f":"IF('Kollega oplysninger'!M311=\"\",\"\",'Kollega oplysninger'!M311)","v":""},null,null,null,null,"",null,"",null,null,null,"",""]
[null,{"$f":"IF('Kollega oplysninger'!B312=\"\",\"\",'Kollega oplysninger'!B312)","v":""},{"$f":"IF('Kollega oplysninger'!C312=\"\",\"\",'Kollega oplysninger'!C312)","v":""},null,null,{"$f":"IF('Kollega oplysninger'!I312=\"\",\"\",'Kollega oplysninger'!I312)","v":""},{"$f":"IF('Kollega oplysninger'!J312=\"\",\"\",'Kollega oplysninger'!J312)","v":""},{"$f":"IF('Kollega oplysninger'!L312=\"\",\"\",'Kollega oplysninger'!L312)","v":""},null,null,null,null,null,null,null,null,null,null,null,null,null,null,null,null,null,"",{"$f":"IF('Kollega oplysninger'!M312=\"\",\"\",'Kollega oplysninger'!M312)","v":""},null,null,null,null,"",null,"",null,null,null,"",""]
[null,{"$f":"IF('Kollega oplysninger'!B313=\"\",\"\",'Kollega oplysninger'!B313)","v":""},{"$f":"IF('Kollega oplysninger'!C313=\"\",\"\",'Kollega oplysninger'!C313)","v":""},null,null,{"$f":"IF('Kollega oplysninger'!I313=\"\",\"\",'Kollega oplysninger'!I313)","v":""},{"$f":"IF('Kollega oplysninger'!J313=\"\",\"\",'Kollega oplysninger'!J313)","v":""},{"$f":"IF('Kollega oplysninger'!L313=\"\",\"\",'Kollega oplysninger'!L313)","v":""},null,null,null,null,null,null,null,null,null,null,null,null,null,null,null,null,null,"",{"$f":"IF('Kollega oplysninger'!M313=\"\",\"\",'Kollega oplysninger'!M313)","v":""},null,null,null,null,"",null,"",null,null,null,"",""]
[null,{"$f":"IF('Kollega oplysninger'!B314=\"\",\"\",'Kollega oplysninger'!B314)","v":""},{"$f":"IF('Kollega oplysninger'!C314=\"\",\"\",'Kollega oplysninger'!C314)","v":""},null,null,{"$f":"IF('Kollega oplysninger'!I314=\"\",\"\",'Kollega oplysninger'!I314)","v":""},{"$f":"IF('Kollega oplysninger'!J314=\"\",\"\",'Kollega oplysninger'!J314)","v":""},{"$f":"IF('Kollega oplysninger'!L314=\"\",\"\",'Kollega oplysninger'!L314)","v":""},null,null,null,null,null,null,null,null,null,null,null,null,null,null,null,null,null,"",{"$f":"IF('Kollega oplysninger'!M314=\"\",\"\",'Kollega oplysninger'!M314)","v":""},null,null,null,null,"",null,"",null,null,null,"",""]
[null,{"$f":"IF('Kollega oplysninger'!B315=\"\",\"\",'Kollega oplysninger'!B315)","v":""},{"$f":"IF('Kollega oplysninger'!C315=\"\",\"\",'Kollega oplysninger'!C315)","v":""},null,null,{"$f":"IF('Kollega oplysninger'!I315=\"\",\"\",'Kollega oplysninger'!I315)","v":""},{"$f":"IF('Kollega oplysninger'!J315=\"\",\"\",'Kollega oplysninger'!J315)","v":""},{"$f":"IF('Kollega oplysninger'!L315=\"\",\"\",'Kollega oplysninger'!L315)","v":""},null,null,null,null,null,null,null,null,null,null,null,null,null,null,null,null,null,"",{"$f":"IF('Kollega oplysninger'!M315=\"\",\"\",'Kollega oplysninger'!M315)","v":""},null,null,null,null,"",null,"",null,null,null,"",""]
[null,{"$f":"IF('Kollega oplysninger'!B316=\"\",\"\",'Kollega oplysninger'!B316)","v":""},{"$f":"IF('Kollega oplysninger'!C316=\"\",\"\",'Kollega oplysninger'!C316)","v":""},null,null,{"$f":"IF('Kollega oplysninger'!I316=\"\",\"\",'Kollega oplysninger'!I316)","v":""},{"$f":"IF('Kollega oplysninger'!J316=\"\",\"\",'Kollega oplysninger'!J316)","v":""},{"$f":"IF('Kollega oplysninger'!L316=\"\",\"\",'Kollega oplysninger'!L316)","v":""},null,null,null,null,null,null,null,null,null,null,null,null,null,null,null,null,null,"",{"$f":"IF('Kollega oplysninger'!M316=\"\",\"\",'Kollega oplysninger'!M316)","v":""},null,null,null,null,"",null,"",null,null,null,"",""]
[null,{"$f":"IF('Kollega oplysninger'!B317=\"\",\"\",'Kollega oplysninger'!B317)","v":""},{"$f":"IF('Kollega oplysninger'!C317=\"\",\"\",'Kollega oplysninger'!C317)","v":""},null,null,{"$f":"IF('Kollega oplysninger'!I317=\"\",\"\",'Kollega oplysninger'!I317)","v":""},{"$f":"IF('Kollega oplysninger'!J317=\"\",\"\",'Kollega oplysninger'!J317)","v":""},{"$f":"IF('Kollega oplysninger'!L317=\"\",\"\",'Kollega oplysninger'!L317)","v":""},null,null,null,null,null,null,null,null,null,null,null,null,null,null,null,null,null,"",{"$f":"IF('Kollega oplysninger'!M317=\"\",\"\",'Kollega oplysninger'!M317)","v":""},null,null,null,null,"",null,"",null,null,null,"",""]
[null,{"$f":"IF('Kollega oplysninger'!B318=\"\",\"\",'Kollega oplysninger'!B318)","v":""},{"$f":"IF('Kollega oplysninger'!C318=\"\",\"\",'Kollega oplysninger'!C318)","v":""},null,null,{"$f":"IF('Kollega oplysninger'!I318=\"\",\"\",'Kollega oplysninger'!I318)","v":""},{"$f":"IF('Kollega oplysninger'!J318=\"\",\"\",'Kollega oplysninger'!J318)","v":""},{"$f":"IF('Kollega oplysninger'!L318=\"\",\"\",'Kollega oplysninger'!L318)","v":""},null,null,null,null,null,null,null,null,null,null,null,null,null,null,null,null,null,"",{"$f":"IF('Kollega oplysninger'!M318=\"\",\"\",'Kollega oplysninger'!M318)","v":""},null,null,null,null,"",null,"",null,null,null,"",""]
[null,{"$f":"IF('Kollega oplysninger'!B319=\"\",\"\",'Kollega oplysninger'!B319)","v":""},{"$f":"IF('Kollega oplysninger'!C319=\"\",\"\",'Kollega oplysninger'!C319)","v":""},null,null,{"$f":"IF('Kollega oplysninger'!I319=\"\",\"\",'Kollega oplysninger'!I319)","v":""},{"$f":"IF('Kollega oplysninger'!J319=\"\",\"\",'Kollega oplysninger'!J319)","v":""},{"$f":"IF('Kollega oplysninger'!L319=\"\",\"\",'Kollega oplysninger'!L319)","v":""},null,null,null,null,null,null,null,null,null,null,null,null,null,null,null,null,null,"",{"$f":"IF('Kollega oplysninger'!M319=\"\",\"\",'Kollega oplysninger'!M319)","v":""},null,null,null,null,"",null,"",null,null,null,"",""]
[null,{"$f":"IF('Kollega oplysninger'!B320=\"\",\"\",'Kollega oplysninger'!B320)","v":""},{"$f":"IF('Kollega oplysninger'!C320=\"\",\"\",'Kollega oplysninger'!C320)","v":""},null,null,{"$f":"IF('Kollega oplysninger'!I320=\"\",\"\",'Kollega oplysninger'!I320)","v":""},{"$f":"IF('Kollega oplysninger'!J320=\"\",\"\",'Kollega oplysninger'!J320)","v":""},{"$f":"IF('Kollega oplysninger'!L320=\"\",\"\",'Kollega oplysninger'!L320)","v":""},null,null,null,null,null,null,null,null,null,null,null,null,null,null,null,null,null,"",{"$f":"IF('Kollega oplysninger'!M320=\"\",\"\",'Kollega oplysninger'!M320)","v":""},null,null,null,null,"",null,"",null,null,null,"",""]
[null,{"$f":"IF('Kollega oplysninger'!B321=\"\",\"\",'Kollega oplysninger'!B321)","v":""},{"$f":"IF('Kollega oplysninger'!C321=\"\",\"\",'Kollega oplysninger'!C321)","v":""},null,null,{"$f":"IF('Kollega oplysninger'!I321=\"\",\"\",'Kollega oplysninger'!I321)","v":""},{"$f":"IF('Kollega oplysninger'!J321=\"\",\"\",'Kollega oplysninger'!J321)","v":""},{"$f":"IF('Kollega oplysninger'!L321=\"\",\"\",'Kollega oplysninger'!L321)","v":""},null,null,null,null,null,null,null,null,null,null,null,null,null,null,null,null,null,"",{"$f":"IF('Kollega oplysninger'!M321=\"\",\"\",'Kollega oplysninger'!M321)","v":""},null,null,null,null,"",null,"",null,null,null,"",""]
[null,{"$f":"IF('Kollega oplysninger'!B322=\"\",\"\",'Kollega oplysninger'!B322)","v":""},{"$f":"IF('Kollega oplysninger'!C322=\"\",\"\",'Kollega oplysninger'!C322)","v":""},null,null,{"$f":"IF('Kollega oplysninger'!I322=\"\",\"\",'Kollega oplysninger'!I322)","v":""},{"$f":"IF('Kollega oplysninger'!J322=\"\",\"\",'Kollega oplysninger'!J322)","v":""},{"$f":"IF('Kollega oplysninger'!L322=\"\",\"\",'Kollega oplysninger'!L322)","v":""},null,null,null,null,null,null,null,null,null,null,null,null,null,null,null,null,null,"",{"$f":"IF('Kollega oplysninger'!M322=\"\",\"\",'Kollega oplysninger'!M322)","v":""},null,null,null,null,"",null,"",null,null,null,"",""]
[null,{"$f":"IF('Kollega oplysninger'!B323=\"\",\"\",'Kollega oplysninger'!B323)","v":""},{"$f":"IF('Kollega oplysninger'!C323=\"\",\"\",'Kollega oplysninger'!C323)","v":""},null,null,{"$f":"IF('Kollega oplysninger'!I323=\"\",\"\",'Kollega oplysninger'!I323)","v":""},{"$f":"IF('Kollega oplysninger'!J323=\"\",\"\",'Kollega oplysninger'!J323)","v":""},{"$f":"IF('Kollega oplysninger'!L323=\"\",\"\",'Kollega oplysninger'!L323)","v":""},null,null,null,null,null,null,null,null,null,null,null,null,null,null,null,null,null,"",{"$f":"IF('Kollega oplysninger'!M323=\"\",\"\",'Kollega oplysninger'!M323)","v":""},null,null,null,null,"",null,"",null,null,null,"",""]
[null,{"$f":"IF('Kollega oplysninger'!B324=\"\",\"\",'Kollega oplysninger'!B324)","v":""},{"$f":"IF('Kollega oplysninger'!C324=\"\",\"\",'Kollega oplysninger'!C324)","v":""},null,null,{"$f":"IF('Kollega oplysninger'!I324=\"\",\"\",'Kollega oplysninger'!I324)","v":""},{"$f":"IF('Kollega oplysninger'!J324=\"\",\"\",'Kollega oplysninger'!J324)","v":""},{"$f":"IF('Kollega oplysninger'!L324=\"\",\"\",'Kollega oplysninger'!L324)","v":""},null,null,null,null,null,null,null,null,null,null,null,null,null,null,null,null,null,"",{"$f":"IF('Kollega oplysninger'!M324=\"\",\"\",'Kollega oplysninger'!M324)","v":""},null,null,null,null,"",null,"",null,null,null,"",""]
[null,{"$f":"IF('Kollega oplysninger'!B325=\"\",\"\",'Kollega oplysninger'!B325)","v":""},{"$f":"IF('Kollega oplysninger'!C325=\"\",\"\",'Kollega oplysninger'!C325)","v":""},null,null,{"$f":"IF('Kollega oplysninger'!I325=\"\",\"\",'Kollega oplysninger'!I325)","v":""},{"$f":"IF('Kollega oplysninger'!J325=\"\",\"\",'Kollega oplysninger'!J325)","v":""},{"$f":"IF('Kollega oplysninger'!L325=\"\",\"\",'Kollega oplysninger'!L325)","v":""},null,null,null,null,null,null,null,null,null,null,null,null,null,null,null,null,null,"",{"$f":"IF('Kollega oplysninger'!M325=\"\",\"\",'Kollega oplysninger'!M325)","v":""},null,null,null,null,"",null,"",null,null,null,"",""]
[null,{"$f":"IF('Kollega oplysninger'!B326=\"\",\"\",'Kollega oplysninger'!B326)","v":""},{"$f":"IF('Kollega oplysninger'!C326=\"\",\"\",'Kollega oplysninger'!C326)","v":""},null,null,{"$f":"IF('Kollega oplysninger'!I326=\"\",\"\",'Kollega oplysninger'!I326)","v":""},{"$f":"IF('Kollega oplysninger'!J326=\"\",\"\",'Kollega oplysninger'!J326)","v":""},{"$f":"IF('Kollega oplysninger'!L326=\"\",\"\",'Kollega oplysninger'!L326)","v":""},null,null,null,null,null,null,null,null,null,null,null,null,null,null,null,null,null,"",{"$f":"IF('Kollega oplysninger'!M326=\"\",\"\",'Kollega oplysninger'!M326)","v":""},null,null,null,null,"",null,"",null,null,null,"",""]
[null,{"$f":"IF('Kollega oplysninger'!B327=\"\",\"\",'Kollega oplysninger'!B327)","v":""},{"$f":"IF('Kollega oplysninger'!C327=\"\",\"\",'Kollega oplysninger'!C327)","v":""},null,null,{"$f":"IF('Kollega oplysninger'!I327=\"\",\"\",'Kollega oplysninger'!I327)","v":""},{"$f":"IF('Kollega oplysninger'!J327=\"\",\"\",'Kollega oplysninger'!J327)","v":""},{"$f":"IF('Kollega oplysninger'!L327=\"\",\"\",'Kollega oplysninger'!L327)","v":""},null,null,null,null,null,null,null,null,null,null,null,null,null,null,null,null,null,"",{"$f":"IF('Kollega oplysninger'!M327=\"\",\"\",'Kollega oplysninger'!M327)","v":""},null,null,null,null,{"$f":"IF(Y327<AE327,\"fejl\",IF(Y327=\"\",\"\",IF(AE327=\"\",0,AE327/Y327)))","v":""},null,{"$f":"IF(Y327<AG327,\"fejl\",IF(Y327=\"\",\"\",IF(AG327=\"\",0,AG327/Y327)))","v":""},null,null,null,{"$f":"IF(Z327=\"fejl\",X327,\"\")","v":""},{"$f":"IF(Z327=\"fejl\",Y327,\"\")","v":""}]
[null,{"$f":"IF('Kollega oplysninger'!B328=\"\",\"\",'Kollega oplysninger'!B328)","v":""},{"$f":"IF('Kollega oplysninger'!C328=\"\",\"\",'Kollega oplysninger'!C328)","v":""},null,null,{"$f":"IF('Kollega oplysninger'!I328=\"\",\"\",'Kollega oplysninger'!I328)","v":""},{"$f":"IF('Kollega oplysninger'!J328=\"\",\"\",'Kollega oplysninger'!J328)","v":""},{"$f":"IF('Kollega oplysninger'!L328=\"\",\"\",'Kollega oplysninger'!L328)","v":""},null,null,null,null,null,null,null,null,null,null,null,null,null,null,null,null,null,{"$f":"IF(Y328<X328,\"fejl\",IF(Y328=\"\",\"\",IF(X328=\"\",0,X328/Y328)))","v":""},{"$f":"IF('Kollega oplysninger'!M328=\"\",\"\",'Kollega oplysninger'!M328)","v":""},null,null,null,null,"",null,"",null,null,null,"",""]
[null,{"$f":"IF('Kollega oplysninger'!B329=\"\",\"\",'Kollega oplysninger'!B329)","v":""},{"$f":"IF('Kollega oplysninger'!C329=\"\",\"\",'Kollega oplysninger'!C329)","v":""},null,null,{"$f":"IF('Kollega oplysninger'!I329=\"\",\"\",'Kollega oplysninger'!I329)","v":""},{"$f":"IF('Kollega oplysninger'!J329=\"\",\"\",'Kollega oplysninger'!J329)","v":""},{"$f":"IF('Kollega oplysninger'!L329=\"\",\"\",'Kollega oplysninger'!L329)","v":""},null,null,null,null,null,null,null,null,null,null,null,null,null,null,null,null,null,"",{"$f":"IF('Kollega oplysninger'!M329=\"\",\"\",'Kollega oplysninger'!M329)","v":""},null,null,null,null,"",null,"",null,null,null,"",""]
[null,{"$f":"IF('Kollega oplysninger'!B330=\"\",\"\",'Kollega oplysninger'!B330)","v":""},{"$f":"IF('Kollega oplysninger'!C330=\"\",\"\",'Kollega oplysninger'!C330)","v":""},null,null,{"$f":"IF('Kollega oplysninger'!I330=\"\",\"\",'Kollega oplysninger'!I330)","v":""},{"$f":"IF('Kollega oplysninger'!J330=\"\",\"\",'Kollega oplysninger'!J330)","v":""},{"$f":"IF('Kollega oplysninger'!L330=\"\",\"\",'Kollega oplysninger'!L330)","v":""},null,null,null,null,null,null,null,null,null,null,null,null,null,null,null,null,null,"",{"$f":"IF('Kollega oplysninger'!M330=\"\",\"\",'Kollega oplysninger'!M330)","v":""},null,null,null,null,"",null,"",null,null,null,"",""]
[null,{"$f":"IF('Kollega oplysninger'!B331=\"\",\"\",'Kollega oplysninger'!B331)","v":""},{"$f":"IF('Kollega oplysninger'!C331=\"\",\"\",'Kollega oplysninger'!C331)","v":""},null,null,{"$f":"IF('Kollega oplysninger'!I331=\"\",\"\",'Kollega oplysninger'!I331)","v":""},{"$f":"IF('Kollega oplysninger'!J331=\"\",\"\",'Kollega oplysninger'!J331)","v":""},{"$f":"IF('Kollega oplysninger'!L331=\"\",\"\",'Kollega oplysninger'!L331)","v":""},null,null,null,null,null,null,null,null,null,null,null,null,null,null,null,null,null,"",{"$f":"IF('Kollega oplysninger'!M331=\"\",\"\",'Kollega oplysninger'!M331)","v":""},null,null,null,null,"",null,"",null,null,null,"",""]
[null,{"$f":"IF('Kollega oplysninger'!B332=\"\",\"\",'Kollega oplysninger'!B332)","v":""},{"$f":"IF('Kollega oplysninger'!C332=\"\",\"\",'Kollega oplysninger'!C332)","v":""},null,null,{"$f":"IF('Kollega oplysninger'!I332=\"\",\"\",'Kollega oplysninger'!I332)","v":""},{"$f":"IF('Kollega oplysninger'!J332=\"\",\"\",'Kollega oplysninger'!J332)","v":""},{"$f":"IF('Kollega oplysninger'!L332=\"\",\"\",'Kollega oplysninger'!L332)","v":""},null,null,null,null,null,null,null,null,null,null,null,null,null,null,null,null,null,"",{"$f":"IF('Kollega oplysninger'!M332=\"\",\"\",'Kollega oplysninger'!M332)","v":""},null,null,null,null,"",null,"",null,null,null,"",""]
[null,{"$f":"IF('Kollega oplysninger'!B333=\"\",\"\",'Kollega oplysninger'!B333)","v":""},{"$f":"IF('Kollega oplysninger'!C333=\"\",\"\",'Kollega oplysninger'!C333)","v":""},null,null,{"$f":"IF('Kollega oplysninger'!I333=\"\",\"\",'Kollega oplysninger'!I333)","v":""},{"$f":"IF('Kollega oplysninger'!J333=\"\",\"\",'Kollega oplysninger'!J333)","v":""},{"$f":"IF('Kollega oplysninger'!L333=\"\",\"\",'Kollega oplysninger'!L333)","v":""},null,null,null,null,null,null,null,null,null,null,null,null,null,null,null,null,null,"",{"$f":"IF('Kollega oplysninger'!M333=\"\",\"\",'Kollega oplysninger'!M333)","v":""},null,null,null,null,"",null,"",null,null,null,"",""]
[null,{"$f":"IF('Kollega oplysninger'!B334=\"\",\"\",'Kollega oplysninger'!B334)","v":""},{"$f":"IF('Kollega oplysninger'!C334=\"\",\"\",'Kollega oplysninger'!C334)","v":""},null,null,{"$f":"IF('Kollega oplysninger'!I334=\"\",\"\",'Kollega oplysninger'!I334)","v":""},{"$f":"IF('Kollega oplysninger'!J334=\"\",\"\",'Kollega oplysninger'!J334)","v":""},{"$f":"IF('Kollega oplysninger'!L334=\"\",\"\",'Kollega oplysninger'!L334)","v":""},null,null,null,null,null,null,null,null,null,null,null,null,null,null,null,null,null,"",{"$f":"IF('Kollega oplysninger'!M334=\"\",\"\",'Kollega oplysninger'!M334)","v":""},null,null,null,null,"",null,"",null,null,null,"",""]
[null,{"$f":"IF('Kollega oplysninger'!B335=\"\",\"\",'Kollega oplysninger'!B335)","v":""},{"$f":"IF('Kollega oplysninger'!C335=\"\",\"\",'Kollega oplysninger'!C335)","v":""},null,null,{"$f":"IF('Kollega oplysninger'!I335=\"\",\"\",'Kollega oplysninger'!I335)","v":""},{"$f":"IF('Kollega oplysninger'!J335=\"\",\"\",'Kollega oplysninger'!J335)","v":""},{"$f":"IF('Kollega oplysninger'!L335=\"\",\"\",'Kollega oplysninger'!L335)","v":""},null,null,null,null,null,null,null,null,null,null,null,null,null,null,null,null,null,"",{"$f":"IF('Kollega oplysninger'!M335=\"\",\"\",'Kollega oplysninger'!M335)","v":""},null,null,null,null,"",null,"",null,null,null,"",""]
[null,{"$f":"IF('Kollega oplysninger'!B336=\"\",\"\",'Kollega oplysninger'!B336)","v":""},{"$f":"IF('Kollega oplysninger'!C336=\"\",\"\",'Kollega oplysninger'!C336)","v":""},null,null,{"$f":"IF('Kollega oplysninger'!I336=\"\",\"\",'Kollega oplysninger'!I336)","v":""},{"$f":"IF('Kollega oplysninger'!J336=\"\",\"\",'Kollega oplysninger'!J336)","v":""},{"$f":"IF('Kollega oplysninger'!L336=\"\",\"\",'Kollega oplysninger'!L336)","v":""},null,null,null,null,null,null,null,null,null,null,null,null,null,null,null,null,null,"",{"$f":"IF('Kollega oplysninger'!M336=\"\",\"\",'Kollega oplysninger'!M336)","v":""},null,null,null,null,"",null,"",null,null,null,"",""]
[null,{"$f":"IF('Kollega oplysninger'!B337=\"\",\"\",'Kollega oplysninger'!B337)","v":""},{"$f":"IF('Kollega oplysninger'!C337=\"\",\"\",'Kollega oplysninger'!C337)","v":""},null,null,{"$f":"IF('Kollega oplysninger'!I337=\"\",\"\",'Kollega oplysninger'!I337)","v":""},{"$f":"IF('Kollega oplysninger'!J337=\"\",\"\",'Kollega oplysninger'!J337)","v":""},{"$f":"IF('Kollega oplysninger'!L337=\"\",\"\",'Kollega oplysninger'!L337)","v":""},null,null,null,null,null,null,null,null,null,null,null,null,null,null,null,null,null,"",{"$f":"IF('Kollega oplysninger'!M337=\"\",\"\",'Kollega oplysninger'!M337)","v":""},null,null,null,null,"",null,"",null,null,null,"",""]
[null,{"$f":"IF('Kollega oplysninger'!B338=\"\",\"\",'Kollega oplysninger'!B338)","v":""},{"$f":"IF('Kollega oplysninger'!C338=\"\",\"\",'Kollega oplysninger'!C338)","v":""},null,null,{"$f":"IF('Kollega oplysninger'!I338=\"\",\"\",'Kollega oplysninger'!I338)","v":""},{"$f":"IF('Kollega oplysninger'!J338=\"\",\"\",'Kollega oplysninger'!J338)","v":""},{"$f":"IF('Kollega oplysninger'!L338=\"\",\"\",'Kollega oplysninger'!L338)","v":""},null,null,null,null,null,null,null,null,null,null,null,null,null,null,null,null,null,"",{"$f":"IF('Kollega oplysninger'!M338=\"\",\"\",'Kollega oplysninger'!M338)","v":""},null,null,null,null,"",null,"",null,null,null,"",""]
[null,{"$f":"IF('Kollega oplysninger'!B339=\"\",\"\",'Kollega oplysninger'!B339)","v":""},{"$f":"IF('Kollega oplysninger'!C339=\"\",\"\",'Kollega oplysninger'!C339)","v":""},null,null,{"$f":"IF('Kollega oplysninger'!I339=\"\",\"\",'Kollega oplysninger'!I339)","v":""},{"$f":"IF('Kollega oplysninger'!J339=\"\",\"\",'Kollega oplysninger'!J339)","v":""},{"$f":"IF('Kollega oplysninger'!L339=\"\",\"\",'Kollega oplysninger'!L339)","v":""},null,null,null,null,null,null,null,null,null,null,null,null,null,null,null,null,null,"",{"$f":"IF('Kollega oplysninger'!M339=\"\",\"\",'Kollega oplysninger'!M339)","v":""},null,null,null,null,"",null,"",null,null,null,"",""]
[null,{"$f":"IF('Kollega oplysninger'!B340=\"\",\"\",'Kollega oplysninger'!B340)","v":""},{"$f":"IF('Kollega oplysninger'!C340=\"\",\"\",'Kollega oplysninger'!C340)","v":""},null,null,{"$f":"IF('Kollega oplysninger'!I340=\"\",\"\",'Kollega oplysninger'!I340)","v":""},{"$f":"IF('Kollega oplysninger'!J340=\"\",\"\",'Kollega oplysninger'!J340)","v":""},{"$f":"IF('Kollega oplysninger'!L340=\"\",\"\",'Kollega oplysninger'!L340)","v":""},null,null,null,null,null,null,null,null,null,null,null,null,null,null,null,null,null,"",{"$f":"IF('Kollega oplysninger'!M340=\"\",\"\",'Kollega oplysninger'!M340)","v":""},null,null,null,null,"",null,"",null,null,null,"",""]
[null,{"$f":"IF('Kollega oplysninger'!B341=\"\",\"\",'Kollega oplysninger'!B341)","v":""},{"$f":"IF('Kollega oplysninger'!C341=\"\",\"\",'Kollega oplysninger'!C341)","v":""},null,null,{"$f":"IF('Kollega oplysninger'!I341=\"\",\"\",'Kollega oplysninger'!I341)","v":""},{"$f":"IF('Kollega oplysninger'!J341=\"\",\"\",'Kollega oplysninger'!J341)","v":""},{"$f":"IF('Kollega oplysninger'!L341=\"\",\"\",'Kollega oplysninger'!L341)","v":""},null,null,null,null,null,null,null,null,null,null,null,null,null,null,null,null,null,"",{"$f":"IF('Kollega oplysninger'!M341=\"\",\"\",'Kollega oplysninger'!M341)","v":""},null,null,null,null,"",null,"",null,null,null,"",""]
[null,{"$f":"IF('Kollega oplysninger'!B342=\"\",\"\",'Kollega oplysninger'!B342)","v":""},{"$f":"IF('Kollega oplysninger'!C342=\"\",\"\",'Kollega oplysninger'!C342)","v":""},null,null,{"$f":"IF('Kollega oplysninger'!I342=\"\",\"\",'Kollega oplysninger'!I342)","v":""},{"$f":"IF('Kollega oplysninger'!J342=\"\",\"\",'Kollega oplysninger'!J342)","v":""},{"$f":"IF('Kollega oplysninger'!L342=\"\",\"\",'Kollega oplysninger'!L342)","v":""},null,null,null,null,null,null,null,null,null,null,null,null,null,null,null,null,null,"",{"$f":"IF('Kollega oplysninger'!M342=\"\",\"\",'Kollega oplysninger'!M342)","v":""},null,null,null,null,"",null,"",null,null,null,"",""]
[null,{"$f":"IF('Kollega oplysninger'!B343=\"\",\"\",'Kollega oplysninger'!B343)","v":""},{"$f":"IF('Kollega oplysninger'!C343=\"\",\"\",'Kollega oplysninger'!C343)","v":""},null,null,{"$f":"IF('Kollega oplysninger'!I343=\"\",\"\",'Kollega oplysninger'!I343)","v":""},{"$f":"IF('Kollega oplysninger'!J343=\"\",\"\",'Kollega oplysninger'!J343)","v":""},{"$f":"IF('Kollega oplysninger'!L343=\"\",\"\",'Kollega oplysninger'!L343)","v":""},null,null,null,null,null,null,null,null,null,null,null,null,null,null,null,null,null,"",{"$f":"IF('Kollega oplysninger'!M343=\"\",\"\",'Kollega oplysninger'!M343)","v":""},null,null,null,null,"",null,"",null,null,null,"",""]
[null,{"$f":"IF('Kollega oplysninger'!B344=\"\",\"\",'Kollega oplysninger'!B344)","v":""},{"$f":"IF('Kollega oplysninger'!C344=\"\",\"\",'Kollega oplysninger'!C344)","v":""},null,null,{"$f":"IF('Kollega oplysninger'!I344=\"\",\"\",'Kollega oplysninger'!I344)","v":""},{"$f":"IF('Kollega oplysninger'!J344=\"\",\"\",'Kollega oplysninger'!J344)","v":""},{"$f":"IF('Kollega oplysninger'!L344=\"\",\"\",'Kollega oplysninger'!L344)","v":""},null,null,null,null,null,null,null,null,null,null,null,null,null,null,null,null,null,"",{"$f":"IF('Kollega oplysninger'!M344=\"\",\"\",'Kollega oplysninger'!M344)","v":""},null,null,null,null,"",null,"",null,null,null,"",""]
[null,{"$f":"IF('Kollega oplysninger'!B345=\"\",\"\",'Kollega oplysninger'!B345)","v":""},{"$f":"IF('Kollega oplysninger'!C345=\"\",\"\",'Kollega oplysninger'!C345)","v":""},null,null,{"$f":"IF('Kollega oplysninger'!I345=\"\",\"\",'Kollega oplysninger'!I345)","v":""},{"$f":"IF('Kollega oplysninger'!J345=\"\",\"\",'Kollega oplysninger'!J345)","v":""},{"$f":"IF('Kollega oplysninger'!L345=\"\",\"\",'Kollega oplysninger'!L345)","v":""},null,null,null,null,null,null,null,null,null,null,null,null,null,null,null,null,null,"",{"$f":"IF('Kollega oplysninger'!M345=\"\",\"\",'Kollega oplysninger'!M345)","v":""},null,null,null,null,"",null,"",null,null,null,"",""]
[null,{"$f":"IF('Kollega oplysninger'!B346=\"\",\"\",'Kollega oplysninger'!B346)","v":""},{"$f":"IF('Kollega oplysninger'!C346=\"\",\"\",'Kollega oplysninger'!C346)","v":""},null,null,{"$f":"IF('Kollega oplysninger'!I346=\"\",\"\",'Kollega oplysninger'!I346)","v":""},{"$f":"IF('Kollega oplysninger'!J346=\"\",\"\",'Kollega oplysninger'!J346)","v":""},{"$f":"IF('Kollega oplysninger'!L346=\"\",\"\",'Kollega oplysninger'!L346)","v":""},null,null,null,null,null,null,null,null,null,null,null,null,null,null,null,null,null,"",{"$f":"IF('Kollega oplysninger'!M346=\"\",\"\",'Kollega oplysninger'!M346)","v":""},null,null,null,null,"",null,"",null,null,null,"",""]
[null,{"$f":"IF('Kollega oplysninger'!B347=\"\",\"\",'Kollega oplysninger'!B347)","v":""},{"$f":"IF('Kollega oplysninger'!C347=\"\",\"\",'Kollega oplysninger'!C347)","v":""},null,null,{"$f":"IF('Kollega oplysninger'!I347=\"\",\"\",'Kollega oplysninger'!I347)","v":""},{"$f":"IF('Kollega oplysninger'!J347=\"\",\"\",'Kollega oplysninger'!J347)","v":""},{"$f":"IF('Kollega oplysninger'!L347=\"\",\"\",'Kollega oplysninger'!L347)","v":""},null,null,null,null,null,null,null,null,null,null,null,null,null,null,null,null,null,"",{"$f":"IF('Kollega oplysninger'!M347=\"\",\"\",'Kollega oplysninger'!M347)","v":""},null,null,null,null,"",null,"",null,null,null,"",""]
[null,{"$f":"IF('Kollega oplysninger'!B348=\"\",\"\",'Kollega oplysninger'!B348)","v":""},{"$f":"IF('Kollega oplysninger'!C348=\"\",\"\",'Kollega oplysninger'!C348)","v":""},null,null,{"$f":"IF('Kollega oplysninger'!I348=\"\",\"\",'Kollega oplysninger'!I348)","v":""},{"$f":"IF('Kollega oplysninger'!J348=\"\",\"\",'Kollega oplysninger'!J348)","v":""},{"$f":"IF('Kollega oplysninger'!L348=\"\",\"\",'Kollega oplysninger'!L348)","v":""},null,null,null,null,null,null,null,null,null,null,null,null,null,null,null,null,null,"",{"$f":"IF('Kollega oplysninger'!M348=\"\",\"\",'Kollega oplysninger'!M348)","v":""},null,null,null,null,"",null,"",null,null,null,"",""]
[null,{"$f":"IF('Kollega oplysninger'!B349=\"\",\"\",'Kollega oplysninger'!B349)","v":""},{"$f":"IF('Kollega oplysninger'!C349=\"\",\"\",'Kollega oplysninger'!C349)","v":""},null,null,{"$f":"IF('Kollega oplysninger'!I349=\"\",\"\",'Kollega oplysninger'!I349)","v":""},{"$f":"IF('Kollega oplysninger'!J349=\"\",\"\",'Kollega oplysninger'!J349)","v":""},{"$f":"IF('Kollega oplysninger'!L349=\"\",\"\",'Kollega oplysninger'!L349)","v":""},null,null,null,null,null,null,null,null,null,null,null,null,null,null,null,null,null,"",{"$f":"IF('Kollega oplysninger'!M349=\"\",\"\",'Kollega oplysninger'!M349)","v":""},null,null,null,null,"",null,"",null,null,null,"",""]
[null,{"$f":"IF('Kollega oplysninger'!B350=\"\",\"\",'Kollega oplysninger'!B350)","v":""},{"$f":"IF('Kollega oplysninger'!C350=\"\",\"\",'Kollega oplysninger'!C350)","v":""},null,null,{"$f":"IF('Kollega oplysninger'!I350=\"\",\"\",'Kollega oplysninger'!I350)","v":""},{"$f":"IF('Kollega oplysninger'!J350=\"\",\"\",'Kollega oplysninger'!J350)","v":""},{"$f":"IF('Kollega oplysninger'!L350=\"\",\"\",'Kollega oplysninger'!L350)","v":""},null,null,null,null,null,null,null,null,null,null,null,null,null,null,null,null,null,"",{"$f":"IF('Kollega oplysninger'!M350=\"\",\"\",'Kollega oplysninger'!M350)","v":""},null,null,null,null,"",null,"",null,null,null,"",""]
[null,{"$f":"IF('Kollega oplysninger'!B351=\"\",\"\",'Kollega oplysninger'!B351)","v":""},{"$f":"IF('Kollega oplysninger'!C351=\"\",\"\",'Kollega oplysninger'!C351)","v":""},null,null,{"$f":"IF('Kollega oplysninger'!I351=\"\",\"\",'Kollega oplysninger'!I351)","v":""},{"$f":"IF('Kollega oplysninger'!J351=\"\",\"\",'Kollega oplysninger'!J351)","v":""},{"$f":"IF('Kollega oplysninger'!L351=\"\",\"\",'Kollega oplysninger'!L351)","v":""},null,null,null,null,null,null,null,null,null,null,null,null,null,null,null,null,null,"",{"$f":"IF('Kollega oplysninger'!M351=\"\",\"\",'Kollega oplysninger'!M351)","v":""},null,null,null,null,"",null,"",null,null,null,"",""]
[null,{"$f":"IF('Kollega oplysninger'!B352=\"\",\"\",'Kollega oplysninger'!B352)","v":""},{"$f":"IF('Kollega oplysninger'!C352=\"\",\"\",'Kollega oplysninger'!C352)","v":""},null,null,{"$f":"IF('Kollega oplysninger'!I352=\"\",\"\",'Kollega oplysninger'!I352)","v":""},{"$f":"IF('Kollega oplysninger'!J352=\"\",\"\",'Kollega oplysninger'!J352)","v":""},{"$f":"IF('Kollega oplysninger'!L352=\"\",\"\",'Kollega oplysninger'!L352)","v":""},null,null,null,null,null,null,null,null,null,null,null,null,null,null,null,null,null,"",{"$f":"IF('Kollega oplysninger'!M352=\"\",\"\",'Kollega oplysninger'!M352)","v":""},null,null,null,null,"",null,"",null,null,null,"",""]
[null,{"$f":"IF('Kollega oplysninger'!B353=\"\",\"\",'Kollega oplysninger'!B353)","v":""},{"$f":"IF('Kollega oplysninger'!C353=\"\",\"\",'Kollega oplysninger'!C353)","v":""},null,null,{"$f":"IF('Kollega oplysninger'!I353=\"\",\"\",'Kollega oplysninger'!I353)","v":""},{"$f":"IF('Kollega oplysninger'!J353=\"\",\"\",'Kollega oplysninger'!J353)","v":""},{"$f":"IF('Kollega oplysninger'!L353=\"\",\"\",'Kollega oplysninger'!L353)","v":""},null,null,null,null,null,null,null,null,null,null,null,null,null,null,null,null,null,"",{"$f":"IF('Kollega oplysninger'!M353=\"\",\"\",'Kollega oplysninger'!M353)","v":""},null,null,null,null,"",null,"",null,null,null,"",""]
[null,{"$f":"IF('Kollega oplysninger'!B354=\"\",\"\",'Kollega oplysninger'!B354)","v":""},{"$f":"IF('Kollega oplysninger'!C354=\"\",\"\",'Kollega oplysninger'!C354)","v":""},null,null,{"$f":"IF('Kollega oplysninger'!I354=\"\",\"\",'Kollega oplysninger'!I354)","v":""},{"$f":"IF('Kollega oplysninger'!J354=\"\",\"\",'Kollega oplysninger'!J354)","v":""},{"$f":"IF('Kollega oplysninger'!L354=\"\",\"\",'Kollega oplysninger'!L354)","v":""},null,null,null,null,null,null,null,null,null,null,null,null,null,null,null,null,null,"",{"$f":"IF('Kollega oplysninger'!M354=\"\",\"\",'Kollega oplysninger'!M354)","v":""},null,null,null,null,"",null,"",null,null,null,"",""]
[null,{"$f":"IF('Kollega oplysninger'!B355=\"\",\"\",'Kollega oplysninger'!B355)","v":""},{"$f":"IF('Kollega oplysninger'!C355=\"\",\"\",'Kollega oplysninger'!C355)","v":""},null,null,{"$f":"IF('Kollega oplysninger'!I355=\"\",\"\",'Kollega oplysninger'!I355)","v":""},{"$f":"IF('Kollega oplysninger'!J355=\"\",\"\",'Kollega oplysninger'!J355)","v":""},{"$f":"IF('Kollega oplysninger'!L355=\"\",\"\",'Kollega oplysninger'!L355)","v":""},null,null,null,null,null,null,null,null,null,null,null,null,null,null,null,null,null,"",{"$f":"IF('Kollega oplysninger'!M355=\"\",\"\",'Kollega oplysninger'!M355)","v":""},null,null,null,null,"",null,"",null,null,null,"",""]
[null,{"$f":"IF('Kollega oplysninger'!B356=\"\",\"\",'Kollega oplysninger'!B356)","v":""},{"$f":"IF('Kollega oplysninger'!C356=\"\",\"\",'Kollega oplysninger'!C356)","v":""},null,null,{"$f":"IF('Kollega oplysninger'!I356=\"\",\"\",'Kollega oplysninger'!I356)","v":""},{"$f":"IF('Kollega oplysninger'!J356=\"\",\"\",'Kollega oplysninger'!J356)","v":""},{"$f":"IF('Kollega oplysninger'!L356=\"\",\"\",'Kollega oplysninger'!L356)","v":""},null,null,null,null,null,null,null,null,null,null,null,null,null,null,null,null,null,"",{"$f":"IF('Kollega oplysninger'!M356=\"\",\"\",'Kollega oplysninger'!M356)","v":""},null,null,null,null,"",null,"",null,null,null,"",""]
[null,{"$f":"IF('Kollega oplysninger'!B357=\"\",\"\",'Kollega oplysninger'!B357)","v":""},{"$f":"IF('Kollega oplysninger'!C357=\"\",\"\",'Kollega oplysninger'!C357)","v":""},null,null,{"$f":"IF('Kollega oplysninger'!I357=\"\",\"\",'Kollega oplysninger'!I357)","v":""},{"$f":"IF('Kollega oplysninger'!J357=\"\",\"\",'Kollega oplysninger'!J357)","v":""},{"$f":"IF('Kollega oplysninger'!L357=\"\",\"\",'Kollega oplysninger'!L357)","v":""},null,null,null,null,null,null,null,null,null,null,null,null,null,null,null,null,null,"",{"$f":"IF('Kollega oplysninger'!M357=\"\",\"\",'Kollega oplysninger'!M357)","v":""},null,null,null,null,"",null,"",null,null,null,"",""]
[null,{"$f":"IF('Kollega oplysninger'!B358=\"\",\"\",'Kollega oplysninger'!B358)","v":""},{"$f":"IF('Kollega oplysninger'!C358=\"\",\"\",'Kollega oplysninger'!C358)","v":""},null,null,{"$f":"IF('Kollega oplysninger'!I358=\"\",\"\",'Kollega oplysninger'!I358)","v":""},{"$f":"IF('Kollega oplysninger'!J358=\"\",\"\",'Kollega oplysninger'!J358)","v":""},{"$f":"IF('Kollega oplysninger'!L358=\"\",\"\",'Kollega oplysninger'!L358)","v":""},null,null,null,null,null,null,null,null,null,null,null,null,null,null,null,null,null,"",{"$f":"IF('Kollega oplysninger'!M358=\"\",\"\",'Kollega oplysninger'!M358)","v":""},null,null,null,null,"",null,"",null,null,null,"",""]
[null,{"$f":"IF('Kollega oplysninger'!B359=\"\",\"\",'Kollega oplysninger'!B359)","v":""},{"$f":"IF('Kollega oplysninger'!C359=\"\",\"\",'Kollega oplysninger'!C359)","v":""},null,null,{"$f":"IF('Kollega oplysninger'!I359=\"\",\"\",'Kollega oplysninger'!I359)","v":""},{"$f":"IF('Kollega oplysninger'!J359=\"\",\"\",'Kollega oplysninger'!J359)","v":""},{"$f":"IF('Kollega oplysninger'!L359=\"\",\"\",'Kollega oplysninger'!L359)","v":""},null,null,null,null,null,null,null,null,null,null,null,null,null,null,null,null,null,"",{"$f":"IF('Kollega oplysninger'!M359=\"\",\"\",'Kollega oplysninger'!M359)","v":""},null,null,null,null,"",null,"",null,null,null,"",""]
[null,{"$f":"IF('Kollega oplysninger'!B360=\"\",\"\",'Kollega oplysninger'!B360)","v":""},{"$f":"IF('Kollega oplysninger'!C360=\"\",\"\",'Kollega oplysninger'!C360)","v":""},null,null,{"$f":"IF('Kollega oplysninger'!I360=\"\",\"\",'Kollega oplysninger'!I360)","v":""},{"$f":"IF('Kollega oplysninger'!J360=\"\",\"\",'Kollega oplysninger'!J360)","v":""},{"$f":"IF('Kollega oplysninger'!L360=\"\",\"\",'Kollega oplysninger'!L360)","v":""},null,null,null,null,null,null,null,null,null,null,null,null,null,null,null,null,null,"",{"$f":"IF('Kollega oplysninger'!M360=\"\",\"\",'Kollega oplysninger'!M360)","v":""},null,null,null,null,"",null,"",null,null,null,"",""]
[null,{"$f":"IF('Kollega oplysninger'!B361=\"\",\"\",'Kollega oplysninger'!B361)","v":""},{"$f":"IF('Kollega oplysninger'!C361=\"\",\"\",'Kollega oplysninger'!C361)","v":""},null,null,{"$f":"IF('Kollega oplysninger'!I361=\"\",\"\",'Kollega oplysninger'!I361)","v":""},{"$f":"IF('Kollega oplysninger'!J361=\"\",\"\",'Kollega oplysninger'!J361)","v":""},{"$f":"IF('Kollega oplysninger'!L361=\"\",\"\",'Kollega oplysninger'!L361)","v":""},null,null,null,null,null,null,null,null,null,null,null,null,null,null,null,null,null,"",{"$f":"IF('Kollega oplysninger'!M361=\"\",\"\",'Kollega oplysninger'!M361)","v":""},null,null,null,null,"",null,"",null,null,null,"",""]
[null,{"$f":"IF('Kollega oplysninger'!B362=\"\",\"\",'Kollega oplysninger'!B362)","v":""},{"$f":"IF('Kollega oplysninger'!C362=\"\",\"\",'Kollega oplysninger'!C362)","v":""},null,null,{"$f":"IF('Kollega oplysninger'!I362=\"\",\"\",'Kollega oplysninger'!I362)","v":""},{"$f":"IF('Kollega oplysninger'!J362=\"\",\"\",'Kollega oplysninger'!J362)","v":""},{"$f":"IF('Kollega oplysninger'!L362=\"\",\"\",'Kollega oplysninger'!L362)","v":""},null,null,null,null,null,null,null,null,null,null,null,null,null,null,null,null,null,"",{"$f":"IF('Kollega oplysninger'!M362=\"\",\"\",'Kollega oplysninger'!M362)","v":""},null,null,null,null,"",null,"",null,null,null,"",""]
[null,{"$f":"IF('Kollega oplysninger'!B363=\"\",\"\",'Kollega oplysninger'!B363)","v":""},{"$f":"IF('Kollega oplysninger'!C363=\"\",\"\",'Kollega oplysninger'!C363)","v":""},null,null,{"$f":"IF('Kollega oplysninger'!I363=\"\",\"\",'Kollega oplysninger'!I363)","v":""},{"$f":"IF('Kollega oplysninger'!J363=\"\",\"\",'Kollega oplysninger'!J363)","v":""},{"$f":"IF('Kollega oplysninger'!L363=\"\",\"\",'Kollega oplysninger'!L363)","v":""},null,null,null,null,null,null,null,null,null,null,null,null,null,null,null,null,null,"",{"$f":"IF('Kollega oplysninger'!M363=\"\",\"\",'Kollega oplysninger'!M363)","v":""},null,null,null,null,"",null,"",null,null,null,"",""]
[null,{"$f":"IF('Kollega oplysninger'!B364=\"\",\"\",'Kollega oplysninger'!B364)","v":""},{"$f":"IF('Kollega oplysninger'!C364=\"\",\"\",'Kollega oplysninger'!C364)","v":""},null,null,{"$f":"IF('Kollega oplysninger'!I364=\"\",\"\",'Kollega oplysninger'!I364)","v":""},{"$f":"IF('Kollega oplysninger'!J364=\"\",\"\",'Kollega oplysninger'!J364)","v":""},{"$f":"IF('Kollega oplysninger'!L364=\"\",\"\",'Kollega oplysninger'!L364)","v":""},null,null,null,null,null,null,null,null,null,null,null,null,null,null,null,null,null,"",{"$f":"IF('Kollega oplysninger'!M364=\"\",\"\",'Kollega oplysninger'!M364)","v":""},null,null,null,null,"",null,"",null,null,null,"",""]
[null,{"$f":"IF('Kollega oplysninger'!B365=\"\",\"\",'Kollega oplysninger'!B365)","v":""},{"$f":"IF('Kollega oplysninger'!C365=\"\",\"\",'Kollega oplysninger'!C365)","v":""},null,null,{"$f":"IF('Kollega oplysninger'!I365=\"\",\"\",'Kollega oplysninger'!I365)","v":""},{"$f":"IF('Kollega oplysninger'!J365=\"\",\"\",'Kollega oplysninger'!J365)","v":""},{"$f":"IF('Kollega oplysninger'!L365=\"\",\"\",'Kollega oplysninger'!L365)","v":""},null,null,null,null,null,null,null,null,null,null,null,null,null,null,null,null,null,"",{"$f":"IF('Kollega oplysninger'!M365=\"\",\"\",'Kollega oplysninger'!M365)","v":""},null,null,null,null,"",null,"",null,null,null,"",""]
[null,{"$f":"IF('Kollega oplysninger'!B366=\"\",\"\",'Kollega oplysninger'!B366)","v":""},{"$f":"IF('Kollega oplysninger'!C366=\"\",\"\",'Kollega oplysninger'!C366)","v":""},null,null,{"$f":"IF('Kollega oplysninger'!I366=\"\",\"\",'Kollega oplysninger'!I366)","v":""},{"$f":"IF('Kollega oplysninger'!J366=\"\",\"\",'Kollega oplysninger'!J366)","v":""},{"$f":"IF('Kollega oplysninger'!L366=\"\",\"\",'Kollega oplysninger'!L366)","v":""},null,null,null,null,null,null,null,null,null,null,null,null,null,null,null,null,null,"",{"$f":"IF('Kollega oplysninger'!M366=\"\",\"\",'Kollega oplysninger'!M366)","v":""},null,null,null,null,"",null,"",null,null,null,"",""]
[null,{"$f":"IF('Kollega oplysninger'!B367=\"\",\"\",'Kollega oplysninger'!B367)","v":""},{"$f":"IF('Kollega oplysninger'!C367=\"\",\"\",'Kollega oplysninger'!C367)","v":""},null,null,{"$f":"IF('Kollega oplysninger'!I367=\"\",\"\",'Kollega oplysninger'!I367)","v":""},{"$f":"IF('Kollega oplysninger'!J367=\"\",\"\",'Kollega oplysninger'!J367)","v":""},{"$f":"IF('Kollega oplysninger'!L367=\"\",\"\",'Kollega oplysninger'!L367)","v":""},null,null,null,null,null,null,null,null,null,null,null,null,null,null,null,null,null,"",{"$f":"IF('Kollega oplysninger'!M367=\"\",\"\",'Kollega oplysninger'!M367)","v":""},null,null,null,null,"",null,"",null,null,null,"",""]
[null,{"$f":"IF('Kollega oplysninger'!B368=\"\",\"\",'Kollega oplysninger'!B368)","v":""},{"$f":"IF('Kollega oplysninger'!C368=\"\",\"\",'Kollega oplysninger'!C368)","v":""},null,null,{"$f":"IF('Kollega oplysninger'!I368=\"\",\"\",'Kollega oplysninger'!I368)","v":""},{"$f":"IF('Kollega oplysninger'!J368=\"\",\"\",'Kollega oplysninger'!J368)","v":""},{"$f":"IF('Kollega oplysninger'!L368=\"\",\"\",'Kollega oplysninger'!L368)","v":""},null,null,null,null,null,null,null,null,null,null,null,null,null,null,null,null,null,"",{"$f":"IF('Kollega oplysninger'!M368=\"\",\"\",'Kollega oplysninger'!M368)","v":""},null,null,null,null,"",null,"",null,null,null,"",""]
[null,{"$f":"IF('Kollega oplysninger'!B369=\"\",\"\",'Kollega oplysninger'!B369)","v":""},{"$f":"IF('Kollega oplysninger'!C369=\"\",\"\",'Kollega oplysninger'!C369)","v":""},null,null,{"$f":"IF('Kollega oplysninger'!I369=\"\",\"\",'Kollega oplysninger'!I369)","v":""},{"$f":"IF('Kollega oplysninger'!J369=\"\",\"\",'Kollega oplysninger'!J369)","v":""},{"$f":"IF('Kollega oplysninger'!L369=\"\",\"\",'Kollega oplysninger'!L369)","v":""},null,null,null,null,null,null,null,null,null,null,null,null,null,null,null,null,null,"",{"$f":"IF('Kollega oplysninger'!M369=\"\",\"\",'Kollega oplysninger'!M369)","v":""},null,null,null,null,"",null,"",null,null,null,"",""]
[null,{"$f":"IF('Kollega oplysninger'!B370=\"\",\"\",'Kollega oplysninger'!B370)","v":""},{"$f":"IF('Kollega oplysninger'!C370=\"\",\"\",'Kollega oplysninger'!C370)","v":""},null,null,{"$f":"IF('Kollega oplysninger'!I370=\"\",\"\",'Kollega oplysninger'!I370)","v":""},{"$f":"IF('Kollega oplysninger'!J370=\"\",\"\",'Kollega oplysninger'!J370)","v":""},{"$f":"IF('Kollega oplysninger'!L370=\"\",\"\",'Kollega oplysninger'!L370)","v":""},null,null,null,null,null,null,null,null,null,null,null,null,null,null,null,null,null,"",{"$f":"IF('Kollega oplysninger'!M370=\"\",\"\",'Kollega oplysninger'!M370)","v":""},null,null,null,null,"",null,"",null,null,null,"",""]
[null,{"$f":"IF('Kollega oplysninger'!B371=\"\",\"\",'Kollega oplysninger'!B371)","v":""},{"$f":"IF('Kollega oplysninger'!C371=\"\",\"\",'Kollega oplysninger'!C371)","v":""},null,null,{"$f":"IF('Kollega oplysninger'!I371=\"\",\"\",'Kollega oplysninger'!I371)","v":""},{"$f":"IF('Kollega oplysninger'!J371=\"\",\"\",'Kollega oplysninger'!J371)","v":""},{"$f":"IF('Kollega oplysninger'!L371=\"\",\"\",'Kollega oplysninger'!L371)","v":""},null,null,null,null,null,null,null,null,null,null,null,null,null,null,null,null,null,"",{"$f":"IF('Kollega oplysninger'!M371=\"\",\"\",'Kollega oplysninger'!M371)","v":""},null,null,null,null,"",null,"",null,null,null,"",""]
[null,{"$f":"IF('Kollega oplysninger'!B372=\"\",\"\",'Kollega oplysninger'!B372)","v":""},{"$f":"IF('Kollega oplysninger'!C372=\"\",\"\",'Kollega oplysninger'!C372)","v":""},null,null,{"$f":"IF('Kollega oplysninger'!I372=\"\",\"\",'Kollega oplysninger'!I372)","v":""},{"$f":"IF('Kollega oplysninger'!J372=\"\",\"\",'Kollega oplysninger'!J372)","v":""},{"$f":"IF('Kollega oplysninger'!L372=\"\",\"\",'Kollega oplysninger'!L372)","v":""},null,null,null,null,null,null,null,null,null,null,null,null,null,null,null,null,null,"",{"$f":"IF('Kollega oplysninger'!M372=\"\",\"\",'Kollega oplysninger'!M372)","v":""},null,null,null,null,"",null,"",null,null,null,"",""]
[null,{"$f":"IF('Kollega oplysninger'!B373=\"\",\"\",'Kollega oplysninger'!B373)","v":""},{"$f":"IF('Kollega oplysninger'!C373=\"\",\"\",'Kollega oplysninger'!C373)","v":""},null,null,{"$f":"IF('Kollega oplysninger'!I373=\"\",\"\",'Kollega oplysninger'!I373)","v":""},{"$f":"IF('Kollega oplysninger'!J373=\"\",\"\",'Kollega oplysninger'!J373)","v":""},{"$f":"IF('Kollega oplysninger'!L373=\"\",\"\",'Kollega oplysninger'!L373)","v":""},null,null,null,null,null,null,null,null,null,null,null,null,null,null,null,null,null,"",{"$f":"IF('Kollega oplysninger'!M373=\"\",\"\",'Kollega oplysninger'!M373)","v":""},null,null,null,null,"",null,"",null,null,null,"",""]
[null,{"$f":"IF('Kollega oplysninger'!B374=\"\",\"\",'Kollega oplysninger'!B374)","v":""},{"$f":"IF('Kollega oplysninger'!C374=\"\",\"\",'Kollega oplysninger'!C374)","v":""},null,null,{"$f":"IF('Kollega oplysninger'!I374=\"\",\"\",'Kollega oplysninger'!I374)","v":""},{"$f":"IF('Kollega oplysninger'!J374=\"\",\"\",'Kollega oplysninger'!J374)","v":""},{"$f":"IF('Kollega oplysninger'!L374=\"\",\"\",'Kollega oplysninger'!L374)","v":""},null,null,null,null,null,null,null,null,null,null,null,null,null,null,null,null,null,"",{"$f":"IF('Kollega oplysninger'!M374=\"\",\"\",'Kollega oplysninger'!M374)","v":""},null,null,null,null,"",null,"",null,null,null,"",""]
[null,{"$f":"IF('Kollega oplysninger'!B375=\"\",\"\",'Kollega oplysninger'!B375)","v":""},{"$f":"IF('Kollega oplysninger'!C375=\"\",\"\",'Kollega oplysninger'!C375)","v":""},null,null,{"$f":"IF('Kollega oplysninger'!I375=\"\",\"\",'Kollega oplysninger'!I375)","v":""},{"$f":"IF('Kollega oplysninger'!J375=\"\",\"\",'Kollega oplysninger'!J375)","v":""},{"$f":"IF('Kollega oplysninger'!L375=\"\",\"\",'Kollega oplysninger'!L375)","v":""},null,null,null,null,null,null,null,null,null,null,null,null,null,null,null,null,null,"",{"$f":"IF('Kollega oplysninger'!M375=\"\",\"\",'Kollega oplysninger'!M375)","v":""},null,null,null,null,"",null,"",null,null,null,"",""]
[null,{"$f":"IF('Kollega oplysninger'!B376=\"\",\"\",'Kollega oplysninger'!B376)","v":""},{"$f":"IF('Kollega oplysninger'!C376=\"\",\"\",'Kollega oplysninger'!C376)","v":""},null,null,{"$f":"IF('Kollega oplysninger'!I376=\"\",\"\",'Kollega oplysninger'!I376)","v":""},{"$f":"IF('Kollega oplysninger'!J376=\"\",\"\",'Kollega oplysninger'!J376)","v":""},{"$f":"IF('Kollega oplysninger'!L376=\"\",\"\",'Kollega oplysninger'!L376)","v":""},null,null,null,null,null,null,null,null,null,null,null,null,null,null,null,null,null,"",{"$f":"IF('Kollega oplysninger'!M376=\"\",\"\",'Kollega oplysninger'!M376)","v":""},null,null,null,null,"",null,"",null,null,null,"",""]
[null,{"$f":"IF('Kollega oplysninger'!B377=\"\",\"\",'Kollega oplysninger'!B377)","v":""},{"$f":"IF('Kollega oplysninger'!C377=\"\",\"\",'Kollega oplysninger'!C377)","v":""},null,null,{"$f":"IF('Kollega oplysninger'!I377=\"\",\"\",'Kollega oplysninger'!I377)","v":""},{"$f":"IF('Kollega oplysninger'!J377=\"\",\"\",'Kollega oplysninger'!J377)","v":""},{"$f":"IF('Kollega oplysninger'!L377=\"\",\"\",'Kollega oplysninger'!L377)","v":""},null,null,null,null,null,null,null,null,null,null,null,null,null,null,null,null,null,"",{"$f":"IF('Kollega oplysninger'!M377=\"\",\"\",'Kollega oplysninger'!M377)","v":""},null,null,null,null,"",null,"",null,null,null,"",""]
[null,{"$f":"IF('Kollega oplysninger'!B378=\"\",\"\",'Kollega oplysninger'!B378)","v":""},{"$f":"IF('Kollega oplysninger'!C378=\"\",\"\",'Kollega oplysninger'!C378)","v":""},null,null,{"$f":"IF('Kollega oplysninger'!I378=\"\",\"\",'Kollega oplysninger'!I378)","v":""},{"$f":"IF('Kollega oplysninger'!J378=\"\",\"\",'Kollega oplysninger'!J378)","v":""},{"$f":"IF('Kollega oplysninger'!L378=\"\",\"\",'Kollega oplysninger'!L378)","v":""},null,null,null,null,null,null,null,null,null,null,null,null,null,null,null,null,null,"",{"$f":"IF('Kollega oplysninger'!M378=\"\",\"\",'Kollega oplysninger'!M378)","v":""},null,null,null,null,"",null,"",null,null,null,"",""]
[null,{"$f":"IF('Kollega oplysninger'!B379=\"\",\"\",'Kollega oplysninger'!B379)","v":""},{"$f":"IF('Kollega oplysninger'!C379=\"\",\"\",'Kollega oplysninger'!C379)","v":""},null,null,{"$f":"IF('Kollega oplysninger'!I379=\"\",\"\",'Kollega oplysninger'!I379)","v":""},{"$f":"IF('Kollega oplysninger'!J379=\"\",\"\",'Kollega oplysninger'!J379)","v":""},{"$f":"IF('Kollega oplysninger'!L379=\"\",\"\",'Kollega oplysninger'!L379)","v":""},null,null,null,null,null,null,null,null,null,null,null,null,null,null,null,null,null,"",{"$f":"IF('Kollega oplysninger'!M379=\"\",\"\",'Kollega oplysninger'!M379)","v":""},null,null,null,null,"",null,"",null,null,null,"",""]
[null,{"$f":"IF('Kollega oplysninger'!B380=\"\",\"\",'Kollega oplysninger'!B380)","v":""},{"$f":"IF('Kollega oplysninger'!C380=\"\",\"\",'Kollega oplysninger'!C380)","v":""},null,null,{"$f":"IF('Kollega oplysninger'!I380=\"\",\"\",'Kollega oplysninger'!I380)","v":""},{"$f":"IF('Kollega oplysninger'!J380=\"\",\"\",'Kollega oplysninger'!J380)","v":""},{"$f":"IF('Kollega oplysninger'!L380=\"\",\"\",'Kollega oplysninger'!L380)","v":""},null,null,null,null,null,null,null,null,null,null,null,null,null,null,null,null,null,"",{"$f":"IF('Kollega oplysninger'!M380=\"\",\"\",'Kollega oplysninger'!M380)","v":""},null,null,null,null,"",null,"",null,null,null,"",""]
[null,{"$f":"IF('Kollega oplysninger'!B381=\"\",\"\",'Kollega oplysninger'!B381)","v":""},{"$f":"IF('Kollega oplysninger'!C381=\"\",\"\",'Kollega oplysninger'!C381)","v":""},null,null,{"$f":"IF('Kollega oplysninger'!I381=\"\",\"\",'Kollega oplysninger'!I381)","v":""},{"$f":"IF('Kollega oplysninger'!J381=\"\",\"\",'Kollega oplysninger'!J381)","v":""},{"$f":"IF('Kollega oplysninger'!L381=\"\",\"\",'Kollega oplysninger'!L381)","v":""},null,null,null,null,null,null,null,null,null,null,null,null,null,null,null,null,null,"",{"$f":"IF('Kollega oplysninger'!M381=\"\",\"\",'Kollega oplysninger'!M381)","v":""},null,null,null,null,"",null,"",null,null,null,"",""]
[null,{"$f":"IF('Kollega oplysninger'!B382=\"\",\"\",'Kollega oplysninger'!B382)","v":""},{"$f":"IF('Kollega oplysninger'!C382=\"\",\"\",'Kollega oplysninger'!C382)","v":""},null,null,{"$f":"IF('Kollega oplysninger'!I382=\"\",\"\",'Kollega oplysninger'!I382)","v":""},{"$f":"IF('Kollega oplysninger'!J382=\"\",\"\",'Kollega oplysninger'!J382)","v":""},{"$f":"IF('Kollega oplysninger'!L382=\"\",\"\",'Kollega oplysninger'!L382)","v":""},null,null,null,null,null,null,null,null,null,null,null,null,null,null,null,null,null,"",{"$f":"IF('Kollega oplysninger'!M382=\"\",\"\",'Kollega oplysninger'!M382)","v":""},null,null,null,null,"",null,"",null,null,null,"",""]
[null,{"$f":"IF('Kollega oplysninger'!B383=\"\",\"\",'Kollega oplysninger'!B383)","v":""},{"$f":"IF('Kollega oplysninger'!C383=\"\",\"\",'Kollega oplysninger'!C383)","v":""},null,null,{"$f":"IF('Kollega oplysninger'!I383=\"\",\"\",'Kollega oplysninger'!I383)","v":""},{"$f":"IF('Kollega oplysninger'!J383=\"\",\"\",'Kollega oplysninger'!J383)","v":""},{"$f":"IF('Kollega oplysninger'!L383=\"\",\"\",'Kollega oplysninger'!L383)","v":""},null,null,null,null,null,null,null,null,null,null,null,null,null,null,null,null,null,"",{"$f":"IF('Kollega oplysninger'!M383=\"\",\"\",'Kollega oplysninger'!M383)","v":""},null,null,null,null,"",null,"",null,null,null,"",""]
[null,{"$f":"IF('Kollega oplysninger'!B384=\"\",\"\",'Kollega oplysninger'!B384)","v":""},{"$f":"IF('Kollega oplysninger'!C384=\"\",\"\",'Kollega oplysninger'!C384)","v":""},null,null,{"$f":"IF('Kollega oplysninger'!I384=\"\",\"\",'Kollega oplysninger'!I384)","v":""},{"$f":"IF('Kollega oplysninger'!J384=\"\",\"\",'Kollega oplysninger'!J384)","v":""},{"$f":"IF('Kollega oplysninger'!L384=\"\",\"\",'Kollega oplysninger'!L384)","v":""},null,null,null,null,null,null,null,null,null,null,null,null,null,null,null,null,null,"",{"$f":"IF('Kollega oplysninger'!M384=\"\",\"\",'Kollega oplysninger'!M384)","v":""},null,null,null,null,"",null,"",null,null,null,"",""]
[null,{"$f":"IF('Kollega oplysninger'!B385=\"\",\"\",'Kollega oplysninger'!B385)","v":""},{"$f":"IF('Kollega oplysninger'!C385=\"\",\"\",'Kollega oplysninger'!C385)","v":""},null,null,{"$f":"IF('Kollega oplysninger'!I385=\"\",\"\",'Kollega oplysninger'!I385)","v":""},{"$f":"IF('Kollega oplysninger'!J385=\"\",\"\",'Kollega oplysninger'!J385)","v":""},{"$f":"IF('Kollega oplysninger'!L385=\"\",\"\",'Kollega oplysninger'!L385)","v":""},null,null,null,null,null,null,null,null,null,null,null,null,null,null,null,null,null,"",{"$f":"IF('Kollega oplysninger'!M385=\"\",\"\",'Kollega oplysninger'!M385)","v":""},null,null,null,null,"",null,"",null,null,null,"",""]
[null,{"$f":"IF('Kollega oplysninger'!B386=\"\",\"\",'Kollega oplysninger'!B386)","v":""},{"$f":"IF('Kollega oplysninger'!C386=\"\",\"\",'Kollega oplysninger'!C386)","v":""},null,null,{"$f":"IF('Kollega oplysninger'!I386=\"\",\"\",'Kollega oplysninger'!I386)","v":""},{"$f":"IF('Kollega oplysninger'!J386=\"\",\"\",'Kollega oplysninger'!J386)","v":""},{"$f":"IF('Kollega oplysninger'!L386=\"\",\"\",'Kollega oplysninger'!L386)","v":""},null,null,null,null,null,null,null,null,null,null,null,null,null,null,null,null,null,"",{"$f":"IF('Kollega oplysninger'!M386=\"\",\"\",'Kollega oplysninger'!M386)","v":""},null,null,null,null,"",null,"",null,null,null,"",""]
[null,{"$f":"IF('Kollega oplysninger'!B387=\"\",\"\",'Kollega oplysninger'!B387)","v":""},{"$f":"IF('Kollega oplysninger'!C387=\"\",\"\",'Kollega oplysninger'!C387)","v":""},null,null,{"$f":"IF('Kollega oplysninger'!I387=\"\",\"\",'Kollega oplysninger'!I387)","v":""},{"$f":"IF('Kollega oplysninger'!J387=\"\",\"\",'Kollega oplysninger'!J387)","v":""},{"$f":"IF('Kollega oplysninger'!L387=\"\",\"\",'Kollega oplysninger'!L387)","v":""},null,null,null,null,null,null,null,null,null,null,null,null,null,null,null,null,null,"",{"$f":"IF('Kollega oplysninger'!M387=\"\",\"\",'Kollega oplysninger'!M387)","v":""},null,null,null,null,"",null,"",null,null,null,"",""]
[null,{"$f":"IF('Kollega oplysninger'!B388=\"\",\"\",'Kollega oplysninger'!B388)","v":""},{"$f":"IF('Kollega oplysninger'!C388=\"\",\"\",'Kollega oplysninger'!C388)","v":""},null,null,{"$f":"IF('Kollega oplysninger'!I388=\"\",\"\",'Kollega oplysninger'!I388)","v":""},{"$f":"IF('Kollega oplysninger'!J388=\"\",\"\",'Kollega oplysninger'!J388)","v":""},{"$f":"IF('Kollega oplysninger'!L388=\"\",\"\",'Kollega oplysninger'!L388)","v":""},null,null,null,null,null,null,null,null,null,null,null,null,null,null,null,null,null,"",{"$f":"IF('Kollega oplysninger'!M388=\"\",\"\",'Kollega oplysninger'!M388)","v":""},null,null,null,null,"",null,"",null,null,null,"",""]
[null,{"$f":"IF('Kollega oplysninger'!B389=\"\",\"\",'Kollega oplysninger'!B389)","v":""},{"$f":"IF('Kollega oplysninger'!C389=\"\",\"\",'Kollega oplysninger'!C389)","v":""},null,null,{"$f":"IF('Kollega oplysninger'!I389=\"\",\"\",'Kollega oplysninger'!I389)","v":""},{"$f":"IF('Kollega oplysninger'!J389=\"\",\"\",'Kollega oplysninger'!J389)","v":""},{"$f":"IF('Kollega oplysninger'!L389=\"\",\"\",'Kollega oplysninger'!L389)","v":""},null,null,null,null,null,null,null,null,null,null,null,null,null,null,null,null,null,"",{"$f":"IF('Kollega oplysninger'!M389=\"\",\"\",'Kollega oplysninger'!M389)","v":""},null,null,null,null,"",null,"",null,null,null,"",""]
[null,{"$f":"IF('Kollega oplysninger'!B390=\"\",\"\",'Kollega oplysninger'!B390)","v":""},{"$f":"IF('Kollega oplysninger'!C390=\"\",\"\",'Kollega oplysninger'!C390)","v":""},null,null,{"$f":"IF('Kollega oplysninger'!I390=\"\",\"\",'Kollega oplysninger'!I390)","v":""},{"$f":"IF('Kollega oplysninger'!J390=\"\",\"\",'Kollega oplysninger'!J390)","v":""},{"$f":"IF('Kollega oplysninger'!L390=\"\",\"\",'Kollega oplysninger'!L390)","v":""},null,null,null,null,null,null,null,null,null,null,null,null,null,null,null,null,null,"",{"$f":"IF('Kollega oplysninger'!M390=\"\",\"\",'Kollega oplysninger'!M390)","v":""},null,null,null,null,"",null,"",null,null,null,"",""]
[null,{"$f":"IF('Kollega oplysninger'!B391=\"\",\"\",'Kollega oplysninger'!B391)","v":""},{"$f":"IF('Kollega oplysninger'!C391=\"\",\"\",'Kollega oplysninger'!C391)","v":""},null,null,{"$f":"IF('Kollega oplysninger'!I391=\"\",\"\",'Kollega oplysninger'!I391)","v":""},{"$f":"IF('Kollega oplysninger'!J391=\"\",\"\",'Kollega oplysninger'!J391)","v":""},{"$f":"IF('Kollega oplysninger'!L391=\"\",\"\",'Kollega oplysninger'!L391)","v":""},null,null,null,null,null,null,null,null,null,null,null,null,null,null,null,null,null,"",{"$f":"IF('Kollega oplysninger'!M391=\"\",\"\",'Kollega oplysninger'!M391)","v":""},null,null,null,null,{"$f":"IF(Y391<AE391,\"fejl\",IF(Y391=\"\",\"\",IF(AE391=\"\",0,AE391/Y391)))","v":""},null,{"$f":"IF(Y391<AG391,\"fejl\",IF(Y391=\"\",\"\",IF(AG391=\"\",0,AG391/Y391)))","v":""},null,null,null,{"$f":"IF(Z391=\"fejl\",X391,\"\")","v":""},{"$f":"IF(Z391=\"fejl\",Y391,\"\")","v":""}]
[null,{"$f":"IF('Kollega oplysninger'!B392=\"\",\"\",'Kollega oplysninger'!B392)","v":""},{"$f":"IF('Kollega oplysninger'!C392=\"\",\"\",'Kollega oplysninger'!C392)","v":""},null,null,{"$f":"IF('Kollega oplysninger'!I392=\"\",\"\",'Kollega oplysninger'!I392)","v":""},{"$f":"IF('Kollega oplysninger'!J392=\"\",\"\",'Kollega oplysninger'!J392)","v":""},{"$f":"IF('Kollega oplysninger'!L392=\"\",\"\",'Kollega oplysninger'!L392)","v":""},null,null,null,null,null,null,null,null,null,null,null,null,null,null,null,null,null,{"$f":"IF(Y392<X392,\"fejl\",IF(Y392=\"\",\"\",IF(X392=\"\",0,X392/Y392)))","v":""},{"$f":"IF('Kollega oplysninger'!M392=\"\",\"\",'Kollega oplysninger'!M392)","v":""},null,null,null,null,"",null,"",null,null,null,"",""]
[null,{"$f":"IF('Kollega oplysninger'!B393=\"\",\"\",'Kollega oplysninger'!B393)","v":""},{"$f":"IF('Kollega oplysninger'!C393=\"\",\"\",'Kollega oplysninger'!C393)","v":""},null,null,{"$f":"IF('Kollega oplysninger'!I393=\"\",\"\",'Kollega oplysninger'!I393)","v":""},{"$f":"IF('Kollega oplysninger'!J393=\"\",\"\",'Kollega oplysninger'!J393)","v":""},{"$f":"IF('Kollega oplysninger'!L393=\"\",\"\",'Kollega oplysninger'!L393)","v":""},null,null,null,null,null,null,null,null,null,null,null,null,null,null,null,null,null,"",{"$f":"IF('Kollega oplysninger'!M393=\"\",\"\",'Kollega oplysninger'!M393)","v":""},null,null,null,null,"",null,"",null,null,null,"",""]
[null,{"$f":"IF('Kollega oplysninger'!B394=\"\",\"\",'Kollega oplysninger'!B394)","v":""},{"$f":"IF('Kollega oplysninger'!C394=\"\",\"\",'Kollega oplysninger'!C394)","v":""},null,null,{"$f":"IF('Kollega oplysninger'!I394=\"\",\"\",'Kollega oplysninger'!I394)","v":""},{"$f":"IF('Kollega oplysninger'!J394=\"\",\"\",'Kollega oplysninger'!J394)","v":""},{"$f":"IF('Kollega oplysninger'!L394=\"\",\"\",'Kollega oplysninger'!L394)","v":""},null,null,null,null,null,null,null,null,null,null,null,null,null,null,null,null,null,"",{"$f":"IF('Kollega oplysninger'!M394=\"\",\"\",'Kollega oplysninger'!M394)","v":""},null,null,null,null,"",null,"",null,null,null,"",""]
[null,{"$f":"IF('Kollega oplysninger'!B395=\"\",\"\",'Kollega oplysninger'!B395)","v":""},{"$f":"IF('Kollega oplysninger'!C395=\"\",\"\",'Kollega oplysninger'!C395)","v":""},null,null,{"$f":"IF('Kollega oplysninger'!I395=\"\",\"\",'Kollega oplysninger'!I395)","v":""},{"$f":"IF('Kollega oplysninger'!J395=\"\",\"\",'Kollega oplysninger'!J395)","v":""},{"$f":"IF('Kollega oplysninger'!L395=\"\",\"\",'Kollega oplysninger'!L395)","v":""},null,null,null,null,null,null,null,null,null,null,null,null,null,null,null,null,null,"",{"$f":"IF('Kollega oplysninger'!M395=\"\",\"\",'Kollega oplysninger'!M395)","v":""},null,null,null,null,"",null,"",null,null,null,"",""]
[null,{"$f":"IF('Kollega oplysninger'!B396=\"\",\"\",'Kollega oplysninger'!B396)","v":""},{"$f":"IF('Kollega oplysninger'!C396=\"\",\"\",'Kollega oplysninger'!C396)","v":""},null,null,{"$f":"IF('Kollega oplysninger'!I396=\"\",\"\",'Kollega oplysninger'!I396)","v":""},{"$f":"IF('Kollega oplysninger'!J396=\"\",\"\",'Kollega oplysninger'!J396)","v":""},{"$f":"IF('Kollega oplysninger'!L396=\"\",\"\",'Kollega oplysninger'!L396)","v":""},null,null,null,null,null,null,null,null,null,null,null,null,null,null,null,null,null,"",{"$f":"IF('Kollega oplysninger'!M396=\"\",\"\",'Kollega oplysninger'!M396)","v":""},null,null,null,null,"",null,"",null,null,null,"",""]
[null,{"$f":"IF('Kollega oplysninger'!B397=\"\",\"\",'Kollega oplysninger'!B397)","v":""},{"$f":"IF('Kollega oplysninger'!C397=\"\",\"\",'Kollega oplysninger'!C397)","v":""},null,null,{"$f":"IF('Kollega oplysninger'!I397=\"\",\"\",'Kollega oplysninger'!I397)","v":""},{"$f":"IF('Kollega oplysninger'!J397=\"\",\"\",'Kollega oplysninger'!J397)","v":""},{"$f":"IF('Kollega oplysninger'!L397=\"\",\"\",'Kollega oplysninger'!L397)","v":""},null,null,null,null,null,null,null,null,null,null,null,null,null,null,null,null,null,"",{"$f":"IF('Kollega oplysninger'!M397=\"\",\"\",'Kollega oplysninger'!M397)","v":""},null,null,null,null,"",null,"",null,null,null,"",""]
[null,{"$f":"IF('Kollega oplysninger'!B398=\"\",\"\",'Kollega oplysninger'!B398)","v":""},{"$f":"IF('Kollega oplysninger'!C398=\"\",\"\",'Kollega oplysninger'!C398)","v":""},null,null,{"$f":"IF('Kollega oplysninger'!I398=\"\",\"\",'Kollega oplysninger'!I398)","v":""},{"$f":"IF('Kollega oplysninger'!J398=\"\",\"\",'Kollega oplysninger'!J398)","v":""},{"$f":"IF('Kollega oplysninger'!L398=\"\",\"\",'Kollega oplysninger'!L398)","v":""},null,null,null,null,null,null,null,null,null,null,null,null,null,null,null,null,null,"",{"$f":"IF('Kollega oplysninger'!M398=\"\",\"\",'Kollega oplysninger'!M398)","v":""},null,null,null,null,"",null,"",null,null,null,"",""]
[null,{"$f":"IF('Kollega oplysninger'!B399=\"\",\"\",'Kollega oplysninger'!B399)","v":""},{"$f":"IF('Kollega oplysninger'!C399=\"\",\"\",'Kollega oplysninger'!C399)","v":""},null,null,{"$f":"IF('Kollega oplysninger'!I399=\"\",\"\",'Kollega oplysninger'!I399)","v":""},{"$f":"IF('Kollega oplysninger'!J399=\"\",\"\",'Kollega oplysninger'!J399)","v":""},{"$f":"IF('Kollega oplysninger'!L399=\"\",\"\",'Kollega oplysninger'!L399)","v":""},null,null,null,null,null,null,null,null,null,null,null,null,null,null,null,null,null,"",{"$f":"IF('Kollega oplysninger'!M399=\"\",\"\",'Kollega oplysninger'!M399)","v":""},null,null,null,null,"",null,"",null,null,null,"",""]
[null,{"$f":"IF('Kollega oplysninger'!B400=\"\",\"\",'Kollega oplysninger'!B400)","v":""},{"$f":"IF('Kollega oplysninger'!C400=\"\",\"\",'Kollega oplysninger'!C400)","v":""},null,null,{"$f":"IF('Kollega oplysninger'!I400=\"\",\"\",'Kollega oplysninger'!I400)","v":""},{"$f":"IF('Kollega oplysninger'!J400=\"\",\"\",'Kollega oplysninger'!J400)","v":""},{"$f":"IF('Kollega oplysninger'!L400=\"\",\"\",'Kollega oplysninger'!L400)","v":""},null,null,null,null,null,null,null,null,null,null,null,null,null,null,null,null,null,"",{"$f":"IF('Kollega oplysninger'!M400=\"\",\"\",'Kollega oplysninger'!M400)","v":""},null,null,null,null,"",null,"",null,null,null,"",""]
[null,{"$f":"IF('Kollega oplysninger'!B401=\"\",\"\",'Kollega oplysninger'!B401)","v":""},{"$f":"IF('Kollega oplysninger'!C401=\"\",\"\",'Kollega oplysninger'!C401)","v":""},null,null,{"$f":"IF('Kollega oplysninger'!I401=\"\",\"\",'Kollega oplysninger'!I401)","v":""},{"$f":"IF('Kollega oplysninger'!J401=\"\",\"\",'Kollega oplysninger'!J401)","v":""},{"$f":"IF('Kollega oplysninger'!L401=\"\",\"\",'Kollega oplysninger'!L401)","v":""},null,null,null,null,null,null,null,null,null,null,null,null,null,null,null,null,null,"",{"$f":"IF('Kollega oplysninger'!M401=\"\",\"\",'Kollega oplysninger'!M401)","v":""},null,null,null,null,"",null,"",null,null,null,"",""]
[null,{"$f":"IF('Kollega oplysninger'!B402=\"\",\"\",'Kollega oplysninger'!B402)","v":""},{"$f":"IF('Kollega oplysninger'!C402=\"\",\"\",'Kollega oplysninger'!C402)","v":""},null,null,{"$f":"IF('Kollega oplysninger'!I402=\"\",\"\",'Kollega oplysninger'!I402)","v":""},{"$f":"IF('Kollega oplysninger'!J402=\"\",\"\",'Kollega oplysninger'!J402)","v":""},{"$f":"IF('Kollega oplysninger'!L402=\"\",\"\",'Kollega oplysninger'!L402)","v":""},null,null,null,null,null,null,null,null,null,null,null,null,null,null,null,null,null,"",{"$f":"IF('Kollega oplysninger'!M402=\"\",\"\",'Kollega oplysninger'!M402)","v":""},null,null,null,null,"",null,"",null,null,null,"",""]
[null,{"$f":"IF('Kollega oplysninger'!B403=\"\",\"\",'Kollega oplysninger'!B403)","v":""},{"$f":"IF('Kollega oplysninger'!C403=\"\",\"\",'Kollega oplysninger'!C403)","v":""},null,null,{"$f":"IF('Kollega oplysninger'!I403=\"\",\"\",'Kollega oplysninger'!I403)","v":""},{"$f":"IF('Kollega oplysninger'!J403=\"\",\"\",'Kollega oplysninger'!J403)","v":""},{"$f":"IF('Kollega oplysninger'!L403=\"\",\"\",'Kollega oplysninger'!L403)","v":""},null,null,null,null,null,null,null,null,null,null,null,null,null,null,null,null,null,"",{"$f":"IF('Kollega oplysninger'!M403=\"\",\"\",'Kollega oplysninger'!M403)","v":""},null,null,null,null,"",null,"",null,null,null,"",""]
[null,{"$f":"IF('Kollega oplysninger'!B404=\"\",\"\",'Kollega oplysninger'!B404)","v":""},{"$f":"IF('Kollega oplysninger'!C404=\"\",\"\",'Kollega oplysninger'!C404)","v":""},null,null,{"$f":"IF('Kollega oplysninger'!I404=\"\",\"\",'Kollega oplysninger'!I404)","v":""},{"$f":"IF('Kollega oplysninger'!J404=\"\",\"\",'Kollega oplysninger'!J404)","v":""},{"$f":"IF('Kollega oplysninger'!L404=\"\",\"\",'Kollega oplysninger'!L404)","v":""},null,null,null,null,null,null,null,null,null,null,null,null,null,null,null,null,null,"",{"$f":"IF('Kollega oplysninger'!M404=\"\",\"\",'Kollega oplysninger'!M404)","v":""},null,null,null,null,"",null,"",null,null,null,"",""]
[null,{"$f":"IF('Kollega oplysninger'!B405=\"\",\"\",'Kollega oplysninger'!B405)","v":""},{"$f":"IF('Kollega oplysninger'!C405=\"\",\"\",'Kollega oplysninger'!C405)","v":""},null,null,{"$f":"IF('Kollega oplysninger'!I405=\"\",\"\",'Kollega oplysninger'!I405)","v":""},{"$f":"IF('Kollega oplysninger'!J405=\"\",\"\",'Kollega oplysninger'!J405)","v":""},{"$f":"IF('Kollega oplysninger'!L405=\"\",\"\",'Kollega oplysninger'!L405)","v":""},null,null,null,null,null,null,null,null,null,null,null,null,null,null,null,null,null,"",{"$f":"IF('Kollega oplysninger'!M405=\"\",\"\",'Kollega oplysninger'!M405)","v":""},null,null,null,null,"",null,"",null,null,null,"",""]
[null,{"$f":"IF('Kollega oplysninger'!B406=\"\",\"\",'Kollega oplysninger'!B406)","v":""},{"$f":"IF('Kollega oplysninger'!C406=\"\",\"\",'Kollega oplysninger'!C406)","v":""},null,null,{"$f":"IF('Kollega oplysninger'!I406=\"\",\"\",'Kollega oplysninger'!I406)","v":""},{"$f":"IF('Kollega oplysninger'!J406=\"\",\"\",'Kollega oplysninger'!J406)","v":""},{"$f":"IF('Kollega oplysninger'!L406=\"\",\"\",'Kollega oplysninger'!L406)","v":""},null,null,null,null,null,null,null,null,null,null,null,null,null,null,null,null,null,"",{"$f":"IF('Kollega oplysninger'!M406=\"\",\"\",'Kollega oplysninger'!M406)","v":""},null,null,null,null,"",null,"",null,null,null,"",""]
[null,{"$f":"IF('Kollega oplysninger'!B407=\"\",\"\",'Kollega oplysninger'!B407)","v":""},{"$f":"IF('Kollega oplysninger'!C407=\"\",\"\",'Kollega oplysninger'!C407)","v":""},null,null,{"$f":"IF('Kollega oplysninger'!I407=\"\",\"\",'Kollega oplysninger'!I407)","v":""},{"$f":"IF('Kollega oplysninger'!J407=\"\",\"\",'Kollega oplysninger'!J407)","v":""},{"$f":"IF('Kollega oplysninger'!L407=\"\",\"\",'Kollega oplysninger'!L407)","v":""},null,null,null,null,null,null,null,null,null,null,null,null,null,null,null,null,null,"",{"$f":"IF('Kollega oplysninger'!M407=\"\",\"\",'Kollega oplysninger'!M407)","v":""},null,null,null,null,"",null,"",null,null,null,"",""]
[null,{"$f":"IF('Kollega oplysninger'!B408=\"\",\"\",'Kollega oplysninger'!B408)","v":""},{"$f":"IF('Kollega oplysninger'!C408=\"\",\"\",'Kollega oplysninger'!C408)","v":""},null,null,{"$f":"IF('Kollega oplysninger'!I408=\"\",\"\",'Kollega oplysninger'!I408)","v":""},{"$f":"IF('Kollega oplysninger'!J408=\"\",\"\",'Kollega oplysninger'!J408)","v":""},{"$f":"IF('Kollega oplysninger'!L408=\"\",\"\",'Kollega oplysninger'!L408)","v":""},null,null,null,null,null,null,null,null,null,null,null,null,null,null,null,null,null,"",{"$f":"IF('Kollega oplysninger'!M408=\"\",\"\",'Kollega oplysninger'!M408)","v":""},null,null,null,null,"",null,"",null,null,null,"",""]
[null,{"$f":"IF('Kollega oplysninger'!B409=\"\",\"\",'Kollega oplysninger'!B409)","v":""},{"$f":"IF('Kollega oplysninger'!C409=\"\",\"\",'Kollega oplysninger'!C409)","v":""},null,null,{"$f":"IF('Kollega oplysninger'!I409=\"\",\"\",'Kollega oplysninger'!I409)","v":""},{"$f":"IF('Kollega oplysninger'!J409=\"\",\"\",'Kollega oplysninger'!J409)","v":""},{"$f":"IF('Kollega oplysninger'!L409=\"\",\"\",'Kollega oplysninger'!L409)","v":""},null,null,null,null,null,null,null,null,null,null,null,null,null,null,null,null,null,"",{"$f":"IF('Kollega oplysninger'!M409=\"\",\"\",'Kollega oplysninger'!M409)","v":""},null,null,null,null,"",null,"",null,null,null,"",""]
[null,{"$f":"IF('Kollega oplysninger'!B410=\"\",\"\",'Kollega oplysninger'!B410)","v":""},{"$f":"IF('Kollega oplysninger'!C410=\"\",\"\",'Kollega oplysninger'!C410)","v":""},null,null,{"$f":"IF('Kollega oplysninger'!I410=\"\",\"\",'Kollega oplysninger'!I410)","v":""},{"$f":"IF('Kollega oplysninger'!J410=\"\",\"\",'Kollega oplysninger'!J410)","v":""},{"$f":"IF('Kollega oplysninger'!L410=\"\",\"\",'Kollega oplysninger'!L410)","v":""},null,null,null,null,null,null,null,null,null,null,null,null,null,null,null,null,null,"",{"$f":"IF('Kollega oplysninger'!M410=\"\",\"\",'Kollega oplysninger'!M410)","v":""},null,null,null,null,"",null,"",null,null,null,"",""]
[null,{"$f":"IF('Kollega oplysninger'!B411=\"\",\"\",'Kollega oplysninger'!B411)","v":""},{"$f":"IF('Kollega oplysninger'!C411=\"\",\"\",'Kollega oplysninger'!C411)","v":""},null,null,{"$f":"IF('Kollega oplysninger'!I411=\"\",\"\",'Kollega oplysninger'!I411)","v":""},{"$f":"IF('Kollega oplysninger'!J411=\"\",\"\",'Kollega oplysninger'!J411)","v":""},{"$f":"IF('Kollega oplysninger'!L411=\"\",\"\",'Kollega oplysninger'!L411)","v":""},null,null,null,null,null,null,null,null,null,null,null,null,null,null,null,null,null,"",{"$f":"IF('Kollega oplysninger'!M411=\"\",\"\",'Kollega oplysninger'!M411)","v":""},null,null,null,null,"",null,"",null,null,null,"",""]
[null,{"$f":"IF('Kollega oplysninger'!B412=\"\",\"\",'Kollega oplysninger'!B412)","v":""},{"$f":"IF('Kollega oplysninger'!C412=\"\",\"\",'Kollega oplysninger'!C412)","v":""},null,null,{"$f":"IF('Kollega oplysninger'!I412=\"\",\"\",'Kollega oplysninger'!I412)","v":""},{"$f":"IF('Kollega oplysninger'!J412=\"\",\"\",'Kollega oplysninger'!J412)","v":""},{"$f":"IF('Kollega oplysninger'!L412=\"\",\"\",'Kollega oplysninger'!L412)","v":""},null,null,null,null,null,null,null,null,null,null,null,null,null,null,null,null,null,"",{"$f":"IF('Kollega oplysninger'!M412=\"\",\"\",'Kollega oplysninger'!M412)","v":""},null,null,null,null,"",null,"",null,null,null,"",""]
[null,{"$f":"IF('Kollega oplysninger'!B413=\"\",\"\",'Kollega oplysninger'!B413)","v":""},{"$f":"IF('Kollega oplysninger'!C413=\"\",\"\",'Kollega oplysninger'!C413)","v":""},null,null,{"$f":"IF('Kollega oplysninger'!I413=\"\",\"\",'Kollega oplysninger'!I413)","v":""},{"$f":"IF('Kollega oplysninger'!J413=\"\",\"\",'Kollega oplysninger'!J413)","v":""},{"$f":"IF('Kollega oplysninger'!L413=\"\",\"\",'Kollega oplysninger'!L413)","v":""},null,null,null,null,null,null,null,null,null,null,null,null,null,null,null,null,null,"",{"$f":"IF('Kollega oplysninger'!M413=\"\",\"\",'Kollega oplysninger'!M413)","v":""},null,null,null,null,"",null,"",null,null,null,"",""]
[null,{"$f":"IF('Kollega oplysninger'!B414=\"\",\"\",'Kollega oplysninger'!B414)","v":""},{"$f":"IF('Kollega oplysninger'!C414=\"\",\"\",'Kollega oplysninger'!C414)","v":""},null,null,{"$f":"IF('Kollega oplysninger'!I414=\"\",\"\",'Kollega oplysninger'!I414)","v":""},{"$f":"IF('Kollega oplysninger'!J414=\"\",\"\",'Kollega oplysninger'!J414)","v":""},{"$f":"IF('Kollega oplysninger'!L414=\"\",\"\",'Kollega oplysninger'!L414)","v":""},null,null,null,null,null,null,null,null,null,null,null,null,null,null,null,null,null,"",{"$f":"IF('Kollega oplysninger'!M414=\"\",\"\",'Kollega oplysninger'!M414)","v":""},null,null,null,null,"",null,"",null,null,null,"",""]
[null,{"$f":"IF('Kollega oplysninger'!B415=\"\",\"\",'Kollega oplysninger'!B415)","v":""},{"$f":"IF('Kollega oplysninger'!C415=\"\",\"\",'Kollega oplysninger'!C415)","v":""},null,null,{"$f":"IF('Kollega oplysninger'!I415=\"\",\"\",'Kollega oplysninger'!I415)","v":""},{"$f":"IF('Kollega oplysninger'!J415=\"\",\"\",'Kollega oplysninger'!J415)","v":""},{"$f":"IF('Kollega oplysninger'!L415=\"\",\"\",'Kollega oplysninger'!L415)","v":""},null,null,null,null,null,null,null,null,null,null,null,null,null,null,null,null,null,"",{"$f":"IF('Kollega oplysninger'!M415=\"\",\"\",'Kollega oplysninger'!M415)","v":""},null,null,null,null,"",null,"",null,null,null,"",""]
[null,{"$f":"IF('Kollega oplysninger'!B416=\"\",\"\",'Kollega oplysninger'!B416)","v":""},{"$f":"IF('Kollega oplysninger'!C416=\"\",\"\",'Kollega oplysninger'!C416)","v":""},null,null,{"$f":"IF('Kollega oplysninger'!I416=\"\",\"\",'Kollega oplysninger'!I416)","v":""},{"$f":"IF('Kollega oplysninger'!J416=\"\",\"\",'Kollega oplysninger'!J416)","v":""},{"$f":"IF('Kollega oplysninger'!L416=\"\",\"\",'Kollega oplysninger'!L416)","v":""},null,null,null,null,null,null,null,null,null,null,null,null,null,null,null,null,null,"",{"$f":"IF('Kollega oplysninger'!M416=\"\",\"\",'Kollega oplysninger'!M416)","v":""},null,null,null,null,"",null,"",null,null,null,"",""]
[null,{"$f":"IF('Kollega oplysninger'!B417=\"\",\"\",'Kollega oplysninger'!B417)","v":""},{"$f":"IF('Kollega oplysninger'!C417=\"\",\"\",'Kollega oplysninger'!C417)","v":""},null,null,{"$f":"IF('Kollega oplysninger'!I417=\"\",\"\",'Kollega oplysninger'!I417)","v":""},{"$f":"IF('Kollega oplysninger'!J417=\"\",\"\",'Kollega oplysninger'!J417)","v":""},{"$f":"IF('Kollega oplysninger'!L417=\"\",\"\",'Kollega oplysninger'!L417)","v":""},null,null,null,null,null,null,null,null,null,null,null,null,null,null,null,null,null,"",{"$f":"IF('Kollega oplysninger'!M417=\"\",\"\",'Kollega oplysninger'!M417)","v":""},null,null,null,null,"",null,"",null,null,null,"",""]
[null,{"$f":"IF('Kollega oplysninger'!B418=\"\",\"\",'Kollega oplysninger'!B418)","v":""},{"$f":"IF('Kollega oplysninger'!C418=\"\",\"\",'Kollega oplysninger'!C418)","v":""},null,null,{"$f":"IF('Kollega oplysninger'!I418=\"\",\"\",'Kollega oplysninger'!I418)","v":""},{"$f":"IF('Kollega oplysninger'!J418=\"\",\"\",'Kollega oplysninger'!J418)","v":""},{"$f":"IF('Kollega oplysninger'!L418=\"\",\"\",'Kollega oplysninger'!L418)","v":""},null,null,null,null,null,null,null,null,null,null,null,null,null,null,null,null,null,"",{"$f":"IF('Kollega oplysninger'!M418=\"\",\"\",'Kollega oplysninger'!M418)","v":""},null,null,null,null,"",null,"",null,null,null,"",""]
[null,{"$f":"IF('Kollega oplysninger'!B419=\"\",\"\",'Kollega oplysninger'!B419)","v":""},{"$f":"IF('Kollega oplysninger'!C419=\"\",\"\",'Kollega oplysninger'!C419)","v":""},null,null,{"$f":"IF('Kollega oplysninger'!I419=\"\",\"\",'Kollega oplysninger'!I419)","v":""},{"$f":"IF('Kollega oplysninger'!J419=\"\",\"\",'Kollega oplysninger'!J419)","v":""},{"$f":"IF('Kollega oplysninger'!L419=\"\",\"\",'Kollega oplysninger'!L419)","v":""},null,null,null,null,null,null,null,null,null,null,null,null,null,null,null,null,null,"",{"$f":"IF('Kollega oplysninger'!M419=\"\",\"\",'Kollega oplysninger'!M419)","v":""},null,null,null,null,"",null,"",null,null,null,"",""]
[null,{"$f":"IF('Kollega oplysninger'!B420=\"\",\"\",'Kollega oplysninger'!B420)","v":""},{"$f":"IF('Kollega oplysninger'!C420=\"\",\"\",'Kollega oplysninger'!C420)","v":""},null,null,{"$f":"IF('Kollega oplysninger'!I420=\"\",\"\",'Kollega oplysninger'!I420)","v":""},{"$f":"IF('Kollega oplysninger'!J420=\"\",\"\",'Kollega oplysninger'!J420)","v":""},{"$f":"IF('Kollega oplysninger'!L420=\"\",\"\",'Kollega oplysninger'!L420)","v":""},null,null,null,null,null,null,null,null,null,null,null,null,null,null,null,null,null,"",{"$f":"IF('Kollega oplysninger'!M420=\"\",\"\",'Kollega oplysninger'!M420)","v":""},null,null,null,null,"",null,"",null,null,null,"",""]
[null,{"$f":"IF('Kollega oplysninger'!B421=\"\",\"\",'Kollega oplysninger'!B421)","v":""},{"$f":"IF('Kollega oplysninger'!C421=\"\",\"\",'Kollega oplysninger'!C421)","v":""},null,null,{"$f":"IF('Kollega oplysninger'!I421=\"\",\"\",'Kollega oplysninger'!I421)","v":""},{"$f":"IF('Kollega oplysninger'!J421=\"\",\"\",'Kollega oplysninger'!J421)","v":""},{"$f":"IF('Kollega oplysninger'!L421=\"\",\"\",'Kollega oplysninger'!L421)","v":""},null,null,null,null,null,null,null,null,null,null,null,null,null,null,null,null,null,"",{"$f":"IF('Kollega oplysninger'!M421=\"\",\"\",'Kollega oplysninger'!M421)","v":""},null,null,null,null,"",null,"",null,null,null,"",""]
[null,{"$f":"IF('Kollega oplysninger'!B422=\"\",\"\",'Kollega oplysninger'!B422)","v":""},{"$f":"IF('Kollega oplysninger'!C422=\"\",\"\",'Kollega oplysninger'!C422)","v":""},null,null,{"$f":"IF('Kollega oplysninger'!I422=\"\",\"\",'Kollega oplysninger'!I422)","v":""},{"$f":"IF('Kollega oplysninger'!J422=\"\",\"\",'Kollega oplysninger'!J422)","v":""},{"$f":"IF('Kollega oplysninger'!L422=\"\",\"\",'Kollega oplysninger'!L422)","v":""},null,null,null,null,null,null,null,null,null,null,null,null,null,null,null,null,null,"",{"$f":"IF('Kollega oplysninger'!M422=\"\",\"\",'Kollega oplysninger'!M422)","v":""},null,null,null,null,"",null,"",null,null,null,"",""]
[null,{"$f":"IF('Kollega oplysninger'!B423=\"\",\"\",'Kollega oplysninger'!B423)","v":""},{"$f":"IF('Kollega oplysninger'!C423=\"\",\"\",'Kollega oplysninger'!C423)","v":""},null,null,{"$f":"IF('Kollega oplysninger'!I423=\"\",\"\",'Kollega oplysninger'!I423)","v":""},{"$f":"IF('Kollega oplysninger'!J423=\"\",\"\",'Kollega oplysninger'!J423)","v":""},{"$f":"IF('Kollega oplysninger'!L423=\"\",\"\",'Kollega oplysninger'!L423)","v":""},null,null,null,null,null,null,null,null,null,null,null,null,null,null,null,null,null,"",{"$f":"IF('Kollega oplysninger'!M423=\"\",\"\",'Kollega oplysninger'!M423)","v":""},null,null,null,null,"",null,"",null,null,null,"",""]
[null,{"$f":"IF('Kollega oplysninger'!B424=\"\",\"\",'Kollega oplysninger'!B424)","v":""},{"$f":"IF('Kollega oplysninger'!C424=\"\",\"\",'Kollega oplysninger'!C424)","v":""},null,null,{"$f":"IF('Kollega oplysninger'!I424=\"\",\"\",'Kollega oplysninger'!I424)","v":""},{"$f":"IF('Kollega oplysninger'!J424=\"\",\"\",'Kollega oplysninger'!J424)","v":""},{"$f":"IF('Kollega oplysninger'!L424=\"\",\"\",'Kollega oplysninger'!L424)","v":""},null,null,null,null,null,null,null,null,null,null,null,null,null,null,null,null,null,"",{"$f":"IF('Kollega oplysninger'!M424=\"\",\"\",'Kollega oplysninger'!M424)","v":""},null,null,null,null,"",null,"",null,null,null,"",""]
[null,{"$f":"IF('Kollega oplysninger'!B425=\"\",\"\",'Kollega oplysninger'!B425)","v":""},{"$f":"IF('Kollega oplysninger'!C425=\"\",\"\",'Kollega oplysninger'!C425)","v":""},null,null,{"$f":"IF('Kollega oplysninger'!I425=\"\",\"\",'Kollega oplysninger'!I425)","v":""},{"$f":"IF('Kollega oplysninger'!J425=\"\",\"\",'Kollega oplysninger'!J425)","v":""},{"$f":"IF('Kollega oplysninger'!L425=\"\",\"\",'Kollega oplysninger'!L425)","v":""},null,null,null,null,null,null,null,null,null,null,null,null,null,null,null,null,null,"",{"$f":"IF('Kollega oplysninger'!M425=\"\",\"\",'Kollega oplysninger'!M425)","v":""},null,null,null,null,"",null,"",null,null,null,"",""]
[null,{"$f":"IF('Kollega oplysninger'!B426=\"\",\"\",'Kollega oplysninger'!B426)","v":""},{"$f":"IF('Kollega oplysninger'!C426=\"\",\"\",'Kollega oplysninger'!C426)","v":""},null,null,{"$f":"IF('Kollega oplysninger'!I426=\"\",\"\",'Kollega oplysninger'!I426)","v":""},{"$f":"IF('Kollega oplysninger'!J426=\"\",\"\",'Kollega oplysninger'!J426)","v":""},{"$f":"IF('Kollega oplysninger'!L426=\"\",\"\",'Kollega oplysninger'!L426)","v":""},null,null,null,null,null,null,null,null,null,null,null,null,null,null,null,null,null,"",{"$f":"IF('Kollega oplysninger'!M426=\"\",\"\",'Kollega oplysninger'!M426)","v":""},null,null,null,null,"",null,"",null,null,null,"",""]
[null,{"$f":"IF('Kollega oplysninger'!B427=\"\",\"\",'Kollega oplysninger'!B427)","v":""},{"$f":"IF('Kollega oplysninger'!C427=\"\",\"\",'Kollega oplysninger'!C427)","v":""},null,null,{"$f":"IF('Kollega oplysninger'!I427=\"\",\"\",'Kollega oplysninger'!I427)","v":""},{"$f":"IF('Kollega oplysninger'!J427=\"\",\"\",'Kollega oplysninger'!J427)","v":""},{"$f":"IF('Kollega oplysninger'!L427=\"\",\"\",'Kollega oplysninger'!L427)","v":""},null,null,null,null,null,null,null,null,null,null,null,null,null,null,null,null,null,"",{"$f":"IF('Kollega oplysninger'!M427=\"\",\"\",'Kollega oplysninger'!M427)","v":""},null,null,null,null,"",null,"",null,null,null,"",""]
[null,{"$f":"IF('Kollega oplysninger'!B428=\"\",\"\",'Kollega oplysninger'!B428)","v":""},{"$f":"IF('Kollega oplysninger'!C428=\"\",\"\",'Kollega oplysninger'!C428)","v":""},null,null,{"$f":"IF('Kollega oplysninger'!I428=\"\",\"\",'Kollega oplysninger'!I428)","v":""},{"$f":"IF('Kollega oplysninger'!J428=\"\",\"\",'Kollega oplysninger'!J428)","v":""},{"$f":"IF('Kollega oplysninger'!L428=\"\",\"\",'Kollega oplysninger'!L428)","v":""},null,null,null,null,null,null,null,null,null,null,null,null,null,null,null,null,null,"",{"$f":"IF('Kollega oplysninger'!M428=\"\",\"\",'Kollega oplysninger'!M428)","v":""},null,null,null,null,"",null,"",null,null,null,"",""]
[null,{"$f":"IF('Kollega oplysninger'!B429=\"\",\"\",'Kollega oplysninger'!B429)","v":""},{"$f":"IF('Kollega oplysninger'!C429=\"\",\"\",'Kollega oplysninger'!C429)","v":""},null,null,{"$f":"IF('Kollega oplysninger'!I429=\"\",\"\",'Kollega oplysninger'!I429)","v":""},{"$f":"IF('Kollega oplysninger'!J429=\"\",\"\",'Kollega oplysninger'!J429)","v":""},{"$f":"IF('Kollega oplysninger'!L429=\"\",\"\",'Kollega oplysninger'!L429)","v":""},null,null,null,null,null,null,null,null,null,null,null,null,null,null,null,null,null,"",{"$f":"IF('Kollega oplysninger'!M429=\"\",\"\",'Kollega oplysninger'!M429)","v":""},null,null,null,null,"",null,"",null,null,null,"",""]
[null,{"$f":"IF('Kollega oplysninger'!B430=\"\",\"\",'Kollega oplysninger'!B430)","v":""},{"$f":"IF('Kollega oplysninger'!C430=\"\",\"\",'Kollega oplysninger'!C430)","v":""},null,null,{"$f":"IF('Kollega oplysninger'!I430=\"\",\"\",'Kollega oplysninger'!I430)","v":""},{"$f":"IF('Kollega oplysninger'!J430=\"\",\"\",'Kollega oplysninger'!J430)","v":""},{"$f":"IF('Kollega oplysninger'!L430=\"\",\"\",'Kollega oplysninger'!L430)","v":""},null,null,null,null,null,null,null,null,null,null,null,null,null,null,null,null,null,"",{"$f":"IF('Kollega oplysninger'!M430=\"\",\"\",'Kollega oplysninger'!M430)","v":""},null,null,null,null,"",null,"",null,null,null,"",""]
[null,{"$f":"IF('Kollega oplysninger'!B431=\"\",\"\",'Kollega oplysninger'!B431)","v":""},{"$f":"IF('Kollega oplysninger'!C431=\"\",\"\",'Kollega oplysninger'!C431)","v":""},null,null,{"$f":"IF('Kollega oplysninger'!I431=\"\",\"\",'Kollega oplysninger'!I431)","v":""},{"$f":"IF('Kollega oplysninger'!J431=\"\",\"\",'Kollega oplysninger'!J431)","v":""},{"$f":"IF('Kollega oplysninger'!L431=\"\",\"\",'Kollega oplysninger'!L431)","v":""},null,null,null,null,null,null,null,null,null,null,null,null,null,null,null,null,null,"",{"$f":"IF('Kollega oplysninger'!M431=\"\",\"\",'Kollega oplysninger'!M431)","v":""},null,null,null,null,"",null,"",null,null,null,"",""]
[null,{"$f":"IF('Kollega oplysninger'!B432=\"\",\"\",'Kollega oplysninger'!B432)","v":""},{"$f":"IF('Kollega oplysninger'!C432=\"\",\"\",'Kollega oplysninger'!C432)","v":""},null,null,{"$f":"IF('Kollega oplysninger'!I432=\"\",\"\",'Kollega oplysninger'!I432)","v":""},{"$f":"IF('Kollega oplysninger'!J432=\"\",\"\",'Kollega oplysninger'!J432)","v":""},{"$f":"IF('Kollega oplysninger'!L432=\"\",\"\",'Kollega oplysninger'!L432)","v":""},null,null,null,null,null,null,null,null,null,null,null,null,null,null,null,null,null,"",{"$f":"IF('Kollega oplysninger'!M432=\"\",\"\",'Kollega oplysninger'!M432)","v":""},null,null,null,null,"",null,"",null,null,null,"",""]
[null,{"$f":"IF('Kollega oplysninger'!B433=\"\",\"\",'Kollega oplysninger'!B433)","v":""},{"$f":"IF('Kollega oplysninger'!C433=\"\",\"\",'Kollega oplysninger'!C433)","v":""},null,null,{"$f":"IF('Kollega oplysninger'!I433=\"\",\"\",'Kollega oplysninger'!I433)","v":""},{"$f":"IF('Kollega oplysninger'!J433=\"\",\"\",'Kollega oplysninger'!J433)","v":""},{"$f":"IF('Kollega oplysninger'!L433=\"\",\"\",'Kollega oplysninger'!L433)","v":""},null,null,null,null,null,null,null,null,null,null,null,null,null,null,null,null,null,"",{"$f":"IF('Kollega oplysninger'!M433=\"\",\"\",'Kollega oplysninger'!M433)","v":""},null,null,null,null,"",null,"",null,null,null,"",""]
[null,{"$f":"IF('Kollega oplysninger'!B434=\"\",\"\",'Kollega oplysninger'!B434)","v":""},{"$f":"IF('Kollega oplysninger'!C434=\"\",\"\",'Kollega oplysninger'!C434)","v":""},null,null,{"$f":"IF('Kollega oplysninger'!I434=\"\",\"\",'Kollega oplysninger'!I434)","v":""},{"$f":"IF('Kollega oplysninger'!J434=\"\",\"\",'Kollega oplysninger'!J434)","v":""},{"$f":"IF('Kollega oplysninger'!L434=\"\",\"\",'Kollega oplysninger'!L434)","v":""},null,null,null,null,null,null,null,null,null,null,null,null,null,null,null,null,null,"",{"$f":"IF('Kollega oplysninger'!M434=\"\",\"\",'Kollega oplysninger'!M434)","v":""},null,null,null,null,"",null,"",null,null,null,"",""]
[null,{"$f":"IF('Kollega oplysninger'!B435=\"\",\"\",'Kollega oplysninger'!B435)","v":""},{"$f":"IF('Kollega oplysninger'!C435=\"\",\"\",'Kollega oplysninger'!C435)","v":""},null,null,{"$f":"IF('Kollega oplysninger'!I435=\"\",\"\",'Kollega oplysninger'!I435)","v":""},{"$f":"IF('Kollega oplysninger'!J435=\"\",\"\",'Kollega oplysninger'!J435)","v":""},{"$f":"IF('Kollega oplysninger'!L435=\"\",\"\",'Kollega oplysninger'!L435)","v":""},null,null,null,null,null,null,null,null,null,null,null,null,null,null,null,null,null,"",{"$f":"IF('Kollega oplysninger'!M435=\"\",\"\",'Kollega oplysninger'!M435)","v":""},null,null,null,null,"",null,"",null,null,null,"",""]
[null,{"$f":"IF('Kollega oplysninger'!B436=\"\",\"\",'Kollega oplysninger'!B436)","v":""},{"$f":"IF('Kollega oplysninger'!C436=\"\",\"\",'Kollega oplysninger'!C436)","v":""},null,null,{"$f":"IF('Kollega oplysninger'!I436=\"\",\"\",'Kollega oplysninger'!I436)","v":""},{"$f":"IF('Kollega oplysninger'!J436=\"\",\"\",'Kollega oplysninger'!J436)","v":""},{"$f":"IF('Kollega oplysninger'!L436=\"\",\"\",'Kollega oplysninger'!L436)","v":""},null,null,null,null,null,null,null,null,null,null,null,null,null,null,null,null,null,"",{"$f":"IF('Kollega oplysninger'!M436=\"\",\"\",'Kollega oplysninger'!M436)","v":""},null,null,null,null,"",null,"",null,null,null,"",""]
[null,{"$f":"IF('Kollega oplysninger'!B437=\"\",\"\",'Kollega oplysninger'!B437)","v":""},{"$f":"IF('Kollega oplysninger'!C437=\"\",\"\",'Kollega oplysninger'!C437)","v":""},null,null,{"$f":"IF('Kollega oplysninger'!I437=\"\",\"\",'Kollega oplysninger'!I437)","v":""},{"$f":"IF('Kollega oplysninger'!J437=\"\",\"\",'Kollega oplysninger'!J437)","v":""},{"$f":"IF('Kollega oplysninger'!L437=\"\",\"\",'Kollega oplysninger'!L437)","v":""},null,null,null,null,null,null,null,null,null,null,null,null,null,null,null,null,null,"",{"$f":"IF('Kollega oplysninger'!M437=\"\",\"\",'Kollega oplysninger'!M437)","v":""},null,null,null,null,"",null,"",null,null,null,"",""]
[null,{"$f":"IF('Kollega oplysninger'!B438=\"\",\"\",'Kollega oplysninger'!B438)","v":""},{"$f":"IF('Kollega oplysninger'!C438=\"\",\"\",'Kollega oplysninger'!C438)","v":""},null,null,{"$f":"IF('Kollega oplysninger'!I438=\"\",\"\",'Kollega oplysninger'!I438)","v":""},{"$f":"IF('Kollega oplysninger'!J438=\"\",\"\",'Kollega oplysninger'!J438)","v":""},{"$f":"IF('Kollega oplysninger'!L438=\"\",\"\",'Kollega oplysninger'!L438)","v":""},null,null,null,null,null,null,null,null,null,null,null,null,null,null,null,null,null,"",{"$f":"IF('Kollega oplysninger'!M438=\"\",\"\",'Kollega oplysninger'!M438)","v":""},null,null,null,null,"",null,"",null,null,null,"",""]
[null,{"$f":"IF('Kollega oplysninger'!B439=\"\",\"\",'Kollega oplysninger'!B439)","v":""},{"$f":"IF('Kollega oplysninger'!C439=\"\",\"\",'Kollega oplysninger'!C439)","v":""},null,null,{"$f":"IF('Kollega oplysninger'!I439=\"\",\"\",'Kollega oplysninger'!I439)","v":""},{"$f":"IF('Kollega oplysninger'!J439=\"\",\"\",'Kollega oplysninger'!J439)","v":""},{"$f":"IF('Kollega oplysninger'!L439=\"\",\"\",'Kollega oplysninger'!L439)","v":""},null,null,null,null,null,null,null,null,null,null,null,null,null,null,null,null,null,"",{"$f":"IF('Kollega oplysninger'!M439=\"\",\"\",'Kollega oplysninger'!M439)","v":""},null,null,null,null,"",null,"",null,null,null,"",""]
[null,{"$f":"IF('Kollega oplysninger'!B440=\"\",\"\",'Kollega oplysninger'!B440)","v":""},{"$f":"IF('Kollega oplysninger'!C440=\"\",\"\",'Kollega oplysninger'!C440)","v":""},null,null,{"$f":"IF('Kollega oplysninger'!I440=\"\",\"\",'Kollega oplysninger'!I440)","v":""},{"$f":"IF('Kollega oplysninger'!J440=\"\",\"\",'Kollega oplysninger'!J440)","v":""},{"$f":"IF('Kollega oplysninger'!L440=\"\",\"\",'Kollega oplysninger'!L440)","v":""},null,null,null,null,null,null,null,null,null,null,null,null,null,null,null,null,null,"",{"$f":"IF('Kollega oplysninger'!M440=\"\",\"\",'Kollega oplysninger'!M440)","v":""},null,null,null,null,"",null,"",null,null,null,"",""]
[null,{"$f":"IF('Kollega oplysninger'!B441=\"\",\"\",'Kollega oplysninger'!B441)","v":""},{"$f":"IF('Kollega oplysninger'!C441=\"\",\"\",'Kollega oplysninger'!C441)","v":""},null,null,{"$f":"IF('Kollega oplysninger'!I441=\"\",\"\",'Kollega oplysninger'!I441)","v":""},{"$f":"IF('Kollega oplysninger'!J441=\"\",\"\",'Kollega oplysninger'!J441)","v":""},{"$f":"IF('Kollega oplysninger'!L441=\"\",\"\",'Kollega oplysninger'!L441)","v":""},null,null,null,null,null,null,null,null,null,null,null,null,null,null,null,null,null,"",{"$f":"IF('Kollega oplysninger'!M441=\"\",\"\",'Kollega oplysninger'!M441)","v":""},null,null,null,null,"",null,"",null,null,null,"",""]
[null,{"$f":"IF('Kollega oplysninger'!B442=\"\",\"\",'Kollega oplysninger'!B442)","v":""},{"$f":"IF('Kollega oplysninger'!C442=\"\",\"\",'Kollega oplysninger'!C442)","v":""},null,null,{"$f":"IF('Kollega oplysninger'!I442=\"\",\"\",'Kollega oplysninger'!I442)","v":""},{"$f":"IF('Kollega oplysninger'!J442=\"\",\"\",'Kollega oplysninger'!J442)","v":""},{"$f":"IF('Kollega oplysninger'!L442=\"\",\"\",'Kollega oplysninger'!L442)","v":""},null,null,null,null,null,null,null,null,null,null,null,null,null,null,null,null,null,"",{"$f":"IF('Kollega oplysninger'!M442=\"\",\"\",'Kollega oplysninger'!M442)","v":""},null,null,null,null,"",null,"",null,null,null,"",""]
[null,{"$f":"IF('Kollega oplysninger'!B443=\"\",\"\",'Kollega oplysninger'!B443)","v":""},{"$f":"IF('Kollega oplysninger'!C443=\"\",\"\",'Kollega oplysninger'!C443)","v":""},null,null,{"$f":"IF('Kollega oplysninger'!I443=\"\",\"\",'Kollega oplysninger'!I443)","v":""},{"$f":"IF('Kollega oplysninger'!J443=\"\",\"\",'Kollega oplysninger'!J443)","v":""},{"$f":"IF('Kollega oplysninger'!L443=\"\",\"\",'Kollega oplysninger'!L443)","v":""},null,null,null,null,null,null,null,null,null,null,null,null,null,null,null,null,null,"",{"$f":"IF('Kollega oplysninger'!M443=\"\",\"\",'Kollega oplysninger'!M443)","v":""},null,null,null,null,"",null,"",null,null,null,"",""]
[null,{"$f":"IF('Kollega oplysninger'!B444=\"\",\"\",'Kollega oplysninger'!B444)","v":""},{"$f":"IF('Kollega oplysninger'!C444=\"\",\"\",'Kollega oplysninger'!C444)","v":""},null,null,{"$f":"IF('Kollega oplysninger'!I444=\"\",\"\",'Kollega oplysninger'!I444)","v":""},{"$f":"IF('Kollega oplysninger'!J444=\"\",\"\",'Kollega oplysninger'!J444)","v":""},{"$f":"IF('Kollega oplysninger'!L444=\"\",\"\",'Kollega oplysninger'!L444)","v":""},null,null,null,null,null,null,null,null,null,null,null,null,null,null,null,null,null,"",{"$f":"IF('Kollega oplysninger'!M444=\"\",\"\",'Kollega oplysninger'!M444)","v":""},null,null,null,null,"",null,"",null,null,null,"",""]
[null,{"$f":"IF('Kollega oplysninger'!B445=\"\",\"\",'Kollega oplysninger'!B445)","v":""},{"$f":"IF('Kollega oplysninger'!C445=\"\",\"\",'Kollega oplysninger'!C445)","v":""},null,null,{"$f":"IF('Kollega oplysninger'!I445=\"\",\"\",'Kollega oplysninger'!I445)","v":""},{"$f":"IF('Kollega oplysninger'!J445=\"\",\"\",'Kollega oplysninger'!J445)","v":""},{"$f":"IF('Kollega oplysninger'!L445=\"\",\"\",'Kollega oplysninger'!L445)","v":""},null,null,null,null,null,null,null,null,null,null,null,null,null,null,null,null,null,"",{"$f":"IF('Kollega oplysninger'!M445=\"\",\"\",'Kollega oplysninger'!M445)","v":""},null,null,null,null,"",null,"",null,null,null,"",""]
[null,{"$f":"IF('Kollega oplysninger'!B446=\"\",\"\",'Kollega oplysninger'!B446)","v":""},{"$f":"IF('Kollega oplysninger'!C446=\"\",\"\",'Kollega oplysninger'!C446)","v":""},null,null,{"$f":"IF('Kollega oplysninger'!I446=\"\",\"\",'Kollega oplysninger'!I446)","v":""},{"$f":"IF('Kollega oplysninger'!J446=\"\",\"\",'Kollega oplysninger'!J446)","v":""},{"$f":"IF('Kollega oplysninger'!L446=\"\",\"\",'Kollega oplysninger'!L446)","v":""},null,null,null,null,null,null,null,null,null,null,null,null,null,null,null,null,null,"",{"$f":"IF('Kollega oplysninger'!M446=\"\",\"\",'Kollega oplysninger'!M446)","v":""},null,null,null,null,"",null,"",null,null,null,"",""]
[null,{"$f":"IF('Kollega oplysninger'!B447=\"\",\"\",'Kollega oplysninger'!B447)","v":""},{"$f":"IF('Kollega oplysninger'!C447=\"\",\"\",'Kollega oplysninger'!C447)","v":""},null,null,{"$f":"IF('Kollega oplysninger'!I447=\"\",\"\",'Kollega oplysninger'!I447)","v":""},{"$f":"IF('Kollega oplysninger'!J447=\"\",\"\",'Kollega oplysninger'!J447)","v":""},{"$f":"IF('Kollega oplysninger'!L447=\"\",\"\",'Kollega oplysninger'!L447)","v":""},null,null,null,null,null,null,null,null,null,null,null,null,null,null,null,null,null,"",{"$f":"IF('Kollega oplysninger'!M447=\"\",\"\",'Kollega oplysninger'!M447)","v":""},null,null,null,null,"",null,"",null,null,null,"",""]
[null,{"$f":"IF('Kollega oplysninger'!B448=\"\",\"\",'Kollega oplysninger'!B448)","v":""},{"$f":"IF('Kollega oplysninger'!C448=\"\",\"\",'Kollega oplysninger'!C448)","v":""},null,null,{"$f":"IF('Kollega oplysninger'!I448=\"\",\"\",'Kollega oplysninger'!I448)","v":""},{"$f":"IF('Kollega oplysninger'!J448=\"\",\"\",'Kollega oplysninger'!J448)","v":""},{"$f":"IF('Kollega oplysninger'!L448=\"\",\"\",'Kollega oplysninger'!L448)","v":""},null,null,null,null,null,null,null,null,null,null,null,null,null,null,null,null,null,"",{"$f":"IF('Kollega oplysninger'!M448=\"\",\"\",'Kollega oplysninger'!M448)","v":""},null,null,null,null,"",null,"",null,null,null,"",""]
[null,{"$f":"IF('Kollega oplysninger'!B449=\"\",\"\",'Kollega oplysninger'!B449)","v":""},{"$f":"IF('Kollega oplysninger'!C449=\"\",\"\",'Kollega oplysninger'!C449)","v":""},null,null,{"$f":"IF('Kollega oplysninger'!I449=\"\",\"\",'Kollega oplysninger'!I449)","v":""},{"$f":"IF('Kollega oplysninger'!J449=\"\",\"\",'Kollega oplysninger'!J449)","v":""},{"$f":"IF('Kollega oplysninger'!L449=\"\",\"\",'Kollega oplysninger'!L449)","v":""},null,null,null,null,null,null,null,null,null,null,null,null,null,null,null,null,null,"",{"$f":"IF('Kollega oplysninger'!M449=\"\",\"\",'Kollega oplysninger'!M449)","v":""},null,null,null,null,"",null,"",null,null,null,"",""]
[null,{"$f":"IF('Kollega oplysninger'!B450=\"\",\"\",'Kollega oplysninger'!B450)","v":""},{"$f":"IF('Kollega oplysninger'!C450=\"\",\"\",'Kollega oplysninger'!C450)","v":""},null,null,{"$f":"IF('Kollega oplysninger'!I450=\"\",\"\",'Kollega oplysninger'!I450)","v":""},{"$f":"IF('Kollega oplysninger'!J450=\"\",\"\",'Kollega oplysninger'!J450)","v":""},{"$f":"IF('Kollega oplysninger'!L450=\"\",\"\",'Kollega oplysninger'!L450)","v":""},null,null,null,null,null,null,null,null,null,null,null,null,null,null,null,null,null,"",{"$f":"IF('Kollega oplysninger'!M450=\"\",\"\",'Kollega oplysninger'!M450)","v":""},null,null,null,null,"",null,"",null,null,null,"",""]
[null,{"$f":"IF('Kollega oplysninger'!B451=\"\",\"\",'Kollega oplysninger'!B451)","v":""},{"$f":"IF('Kollega oplysninger'!C451=\"\",\"\",'Kollega oplysninger'!C451)","v":""},null,null,{"$f":"IF('Kollega oplysninger'!I451=\"\",\"\",'Kollega oplysninger'!I451)","v":""},{"$f":"IF('Kollega oplysninger'!J451=\"\",\"\",'Kollega oplysninger'!J451)","v":""},{"$f":"IF('Kollega oplysninger'!L451=\"\",\"\",'Kollega oplysninger'!L451)","v":""},null,null,null,null,null,null,null,null,null,null,null,null,null,null,null,null,null,"",{"$f":"IF('Kollega oplysninger'!M451=\"\",\"\",'Kollega oplysninger'!M451)","v":""},null,null,null,null,"",null,"",null,null,null,"",""]
[null,{"$f":"IF('Kollega oplysninger'!B452=\"\",\"\",'Kollega oplysninger'!B452)","v":""},{"$f":"IF('Kollega oplysninger'!C452=\"\",\"\",'Kollega oplysninger'!C452)","v":""},null,null,{"$f":"IF('Kollega oplysninger'!I452=\"\",\"\",'Kollega oplysninger'!I452)","v":""},{"$f":"IF('Kollega oplysninger'!J452=\"\",\"\",'Kollega oplysninger'!J452)","v":""},{"$f":"IF('Kollega oplysninger'!L452=\"\",\"\",'Kollega oplysninger'!L452)","v":""},null,null,null,null,null,null,null,null,null,null,null,null,null,null,null,null,null,"",{"$f":"IF('Kollega oplysninger'!M452=\"\",\"\",'Kollega oplysninger'!M452)","v":""},null,null,null,null,"",null,"",null,null,null,"",""]
[null,{"$f":"IF('Kollega oplysninger'!B453=\"\",\"\",'Kollega oplysninger'!B453)","v":""},{"$f":"IF('Kollega oplysninger'!C453=\"\",\"\",'Kollega oplysninger'!C453)","v":""},null,null,{"$f":"IF('Kollega oplysninger'!I453=\"\",\"\",'Kollega oplysninger'!I453)","v":""},{"$f":"IF('Kollega oplysninger'!J453=\"\",\"\",'Kollega oplysninger'!J453)","v":""},{"$f":"IF('Kollega oplysninger'!L453=\"\",\"\",'Kollega oplysninger'!L453)","v":""},null,null,null,null,null,null,null,null,null,null,null,null,null,null,null,null,null,"",{"$f":"IF('Kollega oplysninger'!M453=\"\",\"\",'Kollega oplysninger'!M453)","v":""},null,null,null,null,"",null,"",null,null,null,"",""]
[null,{"$f":"IF('Kollega oplysninger'!B454=\"\",\"\",'Kollega oplysninger'!B454)","v":""},{"$f":"IF('Kollega oplysninger'!C454=\"\",\"\",'Kollega oplysninger'!C454)","v":""},null,null,{"$f":"IF('Kollega oplysninger'!I454=\"\",\"\",'Kollega oplysninger'!I454)","v":""},{"$f":"IF('Kollega oplysninger'!J454=\"\",\"\",'Kollega oplysninger'!J454)","v":""},{"$f":"IF('Kollega oplysninger'!L454=\"\",\"\",'Kollega oplysninger'!L454)","v":""},null,null,null,null,null,null,null,null,null,null,null,null,null,null,null,null,null,"",{"$f":"IF('Kollega oplysninger'!M454=\"\",\"\",'Kollega oplysninger'!M454)","v":""},null,null,null,null,"",null,"",null,null,null,"",""]
[null,{"$f":"IF('Kollega oplysninger'!B455=\"\",\"\",'Kollega oplysninger'!B455)","v":""},{"$f":"IF('Kollega oplysninger'!C455=\"\",\"\",'Kollega oplysninger'!C455)","v":""},null,null,{"$f":"IF('Kollega oplysninger'!I455=\"\",\"\",'Kollega oplysninger'!I455)","v":""},{"$f":"IF('Kollega oplysninger'!J455=\"\",\"\",'Kollega oplysninger'!J455)","v":""},{"$f":"IF('Kollega oplysninger'!L455=\"\",\"\",'Kollega oplysninger'!L455)","v":""},null,null,null,null,null,null,null,null,null,null,null,null,null,null,null,null,null,"",{"$f":"IF('Kollega oplysninger'!M455=\"\",\"\",'Kollega oplysninger'!M455)","v":""},null,null,null,null,{"$f":"IF(Y455<AE455,\"fejl\",IF(Y455=\"\",\"\",IF(AE455=\"\",0,AE455/Y455)))","v":""},null,{"$f":"IF(Y455<AG455,\"fejl\",IF(Y455=\"\",\"\",IF(AG455=\"\",0,AG455/Y455)))","v":""},null,null,null,{"$f":"IF(Z455=\"fejl\",X455,\"\")","v":""},{"$f":"IF(Z455=\"fejl\",Y455,\"\")","v":""}]
[null,{"$f":"IF('Kollega oplysninger'!B456=\"\",\"\",'Kollega oplysninger'!B456)","v":""},{"$f":"IF('Kollega oplysninger'!C456=\"\",\"\",'Kollega oplysninger'!C456)","v":""},null,null,{"$f":"IF('Kollega oplysninger'!I456=\"\",\"\",'Kollega oplysninger'!I456)","v":""},{"$f":"IF('Kollega oplysninger'!J456=\"\",\"\",'Kollega oplysninger'!J456)","v":""},{"$f":"IF('Kollega oplysninger'!L456=\"\",\"\",'Kollega oplysninger'!L456)","v":""},null,null,null,null,null,null,null,null,null,null,null,null,null,null,null,null,null,{"$f":"IF(Y456<X456,\"fejl\",IF(Y456=\"\",\"\",IF(X456=\"\",0,X456/Y456)))","v":""},{"$f":"IF('Kollega oplysninger'!M456=\"\",\"\",'Kollega oplysninger'!M456)","v":""},null,null,null,null,"",null,"",null,null,null,"",""]
[null,{"$f":"IF('Kollega oplysninger'!B457=\"\",\"\",'Kollega oplysninger'!B457)","v":""},{"$f":"IF('Kollega oplysninger'!C457=\"\",\"\",'Kollega oplysninger'!C457)","v":""},null,null,{"$f":"IF('Kollega oplysninger'!I457=\"\",\"\",'Kollega oplysninger'!I457)","v":""},{"$f":"IF('Kollega oplysninger'!J457=\"\",\"\",'Kollega oplysninger'!J457)","v":""},{"$f":"IF('Kollega oplysninger'!L457=\"\",\"\",'Kollega oplysninger'!L457)","v":""},null,null,null,null,null,null,null,null,null,null,null,null,null,null,null,null,null,"",{"$f":"IF('Kollega oplysninger'!M457=\"\",\"\",'Kollega oplysninger'!M457)","v":""},null,null,null,null,"",null,"",null,null,null,"",""]
[null,{"$f":"IF('Kollega oplysninger'!B458=\"\",\"\",'Kollega oplysninger'!B458)","v":""},{"$f":"IF('Kollega oplysninger'!C458=\"\",\"\",'Kollega oplysninger'!C458)","v":""},null,null,{"$f":"IF('Kollega oplysninger'!I458=\"\",\"\",'Kollega oplysninger'!I458)","v":""},{"$f":"IF('Kollega oplysninger'!J458=\"\",\"\",'Kollega oplysninger'!J458)","v":""},{"$f":"IF('Kollega oplysninger'!L458=\"\",\"\",'Kollega oplysninger'!L458)","v":""},null,null,null,null,null,null,null,null,null,null,null,null,null,null,null,null,null,"",{"$f":"IF('Kollega oplysninger'!M458=\"\",\"\",'Kollega oplysninger'!M458)","v":""},null,null,null,null,"",null,"",null,null,null,"",""]
[null,{"$f":"IF('Kollega oplysninger'!B459=\"\",\"\",'Kollega oplysninger'!B459)","v":""},{"$f":"IF('Kollega oplysninger'!C459=\"\",\"\",'Kollega oplysninger'!C459)","v":""},null,null,{"$f":"IF('Kollega oplysninger'!I459=\"\",\"\",'Kollega oplysninger'!I459)","v":""},{"$f":"IF('Kollega oplysninger'!J459=\"\",\"\",'Kollega oplysninger'!J459)","v":""},{"$f":"IF('Kollega oplysninger'!L459=\"\",\"\",'Kollega oplysninger'!L459)","v":""},null,null,null,null,null,null,null,null,null,null,null,null,null,null,null,null,null,"",{"$f":"IF('Kollega oplysninger'!M459=\"\",\"\",'Kollega oplysninger'!M459)","v":""},null,null,null,null,"",null,"",null,null,null,"",""]
[null,{"$f":"IF('Kollega oplysninger'!B460=\"\",\"\",'Kollega oplysninger'!B460)","v":""},{"$f":"IF('Kollega oplysninger'!C460=\"\",\"\",'Kollega oplysninger'!C460)","v":""},null,null,{"$f":"IF('Kollega oplysninger'!I460=\"\",\"\",'Kollega oplysninger'!I460)","v":""},{"$f":"IF('Kollega oplysninger'!J460=\"\",\"\",'Kollega oplysninger'!J460)","v":""},{"$f":"IF('Kollega oplysninger'!L460=\"\",\"\",'Kollega oplysninger'!L460)","v":""},null,null,null,null,null,null,null,null,null,null,null,null,null,null,null,null,null,"",{"$f":"IF('Kollega oplysninger'!M460=\"\",\"\",'Kollega oplysninger'!M460)","v":""},null,null,null,null,"",null,"",null,null,null,"",""]
[null,{"$f":"IF('Kollega oplysninger'!B461=\"\",\"\",'Kollega oplysninger'!B461)","v":""},{"$f":"IF('Kollega oplysninger'!C461=\"\",\"\",'Kollega oplysninger'!C461)","v":""},null,null,{"$f":"IF('Kollega oplysninger'!I461=\"\",\"\",'Kollega oplysninger'!I461)","v":""},{"$f":"IF('Kollega oplysninger'!J461=\"\",\"\",'Kollega oplysninger'!J461)","v":""},{"$f":"IF('Kollega oplysninger'!L461=\"\",\"\",'Kollega oplysninger'!L461)","v":""},null,null,null,null,null,null,null,null,null,null,null,null,null,null,null,null,null,"",{"$f":"IF('Kollega oplysninger'!M461=\"\",\"\",'Kollega oplysninger'!M461)","v":""},null,null,null,null,"",null,"",null,null,null,"",""]
[null,{"$f":"IF('Kollega oplysninger'!B462=\"\",\"\",'Kollega oplysninger'!B462)","v":""},{"$f":"IF('Kollega oplysninger'!C462=\"\",\"\",'Kollega oplysninger'!C462)","v":""},null,null,{"$f":"IF('Kollega oplysninger'!I462=\"\",\"\",'Kollega oplysninger'!I462)","v":""},{"$f":"IF('Kollega oplysninger'!J462=\"\",\"\",'Kollega oplysninger'!J462)","v":""},{"$f":"IF('Kollega oplysninger'!L462=\"\",\"\",'Kollega oplysninger'!L462)","v":""},null,null,null,null,null,null,null,null,null,null,null,null,null,null,null,null,null,"",{"$f":"IF('Kollega oplysninger'!M462=\"\",\"\",'Kollega oplysninger'!M462)","v":""},null,null,null,null,"",null,"",null,null,null,"",""]
[null,{"$f":"IF('Kollega oplysninger'!B463=\"\",\"\",'Kollega oplysninger'!B463)","v":""},{"$f":"IF('Kollega oplysninger'!C463=\"\",\"\",'Kollega oplysninger'!C463)","v":""},null,null,{"$f":"IF('Kollega oplysninger'!I463=\"\",\"\",'Kollega oplysninger'!I463)","v":""},{"$f":"IF('Kollega oplysninger'!J463=\"\",\"\",'Kollega oplysninger'!J463)","v":""},{"$f":"IF('Kollega oplysninger'!L463=\"\",\"\",'Kollega oplysninger'!L463)","v":""},null,null,null,null,null,null,null,null,null,null,null,null,null,null,null,null,null,"",{"$f":"IF('Kollega oplysninger'!M463=\"\",\"\",'Kollega oplysninger'!M463)","v":""},null,null,null,null,"",null,"",null,null,null,"",""]
[null,{"$f":"IF('Kollega oplysninger'!B464=\"\",\"\",'Kollega oplysninger'!B464)","v":""},{"$f":"IF('Kollega oplysninger'!C464=\"\",\"\",'Kollega oplysninger'!C464)","v":""},null,null,{"$f":"IF('Kollega oplysninger'!I464=\"\",\"\",'Kollega oplysninger'!I464)","v":""},{"$f":"IF('Kollega oplysninger'!J464=\"\",\"\",'Kollega oplysninger'!J464)","v":""},{"$f":"IF('Kollega oplysninger'!L464=\"\",\"\",'Kollega oplysninger'!L464)","v":""},null,null,null,null,null,null,null,null,null,null,null,null,null,null,null,null,null,"",{"$f":"IF('Kollega oplysninger'!M464=\"\",\"\",'Kollega oplysninger'!M464)","v":""},null,null,null,null,"",null,"",null,null,null,"",""]
[null,{"$f":"IF('Kollega oplysninger'!B465=\"\",\"\",'Kollega oplysninger'!B465)","v":""},{"$f":"IF('Kollega oplysninger'!C465=\"\",\"\",'Kollega oplysninger'!C465)","v":""},null,null,{"$f":"IF('Kollega oplysninger'!I465=\"\",\"\",'Kollega oplysninger'!I465)","v":""},{"$f":"IF('Kollega oplysninger'!J465=\"\",\"\",'Kollega oplysninger'!J465)","v":""},{"$f":"IF('Kollega oplysninger'!L465=\"\",\"\",'Kollega oplysninger'!L465)","v":""},null,null,null,null,null,null,null,null,null,null,null,null,null,null,null,null,null,"",{"$f":"IF('Kollega oplysninger'!M465=\"\",\"\",'Kollega oplysninger'!M465)","v":""},null,null,null,null,"",null,"",null,null,null,"",""]
[null,{"$f":"IF('Kollega oplysninger'!B466=\"\",\"\",'Kollega oplysninger'!B466)","v":""},{"$f":"IF('Kollega oplysninger'!C466=\"\",\"\",'Kollega oplysninger'!C466)","v":""},null,null,{"$f":"IF('Kollega oplysninger'!I466=\"\",\"\",'Kollega oplysninger'!I466)","v":""},{"$f":"IF('Kollega oplysninger'!J466=\"\",\"\",'Kollega oplysninger'!J466)","v":""},{"$f":"IF('Kollega oplysninger'!L466=\"\",\"\",'Kollega oplysninger'!L466)","v":""},null,null,null,null,null,null,null,null,null,null,null,null,null,null,null,null,null,"",{"$f":"IF('Kollega oplysninger'!M466=\"\",\"\",'Kollega oplysninger'!M466)","v":""},null,null,null,null,"",null,"",null,null,null,"",""]
[null,{"$f":"IF('Kollega oplysninger'!B467=\"\",\"\",'Kollega oplysninger'!B467)","v":""},{"$f":"IF('Kollega oplysninger'!C467=\"\",\"\",'Kollega oplysninger'!C467)","v":""},null,null,{"$f":"IF('Kollega oplysninger'!I467=\"\",\"\",'Kollega oplysninger'!I467)","v":""},{"$f":"IF('Kollega oplysninger'!J467=\"\",\"\",'Kollega oplysninger'!J467)","v":""},{"$f":"IF('Kollega oplysninger'!L467=\"\",\"\",'Kollega oplysninger'!L467)","v":""},null,null,null,null,null,null,null,null,null,null,null,null,null,null,null,null,null,"",{"$f":"IF('Kollega oplysninger'!M467=\"\",\"\",'Kollega oplysninger'!M467)","v":""},null,null,null,null,"",null,"",null,null,null,"",""]
[null,{"$f":"IF('Kollega oplysninger'!B468=\"\",\"\",'Kollega oplysninger'!B468)","v":""},{"$f":"IF('Kollega oplysninger'!C468=\"\",\"\",'Kollega oplysninger'!C468)","v":""},null,null,{"$f":"IF('Kollega oplysninger'!I468=\"\",\"\",'Kollega oplysninger'!I468)","v":""},{"$f":"IF('Kollega oplysninger'!J468=\"\",\"\",'Kollega oplysninger'!J468)","v":""},{"$f":"IF('Kollega oplysninger'!L468=\"\",\"\",'Kollega oplysninger'!L468)","v":""},null,null,null,null,null,null,null,null,null,null,null,null,null,null,null,null,null,"",{"$f":"IF('Kollega oplysninger'!M468=\"\",\"\",'Kollega oplysninger'!M468)","v":""},null,null,null,null,"",null,"",null,null,null,"",""]
[null,{"$f":"IF('Kollega oplysninger'!B469=\"\",\"\",'Kollega oplysninger'!B469)","v":""},{"$f":"IF('Kollega oplysninger'!C469=\"\",\"\",'Kollega oplysninger'!C469)","v":""},null,null,{"$f":"IF('Kollega oplysninger'!I469=\"\",\"\",'Kollega oplysninger'!I469)","v":""},{"$f":"IF('Kollega oplysninger'!J469=\"\",\"\",'Kollega oplysninger'!J469)","v":""},{"$f":"IF('Kollega oplysninger'!L469=\"\",\"\",'Kollega oplysninger'!L469)","v":""},null,null,null,null,null,null,null,null,null,null,null,null,null,null,null,null,null,"",{"$f":"IF('Kollega oplysninger'!M469=\"\",\"\",'Kollega oplysninger'!M469)","v":""},null,null,null,null,"",null,"",null,null,null,"",""]
[null,{"$f":"IF('Kollega oplysninger'!B470=\"\",\"\",'Kollega oplysninger'!B470)","v":""},{"$f":"IF('Kollega oplysninger'!C470=\"\",\"\",'Kollega oplysninger'!C470)","v":""},null,null,{"$f":"IF('Kollega oplysninger'!I470=\"\",\"\",'Kollega oplysninger'!I470)","v":""},{"$f":"IF('Kollega oplysninger'!J470=\"\",\"\",'Kollega oplysninger'!J470)","v":""},{"$f":"IF('Kollega oplysninger'!L470=\"\",\"\",'Kollega oplysninger'!L470)","v":""},null,null,null,null,null,null,null,null,null,null,null,null,null,null,null,null,null,"",{"$f":"IF('Kollega oplysninger'!M470=\"\",\"\",'Kollega oplysninger'!M470)","v":""},null,null,null,null,"",null,"",null,null,null,"",""]
[null,{"$f":"IF('Kollega oplysninger'!B471=\"\",\"\",'Kollega oplysninger'!B471)","v":""},{"$f":"IF('Kollega oplysninger'!C471=\"\",\"\",'Kollega oplysninger'!C471)","v":""},null,null,{"$f":"IF('Kollega oplysninger'!I471=\"\",\"\",'Kollega oplysninger'!I471)","v":""},{"$f":"IF('Kollega oplysninger'!J471=\"\",\"\",'Kollega oplysninger'!J471)","v":""},{"$f":"IF('Kollega oplysninger'!L471=\"\",\"\",'Kollega oplysninger'!L471)","v":""},null,null,null,null,null,null,null,null,null,null,null,null,null,null,null,null,null,"",{"$f":"IF('Kollega oplysninger'!M471=\"\",\"\",'Kollega oplysninger'!M471)","v":""},null,null,null,null,"",null,"",null,null,null,"",""]
[null,{"$f":"IF('Kollega oplysninger'!B472=\"\",\"\",'Kollega oplysninger'!B472)","v":""},{"$f":"IF('Kollega oplysninger'!C472=\"\",\"\",'Kollega oplysninger'!C472)","v":""},null,null,{"$f":"IF('Kollega oplysninger'!I472=\"\",\"\",'Kollega oplysninger'!I472)","v":""},{"$f":"IF('Kollega oplysninger'!J472=\"\",\"\",'Kollega oplysninger'!J472)","v":""},{"$f":"IF('Kollega oplysninger'!L472=\"\",\"\",'Kollega oplysninger'!L472)","v":""},null,null,null,null,null,null,null,null,null,null,null,null,null,null,null,null,null,"",{"$f":"IF('Kollega oplysninger'!M472=\"\",\"\",'Kollega oplysninger'!M472)","v":""},null,null,null,null,"",null,"",null,null,null,"",""]
[null,{"$f":"IF('Kollega oplysninger'!B473=\"\",\"\",'Kollega oplysninger'!B473)","v":""},{"$f":"IF('Kollega oplysninger'!C473=\"\",\"\",'Kollega oplysninger'!C473)","v":""},null,null,{"$f":"IF('Kollega oplysninger'!I473=\"\",\"\",'Kollega oplysninger'!I473)","v":""},{"$f":"IF('Kollega oplysninger'!J473=\"\",\"\",'Kollega oplysninger'!J473)","v":""},{"$f":"IF('Kollega oplysninger'!L473=\"\",\"\",'Kollega oplysninger'!L473)","v":""},null,null,null,null,null,null,null,null,null,null,null,null,null,null,null,null,null,"",{"$f":"IF('Kollega oplysninger'!M473=\"\",\"\",'Kollega oplysninger'!M473)","v":""},null,null,null,null,"",null,"",null,null,null,"",""]
[null,{"$f":"IF('Kollega oplysninger'!B474=\"\",\"\",'Kollega oplysninger'!B474)","v":""},{"$f":"IF('Kollega oplysninger'!C474=\"\",\"\",'Kollega oplysninger'!C474)","v":""},null,null,{"$f":"IF('Kollega oplysninger'!I474=\"\",\"\",'Kollega oplysninger'!I474)","v":""},{"$f":"IF('Kollega oplysninger'!J474=\"\",\"\",'Kollega oplysninger'!J474)","v":""},{"$f":"IF('Kollega oplysninger'!L474=\"\",\"\",'Kollega oplysninger'!L474)","v":""},null,null,null,null,null,null,null,null,null,null,null,null,null,null,null,null,null,"",{"$f":"IF('Kollega oplysninger'!M474=\"\",\"\",'Kollega oplysninger'!M474)","v":""},null,null,null,null,"",null,"",null,null,null,"",""]
[null,{"$f":"IF('Kollega oplysninger'!B475=\"\",\"\",'Kollega oplysninger'!B475)","v":""},{"$f":"IF('Kollega oplysninger'!C475=\"\",\"\",'Kollega oplysninger'!C475)","v":""},null,null,{"$f":"IF('Kollega oplysninger'!I475=\"\",\"\",'Kollega oplysninger'!I475)","v":""},{"$f":"IF('Kollega oplysninger'!J475=\"\",\"\",'Kollega oplysninger'!J475)","v":""},{"$f":"IF('Kollega oplysninger'!L475=\"\",\"\",'Kollega oplysninger'!L475)","v":""},null,null,null,null,null,null,null,null,null,null,null,null,null,null,null,null,null,"",{"$f":"IF('Kollega oplysninger'!M475=\"\",\"\",'Kollega oplysninger'!M475)","v":""},null,null,null,null,"",null,"",null,null,null,"",""]
[null,{"$f":"IF('Kollega oplysninger'!B476=\"\",\"\",'Kollega oplysninger'!B476)","v":""},{"$f":"IF('Kollega oplysninger'!C476=\"\",\"\",'Kollega oplysninger'!C476)","v":""},null,null,{"$f":"IF('Kollega oplysninger'!I476=\"\",\"\",'Kollega oplysninger'!I476)","v":""},{"$f":"IF('Kollega oplysninger'!J476=\"\",\"\",'Kollega oplysninger'!J476)","v":""},{"$f":"IF('Kollega oplysninger'!L476=\"\",\"\",'Kollega oplysninger'!L476)","v":""},null,null,null,null,null,null,null,null,null,null,null,null,null,null,null,null,null,"",{"$f":"IF('Kollega oplysninger'!M476=\"\",\"\",'Kollega oplysninger'!M476)","v":""},null,null,null,null,"",null,"",null,null,null,"",""]
[null,{"$f":"IF('Kollega oplysninger'!B477=\"\",\"\",'Kollega oplysninger'!B477)","v":""},{"$f":"IF('Kollega oplysninger'!C477=\"\",\"\",'Kollega oplysninger'!C477)","v":""},null,null,{"$f":"IF('Kollega oplysninger'!I477=\"\",\"\",'Kollega oplysninger'!I477)","v":""},{"$f":"IF('Kollega oplysninger'!J477=\"\",\"\",'Kollega oplysninger'!J477)","v":""},{"$f":"IF('Kollega oplysninger'!L477=\"\",\"\",'Kollega oplysninger'!L477)","v":""},null,null,null,null,null,null,null,null,null,null,null,null,null,null,null,null,null,"",{"$f":"IF('Kollega oplysninger'!M477=\"\",\"\",'Kollega oplysninger'!M477)","v":""},null,null,null,null,"",null,"",null,null,null,"",""]
[null,{"$f":"IF('Kollega oplysninger'!B478=\"\",\"\",'Kollega oplysninger'!B478)","v":""},{"$f":"IF('Kollega oplysninger'!C478=\"\",\"\",'Kollega oplysninger'!C478)","v":""},null,null,{"$f":"IF('Kollega oplysninger'!I478=\"\",\"\",'Kollega oplysninger'!I478)","v":""},{"$f":"IF('Kollega oplysninger'!J478=\"\",\"\",'Kollega oplysninger'!J478)","v":""},{"$f":"IF('Kollega oplysninger'!L478=\"\",\"\",'Kollega oplysninger'!L478)","v":""},null,null,null,null,null,null,null,null,null,null,null,null,null,null,null,null,null,"",{"$f":"IF('Kollega oplysninger'!M478=\"\",\"\",'Kollega oplysninger'!M478)","v":""},null,null,null,null,"",null,"",null,null,null,"",""]
[null,{"$f":"IF('Kollega oplysninger'!B479=\"\",\"\",'Kollega oplysninger'!B479)","v":""},{"$f":"IF('Kollega oplysninger'!C479=\"\",\"\",'Kollega oplysninger'!C479)","v":""},null,null,{"$f":"IF('Kollega oplysninger'!I479=\"\",\"\",'Kollega oplysninger'!I479)","v":""},{"$f":"IF('Kollega oplysninger'!J479=\"\",\"\",'Kollega oplysninger'!J479)","v":""},{"$f":"IF('Kollega oplysninger'!L479=\"\",\"\",'Kollega oplysninger'!L479)","v":""},null,null,null,null,null,null,null,null,null,null,null,null,null,null,null,null,null,"",{"$f":"IF('Kollega oplysninger'!M479=\"\",\"\",'Kollega oplysninger'!M479)","v":""},null,null,null,null,"",null,"",null,null,null,"",""]
[null,{"$f":"IF('Kollega oplysninger'!B480=\"\",\"\",'Kollega oplysninger'!B480)","v":""},{"$f":"IF('Kollega oplysninger'!C480=\"\",\"\",'Kollega oplysninger'!C480)","v":""},null,null,{"$f":"IF('Kollega oplysninger'!I480=\"\",\"\",'Kollega oplysninger'!I480)","v":""},{"$f":"IF('Kollega oplysninger'!J480=\"\",\"\",'Kollega oplysninger'!J480)","v":""},{"$f":"IF('Kollega oplysninger'!L480=\"\",\"\",'Kollega oplysninger'!L480)","v":""},null,null,null,null,null,null,null,null,null,null,null,null,null,null,null,null,null,"",{"$f":"IF('Kollega oplysninger'!M480=\"\",\"\",'Kollega oplysninger'!M480)","v":""},null,null,null,null,"",null,"",null,null,null,"",""]
[null,{"$f":"IF('Kollega oplysninger'!B481=\"\",\"\",'Kollega oplysninger'!B481)","v":""},{"$f":"IF('Kollega oplysninger'!C481=\"\",\"\",'Kollega oplysninger'!C481)","v":""},null,null,{"$f":"IF('Kollega oplysninger'!I481=\"\",\"\",'Kollega oplysninger'!I481)","v":""},{"$f":"IF('Kollega oplysninger'!J481=\"\",\"\",'Kollega oplysninger'!J481)","v":""},{"$f":"IF('Kollega oplysninger'!L481=\"\",\"\",'Kollega oplysninger'!L481)","v":""},null,null,null,null,null,null,null,null,null,null,null,null,null,null,null,null,null,"",{"$f":"IF('Kollega oplysninger'!M481=\"\",\"\",'Kollega oplysninger'!M481)","v":""},null,null,null,null,"",null,"",null,null,null,"",""]
[null,{"$f":"IF('Kollega oplysninger'!B482=\"\",\"\",'Kollega oplysninger'!B482)","v":""},{"$f":"IF('Kollega oplysninger'!C482=\"\",\"\",'Kollega oplysninger'!C482)","v":""},null,null,{"$f":"IF('Kollega oplysninger'!I482=\"\",\"\",'Kollega oplysninger'!I482)","v":""},{"$f":"IF('Kollega oplysninger'!J482=\"\",\"\",'Kollega oplysninger'!J482)","v":""},{"$f":"IF('Kollega oplysninger'!L482=\"\",\"\",'Kollega oplysninger'!L482)","v":""},null,null,null,null,null,null,null,null,null,null,null,null,null,null,null,null,null,"",{"$f":"IF('Kollega oplysninger'!M482=\"\",\"\",'Kollega oplysninger'!M482)","v":""},null,null,null,null,"",null,"",null,null,null,"",""]
[null,{"$f":"IF('Kollega oplysninger'!B483=\"\",\"\",'Kollega oplysninger'!B483)","v":""},{"$f":"IF('Kollega oplysninger'!C483=\"\",\"\",'Kollega oplysninger'!C483)","v":""},null,null,{"$f":"IF('Kollega oplysninger'!I483=\"\",\"\",'Kollega oplysninger'!I483)","v":""},{"$f":"IF('Kollega oplysninger'!J483=\"\",\"\",'Kollega oplysninger'!J483)","v":""},{"$f":"IF('Kollega oplysninger'!L483=\"\",\"\",'Kollega oplysninger'!L483)","v":""},null,null,null,null,null,null,null,null,null,null,null,null,null,null,null,null,null,"",{"$f":"IF('Kollega oplysninger'!M483=\"\",\"\",'Kollega oplysninger'!M483)","v":""},null,null,null,null,"",null,"",null,null,null,"",""]
[null,{"$f":"IF('Kollega oplysninger'!B484=\"\",\"\",'Kollega oplysninger'!B484)","v":""},{"$f":"IF('Kollega oplysninger'!C484=\"\",\"\",'Kollega oplysninger'!C484)","v":""},null,null,{"$f":"IF('Kollega oplysninger'!I484=\"\",\"\",'Kollega oplysninger'!I484)","v":""},{"$f":"IF('Kollega oplysninger'!J484=\"\",\"\",'Kollega oplysninger'!J484)","v":""},{"$f":"IF('Kollega oplysninger'!L484=\"\",\"\",'Kollega oplysninger'!L484)","v":""},null,null,null,null,null,null,null,null,null,null,null,null,null,null,null,null,null,"",{"$f":"IF('Kollega oplysninger'!M484=\"\",\"\",'Kollega oplysninger'!M484)","v":""},null,null,null,null,"",null,"",null,null,null,"",""]
[null,{"$f":"IF('Kollega oplysninger'!B485=\"\",\"\",'Kollega oplysninger'!B485)","v":""},{"$f":"IF('Kollega oplysninger'!C485=\"\",\"\",'Kollega oplysninger'!C485)","v":""},null,null,{"$f":"IF('Kollega oplysninger'!I485=\"\",\"\",'Kollega oplysninger'!I485)","v":""},{"$f":"IF('Kollega oplysninger'!J485=\"\",\"\",'Kollega oplysninger'!J485)","v":""},{"$f":"IF('Kollega oplysninger'!L485=\"\",\"\",'Kollega oplysninger'!L485)","v":""},null,null,null,null,null,null,null,null,null,null,null,null,null,null,null,null,null,"",{"$f":"IF('Kollega oplysninger'!M485=\"\",\"\",'Kollega oplysninger'!M485)","v":""},null,null,null,null,"",null,"",null,null,null,"",""]
[null,{"$f":"IF('Kollega oplysninger'!B486=\"\",\"\",'Kollega oplysninger'!B486)","v":""},{"$f":"IF('Kollega oplysninger'!C486=\"\",\"\",'Kollega oplysninger'!C486)","v":""},null,null,{"$f":"IF('Kollega oplysninger'!I486=\"\",\"\",'Kollega oplysninger'!I486)","v":""},{"$f":"IF('Kollega oplysninger'!J486=\"\",\"\",'Kollega oplysninger'!J486)","v":""},{"$f":"IF('Kollega oplysninger'!L486=\"\",\"\",'Kollega oplysninger'!L486)","v":""},null,null,null,null,null,null,null,null,null,null,null,null,null,null,null,null,null,"",{"$f":"IF('Kollega oplysninger'!M486=\"\",\"\",'Kollega oplysninger'!M486)","v":""},null,null,null,null,"",null,"",null,null,null,"",""]
[null,{"$f":"IF('Kollega oplysninger'!B487=\"\",\"\",'Kollega oplysninger'!B487)","v":""},{"$f":"IF('Kollega oplysninger'!C487=\"\",\"\",'Kollega oplysninger'!C487)","v":""},null,null,{"$f":"IF('Kollega oplysninger'!I487=\"\",\"\",'Kollega oplysninger'!I487)","v":""},{"$f":"IF('Kollega oplysninger'!J487=\"\",\"\",'Kollega oplysninger'!J487)","v":""},{"$f":"IF('Kollega oplysninger'!L487=\"\",\"\",'Kollega oplysninger'!L487)","v":""},null,null,null,null,null,null,null,null,null,null,null,null,null,null,null,null,null,"",{"$f":"IF('Kollega oplysninger'!M487=\"\",\"\",'Kollega oplysninger'!M487)","v":""},null,null,null,null,"",null,"",null,null,null,"",""]
[null,{"$f":"IF('Kollega oplysninger'!B488=\"\",\"\",'Kollega oplysninger'!B488)","v":""},{"$f":"IF('Kollega oplysninger'!C488=\"\",\"\",'Kollega oplysninger'!C488)","v":""},null,null,{"$f":"IF('Kollega oplysninger'!I488=\"\",\"\",'Kollega oplysninger'!I488)","v":""},{"$f":"IF('Kollega oplysninger'!J488=\"\",\"\",'Kollega oplysninger'!J488)","v":""},{"$f":"IF('Kollega oplysninger'!L488=\"\",\"\",'Kollega oplysninger'!L488)","v":""},null,null,null,null,null,null,null,null,null,null,null,null,null,null,null,null,null,"",{"$f":"IF('Kollega oplysninger'!M488=\"\",\"\",'Kollega oplysninger'!M488)","v":""},null,null,null,null,"",null,"",null,null,null,"",""]
[null,{"$f":"IF('Kollega oplysninger'!B489=\"\",\"\",'Kollega oplysninger'!B489)","v":""},{"$f":"IF('Kollega oplysninger'!C489=\"\",\"\",'Kollega oplysninger'!C489)","v":""},null,null,{"$f":"IF('Kollega oplysninger'!I489=\"\",\"\",'Kollega oplysninger'!I489)","v":""},{"$f":"IF('Kollega oplysninger'!J489=\"\",\"\",'Kollega oplysninger'!J489)","v":""},{"$f":"IF('Kollega oplysninger'!L489=\"\",\"\",'Kollega oplysninger'!L489)","v":""},null,null,null,null,null,null,null,null,null,null,null,null,null,null,null,null,null,"",{"$f":"IF('Kollega oplysninger'!M489=\"\",\"\",'Kollega oplysninger'!M489)","v":""},null,null,null,null,"",null,"",null,null,null,"",""]
[null,{"$f":"IF('Kollega oplysninger'!B490=\"\",\"\",'Kollega oplysninger'!B490)","v":""},{"$f":"IF('Kollega oplysninger'!C490=\"\",\"\",'Kollega oplysninger'!C490)","v":""},null,null,{"$f":"IF('Kollega oplysninger'!I490=\"\",\"\",'Kollega oplysninger'!I490)","v":""},{"$f":"IF('Kollega oplysninger'!J490=\"\",\"\",'Kollega oplysninger'!J490)","v":""},{"$f":"IF('Kollega oplysninger'!L490=\"\",\"\",'Kollega oplysninger'!L490)","v":""},null,null,null,null,null,null,null,null,null,null,null,null,null,null,null,null,null,"",{"$f":"IF('Kollega oplysninger'!M490=\"\",\"\",'Kollega oplysninger'!M490)","v":""},null,null,null,null,"",null,"",null,null,null,"",""]
[null,{"$f":"IF('Kollega oplysninger'!B491=\"\",\"\",'Kollega oplysninger'!B491)","v":""},{"$f":"IF('Kollega oplysninger'!C491=\"\",\"\",'Kollega oplysninger'!C491)","v":""},null,null,{"$f":"IF('Kollega oplysninger'!I491=\"\",\"\",'Kollega oplysninger'!I491)","v":""},{"$f":"IF('Kollega oplysninger'!J491=\"\",\"\",'Kollega oplysninger'!J491)","v":""},{"$f":"IF('Kollega oplysninger'!L491=\"\",\"\",'Kollega oplysninger'!L491)","v":""},null,null,null,null,null,null,null,null,null,null,null,null,null,null,null,null,null,"",{"$f":"IF('Kollega oplysninger'!M491=\"\",\"\",'Kollega oplysninger'!M491)","v":""},null,null,null,null,"",null,"",null,null,null,"",""]
[null,{"$f":"IF('Kollega oplysninger'!B492=\"\",\"\",'Kollega oplysninger'!B492)","v":""},{"$f":"IF('Kollega oplysninger'!C492=\"\",\"\",'Kollega oplysninger'!C492)","v":""},null,null,{"$f":"IF('Kollega oplysninger'!I492=\"\",\"\",'Kollega oplysninger'!I492)","v":""},{"$f":"IF('Kollega oplysninger'!J492=\"\",\"\",'Kollega oplysninger'!J492)","v":""},{"$f":"IF('Kollega oplysninger'!L492=\"\",\"\",'Kollega oplysninger'!L492)","v":""},null,null,null,null,null,null,null,null,null,null,null,null,null,null,null,null,null,"",{"$f":"IF('Kollega oplysninger'!M492=\"\",\"\",'Kollega oplysninger'!M492)","v":""},null,null,null,null,"",null,"",null,null,null,"",""]
[null,{"$f":"IF('Kollega oplysninger'!B493=\"\",\"\",'Kollega oplysninger'!B493)","v":""},{"$f":"IF('Kollega oplysninger'!C493=\"\",\"\",'Kollega oplysninger'!C493)","v":""},null,null,{"$f":"IF('Kollega oplysninger'!I493=\"\",\"\",'Kollega oplysninger'!I493)","v":""},{"$f":"IF('Kollega oplysninger'!J493=\"\",\"\",'Kollega oplysninger'!J493)","v":""},{"$f":"IF('Kollega oplysninger'!L493=\"\",\"\",'Kollega oplysninger'!L493)","v":""},null,null,null,null,null,null,null,null,null,null,null,null,null,null,null,null,null,"",{"$f":"IF('Kollega oplysninger'!M493=\"\",\"\",'Kollega oplysninger'!M493)","v":""},null,null,null,null,"",null,"",null,null,null,"",""]
[null,{"$f":"IF('Kollega oplysninger'!B494=\"\",\"\",'Kollega oplysninger'!B494)","v":""},{"$f":"IF('Kollega oplysninger'!C494=\"\",\"\",'Kollega oplysninger'!C494)","v":""},null,null,{"$f":"IF('Kollega oplysninger'!I494=\"\",\"\",'Kollega oplysninger'!I494)","v":""},{"$f":"IF('Kollega oplysninger'!J494=\"\",\"\",'Kollega oplysninger'!J494)","v":""},{"$f":"IF('Kollega oplysninger'!L494=\"\",\"\",'Kollega oplysninger'!L494)","v":""},null,null,null,null,null,null,null,null,null,null,null,null,null,null,null,null,null,"",{"$f":"IF('Kollega oplysninger'!M494=\"\",\"\",'Kollega oplysninger'!M494)","v":""},null,null,null,null,"",null,"",null,null,null,"",""]
[null,{"$f":"IF('Kollega oplysninger'!B495=\"\",\"\",'Kollega oplysninger'!B495)","v":""},{"$f":"IF('Kollega oplysninger'!C495=\"\",\"\",'Kollega oplysninger'!C495)","v":""},null,null,{"$f":"IF('Kollega oplysninger'!I495=\"\",\"\",'Kollega oplysninger'!I495)","v":""},{"$f":"IF('Kollega oplysninger'!J495=\"\",\"\",'Kollega oplysninger'!J495)","v":""},{"$f":"IF('Kollega oplysninger'!L495=\"\",\"\",'Kollega oplysninger'!L495)","v":""},null,null,null,null,null,null,null,null,null,null,null,null,null,null,null,null,null,"",{"$f":"IF('Kollega oplysninger'!M495=\"\",\"\",'Kollega oplysninger'!M495)","v":""},null,null,null,null,"",null,"",null,null,null,"",""]
[null,{"$f":"IF('Kollega oplysninger'!B496=\"\",\"\",'Kollega oplysninger'!B496)","v":""},{"$f":"IF('Kollega oplysninger'!C496=\"\",\"\",'Kollega oplysninger'!C496)","v":""},null,null,{"$f":"IF('Kollega oplysninger'!I496=\"\",\"\",'Kollega oplysninger'!I496)","v":""},{"$f":"IF('Kollega oplysninger'!J496=\"\",\"\",'Kollega oplysninger'!J496)","v":""},{"$f":"IF('Kollega oplysninger'!L496=\"\",\"\",'Kollega oplysninger'!L496)","v":""},null,null,null,null,null,null,null,null,null,null,null,null,null,null,null,null,null,"",{"$f":"IF('Kollega oplysninger'!M496=\"\",\"\",'Kollega oplysninger'!M496)","v":""},null,null,null,null,"",null,"",null,null,null,"",""]
[null,{"$f":"IF('Kollega oplysninger'!B497=\"\",\"\",'Kollega oplysninger'!B497)","v":""},{"$f":"IF('Kollega oplysninger'!C497=\"\",\"\",'Kollega oplysninger'!C497)","v":""},null,null,{"$f":"IF('Kollega oplysninger'!I497=\"\",\"\",'Kollega oplysninger'!I497)","v":""},{"$f":"IF('Kollega oplysninger'!J497=\"\",\"\",'Kollega oplysninger'!J497)","v":""},{"$f":"IF('Kollega oplysninger'!L497=\"\",\"\",'Kollega oplysninger'!L497)","v":""},null,null,null,null,null,null,null,null,null,null,null,null,null,null,null,null,null,"",{"$f":"IF('Kollega oplysninger'!M497=\"\",\"\",'Kollega oplysninger'!M497)","v":""},null,null,null,null,"",null,"",null,null,null,"",""]
[null,{"$f":"IF('Kollega oplysninger'!B498=\"\",\"\",'Kollega oplysninger'!B498)","v":""},{"$f":"IF('Kollega oplysninger'!C498=\"\",\"\",'Kollega oplysninger'!C498)","v":""},null,null,{"$f":"IF('Kollega oplysninger'!I498=\"\",\"\",'Kollega oplysninger'!I498)","v":""},{"$f":"IF('Kollega oplysninger'!J498=\"\",\"\",'Kollega oplysninger'!J498)","v":""},{"$f":"IF('Kollega oplysninger'!L498=\"\",\"\",'Kollega oplysninger'!L498)","v":""},null,null,null,null,null,null,null,null,null,null,null,null,null,null,null,null,null,"",{"$f":"IF('Kollega oplysninger'!M498=\"\",\"\",'Kollega oplysninger'!M498)","v":""},null,null,null,null,"",null,"",null,null,null,"",""]
[null,{"$f":"IF('Kollega oplysninger'!B499=\"\",\"\",'Kollega oplysninger'!B499)","v":""},{"$f":"IF('Kollega oplysninger'!C499=\"\",\"\",'Kollega oplysninger'!C499)","v":""},null,null,{"$f":"IF('Kollega oplysninger'!I499=\"\",\"\",'Kollega oplysninger'!I499)","v":""},{"$f":"IF('Kollega oplysninger'!J499=\"\",\"\",'Kollega oplysninger'!J499)","v":""},{"$f":"IF('Kollega oplysninger'!L499=\"\",\"\",'Kollega oplysninger'!L499)","v":""},null,null,null,null,null,null,null,null,null,null,null,null,null,null,null,null,null,"",{"$f":"IF('Kollega oplysninger'!M499=\"\",\"\",'Kollega oplysninger'!M499)","v":""},null,null,null,null,"",null,"",null,null,null,"",""]
[null,{"$f":"IF('Kollega oplysninger'!B500=\"\",\"\",'Kollega oplysninger'!B500)","v":""},{"$f":"IF('Kollega oplysninger'!C500=\"\",\"\",'Kollega oplysninger'!C500)","v":""},null,null,{"$f":"IF('Kollega oplysninger'!I500=\"\",\"\",'Kollega oplysninger'!I500)","v":""},{"$f":"IF('Kollega oplysninger'!J500=\"\",\"\",'Kollega oplysninger'!J500)","v":""},{"$f":"IF('Kollega oplysninger'!L500=\"\",\"\",'Kollega oplysninger'!L500)","v":""},null,null,null,null,null,null,null,null,null,null,null,null,null,null,null,null,null,"",{"$f":"IF('Kollega oplysninger'!M500=\"\",\"\",'Kollega oplysninger'!M500)","v":""},null,null,null,null,"",null,"",null,null,null,"",""]
[null,{"$f":"IF('Kollega oplysninger'!B501=\"\",\"\",'Kollega oplysninger'!B501)","v":""},{"$f":"IF('Kollega oplysninger'!C501=\"\",\"\",'Kollega oplysninger'!C501)","v":""},null,null,{"$f":"IF('Kollega oplysninger'!I501=\"\",\"\",'Kollega oplysninger'!I501)","v":""},{"$f":"IF('Kollega oplysninger'!J501=\"\",\"\",'Kollega oplysninger'!J501)","v":""},{"$f":"IF('Kollega oplysninger'!L501=\"\",\"\",'Kollega oplysninger'!L501)","v":""},null,null,null,null,null,null,null,null,null,null,null,null,null,null,null,null,null,"",{"$f":"IF('Kollega oplysninger'!M501=\"\",\"\",'Kollega oplysninger'!M501)","v":""},null,null,null,null,"",null,"",null,null,null,{"$f":"IF(Z501=\"fejl\",X501,\"\")","v":""},""]
[null,{"$f":"IF('Kollega oplysninger'!B502=\"\",\"\",'Kollega oplysninger'!B502)","v":""},{"$f":"IF('Kollega oplysninger'!C502=\"\",\"\",'Kollega oplysninger'!C502)","v":""},null,null,{"$f":"IF('Kollega oplysninger'!I502=\"\",\"\",'Kollega oplysninger'!I502)","v":""},{"$f":"IF('Kollega oplysninger'!J502=\"\",\"\",'Kollega oplysninger'!J502)","v":""},{"$f":"IF('Kollega oplysninger'!L502=\"\",\"\",'Kollega oplysninger'!L502)","v":""},null,null,null,null,null,null,null,null,null,null,null,null,null,null,null,null,null,"",{"$f":"IF('Kollega oplysninger'!M502=\"\",\"\",'Kollega oplysninger'!M502)","v":""},null,null,null,null,"",null,"",null,null,null,"",""]
[null,{"$f":"IF('Kollega oplysninger'!B503=\"\",\"\",'Kollega oplysninger'!B503)","v":""},{"$f":"IF('Kollega oplysninger'!C503=\"\",\"\",'Kollega oplysninger'!C503)","v":""},null,null,{"$f":"IF('Kollega oplysninger'!I503=\"\",\"\",'Kollega oplysninger'!I503)","v":""},{"$f":"IF('Kollega oplysninger'!J503=\"\",\"\",'Kollega oplysninger'!J503)","v":""},{"$f":"IF('Kollega oplysninger'!L503=\"\",\"\",'Kollega oplysninger'!L503)","v":""},null,null,null,null,null,null,null,null,null,null,null,null,null,null,null,null,null,"",{"$f":"IF('Kollega oplysninger'!M503=\"\",\"\",'Kollega oplysninger'!M503)","v":""},null,null,null,null,"",null,"",null,null,null,"",""]
[null,{"$f":"IF('Kollega oplysninger'!B504=\"\",\"\",'Kollega oplysninger'!B504)","v":""},{"$f":"IF('Kollega oplysninger'!C504=\"\",\"\",'Kollega oplysninger'!C504)","v":""},null,null,{"$f":"IF('Kollega oplysninger'!I504=\"\",\"\",'Kollega oplysninger'!I504)","v":""},{"$f":"IF('Kollega oplysninger'!J504=\"\",\"\",'Kollega oplysninger'!J504)","v":""},{"$f":"IF('Kollega oplysninger'!L504=\"\",\"\",'Kollega oplysninger'!L504)","v":""},null,null,null,null,null,null,null,null,null,null,null,null,null,null,null,null,null,"",{"$f":"IF('Kollega oplysninger'!M504=\"\",\"\",'Kollega oplysninger'!M504)","v":""},null,null,null,null,"",null,"",null,null,null,"",""]
[null,{"$f":"IF('Kollega oplysninger'!B505=\"\",\"\",'Kollega oplysninger'!B505)","v":""},{"$f":"IF('Kollega oplysninger'!C505=\"\",\"\",'Kollega oplysninger'!C505)","v":""},null,null,{"$f":"IF('Kollega oplysninger'!I505=\"\",\"\",'Kollega oplysninger'!I505)","v":""},{"$f":"IF('Kollega oplysninger'!J505=\"\",\"\",'Kollega oplysninger'!J505)","v":""},{"$f":"IF('Kollega oplysninger'!L505=\"\",\"\",'Kollega oplysninger'!L505)","v":""},null,null,null,null,null,null,null,null,null,null,null,null,null,null,null,null,null,"",{"$f":"IF('Kollega oplysninger'!M505=\"\",\"\",'Kollega oplysninger'!M505)","v":""},null,null,null,null,"",null,"",null,null,null,"",""]
[null,"I alt",null,null,null,null,null,null,null,null,null,null,null,null,null,null,null,null,null,null,null,null,null,{"$f":"SUM(X6:X505)","v":500},22343.74,null,null,null,null,null,{"$f":"SUM(AE6:AE505)","v":200},null,300,null,null,null,null,0,0]

{"sheet":"Uddybende lønoplysninger","index":2,"n_rows":506,"n_cols":39,"rows_kept":506,"cut":false,"hidden":false,"merged":[[0,9,0,10],[8,35,9,35],[11,35,12,35],[13,35,14,35],[3,28,4,28],[0,12,0,21],[6,28,7,28],[8,28,9,28],[6,35,7,35],[3,26,4,26],[2,20,2,21],[2,9,2,10],[2,12,2,14],[2,16,2,18],[17,28,29,28],[3,30,4,30],[3,32,4,32],[3,35,4,35],[2,30,2,33],[16,35,17,35],[18,35,19,35]]}
[null,null,null,null,null,null,null,null,null,null,null,null,"I disse kolonner skrives alle tillæg uanset om de er centralt eller lokalt aftalt"]
[null,null,null,null,"Listen opdateret:","xx.xx.xxxx"]
[null,null,null,null,null,null,null,null,null,"Grundløn",null,null,"Kvalifikationsløn",null,null,null,"Funktionsløn",null,null,null,"Resultatløn",null,null,null,null,null,null,null,null,null,"Andelen af lokalløn fordelt efter type"]
[null,"Navn","Fødsels-","Ansat","ancinnitet",{"$f":"IF('Kollega oplysninger'!I4=\"\",\"\",'Kollega oplysninger'!I4)","v":"Faggruppe"},{"$f":"IF('Kollega oplysninger'!J4=\"\",\"\",'Kollega oplysninger'!J4)","v":"Stilling"},{"$f":"'Kollega oplysninger'!L4","v":"Timer"},null,"løn i","løn i kr.",null,"løn i","løn i kr.","Givet ",null,"løn i","løn i kr.","Givet ",null,"løn i kr.","Givet ",null,"Andel af","Løn","Lokal","FOA",null,"Gennemsnit",null,"Kvalifikations-løn","Lokal","Funktionsløn","Lokal",null,"Gennemsnit"]
[null,null,"Dato","dato","data",{"$f":"IF('Kollega oplysninger'!I5=\"\",\"\",'Kollega oplysninger'!I5)","v":""},{"$f":"IF('Kollega oplysninger'!J5=\"\",\"\",'Kollega oplysninger'!J5)","v":""},{"$f":"'Kollega oplysninger'!L5","v":"pr uge"},null,"trin","tillæg",null,"trin","tillæg","for",null,"trin","tillæg","for",null,"tillæg","for",null,"lokal løn","i alt kr.","løn %",null,null,null,null,null,"løn %",null,"løn %"]
[null,{"$f":"IF('Kollega oplysninger'!B6=\"\",\"\",'Kollega oplysninger'!B6)","v":"Jane Doe"},{"$f":"IF('Kollega oplysninger'!C6=\"\",\"\",'Kollega oplysninger'!C6)","v":"1985-01-12"},{"$f":"IF(Lokallønsprocenten!D6=\"\",\"\",Lokallønsprocenten!D6)","v":""},{"$f":"IF(Lokallønsprocenten!E6=\"\",\"\",Lokallønsprocenten!E6)","v":"xx.xx.xxxx"},{"$f":"IF('Kollega oplysninger'!I6=\"\",\"\",'Kollega oplysninger'!I6)","v":"SOSU-hjælper"},{"$f":"IF('Kollega oplysninger'!J6=\"\",\"\",'Kollega oplysninger'!J6)","v":"dagvagt"},{"$f":"IF('Kollega oplysninger'!L6=\"\",\"\",'Kollega oplysninger'!L6)","v":"32/37"},null,"trin 20",12900,null,"6 trin",12900,"note",null,"2 trin",12900,"note",null,12900,"note",null,500,22343.74,{"$f":"IF(Lokallønsprocenten!Z6=\"\",\"\",Lokallønsprocenten!Z6)","v":2.2377632392786524E-2},{"$f":"IF(Lokallønsprocenten!AA6=\"\",\"\",Lokallønsprocenten!AA6)","v":"ja"},null,null,null,200,{"$f":"IF(Lokallønsprocenten!AF6=\"\",\"\",Lokallønsprocenten!AF6)","v":8.9510529571146091E-3},300,{"$f":"IF(Lokallønsprocenten!AH6=\"\",\"\",Lokallønsprocenten!AH6)","v":1.3426579435671914E-2},null,null,null,{"$f":"IF(Z6=\"fejl\",X6,\"\")","v":""},{"$f":"IF(Z6=\"fejl\",Y6,\"\")","v":""}]
[null,{"$f":"IF('Kollega oplysninger'!B7=\"\",\"\",'Kollega oplysninger'!B7)","v":""},{"$f":"IF('Kollega oplysninger'!C7=\"\",\"\",'Kollega oplysninger'!C7)","v":""},null,null,{"$f":"IF('Kollega oplysninger'!I7=\"\",\"\",'Kollega oplysninger'!I7)","v":""},{"$f":"IF('Kollega oplysninger'!J7=\"\",\"\",'Kollega oplysninger'!J7)","v":""},{"$f":"IF('Kollega oplysninger'!L7=\"\",\"\",'Kollega oplysninger'!L7)","v":""},null,null,null,null,null,null,null,null,null,null,null,null,null,null,null,null,null,{"$f":"IF(Lokallønsprocenten!Z7=\"\",\"\",Lokallønsprocenten!Z7)","v":""},{"$f":"IF(Lokallønsprocenten!AA7=\"\",\"\",Lokallønsprocenten!AA7)","v":""},null,"Samlet       lokalløn %",null,null,{"$f":"IF(Lokallønsprocenten!AF7=\"\",\"\",Lokallønsprocenten!AF7)","v":""},null,{"$f":"IF(Lokallønsprocenten!AH7=\"\",\"\",Lokallønsprocenten!AH7)","v":""},null,"Heraf    Kvalifikationsløn %",null,{"$f":"IF(Z7=\"fejl\",X7,\"\")","v":""},{"$f":"IF(Z7=\"fejl\",Y7,\"\")","v":""}]
[null,{"$f":"IF('Kollega oplysninger'!B8=\"\",\"\",'Kollega oplysninger'!B8)","v":""},{"$f":"IF('Kollega oplysninger'!C8=\"\",\"\",'Kollega oplysninger'!C8)","v":""},null,null,{"$f":"IF('Kollega oplysninger'!I8=\"\",\"\",'Kollega oplysninger'!I8)","v":""},{"$f":"IF('Kollega oplysninger'!J8=\"\",\"\",'Kollega oplysninger'!J8)","v":""},{"$f":"IF('Kollega oplysninger'!L8=\"\",\"\",'Kollega oplysninger'!L8)","v":""},null,null,null,null,null,null,null,null,null,null,null,null,null,null,null,null,null,{"$f":"IF(Lokallønsprocenten!Z8=\"\",\"\",Lokallønsprocenten!Z8)","v":""},{"$f":"IF(Lokallønsprocenten!AA8=\"\",\"\",Lokallønsprocenten!AA8)","v":""},null,null,null,null,{"$f":"IF(Lokallønsprocenten!AF8=\"\",\"\",Lokallønsprocenten!AF8)","v":""},null,{"$f":"IF(Lokallønsprocenten!AH8=\"\",\"\",Lokallønsprocenten!AH8)","v":""},null,null,null,"",""]
[null,{"$f":"IF('Kollega oplysninger'!B9=\"\",\"\",'Kollega oplysninger'!B9)","v":""},{"$f":"IF('Kollega oplysninger'!C9=\"\",\"\",'Kollega oplysninger'!C9)","v":""},null,null,{"$f":"IF('Kollega oplysninger'!I9=\"\",\"\",'Kollega oplysninger'!I9)","v":""},{"$f":"IF('Kollega oplysninger'!J9=\"\",\"\",'Kollega oplysninger'!J9)","v":""},{"$f":"IF('Kollega oplysninger'!L9=\"\",\"\",'Kollega oplysninger'!L9)","v":""},null,null,null,null,null,null,null,null,null,null,null,null,null,null,null,null,null,{"$f":"IF(Lokallønsprocenten!Z9=\"\",\"\",Lokallønsprocenten!Z9)","v":""},{"$f":"IF(Lokallønsprocenten!AA9=\"\",\"\",Lokallønsprocenten!AA9)","v":""},null,{"$f":"(X506-AL506)/(Y506-AM506)*100","v":2.2377632392786522},null,null,{"$f":"IF(Lokallønsprocenten!AF9=\"\",\"\",Lokallønsprocenten!AF9)","v":""},null,{"$f":"IF(Lokallønsprocenten!AH9=\"\",\"\",Lokallønsprocenten!AH9)","v":""},null,{"$f":"AE506/Y506*100","v":0.89510529571146091},null,"",""]
[null,{"$f":"IF('Kollega oplysninger'!B10=\"\",\"\",'Kollega oplysninger'!B10)","v":""},{"$f":"IF('Kollega oplysninger'!C10=\"\",\"\",'Kollega oplysninger'!C10)","v":""},null,null,{"$f":"IF('Kollega oplysninger'!I10=\"\",\"\",'Kollega oplysninger'!I10)","v":""},{"$f":"IF('Kollega oplysninger'!J10=\"\",\"\",'Kollega oplysninger'!J10)","v":""},{"$f":"IF('Kollega oplysninger'!L10=\"\",\"\",'Kollega oplysninger'!L10)","v":""},null,null,null,null,null,null,null,null,null,null,null,null,null,null,null,null,null,{"$f":"IF(Lokallønsprocenten!Z10=\"\",\"\",Lokallønsprocenten!Z10)","v":""},{"$f":"IF(Lokallønsprocenten!AA10=\"\",\"\",Lokallønsprocenten!AA10)","v":""},null,null,null,null,{"$f":"IF(Lokallønsprocenten!AF10=\"\",\"\",Lokallønsprocenten!AF10)","v":""},null,{"$f":"IF(Lokallønsprocenten!AH10=\"\",\"\",Lokallønsprocenten!AH10)","v":""},null,null,null,"",""]
[null,{"$f":"IF('Kollega oplysninger'!B11=\"\",\"\",'Kollega oplysninger'!B11)","v":""},{"$f":"IF('Kollega oplysninger'!C11=\"\",\"\",'Kollega oplysninger'!C11)","v":""},null,null,{"$f":"IF('Kollega oplysninger'!I11=\"\",\"\",'Kollega oplysninger'!I11)","v":""},{"$f":"IF('Kollega oplysninger'!J11=\"\",\"\",'Kollega oplysninger'!J11)","v":""},{"$f":"IF('Kollega oplysninger'!L11=\"\",\"\",'Kollega oplysninger'!L11)","v":""},null,null,null,null,null,null,null,null,null,null,null,null,null,null,null,null,null,{"$f":"IF(Lokallønsprocenten!Z11=\"\",\"\",Lokallønsprocenten!Z11)","v":""},{"$f":"IF(Lokallønsprocenten!AA11=\"\",\"\",Lokallønsprocenten!AA11)","v":""},null,null,null,null,{"$f":"IF(Lokallønsprocenten!AF11=\"\",\"\",Lokallønsprocenten!AF11)","v":""},null,{"$f":"IF(Lokallønsprocenten!AH11=\"\",\"\",Lokallønsprocenten!AH11)","v":""},null,null,null,"",""]
[null,{"$f":"IF('Kollega oplysninger'!B12=\"\",\"\",'Kollega oplysninger'!B12)","v":""},{"$f":"IF('Kollega oplysninger'!C12=\"\",\"\",'Kollega oplysninger'!C12)","v":""},null,null,{"$f":"IF('Kollega oplysninger'!I12=\"\",\"\",'Kollega oplysninger'!I12)","v":""},{"$f":"IF('Kollega oplysninger'!J12=\"\",\"\",'Kollega oplysninger'!J12)","v":""},{"$f":"IF('Kollega oplysninger'!L12=\"\",\"\",'Kollega oplysninger'!L12)","v":""},null,null,null,null,null,null,null,null,null,null,null,null,null,null,null,null,null,{"$f":"IF(Lokallønsprocenten!Z12=\"\",\"\",Lokallønsprocenten!Z12)","v":""},{"$f":"IF(Lokallønsprocenten!AA12=\"\",\"\",Lokallønsprocenten!AA12)","v":""},null,null,null,null,{"$f":"IF(Lokallønsprocenten!AF12=\"\",\"\",Lokallønsprocenten!AF12)","v":""},null,{"$f":"IF(Lokallønsprocenten!AH12=\"\",\"\",Lokallønsprocenten!AH12)","v":""},null,"Heraf Funktionsløn %",null,"",""]
[null,{"$f":"IF('Kollega oplysninger'!B13=\"\",\"\",'Kollega oplysninger'!B13)","v":""},{"$f":"IF('Kollega oplysninger'!C13=\"\",\"\",'Kollega oplysninger'!C13)","v":""},null,null,{"$f":"IF('Kollega oplysninger'!I13=\"\",\"\",'Kollega oplysninger'!I13)","v":""},{"$f":"IF('Kollega oplysninger'!J13=\"\",\"\",'Kollega oplysninger'!J13)","v":""},{"$f":"IF('Kollega oplysninger'!L13=\"\",\"\",'Kollega oplysninger'!L13)","v":""},null,null,null,null,null,null,null,null,null,null,null,null,null,null,null,null,null,{"$f":"IF(Lokallønsprocenten!Z13=\"\",\"\",Lokallønsprocenten!Z13)","v":""},{"$f":"IF(Lokallønsprocenten!AA13=\"\",\"\",Lokallønsprocenten!AA13)","v":""},null,null,null,null,{"$f":"IF(Lokallønsprocenten!AF13=\"\",\"\",Lokallønsprocenten!AF13)","v":""},null,{"$f":"IF(Lokallønsprocenten!AH13=\"\",\"\",Lokallønsprocenten!AH13)","v":""},null,null,null,"",""]
[null,{"$f":"IF('Kollega oplysninger'!B14=\"\",\"\",'Kollega oplysninger'!B14)","v":""},{"$f":"IF('Kollega oplysninger'!C14=\"\",\"\",'Kollega oplysninger'!C14)","v":""},null,null,{"$f":"IF('Kollega oplysninger'!I14=\"\",\"\",'Kollega oplysninger'!I14)","v":""},{"$f":"IF('Kollega oplysninger'!J14=\"\",\"\",'Kollega oplysninger'!J14)","v":""},{"$f":"IF('Kollega oplysninger'!L14=\"\",\"\",'Kollega oplysninger'!L14)","v":""},null,null,null,null,null,null,null,null,null,null,null,null,null,null,null,null,null,{"$f":"IF(Lokallønsprocenten!Z14=\"\",\"\",Lokallønsprocenten!Z14)","v":""},{"$f":"IF(Lokallønsprocenten!AA14=\"\",\"\",Lokallønsprocenten!AA14)","v":""},null,null,null,null,{"$f":"IF(Lokallønsprocenten!AF14=\"\",\"\",Lokallønsprocenten!AF14)","v":""},null,{"$f":"IF(Lokallønsprocenten!AH14=\"\",\"\",Lokallønsprocenten!AH14)","v":""},null,{"$f":"AG506/Y506*100","v":1.3426579435671915},null,"",""]
[null,{"$f":"IF('Kollega oplysninger'!B15=\"\",\"\",'Kollega oplysninger'!B15)","v":""},{"$f":"IF('Kollega oplysninger'!C15=\"\",\"\",'Kollega oplysninger'!C15)","v":""},null,null,{"$f":"IF('Kollega oplysninger'!I15=\"\",\"\",'Kollega oplysninger'!I15)","v":""},{"$f":"IF('Kollega oplysninger'!J15=\"\",\"\",'Kollega oplysninger'!J15)","v":""},{"$f":"IF('Kollega oplysninger'!L15=\"\",\"\",'Kollega oplysninger'!L15)","v":""},null,null,null,null,null,null,null,null,null,null,null,null,null,null,null,null,null,{"$f":"IF(Lokallønsprocenten!Z15=\"\",\"\",Lokallønsprocenten!Z15)","v":""},{"$f":"IF(Lokallønsprocenten!AA15=\"\",\"\",Lokallønsprocenten!AA15)","v":""},null,null,null,null,{"$f":"IF(Lokallønsprocenten!AF15=\"\",\"\",Lokallønsprocenten!AF15)","v":""},null,{"$f":"IF(Lokallønsprocenten!AH15=\"\",\"\",Lokallønsprocenten!AH15)","v":""},null,null,null,"",""]
[null,{"$f":"IF('Kollega oplysninger'!B16=\"\",\"\",'Kollega oplysninger'!B16)","v":""},{"$f":"IF('Kollega oplysninger'!C16=\"\",\"\",'Kollega oplysninger'!C16)","v":""},null,null,{"$f":"IF('Kollega oplysninger'!I16=\"\",\"\",'Kollega oplysninger'!I16)","v":""},{"$f":"IF('Kollega oplysninger'!J16=\"\",\"\",'Kollega oplysninger'!J16)","v":""},{"$f":"IF('Kollega oplysninger'!L16=\"\",\"\",'Kollega oplysninger'!L16)","v":""},null,null,null,null,null,null,null,null,null,null,null,null,null,null,null,null,null,{"$f":"IF(Lokallønsprocenten!Z16=\"\",\"\",Lokallønsprocenten!Z16)","v":""},{"$f":"IF(Lokallønsprocenten!AA16=\"\",\"\",Lokallønsprocenten!AA16)","v":""},null,null,null,null,{"$f":"IF(Lokallønsprocenten!AF16=\"\",\"\",Lokallønsprocenten!AF16)","v":""},null,{"$f":"IF(Lokallønsprocenten!AH16=\"\",\"\",Lokallønsprocenten!AH16)","v":""},null,null,null,"",""]
[null,{"$f":"IF('Kollega oplysninger'!B17=\"\",\"\",'Kollega oplysninger'!B17)","v":""},{"$f":"IF('Kollega oplysninger'!C17=\"\",\"\",'Kollega oplysninger'!C17)","v":""},null,null,{"$f":"IF('Kollega oplysninger'!I17=\"\",\"\",'Kollega oplysninger'!I17)","v":""},{"$f":"IF('Kollega oplysninger'!J17=\"\",\"\",'Kollega oplysninger'!J17)","v":""},{"$f":"IF('Kollega oplysninger'!L17=\"\",\"\",'Kollega oplysninger'!L17)","v":""},null,null,null,null,null,null,null,null,null,null,null,null,null,null,null,null,null,{"$f":"IF(Lokallønsprocenten!Z17=\"\",\"\",Lokallønsprocenten!Z17)","v":""},{"$f":"IF(Lokallønsprocenten!AA17=\"\",\"\",Lokallønsprocenten!AA17)","v":""},null,null,null,null,{"$f":"IF(Lokallønsprocenten!AF17=\"\",\"\",Lokallønsprocenten!AF17)","v":""},null,{"$f":"IF(Lokallønsprocenten!AH17=\"\",\"\",Lokallønsprocenten!AH17)","v":""},null,"Samlet       lokalløn %",null,"",""]
[null,{"$f":"IF('Kollega oplysninger'!B18=\"\",\"\",'Kollega oplysninger'!B18)","v":""},{"$f":"IF('Kollega oplysninger'!C18=\"\",\"\",'Kollega oplysninger'!C18)","v":""},null,null,{"$f":"IF('Kollega oplysninger'!I18=\"\",\"\",'Kollega oplysninger'!I18)","v":""},{"$f":"IF('Kollega oplysninger'!J18=\"\",\"\",'Kollega oplysninger'!J18)","v":""},{"$f":"IF('Kollega oplysninger'!L18=\"\",\"\",'Kollega oplysninger'!L18)","v":""},null,null,null,null,null,null,null,null,null,null,null,null,null,null,null,null,null,{"$f":"IF(Lokallønsprocenten!Z18=\"\",\"\",Lokallønsprocenten!Z18)","v":""},{"$f":"IF(Lokallønsprocenten!AA18=\"\",\"\",Lokallønsprocenten!AA18)","v":""},null,"Hvis du er interesseret i at opdele lokallønsprocenten i hvor stor en andel der er kvalifikationsløn og funktionsløn kan du opdele lønnen i de følgende kolonner. ",null,null,{"$f":"IF(Lokallønsprocenten!AF18=\"\",\"\",Lokallønsprocenten!AF18)","v":""},null,{"$f":"IF(Lokallønsprocenten!AH18=\"\",\"\",Lokallønsprocenten!AH18)","v":""},null,null,null,"",""]
[null,{"$f":"IF('Kollega oplysninger'!B19=\"\",\"\",'Kollega oplysninger'!B19)","v":""},{"$f":"IF('Kollega oplysninger'!C19=\"\",\"\",'Kollega oplysninger'!C19)","v":""},null,null,{"$f":"IF('Kollega oplysninger'!I19=\"\",\"\",'Kollega oplysninger'!I19)","v":""},{"$f":"IF('Kollega oplysninger'!J19=\"\",\"\",'Kollega oplysninger'!J19)","v":""},{"$f":"IF('Kollega oplysninger'!L19=\"\",\"\",'Kollega oplysninger'!L19)","v":""},null,null,null,null,null,null,null,null,null,null,null,null,null,null,null,null,null,{"$f":"IF(Lokallønsprocenten!Z19=\"\",\"\",Lokallønsprocenten!Z19)","v":""},{"$f":"IF(Lokallønsprocenten!AA19=\"\",\"\",Lokallønsprocenten!AA19)","v":""},null,null,null,null,{"$f":"IF(Lokallønsprocenten!AF19=\"\",\"\",Lokallønsprocenten!AF19)","v":""},null,{"$f":"IF(Lokallønsprocenten!AH19=\"\",\"\",Lokallønsprocenten!AH19)","v":""},null,{"$f":"AJ14+AJ9","v":2.2377632392786522},null,"",""]
[null,{"$f":"IF('Kollega oplysninger'!B20=\"\",\"\",'Kollega oplysninger'!B20)","v":""},{"$f":"IF('Kollega oplysninger'!C20=\"\",\"\",'Kollega oplysninger'!C20)","v":""},null,null,{"$f":"IF('Kollega oplysninger'!I20=\"\",\"\",'Kollega oplysninger'!I20)","v":""},{"$f":"IF('Kollega oplysninger'!J20=\"\",\"\",'Kollega oplysninger'!J20)","v":""},{"$f":"IF('Kollega oplysninger'!L20=\"\",\"\",'Kollega oplysninger'!L20)","v":""},null,null,null,null,null,null,null,null,null,null,null,null,null,null,null,null,null,{"$f":"IF(Lokallønsprocenten!Z20=\"\",\"\",Lokallønsprocenten!Z20)","v":""},{"$f":"IF(Lokallønsprocenten!AA20=\"\",\"\",Lokallønsprocenten!AA20)","v":""},null,null,null,null,{"$f":"IF(Lokallønsprocenten!AF20=\"\",\"\",Lokallønsprocenten!AF20)","v":""},null,{"$f":"IF(Lokallønsprocenten!AH20=\"\",\"\",Lokallønsprocenten!AH20)","v":""},null,null,null,"",""]
[null,{"$f":"IF('Kollega oplysninger'!B21=\"\",\"\",'Kollega oplysninger'!B21)","v":""},{"$f":"IF('Kollega oplysninger'!C21=\"\",\"\",'Kollega oplysninger'!C21)","v":""},null,null,{"$f":"IF('Kollega oplysninger'!I21=\"\",\"\",'Kollega oplysninger'!I21)","v":""},{"$f":"IF('Kollega oplysninger'!J21=\"\",\"\",'Kollega oplysninger'!J21)","v":""},{"$f":"IF('Kollega oplysninger'!L21=\"\",\"\",'Kollega oplysninger'!L21)","v":""},null,null,null,null,null,null,null,null,null,null,null,null,null,null,null,null,null,{"$f":"IF(Lokallønsprocenten!Z21=\"\",\"\",Lokallønsprocenten!Z21)","v":""},{"$f":"IF(Lokallønsprocenten!AA21=\"\",\"\",Lokallønsprocenten!AA21)","v":""},null,null,null,null,{"$f":"IF(Lokallønsprocenten!AF21=\"\",\"\",Lokallønsprocenten!AF21)","v":""},null,{"$f":"IF(Lokallønsprocenten!AH21=\"\",\"\",Lokallønsprocenten!AH21)","v":""},null,null,null,"",""]
[null,{"$f":"IF('Kollega oplysninger'!B22=\"\",\"\",'Kollega oplysninger'!B22)","v":""},{"$f":"IF('Kollega oplysninger'!C22=\"\",\"\",'Kollega oplysninger'!C22)","v":""},null,null,{"$f":"IF('Kollega oplysninger'!I22=\"\",\"\",'Kollega oplysninger'!I22)","v":""},{"$f":"IF('Kollega oplysninger'!J22=\"\",\"\",'Kollega oplysninger'!J22)","v":""},{"$f":"IF('Kollega oplysninger'!L22=\"\",\"\",'Kollega oplysninger'!L22)","v":""},null,null,null,null,null,null,null,null,null,null,null,null,null,null,null,null,null,{"$f":"IF(Lokallønsprocenten!Z22=\"\",\"\",Lokallønsprocenten!Z22)","v":""},{"$f":"IF(Lokallønsprocenten!AA22=\"\",\"\",Lokallønsprocenten!AA22)","v":""},null,null,null,null,{"$f":"IF(Lokallønsprocenten!AF22=\"\",\"\",Lokallønsprocenten!AF22)","v":""},null,{"$f":"IF(Lokallønsprocenten!AH22=\"\",\"\",Lokallønsprocenten!AH22)","v":""},null,null,null,"",""]
[null,{"$f":"IF('Kollega oplysninger'!B23=\"\",\"\",'Kollega oplysninger'!B23)","v":""},{"$f":"IF('Kollega oplysninger'!C23=\"\",\"\",'Kollega oplysninger'!C23)","v":""},null,null,{"$f":"IF('Kollega oplysninger'!I23=\"\",\"\",'Kollega oplysninger'!I23)","v":""},{"$f":"IF('Kollega oplysninger'!J23=\"\",\"\",'Kollega oplysninger'!J23)","v":""},{"$f":"IF('Kollega oplysninger'!L23=\"\",\"\",'Kollega oplysninger'!L23)","v":""},null,null,null,null,null,null,null,null,null,null,null,null,null,null,null,null,null,{"$f":"IF(Lokallønsprocenten!Z23=\"\",\"\",Lokallønsprocenten!Z23)","v":""},{"$f":"IF(Lokallønsprocenten!AA23=\"\",\"\",Lokallønsprocenten!AA23)","v":""},null,null,null,null,{"$f":"IF(Lokallønsprocenten!AF23=\"\",\"\",Lokallønsprocenten!AF23)","v":""},null,{"$f":"IF(Lokallønsprocenten!AH23=\"\",\"\",Lokallønsprocenten!AH23)","v":""},null,null,null,"",""]
[null,{"$f":"IF('Kollega oplysninger'!B24=\"\",\"\",'Kollega oplysninger'!B24)","v":""},{"$f":"IF('Kollega oplysninger'!C24=\"\",\"\",'Kollega oplysninger'!C24)","v":""},null,null,{"$f":"IF('Kollega oplysninger'!I24=\"\",\"\",'Kollega oplysninger'!I24)","v":""},{"$f":"IF('Kollega oplysninger'!J24=\"\",\"\",'Kollega oplysninger'!J24)","v":""},{"$f":"IF('Kollega oplysninger'!L24=\"\",\"\",'Kollega oplysninger'!L24)","v":""},null,null,null,null,null,null,null,null,null,null,null,null,null,null,null,null,null,{"$f":"IF(Lokallønsprocenten!Z24=\"\",\"\",Lokallønsprocenten!Z24)","v":""},{"$f":"IF(Lokallønsprocenten!AA24=\"\",\"\",Lokallønsprocenten!AA24)","v":""},null,null,null,null,{"$f":"IF(Lokallønsprocenten!AF24=\"\",\"\",Lokallønsprocenten!AF24)","v":""},null,{"$f":"IF(Lokallønsprocenten!AH24=\"\",\"\",Lokallønsprocenten!AH24)","v":""},null,null,null,"",""]
[null,{"$f":"IF('Kollega oplysninger'!B25=\"\",\"\",'Kollega oplysninger'!B25)","v":""},{"$f":"IF('Kollega oplysninger'!C25=\"\",\"\",'Kollega oplysninger'!C25)","v":""},null,null,{"$f":"IF('Kollega oplysninger'!I25=\"\",\"\",'Kollega oplysninger'!I25)","v":""},{"$f":"IF('Kollega oplysninger'!J25=\"\",\"\",'Kollega oplysninger'!J25)","v":""},{"$f":"IF('Kollega oplysninger'!L25=\"\",\"\",'Kollega oplysninger'!L25)","v":""},null,null,null,null,null,null,null,null,null,null,null,null,null,null,null,null,null,{"$f":"IF(Lokallønsprocenten!Z25=\"\",\"\",Lokallønsprocenten!Z25)","v":""},{"$f":"IF(Lokallønsprocenten!AA25=\"\",\"\",Lokallønsprocenten!AA25)","v":""},null,null,null,null,{"$f":"IF(Lokallønsprocenten!AF25=\"\",\"\",Lokallønsprocenten!AF25)","v":""},null,{"$f":"IF(Lokallønsprocenten!AH25=\"\",\"\",Lokallønsprocenten!AH25)","v":""},null,null,null,"",""]
[null,{"$f":"IF('Kollega oplysninger'!B26=\"\",\"\",'Kollega oplysninger'!B26)","v":""},{"$f":"IF('Kollega oplysninger'!C26=\"\",\"\",'Kollega oplysninger'!C26)","v":""},null,null,{"$f":"IF('Kollega oplysninger'!I26=\"\",\"\",'Kollega oplysninger'!I26)","v":""},{"$f":"IF('Kollega oplysninger'!J26=\"\",\"\",'Kollega oplysninger'!J26)","v":""},{"$f":"IF('Kollega oplysninger'!L26=\"\",\"\",'Kollega oplysninger'!L26)","v":""},null,null,null,null,null,null,null,null,null,null,null,null,null,null,null,null,null,{"$f":"IF(Lokallønsprocenten!Z26=\"\",\"\",Lokallønsprocenten!Z26)","v":""},{"$f":"IF(Lokallønsprocenten!AA26=\"\",\"\",Lokallønsprocenten!AA26)","v":""},null,null,null,null,{"$f":"IF(Lokallønsprocenten!AF26=\"\",\"\",Lokallønsprocenten!AF26)","v":""},null,{"$f":"IF(Lokallønsprocenten!AH26=\"\",\"\",Lokallønsprocenten!AH26)","v":""},null,null,null,"",""]
[null,{"$f":"IF('Kollega oplysninger'!B27=\"\",\"\",'Kollega oplysninger'!B27)","v":""},{"$f":"IF('Kollega oplysninger'!C27=\"\",\"\",'Kollega oplysninger'!C27)","v":""},null,null,{"$f":"IF('Kollega oplysninger'!I27=\"\",\"\",'Kollega oplysninger'!I27)","v":""},{"$f":"IF('Kollega oplysninger'!J27=\"\",\"\",'Kollega oplysninger'!J27)","v":""},{"$f":"IF('Kollega oplysninger'!L27=\"\",\"\",'Kollega oplysninger'!L27)","v":""},null,null,null,null,null,null,null,null,null,null,null,null,null,null,null,null,null,{"$f":"IF(Lokallønsprocenten!Z27=\"\",\"\",Lokallønsprocenten!Z27)","v":""},{"$f":"IF(Lokallønsprocenten!AA27=\"\",\"\",Lokallønsprocenten!AA27)","v":""},null,null,null,null,{"$f":"IF(Lokallønsprocenten!AF27=\"\",\"\",Lokallønsprocenten!AF27)","v":""},null,{"$f":"IF(Lokallønsprocenten!AH27=\"\",\"\",Lokallønsprocenten!AH27)","v":""},null,null,null,"",""]
[null,{"$f":"IF('Kollega oplysninger'!B28=\"\",\"\",'Kollega oplysninger'!B28)","v":""},{"$f":"IF('Kollega oplysninger'!C28=\"\",\"\",'Kollega oplysninger'!C28)","v":""},null,null,{"$f":"IF('Kollega oplysninger'!I28=\"\",\"\",'Kollega oplysninger'!I28)","v":""},{"$f":"IF('Kollega oplysninger'!J28=\"\",\"\",'Kollega oplysninger'!J28)","v":""},{"$f":"IF('Kollega oplysninger'!L28=\"\",\"\",'Kollega oplysninger'!L28)","v":""},null,null,null,null,null,null,null,null,null,null,null,null,null,null,null,null,null,{"$f":"IF(Lokallønsprocenten!Z28=\"\",\"\",Lokallønsprocenten!Z28)","v":""},{"$f":"IF(Lokallønsprocenten!AA28=\"\",\"\",Lokallønsprocenten!AA28)","v":""},null,null,null,null,{"$f":"IF(Lokallønsprocenten!AF28=\"\",\"\",Lokallønsprocenten!AF28)","v":""},null,{"$f":"IF(Lokallønsprocenten!AH28=\"\",\"\",Lokallønsprocenten!AH28)","v":""},null,null,null,"",""]
[null,{"$f":"IF('Kollega oplysninger'!B29=\"\",\"\",'Kollega oplysninger'!B29)","v":""},{"$f":"IF('Kollega oplysninger'!C29=\"\",\"\",'Kollega oplysninger'!C29)","v":""},null,null,{"$f":"IF('Kollega oplysninger'!I29=\"\",\"\",'Kollega oplysninger'!I29)","v":""},{"$f":"IF('Kollega oplysninger'!J29=\"\",\"\",'Kollega oplysninger'!J29)","v":""},{"$f":"IF('Kollega oplysninger'!L29=\"\",\"\",'Kollega oplysninger'!L29)","v":""},null,null,null,null,null,null,null,null,null,null,null,null,null,null,null,null,null,{"$f":"IF(Lokallønsprocenten!Z29=\"\",\"\",Lokallønsprocenten!Z29)","v":""},{"$f":"IF(Lokallønsprocenten!AA29=\"\",\"\",Lokallønsprocenten!AA29)","v":""},null,null,null,null,{"$f":"IF(Lokallønsprocenten!AF29=\"\",\"\",Lokallønsprocenten!AF29)","v":""},null,{"$f":"IF(Lokallønsprocenten!AH29=\"\",\"\",Lokallønsprocenten!AH29)","v":""},null,null,null,"",""]
[null,{"$f":"IF('Kollega oplysninger'!B30=\"\",\"\",'Kollega oplysninger'!B30)","v":""},{"$f":"IF('Kollega oplysninger'!C30=\"\",\"\",'Kollega oplysninger'!C30)","v":""},null,null,{"$f":"IF('Kollega oplysninger'!I30=\"\",\"\",'Kollega oplysninger'!I30)","v":""},{"$f":"IF('Kollega oplysninger'!J30=\"\",\"\",'Kollega oplysninger'!J30)","v":""},{"$f":"IF('Kollega oplysninger'!L30=\"\",\"\",'Kollega oplysninger'!L30)","v":""},null,null,null,null,null,null,null,null,null,null,null,null,null,null,null,null,null,{"$f":"IF(Lokallønsprocenten!Z30=\"\",\"\",Lokallønsprocenten!Z30)","v":""},{"$f":"IF(Lokallønsprocenten!AA30=\"\",\"\",Lokallønsprocenten!AA30)","v":""},null,null,null,null,{"$f":"IF(Lokallønsprocenten!AF30=\"\",\"\",Lokallønsprocenten!AF30)","v":""},null,{"$f":"IF(Lokallønsprocenten!AH30=\"\",\"\",Lokallønsprocenten!AH30)","v":""},null,null,null,"",""]
[null,{"$f":"IF('Kollega oplysninger'!B31=\"\",\"\",'Kollega oplysninger'!B31)","v":""},{"$f":"IF('Kollega oplysninger'!C31=\"\",\"\",'Kollega oplysninger'!C31)","v":""},null,null,{"$f":"IF('Kollega oplysninger'!I31=\"\",\"\",'Kollega oplysninger'!I31)","v":""},{"$f":"IF('Kollega oplysninger'!J31=\"\",\"\",'Kollega oplysninger'!J31)","v":""},{"$f":"IF('Kollega oplysninger'!L31=\"\",\"\",'Kollega oplysninger'!L31)","v":""},null,null,null,null,null,null,null,null,null,null,null,null,null,null,null,null,null,{"$f":"IF(Lokallønsprocenten!Z31=\"\",\"\",Lokallønsprocenten!Z31)","v":""},{"$f":"IF(Lokallønsprocenten!AA31=\"\",\"\",Lokallønsprocenten!AA31)","v":""},null,null,null,null,{"$f":"IF(Lokallønsprocenten!AF31=\"\",\"\",Lokallønsprocenten!AF31)","v":""},null,{"$f":"IF(Lokallønsprocenten!AH31=\"\",\"\",Lokallønsprocenten!AH31)","v":""},null,null,null,"",""]
[null,{"$f":"IF('Kollega oplysninger'!B32=\"\",\"\",'Kollega oplysninger'!B32)","v":""},{"$f":"IF('Kollega oplysninger'!C32=\"\",\"\",'Kollega oplysninger'!C32)","v":""},null,null,{"$f":"IF('Kollega oplysninger'!I32=\"\",\"\",'Kollega oplysninger'!I32)","v":""},{"$f":"IF('Kollega oplysninger'!J32=\"\",\"\",'Kollega oplysninger'!J32)","v":""},{"$f":"IF('Kollega oplysninger'!L32=\"\",\"\",'Kollega oplysninger'!L32)","v":""},null,null,null,null,null,null,null,null,null,null,null,null,null,null,null,null,null,{"$f":"IF(Lokallønsprocenten!Z32=\"\",\"\",Lokallønsprocenten!Z32)","v":""},{"$f":"IF(Lokallønsprocenten!AA32=\"\",\"\",Lokallønsprocenten!AA32)","v":""},null,null,null,null,{"$f":"IF(Lokallønsprocenten!AF32=\"\",\"\",Lokallønsprocenten!AF32)","v":""},null,{"$f":"IF(Lokallønsprocenten!AH32=\"\",\"\",Lokallønsprocenten!AH32)","v":""},null,null,null,"",""]
[null,{"$f":"IF('Kollega oplysninger'!B33=\"\",\"\",'Kollega oplysninger'!B33)","v":""},{"$f":"IF('Kollega oplysninger'!C33=\"\",\"\",'Kollega oplysninger'!C33)","v":""},null,null,{"$f":"IF('Kollega oplysninger'!I33=\"\",\"\",'Kollega oplysninger'!I33)","v":""},{"$f":"IF('Kollega oplysninger'!J33=\"\",\"\",'Kollega oplysninger'!J33)","v":""},{"$f":"IF('Kollega oplysninger'!L33=\"\",\"\",'Kollega oplysninger'!L33)","v":""},null,null,null,null,null,null,null,null,null,null,null,null,null,null,null,null,null,{"$f":"IF(Lokallønsprocenten!Z33=\"\",\"\",Lokallønsprocenten!Z33)","v":""},{"$f":"IF(Lokallønsprocenten!AA33=\"\",\"\",Lokallønsprocenten!AA33)","v":""},null,null,null,null,{"$f":"IF(Lokallønsprocenten!AF33=\"\",\"\",Lokallønsprocenten!AF33)","v":""},null,{"$f":"IF(Lokallønsprocenten!AH33=\"\",\"\",Lokallønsprocenten!AH33)","v":""},null,null,null,"",""]
[null,{"$f":"IF('Kollega oplysninger'!B34=\"\",\"\",'Kollega oplysninger'!B34)","v":""},{"$f":"IF('Kollega oplysninger'!C34=\"\",\"\",'Kollega oplysninger'!C34)","v":""},null,null,{"$f":"IF('Kollega oplysninger'!I34=\"\",\"\",'Kollega oplysninger'!I34)","v":""},{"$f":"IF('Kollega oplysninger'!J34=\"\",\"\",'Kollega oplysninger'!J34)","v":""},{"$f":"IF('Kollega oplysninger'!L34=\"\",\"\",'Kollega oplysninger'!L34)","v":""},null,null,null,null,null,null,null,null,null,null,null,null,null,null,null,null,null,{"$f":"IF(Lokallønsprocenten!Z34=\"\",\"\",Lokallønsprocenten!Z34)","v":""},{"$f":"IF(Lokallønsprocenten!AA34=\"\",\"\",Lokallønsprocenten!AA34)","v":""},null,null,null,null,{"$f":"IF(Lokallønsprocenten!AF34=\"\",\"\",Lokallønsprocenten!AF34)","v":""},null,{"$f":"IF(Lokallønsprocenten!AH34=\"\",\"\",Lokallønsprocenten!AH34)","v":""},null,null,null,"",""]
[null,{"$f":"IF('Kollega oplysninger'!B35=\"\",\"\",'Kollega oplysninger'!B35)","v":""},{"$f":"IF('Kollega oplysninger'!C35=\"\",\"\",'Kollega oplysninger'!C35)","v":""},null,null,{"$f":"IF('Kollega oplysninger'!I35=\"\",\"\",'Kollega oplysninger'!I35)","v":""},{"$f":"IF('Kollega oplysninger'!J35=\"\",\"\",'Kollega oplysninger'!J35)","v":""},{"$f":"IF('Kollega oplysninger'!L35=\"\",\"\",'Kollega oplysninger'!L35)","v":""},null,null,null,null,null,null,null,null,null,null,null,null,null,null,null,null,null,{"$f":"IF(Lokallønsprocenten!Z35=\"\",\"\",Lokallønsprocenten!Z35)","v":""},{"$f":"IF(Lokallønsprocenten!AA35=\"\",\"\",Lokallønsprocenten!AA35)","v":""},null,null,null,null,{"$f":"IF(Lokallønsprocenten!AF35=\"\",\"\",Lokallønsprocenten!AF35)","v":""},null,{"$f":"IF(Lokallønsprocenten!AH35=\"\",\"\",Lokallønsprocenten!AH35)","v":""},null,null,null,"",""]
[null,{"$f":"IF('Kollega oplysninger'!B36=\"\",\"\",'Kollega oplysninger'!B36)","v":""},{"$f":"IF('Kollega oplysninger'!C36=\"\",\"\",'Kollega oplysninger'!C36)","v":""},null,null,{"$f":"IF('Kollega oplysninger'!I36=\"\",\"\",'Kollega oplysninger'!I36)","v":""},{"$f":"IF('Kollega oplysninger'!J36=\"\",\"\",'Kollega oplysninger'!J36)","v":""},{"$f":"IF('Kollega oplysninger'!L36=\"\",\"\",'Kollega oplysninger'!L36)","v":""},null,null,null,null,null,null,null,null,null,null,null,null,null,null,null,null,null,{"$f":"IF(Lokallønsprocenten!Z36=\"\",\"\",Lokallønsprocenten!Z36)","v":""},{"$f":"IF(Lokallønsprocenten!AA36=\"\",\"\",Lokallønsprocenten!AA36)","v":""},null,null,null,null,{"$f":"IF(Lokallønsprocenten!AF36=\"\",\"\",Lokallønsprocenten!AF36)","v":""},null,{"$f":"IF(Lokallønsprocenten!AH36=\"\",\"\",Lokallønsprocenten!AH36)","v":""},null,null,null,"",""]
[null,{"$f":"IF('Kollega oplysninger'!B37=\"\",\"\",'Kollega oplysninger'!B37)","v":""},{"$f":"IF('Kollega oplysninger'!C37=\"\",\"\",'Kollega oplysninger'!C37)","v":""},null,null,{"$f":"IF('Kollega oplysninger'!I37=\"\",\"\",'Kollega oplysninger'!I37)","v":""},{"$f":"IF('Kollega oplysninger'!J37=\"\",\"\",'Kollega oplysninger'!J37)","v":""},{"$f":"IF('Kollega oplysninger'!L37=\"\",\"\",'Kollega oplysninger'!L37)","v":""},null,null,null,null,null,null,null,null,null,null,null,null,null,null,null,null,null,{"$f":"IF(Lokallønsprocenten!Z37=\"\",\"\",Lokallønsprocenten!Z37)","v":""},{"$f":"IF(Lokallønsprocenten!AA37=\"\",\"\",Lokallønsprocenten!AA37)","v":""},null,null,null,null,{"$f":"IF(Lokallønsprocenten!AF37=\"\",\"\",Lokallønsprocenten!AF37)","v":""},null,{"$f":"IF(Lokallønsprocenten!AH37=\"\",\"\",Lokallønsprocenten!AH37)","v":""},null,null,null,"",""]
[null,{"$f":"IF('Kollega oplysninger'!B38=\"\",\"\",'Kollega oplysninger'!B38)","v":""},{"$f":"IF('Kollega oplysninger'!C38=\"\",\"\",'Kollega oplysninger'!C38)","v":""},null,null,{"$f":"IF('Kollega oplysninger'!I38=\"\",\"\",'Kollega oplysninger'!I38)","v":""},{"$f":"IF('Kollega oplysninger'!J38=\"\",\"\",'Kollega oplysninger'!J38)","v":""},{"$f":"IF('Kollega oplysninger'!L38=\"\",\"\",'Kollega oplysninger'!L38)","v":""},null,null,null,null,null,null,null,null,null,null,null,null,null,null,null,null,null,{"$f":"IF(Lokallønsprocenten!Z38=\"\",\"\",Lokallønsprocenten!Z38)","v":""},{"$f":"IF(Lokallønsprocenten!AA38=\"\",\"\",Lokallønsprocenten!AA38)","v":""},null,null,null,null,{"$f":"IF(Lokallønsprocenten!AF38=\"\",\"\",Lokallønsprocenten!AF38)","v":""},null,{"$f":"IF(Lokallønsprocenten!AH38=\"\",\"\",Lokallønsprocenten!AH38)","v":""},null,null,null,"",""]
[null,{"$f":"IF('Kollega oplysninger'!B39=\"\",\"\",'Kollega oplysninger'!B39)","v":""},{"$f":"IF('Kollega oplysninger'!C39=\"\",\"\",'Kollega oplysninger'!C39)","v":""},null,null,{"$f":"IF('Kollega oplysninger'!I39=\"\",\"\",'Kollega oplysninger'!I39)","v":""},{"$f":"IF('Kollega oplysninger'!J39=\"\",\"\",'Kollega oplysninger'!J39)","v":""},{"$f":"IF('Kollega oplysninger'!L39=\"\",\"\",'Kollega oplysninger'!L39)","v":""},null,null,null,null,null,null,null,null,null,null,null,null,null,null,null,null,null,{"$f":"IF(Lokallønsprocenten!Z39=\"\",\"\",Lokallønsprocenten!Z39)","v":""},{"$f":"IF(Lokallønsprocenten!AA39=\"\",\"\",Lokallønsprocenten!AA39)","v":""},null,null,null,null,{"$f":"IF(Lokallønsprocenten!AF39=\"\",\"\",Lokallønsprocenten!AF39)","v":""},null,{"$f":"IF(Lokallønsprocenten!AH39=\"\",\"\",Lokallønsprocenten!AH39)","v":""},null,null,null,"",""]
[null,{"$f":"IF('Kollega oplysninger'!B40=\"\",\"\",'Kollega oplysninger'!B40)","v":""},{"$f":"IF('Kollega oplysninger'!C40=\"\",\"\",'Kollega oplysninger'!C40)","v":""},null,null,{"$f":"IF('Kollega oplysninger'!I40=\"\",\"\",'Kollega oplysninger'!I40)","v":""},{"$f":"IF('Kollega oplysninger'!J40=\"\",\"\",'Kollega oplysninger'!J40)","v":""},{"$f":"IF('Kollega oplysninger'!L40=\"\",\"\",'Kollega oplysninger'!L40)","v":""},null,null,null,null,null,null,null,null,null,null,null,null,null,null,null,null,null,{"$f":"IF(Lokallønsprocenten!Z40=\"\",\"\",Lokallønsprocenten!Z40)","v":""},{"$f":"IF(Lokallønsprocenten!AA40=\"\",\"\",Lokallønsprocenten!AA40)","v":""},null,null,null,null,{"$f":"IF(Lokallønsprocenten!AF40=\"\",\"\",Lokallønsprocenten!AF40)","v":""},null,{"$f":"IF(Lokallønsprocenten!AH40=\"\",\"\",Lokallønsprocenten!AH40)","v":""},null,null,null,"",""]
[null,{"$f":"IF('Kollega oplysninger'!B41=\"\",\"\",'Kollega oplysninger'!B41)","v":""},{"$f":"IF('Kollega oplysninger'!C41=\"\",\"\",'Kollega oplysninger'!C41)","v":""},null,null,{"$f":"IF('Kollega oplysninger'!I41=\"\",\"\",'Kollega oplysninger'!I41)","v":""},{"$f":"IF('Kollega oplysninger'!J41=\"\",\"\",'Kollega oplysninger'!J41)","v":""},{"$f":"IF('Kollega oplysninger'!L41=\"\",\"\",'Kollega oplysninger'!L41)","v":""},null,null,null,null,null,null,null,null,null,null,null,null,null,null,null,null,null,{"$f":"IF(Lokallønsprocenten!Z41=\"\",\"\",Lokallønsprocenten!Z41)","v":""},{"$f":"IF(Lokallønsprocenten!AA41=\"\",\"\",Lokallønsprocenten!AA41)","v":""},null,null,null,null,{"$f":"IF(Lokallønsprocenten!AF41=\"\",\"\",Lokallønsprocenten!AF41)","v":""},null,{"$f":"IF(Lokallønsprocenten!AH41=\"\",\"\",Lokallønsprocenten!AH41)","v":""},null,null,null,"",""]
[null,{"$f":"IF('Kollega oplysninger'!B42=\"\",\"\",'Kollega oplysninger'!B42)","v":""},{"$f":"IF('Kollega oplysninger'!C42=\"\",\"\",'Kollega oplysninger'!C42)","v":""},null,null,{"$f":"IF('Kollega oplysninger'!I42=\"\",\"\",'Kollega oplysninger'!I42)","v":""},{"$f":"IF('Kollega oplysninger'!J42=\"\",\"\",'Kollega oplysninger'!J42)","v":""},{"$f":"IF('Kollega oplysninger'!L42=\"\",\"\",'Kollega oplysninger'!L42)","v":""},null,null,null,null,null,null,null,null,null,null,null,null,null,null,null,null,null,{"$f":"IF(Lokallønsprocenten!Z42=\"\",\"\",Lokallønsprocenten!Z42)","v":""},{"$f":"IF(Lokallønsprocenten!AA42=\"\",\"\",Lokallønsprocenten!AA42)","v":""},null,null,null,null,{"$f":"IF(Lokallønsprocenten!AF42=\"\",\"\",Lokallønsprocenten!AF42)","v":""},null,{"$f":"IF(Lokallønsprocenten!AH42=\"\",\"\",Lokallønsprocenten!AH42)","v":""},null,null,null,"",""]
[null,{"$f":"IF('Kollega oplysninger'!B43=\"\",\"\",'Kollega oplysninger'!B43)","v":""},{"$f":"IF('Kollega oplysninger'!C43=\"\",\"\",'Kollega oplysninger'!C43)","v":""},null,null,{"$f":"IF('Kollega oplysninger'!I43=\"\",\"\",'Kollega oplysninger'!I43)","v":""},{"$f":"IF('Kollega oplysninger'!J43=\"\",\"\",'Kollega oplysninger'!J43)","v":""},{"$f":"IF('Kollega oplysninger'!L43=\"\",\"\",'Kollega oplysninger'!L43)","v":""},null,null,null,null,null,null,null,null,null,null,null,null,null,null,null,null,null,{"$f":"IF(Lokallønsprocenten!Z43=\"\",\"\",Lokallønsprocenten!Z43)","v":""},{"$f":"IF(Lokallønsprocenten!AA43=\"\",\"\",Lokallønsprocenten!AA43)","v":""},null,null,null,null,{"$f":"IF(Lokallønsprocenten!AF43=\"\",\"\",Lokallønsprocenten!AF43)","v":""},null,{"$f":"IF(Lokallønsprocenten!AH43=\"\",\"\",Lokallønsprocenten!AH43)","v":""},null,null,null,"",""]
[null,{"$f":"IF('Kollega oplysninger'!B44=\"\",\"\",'Kollega oplysninger'!B44)","v":""},{"$f":"IF('Kollega oplysninger'!C44=\"\",\"\",'Kollega oplysninger'!C44)","v":""},null,null,{"$f":"IF('Kollega oplysninger'!I44=\"\",\"\",'Kollega oplysninger'!I44)","v":""},{"$f":"IF('Kollega oplysninger'!J44=\"\",\"\",'Kollega oplysninger'!J44)","v":""},{"$f":"IF('Kollega oplysninger'!L44=\"\",\"\",'Kollega oplysninger'!L44)","v":""},null,null,null,null,null,null,null,null,null,null,null,null,null,null,null,null,null,{"$f":"IF(Lokallønsprocenten!Z44=\"\",\"\",Lokallønsprocenten!Z44)","v":""},{"$f":"IF(Lokallønsprocenten!AA44=\"\",\"\",Lokallønsprocenten!AA44)","v":""},null,null,null,null,{"$f":"IF(Lokallønsprocenten!AF44=\"\",\"\",Lokallønsprocenten!AF44)","v":""},null,{"$f":"IF(Lokallønsprocenten!AH44=\"\",\"\",Lokallønsprocenten!AH44)","v":""},null,null,null,"",""]
[null,{"$f":"IF('Kollega oplysninger'!B45=\"\",\"\",'Kollega oplysninger'!B45)","v":""},{"$f":"IF('Kollega oplysninger'!C45=\"\",\"\",'Kollega oplysninger'!C45)","v":""},null,null,{"$f":"IF('Kollega oplysninger'!I45=\"\",\"\",'Kollega oplysninger'!I45)","v":""},{"$f":"IF('Kollega oplysninger'!J45=\"\",\"\",'Kollega oplysninger'!J45)","v":""},{"$f":"IF('Kollega oplysninger'!L45=\"\",\"\",'Kollega oplysninger'!L45)","v":""},null,null,null,null,null,null,null,null,null,null,null,null,null,null,null,null,null,{"$f":"IF(Lokallønsprocenten!Z45=\"\",\"\",Lokallønsprocenten!Z45)","v":""},{"$f":"IF(Lokallønsprocenten!AA45=\"\",\"\",Lokallønsprocenten!AA45)","v":""},null,null,null,null,{"$f":"IF(Lokallønsprocenten!AF45=\"\",\"\",Lokallønsprocenten!AF45)","v":""},null,{"$f":"IF(Lokallønsprocenten!AH45=\"\",\"\",Lokallønsprocenten!AH45)","v":""},null,null,null,"",""]
[null,{"$f":"IF('Kollega oplysninger'!B46=\"\",\"\",'Kollega oplysninger'!B46)","v":""},{"$f":"IF('Kollega oplysninger'!C46=\"\",\"\",'Kollega oplysninger'!C46)","v":""},null,null,{"$f":"IF('Kollega oplysninger'!I46=\"\",\"\",'Kollega oplysninger'!I46)","v":""},{"$f":"IF('Kollega oplysninger'!J46=\"\",\"\",'Kollega oplysninger'!J46)","v":""},{"$f":"IF('Kollega oplysninger'!L46=\"\",\"\",'Kollega oplysninger'!L46)","v":""},null,null,null,null,null,null,null,null,null,null,null,null,null,null,null,null,null,{"$f":"IF(Lokallønsprocenten!Z46=\"\",\"\",Lokallønsprocenten!Z46)","v":""},{"$f":"IF(Lokallønsprocenten!AA46=\"\",\"\",Lokallønsprocenten!AA46)","v":""},null,null,null,null,{"$f":"IF(Lokallønsprocenten!AF46=\"\",\"\",Lokallønsprocenten!AF46)","v":""},null,{"$f":"IF(Lokallønsprocenten!AH46=\"\",\"\",Lokallønsprocenten!AH46)","v":""},null,null,null,"",""]
[null,{"$f":"IF('Kollega oplysninger'!B47=\"\",\"\",'Kollega oplysninger'!B47)","v":""},{"$f":"IF('Kollega oplysninger'!C47=\"\",\"\",'Kollega oplysninger'!C47)","v":""},null,null,{"$f":"IF('Kollega oplysninger'!I47=\"\",\"\",'Kollega oplysninger'!I47)","v":""},{"$f":"IF('Kollega oplysninger'!J47=\"\",\"\",'Kollega oplysninger'!J47)","v":""},{"$f":"IF('Kollega oplysninger'!L47=\"\",\"\",'Kollega oplysninger'!L47)","v":""},null,null,null,null,null,null,null,null,null,null,null,null,null,null,null,null,null,{"$f":"IF(Lokallønsprocenten!Z47=\"\",\"\",Lokallønsprocenten!Z47)","v":""},{"$f":"IF(Lokallønsprocenten!AA47=\"\",\"\",Lokallønsprocenten!AA47)","v":""},null,null,null,null,{"$f":"IF(Lokallønsprocenten!AF47=\"\",\"\",Lokallønsprocenten!AF47)","v":""},null,{"$f":"IF(Lokallønsprocenten!AH47=\"\",\"\",Lokallønsprocenten!AH47)","v":""},null,null,null,"",""]
[null,{"$f":"IF('Kollega oplysninger'!B48=\"\",\"\",'Kollega oplysninger'!B48)","v":""},{"$f":"IF('Kollega oplysninger'!C48=\"\",\"\",'Kollega oplysninger'!C48)","v":""},null,null,{"$f":"IF('Kollega oplysninger'!I48=\"\",\"\",'Kollega oplysninger'!I48)","v":""},{"$f":"IF('Kollega oplysninger'!J48=\"\",\"\",'Kollega oplysninger'!J48)","v":""},{"$f":"IF('Kollega oplysninger'!L48=\"\",\"\",'Kollega oplysninger'!L48)","v":""},null,null,null,null,null,null,null,null,null,null,null,null,null,null,null,null,null,{"$f":"IF(Lokallønsprocenten!Z48=\"\",\"\",Lokallønsprocenten!Z48)","v":""},{"$f":"IF(Lokallønsprocenten!AA48=\"\",\"\",Lokallønsprocenten!AA48)","v":""},null,null,null,null,{"$f":"IF(Lokallønsprocenten!AF48=\"\",\"\",Lokallønsprocenten!AF48)","v":""},null,{"$f":"IF(Lokallønsprocenten!AH48=\"\",\"\",Lokallønsprocenten!AH48)","v":""},null,null,null,"",""]
[null,{"$f":"IF('Kollega oplysninger'!B49=\"\",\"\",'Kollega oplysninger'!B49)","v":""},{"$f":"IF('Kollega oplysninger'!C49=\"\",\"\",'Kollega oplysninger'!C49)","v":""},null,null,{"$f":"IF('Kollega oplysninger'!I49=\"\",\"\",'Kollega oplysninger'!I49)","v":""},{"$f":"IF('Kollega oplysninger'!J49=\"\",\"\",'Kollega oplysninger'!J49)","v":""},{"$f":"IF('Kollega oplysninger'!L49=\"\",\"\",'Kollega oplysninger'!L49)","v":""},null,null,null,null,null,null,null,null,null,null,null,null,null,null,null,null,null,{"$f":"IF(Lokallønsprocenten!Z49=\"\",\"\",Lokallønsprocenten!Z49)","v":""},{"$f":"IF(Lokallønsprocenten!AA49=\"\",\"\",Lokallønsprocenten!AA49)","v":""},null,null,null,null,{"$f":"IF(Lokallønsprocenten!AF49=\"\",\"\",Lokallønsprocenten!AF49)","v":""},null,{"$f":"IF(Lokallønsprocenten!AH49=\"\",\"\",Lokallønsprocenten!AH49)","v":""},null,null,null,"",""]
[null,{"$f":"IF('Kollega oplysninger'!B50=\"\",\"\",'Kollega oplysninger'!B50)","v":""},{"$f":"IF('Kollega oplysninger'!C50=\"\",\"\",'Kollega oplysninger'!C50)","v":""},null,null,{"$f":"IF('Kollega oplysninger'!I50=\"\",\"\",'Kollega oplysninger'!I50)","v":""},{"$f":"IF('Kollega oplysninger'!J50=\"\",\"\",'Kollega oplysninger'!J50)","v":""},{"$f":"IF('Kollega oplysninger'!L50=\"\",\"\",'Kollega oplysninger'!L50)","v":""},null,null,null,null,null,null,null,null,null,null,null,null,null,null,null,null,null,{"$f":"IF(Lokallønsprocenten!Z50=\"\",\"\",Lokallønsprocenten!Z50)","v":""},{"$f":"IF(Lokallønsprocenten!AA50=\"\",\"\",Lokallønsprocenten!AA50)","v":""},null,null,null,null,{"$f":"IF(Lokallønsprocenten!AF50=\"\",\"\",Lokallønsprocenten!AF50)","v":""},null,{"$f":"IF(Lokallønsprocenten!AH50=\"\",\"\",Lokallønsprocenten!AH50)","v":""},null,null,null,"",""]
[null,{"$f":"IF('Kollega oplysninger'!B51=\"\",\"\",'Kollega oplysninger'!B51)","v":""},{"$f":"IF('Kollega oplysninger'!C51=\"\",\"\",'Kollega oplysninger'!C51)","v":""},null,null,{"$f":"IF('Kollega oplysninger'!I51=\"\",\"\",'Kollega oplysninger'!I51)","v":""},{"$f":"IF('Kollega oplysninger'!J51=\"\",\"\",'Kollega oplysninger'!J51)","v":""},{"$f":"IF('Kollega oplysninger'!L51=\"\",\"\",'Kollega oplysninger'!L51)","v":""},null,null,null,null,null,null,null,null,null,null,null,null,null,null,null,null,null,{"$f":"IF(Lokallønsprocenten!Z51=\"\",\"\",Lokallønsprocenten!Z51)","v":""},{"$f":"IF(Lokallønsprocenten!AA51=\"\",\"\",Lokallønsprocenten!AA51)","v":""},null,null,null,null,{"$f":"IF(Lokallønsprocenten!AF51=\"\",\"\",Lokallønsprocenten!AF51)","v":""},null,{"$f":"IF(Lokallønsprocenten!AH51=\"\",\"\",Lokallønsprocenten!AH51)","v":""},null,null,null,"",""]
[null,{"$f":"IF('Kollega oplysninger'!B52=\"\",\"\",'Kollega oplysninger'!B52)","v":""},{"$f":"IF('Kollega oplysninger'!C52=\"\",\"\",'Kollega oplysninger'!C52)","v":""},null,null,{"$f":"IF('Kollega oplysninger'!I52=\"\",\"\",'Kollega oplysninger'!I52)","v":""},{"$f":"IF('Kollega oplysninger'!J52=\"\",\"\",'Kollega oplysninger'!J52)","v":""},{"$f":"IF('Kollega oplysninger'!L52=\"\",\"\",'Kollega oplysninger'!L52)","v":""},null,null,null,null,null,null,null,null,null,null,null,null,null,null,null,null,null,{"$f":"IF(Lokallønsprocenten!Z52=\"\",\"\",Lokallønsprocenten!Z52)","v":""},{"$f":"IF(Lokallønsprocenten!AA52=\"\",\"\",Lokallønsprocenten!AA52)","v":""},null,null,null,null,{"$f":"IF(Lokallønsprocenten!AF52=\"\",\"\",Lokallønsprocenten!AF52)","v":""},null,{"$f":"IF(Lokallønsprocenten!AH52=\"\",\"\",Lokallønsprocenten!AH52)","v":""},null,null,null,"",""]
[null,{"$f":"IF('Kollega oplysninger'!B53=\"\",\"\",'Kollega oplysninger'!B53)","v":""},{"$f":"IF('Kollega oplysninger'!C53=\"\",\"\",'Kollega oplysninger'!C53)","v":""},null,null,{"$f":"IF('Kollega oplysninger'!I53=\"\",\"\",'Kollega oplysninger'!I53)","v":""},{"$f":"IF('Kollega oplysninger'!J53=\"\",\"\",'Kollega oplysninger'!J53)","v":""},{"$f":"IF('Kollega oplysninger'!L53=\"\",\"\",'Kollega oplysninger'!L53)","v":""},null,null,null,null,null,null,null,null,null,null,null,null,null,null,null,null,null,{"$f":"IF(Lokallønsprocenten!Z53=\"\",\"\",Lokallønsprocenten!Z53)","v":""},{"$f":"IF(Lokallønsprocenten!AA53=\"\",\"\",Lokallønsprocenten!AA53)","v":""},null,null,null,null,{"$f":"IF(Lokallønsprocenten!AF53=\"\",\"\",Lokallønsprocenten!AF53)","v":""},null,{"$f":"IF(Lokallønsprocenten!AH53=\"\",\"\",Lokallønsprocenten!AH53)","v":""},null,null,null,"",""]
[null,{"$f":"IF('Kollega oplysninger'!B54=\"\",\"\",'Kollega oplysninger'!B54)","v":""},{"$f":"IF('Kollega oplysninger'!C54=\"\",\"\",'Kollega oplysninger'!C54)","v":""},null,null,{"$f":"IF('Kollega oplysninger'!I54=\"\",\"\",'Kollega oplysninger'!I54)","v":""},{"$f":"IF('Kollega oplysninger'!J54=\"\",\"\",'Kollega oplysninger'!J54)","v":""},{"$f":"IF('Kollega oplysninger'!L54=\"\",\"\",'Kollega oplysninger'!L54)","v":""},null,null,null,null,null,null,null,null,null,null,null,null,null,null,null,null,null,{"$f":"IF(Lokallønsprocenten!Z54=\"\",\"\",Lokallønsprocenten!Z54)","v":""},{"$f":"IF(Lokallønsprocenten!AA54=\"\",\"\",Lokallønsprocenten!AA54)","v":""},null,null,null,null,{"$f":"IF(Lokallønsprocenten!AF54=\"\",\"\",Lokallønsprocenten!AF54)","v":""},null,{"$f":"IF(Lokallønsprocenten!AH54=\"\",\"\",Lokallønsprocenten!AH54)","v":""},null,null,null,"",""]
[null,{"$f":"IF('Kollega oplysninger'!B55=\"\",\"\",'Kollega oplysninger'!B55)","v":""},{"$f":"IF('Kollega oplysninger'!C55=\"\",\"\",'Kollega oplysninger'!C55)","v":""},null,null,{"$f":"IF('Kollega oplysninger'!I55=\"\",\"\",'Kollega oplysninger'!I55)","v":""},{"$f":"IF('Kollega oplysninger'!J55=\"\",\"\",'Kollega oplysninger'!J55)","v":""},{"$f":"IF('Kollega oplysninger'!L55=\"\",\"\",'Kollega oplysninger'!L55)","v":""},null,null,null,null,null,null,null,null,null,null,null,null,null,null,null,null,null,{"$f":"IF(Lokallønsprocenten!Z55=\"\",\"\",Lokallønsprocenten!Z55)","v":""},{"$f":"IF(Lokallønsprocenten!AA55=\"\",\"\",Lokallønsprocenten!AA55)","v":""},null,null,null,null,{"$f":"IF(Lokallønsprocenten!AF55=\"\",\"\",Lokallønsprocenten!AF55)","v":""},null,{"$f":"IF(Lokallønsprocenten!AH55=\"\",\"\",Lokallønsprocenten!AH55)","v":""},null,null,null,"",""]
[null,{"$f":"IF('Kollega oplysninger'!B56=\"\",\"\",'Kollega oplysninger'!B56)","v":""},{"$f":"IF('Kollega oplysninger'!C56=\"\",\"\",'Kollega oplysninger'!C56)","v":""},null,null,{"$f":"IF('Kollega oplysninger'!I56=\"\",\"\",'Kollega oplysninger'!I56)","v":""},{"$f":"IF('Kollega oplysninger'!J56=\"\",\"\",'Kollega oplysninger'!J56)","v":""},{"$f":"IF('Kollega oplysninger'!L56=\"\",\"\",'Kollega oplysninger'!L56)","v":""},null,null,null,null,null,null,null,null,null,null,null,null,null,null,null,null,null,{"$f":"IF(Lokallønsprocenten!Z56=\"\",\"\",Lokallønsprocenten!Z56)","v":""},{"$f":"IF(Lokallønsprocenten!AA56=\"\",\"\",Lokallønsprocenten!AA56)","v":""},null,null,null,null,{"$f":"IF(Lokallønsprocenten!AF56=\"\",\"\",Lokallønsprocenten!AF56)","v":""},null,{"$f":"IF(Lokallønsprocenten!AH56=\"\",\"\",Lokallønsprocenten!AH56)","v":""},null,null,null,"",""]
[null,{"$f":"IF('Kollega oplysninger'!B57=\"\",\"\",'Kollega oplysninger'!B57)","v":""},{"$f":"IF('Kollega oplysninger'!C57=\"\",\"\",'Kollega oplysninger'!C57)","v":""},null,null,{"$f":"IF('Kollega oplysninger'!I57=\"\",\"\",'Kollega oplysninger'!I57)","v":""},{"$f":"IF('Kollega oplysninger'!J57=\"\",\"\",'Kollega oplysninger'!J57)","v":""},{"$f":"IF('Kollega oplysninger'!L57=\"\",\"\",'Kollega oplysninger'!L57)","v":""},null,null,null,null,null,null,null,null,null,null,null,null,null,null,null,null,null,{"$f":"IF(Lokallønsprocenten!Z57=\"\",\"\",Lokallønsprocenten!Z57)","v":""},{"$f":"IF(Lokallønsprocenten!AA57=\"\",\"\",Lokallønsprocenten!AA57)","v":""},null,null,null,null,{"$f":"IF(Lokallønsprocenten!AF57=\"\",\"\",Lokallønsprocenten!AF57)","v":""},null,{"$f":"IF(Lokallønsprocenten!AH57=\"\",\"\",Lokallønsprocenten!AH57)","v":""},null,null,null,"",""]
[null,{"$f":"IF('Kollega oplysninger'!B58=\"\",\"\",'Kollega oplysninger'!B58)","v":""},{"$f":"IF('Kollega oplysninger'!C58=\"\",\"\",'Kollega oplysninger'!C58)","v":""},null,null,{"$f":"IF('Kollega oplysninger'!I58=\"\",\"\",'Kollega oplysninger'!I58)","v":""},{"$f":"IF('Kollega oplysninger'!J58=\"\",\"\",'Kollega oplysninger'!J58)","v":""},{"$f":"IF('Kollega oplysninger'!L58=\"\",\"\",'Kollega oplysninger'!L58)","v":""},null,null,null,null,null,null,null,null,null,null,null,null,null,null,null,null,null,{"$f":"IF(Lokallønsprocenten!Z58=\"\",\"\",Lokallønsprocenten!Z58)","v":""},{"$f":"IF(Lokallønsprocenten!AA58=\"\",\"\",Lokallønsprocenten!AA58)","v":""},null,null,null,null,{"$f":"IF(Lokallønsprocenten!AF58=\"\",\"\",Lokallønsprocenten!AF58)","v":""},null,{"$f":"IF(Lokallønsprocenten!AH58=\"\",\"\",Lokallønsprocenten!AH58)","v":""},null,null,null,"",""]
[null,{"$f":"IF('Kollega oplysninger'!B59=\"\",\"\",'Kollega oplysninger'!B59)","v":""},{"$f":"IF('Kollega oplysninger'!C59=\"\",\"\",'Kollega oplysninger'!C59)","v":""},null,null,{"$f":"IF('Kollega oplysninger'!I59=\"\",\"\",'Kollega oplysninger'!I59)","v":""},{"$f":"IF('Kollega oplysninger'!J59=\"\",\"\",'Kollega oplysninger'!J59)","v":""},{"$f":"IF('Kollega oplysninger'!L59=\"\",\"\",'Kollega oplysninger'!L59)","v":""},null,null,null,null,null,null,null,null,null,null,null,null,null,null,null,null,null,{"$f":"IF(Lokallønsprocenten!Z59=\"\",\"\",Lokallønsprocenten!Z59)","v":""},{"$f":"IF(Lokallønsprocenten!AA59=\"\",\"\",Lokallønsprocenten!AA59)","v":""},null,null,null,null,{"$f":"IF(Lokallønsprocenten!AF59=\"\",\"\",Lokallønsprocenten!AF59)","v":""},null,{"$f":"IF(Lokallønsprocenten!AH59=\"\",\"\",Lokallønsprocenten!AH59)","v":""},null,null,null,"",""]
[null,{"$f":"IF('Kollega oplysninger'!B60=\"\",\"\",'Kollega oplysninger'!B60)","v":""},{"$f":"IF('Kollega oplysninger'!C60=\"\",\"\",'Kollega oplysninger'!C60)","v":""},null,null,{"$f":"IF('Kollega oplysninger'!I60=\"\",\"\",'Kollega oplysninger'!I60)","v":""},{"$f":"IF('Kollega oplysninger'!J60=\"\",\"\",'Kollega oplysninger'!J60)","v":""},{"$f":"IF('Kollega oplysninger'!L60=\"\",\"\",'Kollega oplysninger'!L60)","v":""},null,null,null,null,null,null,null,null,null,null,null,null,null,null,null,null,null,{"$f":"IF(Lokallønsprocenten!Z60=\"\",\"\",Lokallønsprocenten!Z60)","v":""},{"$f":"IF(Lokallønsprocenten!AA60=\"\",\"\",Lokallønsprocenten!AA60)","v":""},null,null,null,null,{"$f":"IF(Lokallønsprocenten!AF60=\"\",\"\",Lokallønsprocenten!AF60)","v":""},null,{"$f":"IF(Lokallønsprocenten!AH60=\"\",\"\",Lokallønsprocenten!AH60)","v":""},null,null,null,"",""]
[null,{"$f":"IF('Kollega oplysninger'!B61=\"\",\"\",'Kollega oplysninger'!B61)","v":""},{"$f":"IF('Kollega oplysninger'!C61=\"\",\"\",'Kollega oplysninger'!C61)","v":""},null,null,{"$f":"IF('Kollega oplysninger'!I61=\"\",\"\",'Kollega oplysninger'!I61)","v":""},{"$f":"IF('Kollega oplysninger'!J61=\"\",\"\",'Kollega oplysninger'!J61)","v":""},{"$f":"IF('Kollega oplysninger'!L61=\"\",\"\",'Kollega oplysninger'!L61)","v":""},null,null,null,null,null,null,null,null,null,null,null,null,null,null,null,null,null,{"$f":"IF(Lokallønsprocenten!Z61=\"\",\"\",Lokallønsprocenten!Z61)","v":""},{"$f":"IF(Lokallønsprocenten!AA61=\"\",\"\",Lokallønsprocenten!AA61)","v":""},null,null,null,null,{"$f":"IF(Lokallønsprocenten!AF61=\"\",\"\",Lokallønsprocenten!AF61)","v":""},null,{"$f":"IF(Lokallønsprocenten!AH61=\"\",\"\",Lokallønsprocenten!AH61)","v":""},null,null,null,"",""]
[null,{"$f":"IF('Kollega oplysninger'!B62=\"\",\"\",'Kollega oplysninger'!B62)","v":""},{"$f":"IF('Kollega oplysninger'!C62=\"\",\"\",'Kollega oplysninger'!C62)","v":""},null,null,{"$f":"IF('Kollega oplysninger'!I62=\"\",\"\",'Kollega oplysninger'!I62)","v":""},{"$f":"IF('Kollega oplysninger'!J62=\"\",\"\",'Kollega oplysninger'!J62)","v":""},{"$f":"IF('Kollega oplysninger'!L62=\"\",\"\",'Kollega oplysninger'!L62)","v":""},null,null,null,null,null,null,null,null,null,null,null,null,null,null,null,null,null,{"$f":"IF(Lokallønsprocenten!Z62=\"\",\"\",Lokallønsprocenten!Z62)","v":""},{"$f":"IF(Lokallønsprocenten!AA62=\"\",\"\",Lokallønsprocenten!AA62)","v":""},null,null,null,null,{"$f":"IF(Lokallønsprocenten!AF62=\"\",\"\",Lokallønsprocenten!AF62)","v":""},null,{"$f":"IF(Lokallønsprocenten!AH62=\"\",\"\",Lokallønsprocenten!AH62)","v":""},null,null,null,"",""]
[null,{"$f":"IF('Kollega oplysninger'!B63=\"\",\"\",'Kollega oplysninger'!B63)","v":""},{"$f":"IF('Kollega oplysninger'!C63=\"\",\"\",'Kollega oplysninger'!C63)","v":""},null,null,{"$f":"IF('Kollega oplysninger'!I63=\"\",\"\",'Kollega oplysninger'!I63)","v":""},{"$f":"IF('Kollega oplysninger'!J63=\"\",\"\",'Kollega oplysninger'!J63)","v":""},{"$f":"IF('Kollega oplysninger'!L63=\"\",\"\",'Kollega oplysninger'!L63)","v":""},null,null,null,null,null,null,null,null,null,null,null,null,null,null,null,null,null,{"$f":"IF(Lokallønsprocenten!Z63=\"\",\"\",Lokallønsprocenten!Z63)","v":""},{"$f":"IF(Lokallønsprocenten!AA63=\"\",\"\",Lokallønsprocenten!AA63)","v":""},null,null,null,null,{"$f":"IF(Lokallønsprocenten!AF63=\"\",\"\",Lokallønsprocenten!AF63)","v":""},null,{"$f":"IF(Lokallønsprocenten!AH63=\"\",\"\",Lokallønsprocenten!AH63)","v":""},null,null,null,"",""]
[null,{"$f":"IF('Kollega oplysninger'!B64=\"\",\"\",'Kollega oplysninger'!B64)","v":""},{"$f":"IF('Kollega oplysninger'!C64=\"\",\"\",'Kollega oplysninger'!C64)","v":""},null,null,{"$f":"IF('Kollega oplysninger'!I64=\"\",\"\",'Kollega oplysninger'!I64)","v":""},{"$f":"IF('Kollega oplysninger'!J64=\"\",\"\",'Kollega oplysninger'!J64)","v":""},{"$f":"IF('Kollega oplysninger'!L64=\"\",\"\",'Kollega oplysninger'!L64)","v":""},null,null,null,null,null,null,null,null,null,null,null,null,null,null,null,null,null,{"$f":"IF(Lokallønsprocenten!Z64=\"\",\"\",Lokallønsprocenten!Z64)","v":""},{"$f":"IF(Lokallønsprocenten!AA64=\"\",\"\",Lokallønsprocenten!AA64)","v":""},null,null,null,null,{"$f":"IF(Lokallønsprocenten!AF64=\"\",\"\",Lokallønsprocenten!AF64)","v":""},null,{"$f":"IF(Lokallønsprocenten!AH64=\"\",\"\",Lokallønsprocenten!AH64)","v":""},null,null,null,"",""]
[null,{"$f":"IF('Kollega oplysninger'!B65=\"\",\"\",'Kollega oplysninger'!B65)","v":""},{"$f":"IF('Kollega oplysninger'!C65=\"\",\"\",'Kollega oplysninger'!C65)","v":""},null,null,{"$f":"IF('Kollega oplysninger'!I65=\"\",\"\",'Kollega oplysninger'!I65)","v":""},{"$f":"IF('Kollega oplysninger'!J65=\"\",\"\",'Kollega oplysninger'!J65)","v":""},{"$f":"IF('Kollega oplysninger'!L65=\"\",\"\",'Kollega oplysninger'!L65)","v":""},null,null,null,null,null,null,null,null,null,null,null,null,null,null,null,null,null,{"$f":"IF(Lokallønsprocenten!Z65=\"\",\"\",Lokallønsprocenten!Z65)","v":""},{"$f":"IF(Lokallønsprocenten!AA65=\"\",\"\",Lokallønsprocenten!AA65)","v":""},null,null,null,null,{"$f":"IF(Lokallønsprocenten!AF65=\"\",\"\",Lokallønsprocenten!AF65)","v":""},null,{"$f":"IF(Lokallønsprocenten!AH65=\"\",\"\",Lokallønsprocenten!AH65)","v":""},null,null,null,"",""]
[null,{"$f":"IF('Kollega oplysninger'!B66=\"\",\"\",'Kollega oplysninger'!B66)","v":""},{"$f":"IF('Kollega oplysninger'!C66=\"\",\"\",'Kollega oplysninger'!C66)","v":""},null,null,{"$f":"IF('Kollega oplysninger'!I66=\"\",\"\",'Kollega oplysninger'!I66)","v":""},{"$f":"IF('Kollega oplysninger'!J66=\"\",\"\",'Kollega oplysninger'!J66)","v":""},{"$f":"IF('Kollega oplysninger'!L66=\"\",\"\",'Kollega oplysninger'!L66)","v":""},null,null,null,null,null,null,null,null,null,null,null,null,null,null,null,null,null,{"$f":"IF(Lokallønsprocenten!Z66=\"\",\"\",Lokallønsprocenten!Z66)","v":""},{"$f":"IF(Lokallønsprocenten!AA66=\"\",\"\",Lokallønsprocenten!AA66)","v":""},null,null,null,null,{"$f":"IF(Lokallønsprocenten!AF66=\"\",\"\",Lokallønsprocenten!AF66)","v":""},null,{"$f":"IF(Lokallønsprocenten!AH66=\"\",\"\",Lokallønsprocenten!AH66)","v":""},null,null,null,"",""]
[null,{"$f":"IF('Kollega oplysninger'!B67=\"\",\"\",'Kollega oplysninger'!B67)","v":""},{"$f":"IF('Kollega oplysninger'!C67=\"\",\"\",'Kollega oplysninger'!C67)","v":""},null,null,{"$f":"IF('Kollega oplysninger'!I67=\"\",\"\",'Kollega oplysninger'!I67)","v":""},{"$f":"IF('Kollega oplysninger'!J67=\"\",\"\",'Kollega oplysninger'!J67)","v":""},{"$f":"IF('Kollega oplysninger'!L67=\"\",\"\",'Kollega oplysninger'!L67)","v":""},null,null,null,null,null,null,null,null,null,null,null,null,null,null,null,null,null,{"$f":"IF(Lokallønsprocenten!Z67=\"\",\"\",Lokallønsprocenten!Z67)","v":""},{"$f":"IF(Lokallønsprocenten!AA67=\"\",\"\",Lokallønsprocenten!AA67)","v":""},null,null,null,null,{"$f":"IF(Lokallønsprocenten!AF67=\"\",\"\",Lokallønsprocenten!AF67)","v":""},null,{"$f":"IF(Lokallønsprocenten!AH67=\"\",\"\",Lokallønsprocenten!AH67)","v":""},null,null,null,"",""]
[null,{"$f":"IF('Kollega oplysninger'!B68=\"\",\"\",'Kollega oplysninger'!B68)","v":""},{"$f":"IF('Kollega oplysninger'!C68=\"\",\"\",'Kollega oplysninger'!C68)","v":""},null,null,{"$f":"IF('Kollega oplysninger'!I68=\"\",\"\",'Kollega oplysninger'!I68)","v":""},{"$f":"IF('Kollega oplysninger'!J68=\"\",\"\",'Kollega oplysninger'!J68)","v":""},{"$f":"IF('Kollega oplysninger'!L68=\"\",\"\",'Kollega oplysninger'!L68)","v":""},null,null,null,null,null,null,null,null,null,null,null,null,null,null,null,null,null,{"$f":"IF(Lokallønsprocenten!Z68=\"\",\"\",Lokallønsprocenten!Z68)","v":""},{"$f":"IF(Lokallønsprocenten!AA68=\"\",\"\",Lokallønsprocenten!AA68)","v":""},null,null,null,null,{"$f":"IF(Lokallønsprocenten!AF68=\"\",\"\",Lokallønsprocenten!AF68)","v":""},null,{"$f":"IF(Lokallønsprocenten!AH68=\"\",\"\",Lokallønsprocenten!AH68)","v":""},null,null,null,"",""]
[null,{"$f":"IF('Kollega oplysninger'!B69=\"\",\"\",'Kollega oplysninger'!B69)","v":""},{"$f":"IF('Kollega oplysninger'!C69=\"\",\"\",'Kollega oplysninger'!C69)","v":""},null,null,{"$f":"IF('Kollega oplysninger'!I69=\"\",\"\",'Kollega oplysninger'!I69)","v":""},{"$f":"IF('Kollega oplysninger'!J69=\"\",\"\",'Kollega oplysninger'!J69)","v":""},{"$f":"IF('Kollega oplysninger'!L69=\"\",\"\",'Kollega oplysninger'!L69)","v":""},null,null,null,null,null,null,null,null,null,null,null,null,null,null,null,null,null,{"$f":"IF(Lokallønsprocenten!Z69=\"\",\"\",Lokallønsprocenten!Z69)","v":""},{"$f":"IF(Lokallønsprocenten!AA69=\"\",\"\",Lokallønsprocenten!AA69)","v":""},null,null,null,null,{"$f":"IF(Lokallønsprocenten!AF69=\"\",\"\",Lokallønsprocenten!AF69)","v":""},null,{"$f":"IF(Lokallønsprocenten!AH69=\"\",\"\",Lokallønsprocenten!AH69)","v":""},null,null,null,"",""]
[null,{"$f":"IF('Kollega oplysninger'!B70=\"\",\"\",'Kollega oplysninger'!B70)","v":""},{"$f":"IF('Kollega oplysninger'!C70=\"\",\"\",'Kollega oplysninger'!C70)","v":""},null,null,{"$f":"IF('Kollega oplysninger'!I70=\"\",\"\",'Kollega oplysninger'!I70)","v":""},{"$f":"IF('Kollega oplysninger'!J70=\"\",\"\",'Kollega oplysninger'!J70)","v":""},{"$f":"IF('Kollega oplysninger'!L70=\"\",\"\",'Kollega oplysninger'!L70)","v":""},null,null,null,null,null,null,null,null,null,null,null,null,null,null,null,null,null,{"$f":"IF(Lokallønsprocenten!Z70=\"\",\"\",Lokallønsprocenten!Z70)","v":""},{"$f":"IF(Lokallønsprocenten!AA70=\"\",\"\",Lokallønsprocenten!AA70)","v":""},null,null,null,null,{"$f":"IF(Lokallønsprocenten!AF70=\"\",\"\",Lokallønsprocenten!AF70)","v":""},null,{"$f":"IF(Lokallønsprocenten!AH70=\"\",\"\",Lokallønsprocenten!AH70)","v":""},null,null,null,"",""]
[null,{"$f":"IF('Kollega oplysninger'!B71=\"\",\"\",'Kollega oplysninger'!B71)","v":""},{"$f":"IF('Kollega oplysninger'!C71=\"\",\"\",'Kollega oplysninger'!C71)","v":""},null,null,{"$f":"IF('Kollega oplysninger'!I71=\"\",\"\",'Kollega oplysninger'!I71)","v":""},{"$f":"IF('Kollega oplysninger'!J71=\"\",\"\",'Kollega oplysninger'!J71)","v":""},{"$f":"IF('Kollega oplysninger'!L71=\"\",\"\",'Kollega oplysninger'!L71)","v":""},null,null,null,null,null,null,null,null,null,null,null,null,null,null,null,null,null,{"$f":"IF(Lokallønsprocenten!Z71=\"\",\"\",Lokallønsprocenten!Z71)","v":""},{"$f":"IF(Lokallønsprocenten!AA71=\"\",\"\",Lokallønsprocenten!AA71)","v":""},null,null,null,null,{"$f":"IF(Lokallønsprocenten!AF71=\"\",\"\",Lokallønsprocenten!AF71)","v":""},null,{"$f":"IF(Lokallønsprocenten!AH71=\"\",\"\",Lokallønsprocenten!AH71)","v":""},null,null,null,{"$f":"IF(Z71=\"fejl\",X71,\"\")","v":""},{"$f":"IF(Z71=\"fejl\",Y71,\"\")","v":""}]
[null,{"$f":"IF('Kollega oplysninger'!B72=\"\",\"\",'Kollega oplysninger'!B72)","v":""},{"$f":"IF('Kollega oplysninger'!C72=\"\",\"\",'Kollega oplysninger'!C72)","v":""},null,null,{"$f":"IF('Kollega oplysninger'!I72=\"\",\"\",'Kollega oplysninger'!I72)","v":""},{"$f":"IF('Kollega oplysninger'!J72=\"\",\"\",'Kollega oplysninger'!J72)","v":""},{"$f":"IF('Kollega oplysninger'!L72=\"\",\"\",'Kollega oplysninger'!L72)","v":""},null,null,null,null,null,null,null,null,null,null,null,null,null,null,null,null,null,{"$f":"IF(Lokallønsprocenten!Z72=\"\",\"\",Lokallønsprocenten!Z72)","v":""},{"$f":"IF(Lokallønsprocenten!AA72=\"\",\"\",Lokallønsprocenten!AA72)","v":""},null,null,null,null,{"$f":"IF(Lokallønsprocenten!AF72=\"\",\"\",Lokallønsprocenten!AF72)","v":""},null,{"$f":"IF(Lokallønsprocenten!AH72=\"\",\"\",Lokallønsprocenten!AH72)","v":""},null,null,null,"",""]
[null,{"$f":"IF('Kollega oplysninger'!B73=\"\",\"\",'Kollega oplysninger'!B73)","v":""},{"$f":"IF('Kollega oplysninger'!C73=\"\",\"\",'Kollega oplysninger'!C73)","v":""},null,null,{"$f":"IF('Kollega oplysninger'!I73=\"\",\"\",'Kollega oplysninger'!I73)","v":""},{"$f":"IF('Kollega oplysninger'!J73=\"\",\"\",'Kollega oplysninger'!J73)","v":""},{"$f":"IF('Kollega oplysninger'!L73=\"\",\"\",'Kollega oplysninger'!L73)","v":""},null,null,null,null,null,null,null,null,null,null,null,null,null,null,null,null,null,{"$f":"IF(Lokallønsprocenten!Z73=\"\",\"\",Lokallønsprocenten!Z73)","v":""},{"$f":"IF(Lokallønsprocenten!AA73=\"\",\"\",Lokallønsprocenten!AA73)","v":""},null,null,null,null,{"$f":"IF(Lokallønsprocenten!AF73=\"\",\"\",Lokallønsprocenten!AF73)","v":""},null,{"$f":"IF(Lokallønsprocenten!AH73=\"\",\"\",Lokallønsprocenten!AH73)","v":""},null,null,null,"",""]
[null,{"$f":"IF('Kollega oplysninger'!B74=\"\",\"\",'Kollega oplysninger'!B74)","v":""},{"$f":"IF('Kollega oplysninger'!C74=\"\",\"\",'Kollega oplysninger'!C74)","v":""},null,null,{"$f":"IF('Kollega oplysninger'!I74=\"\",\"\",'Kollega oplysninger'!I74)","v":""},{"$f":"IF('Kollega oplysninger'!J74=\"\",\"\",'Kollega oplysninger'!J74)","v":""},{"$f":"IF('Kollega oplysninger'!L74=\"\",\"\",'Kollega oplysninger'!L74)","v":""},null,null,null,null,null,null,null,null,null,null,null,null,null,null,null,null,null,{"$f":"IF(Lokallønsprocenten!Z74=\"\",\"\",Lokallønsprocenten!Z74)","v":""},{"$f":"IF(Lokallønsprocenten!AA74=\"\",\"\",Lokallønsprocenten!AA74)","v":""},null,null,null,null,{"$f":"IF(Lokallønsprocenten!AF74=\"\",\"\",Lokallønsprocenten!AF74)","v":""},null,{"$f":"IF(Lokallønsprocenten!AH74=\"\",\"\",Lokallønsprocenten!AH74)","v":""},null,null,null,"",""]
[null,{"$f":"IF('Kollega oplysninger'!B75=\"\",\"\",'Kollega oplysninger'!B75)","v":""},{"$f":"IF('Kollega oplysninger'!C75=\"\",\"\",'Kollega oplysninger'!C75)","v":""},null,null,{"$f":"IF('Kollega oplysninger'!I75=\"\",\"\",'Kollega oplysninger'!I75)","v":""},{"$f":"IF('Kollega oplysninger'!J75=\"\",\"\",'Kollega oplysninger'!J75)","v":""},{"$f":"IF('Kollega oplysninger'!L75=\"\",\"\",'Kollega oplysninger'!L75)","v":""},null,null,null,null,null,null,null,null,null,null,null,null,null,null,null,null,null,{"$f":"IF(Lokallønsprocenten!Z75=\"\",\"\",Lokallønsprocenten!Z75)","v":""},{"$f":"IF(Lokallønsprocenten!AA75=\"\",\"\",Lokallønsprocenten!AA75)","v":""},null,null,null,null,{"$f":"IF(Lokallønsprocenten!AF75=\"\",\"\",Lokallønsprocenten!AF75)","v":""},null,{"$f":"IF(Lokallønsprocenten!AH75=\"\",\"\",Lokallønsprocenten!AH75)","v":""},null,null,null,"",""]
[null,{"$f":"IF('Kollega oplysninger'!B76=\"\",\"\",'Kollega oplysninger'!B76)","v":""},{"$f":"IF('Kollega oplysninger'!C76=\"\",\"\",'Kollega oplysninger'!C76)","v":""},null,null,{"$f":"IF('Kollega oplysninger'!I76=\"\",\"\",'Kollega oplysninger'!I76)","v":""},{"$f":"IF('Kollega oplysninger'!J76=\"\",\"\",'Kollega oplysninger'!J76)","v":""},{"$f":"IF('Kollega oplysninger'!L76=\"\",\"\",'Kollega oplysninger'!L76)","v":""},null,null,null,null,null,null,null,null,null,null,null,null,null,null,null,null,null,{"$f":"IF(Lokallønsprocenten!Z76=\"\",\"\",Lokallønsprocenten!Z76)","v":""},{"$f":"IF(Lokallønsprocenten!AA76=\"\",\"\",Lokallønsprocenten!AA76)","v":""},null,null,null,null,{"$f":"IF(Lokallønsprocenten!AF76=\"\",\"\",Lokallønsprocenten!AF76)","v":""},null,{"$f":"IF(Lokallønsprocenten!AH76=\"\",\"\",Lokallønsprocenten!AH76)","v":""},null,null,null,"",""]
[null,{"$f":"IF('Kollega oplysninger'!B77=\"\",\"\",'Kollega oplysninger'!B77)","v":""},{"$f":"IF('Kollega oplysninger'!C77=\"\",\"\",'Kollega oplysninger'!C77)","v":""},null,null,{"$f":"IF('Kollega oplysninger'!I77=\"\",\"\",'Kollega oplysninger'!I77)","v":""},{"$f":"IF('Kollega oplysninger'!J77=\"\",\"\",'Kollega oplysninger'!J77)","v":""},{"$f":"IF('Kollega oplysninger'!L77=\"\",\"\",'Kollega oplysninger'!L77)","v":""},null,null,null,null,null,null,null,null,null,null,null,null,null,null,null,null,null,{"$f":"IF(Lokallønsprocenten!Z77=\"\",\"\",Lokallønsprocenten!Z77)","v":""},{"$f":"IF(Lokallønsprocenten!AA77=\"\",\"\",Lokallønsprocenten!AA77)","v":""},null,null,null,null,{"$f":"IF(Lokallønsprocenten!AF77=\"\",\"\",Lokallønsprocenten!AF77)","v":""},null,{"$f":"IF(Lokallønsprocenten!AH77=\"\",\"\",Lokallønsprocenten!AH77)","v":""},null,null,null,"",""]
[null,{"$f":"IF('Kollega oplysninger'!B78=\"\",\"\",'Kollega oplysninger'!B78)","v":""},{"$f":"IF('Kollega oplysninger'!C78=\"\",\"\",'Kollega oplysninger'!C78)","v":""},null,null,{"$f":"IF('Kollega oplysninger'!I78=\"\",\"\",'Kollega oplysninger'!I78)","v":""},{"$f":"IF('Kollega oplysninger'!J78=\"\",\"\",'Kollega oplysninger'!J78)","v":""},{"$f":"IF('Kollega oplysninger'!L78=\"\",\"\",'Kollega oplysninger'!L78)","v":""},null,null,null,null,null,null,null,null,null,null,null,null,null,null,null,null,null,{"$f":"IF(Lokallønsprocenten!Z78=\"\",\"\",Lokallønsprocenten!Z78)","v":""},{"$f":"IF(Lokallønsprocenten!AA78=\"\",\"\",Lokallønsprocenten!AA78)","v":""},null,null,null,null,{"$f":"IF(Lokallønsprocenten!AF78=\"\",\"\",Lokallønsprocenten!AF78)","v":""},null,{"$f":"IF(Lokallønsprocenten!AH78=\"\",\"\",Lokallønsprocenten!AH78)","v":""},null,null,null,"",""]
[null,{"$f":"IF('Kollega oplysninger'!B79=\"\",\"\",'Kollega oplysninger'!B79)","v":""},{"$f":"IF('Kollega oplysninger'!C79=\"\",\"\",'Kollega oplysninger'!C79)","v":""},null,null,{"$f":"IF('Kollega oplysninger'!I79=\"\",\"\",'Kollega oplysninger'!I79)","v":""},{"$f":"IF('Kollega oplysninger'!J79=\"\",\"\",'Kollega oplysninger'!J79)","v":""},{"$f":"IF('Kollega oplysninger'!L79=\"\",\"\",'Kollega oplysninger'!L79)","v":""},null,null,null,null,null,null,null,null,null,null,null,null,null,null,null,null,null,{"$f":"IF(Lokallønsprocenten!Z79=\"\",\"\",Lokallønsprocenten!Z79)","v":""},{"$f":"IF(Lokallønsprocenten!AA79=\"\",\"\",Lokallønsprocenten!AA79)","v":""},null,null,null,null,{"$f":"IF(Lokallønsprocenten!AF79=\"\",\"\",Lokallønsprocenten!AF79)","v":""},null,{"$f":"IF(Lokallønsprocenten!AH79=\"\",\"\",Lokallønsprocenten!AH79)","v":""},null,null,null,"",""]
[null,{"$f":"IF('Kollega oplysninger'!B80=\"\",\"\",'Kollega oplysninger'!B80)","v":""},{"$f":"IF('Kollega oplysninger'!C80=\"\",\"\",'Kollega oplysninger'!C80)","v":""},null,null,{"$f":"IF('Kollega oplysninger'!I80=\"\",\"\",'Kollega oplysninger'!I80)","v":""},{"$f":"IF('Kollega oplysninger'!J80=\"\",\"\",'Kollega oplysninger'!J80)","v":""},{"$f":"IF('Kollega oplysninger'!L80=\"\",\"\",'Kollega oplysninger'!L80)","v":""},null,null,null,null,null,null,null,null,null,null,null,null,null,null,null,null,null,{"$f":"IF(Lokallønsprocenten!Z80=\"\",\"\",Lokallønsprocenten!Z80)","v":""},{"$f":"IF(Lokallønsprocenten!AA80=\"\",\"\",Lokallønsprocenten!AA80)","v":""},null,null,null,null,{"$f":"IF(Lokallønsprocenten!AF80=\"\",\"\",Lokallønsprocenten!AF80)","v":""},null,{"$f":"IF(Lokallønsprocenten!AH80=\"\",\"\",Lokallønsprocenten!AH80)","v":""},null,null,null,"",""]
[null,{"$f":"IF('Kollega oplysninger'!B81=\"\",\"\",'Kollega oplysninger'!B81)","v":""},{"$f":"IF('Kollega oplysninger'!C81=\"\",\"\",'Kollega oplysninger'!C81)","v":""},null,null,{"$f":"IF('Kollega oplysninger'!I81=\"\",\"\",'Kollega oplysninger'!I81)","v":""},{"$f":"IF('Kollega oplysninger'!J81=\"\",\"\",'Kollega oplysninger'!J81)","v":""},{"$f":"IF('Kollega oplysninger'!L81=\"\",\"\",'Kollega oplysninger'!L81)","v":""},null,null,null,null,null,null,null,null,null,null,null,null,null,null,null,null,null,{"$f":"IF(Lokallønsprocenten!Z81=\"\",\"\",Lokallønsprocenten!Z81)","v":""},{"$f":"IF(Lokallønsprocenten!AA81=\"\",\"\",Lokallønsprocenten!AA81)","v":""},null,null,null,null,{"$f":"IF(Lokallønsprocenten!AF81=\"\",\"\",Lokallønsprocenten!AF81)","v":""},null,{"$f":"IF(Lokallønsprocenten!AH81=\"\",\"\",Lokallønsprocenten!AH81)","v":""},null,null,null,"",""]
[null,{"$f":"IF('Kollega oplysninger'!B82=\"\",\"\",'Kollega oplysninger'!B82)","v":""},{"$f":"IF('Kollega oplysninger'!C82=\"\",\"\",'Kollega oplysninger'!C82)","v":""},null,null,{"$f":"IF('Kollega oplysninger'!I82=\"\",\"\",'Kollega oplysninger'!I82)","v":""},{"$f":"IF('Kollega oplysninger'!J82=\"\",\"\",'Kollega oplysninger'!J82)","v":""},{"$f":"IF('Kollega oplysninger'!L82=\"\",\"\",'Kollega oplysninger'!L82)","v":""},null,null,null,null,null,null,null,null,null,null,null,null,null,null,null,null,null,{"$f":"IF(Lokallønsprocenten!Z82=\"\",\"\",Lokallønsprocenten!Z82)","v":""},{"$f":"IF(Lokallønsprocenten!AA82=\"\",\"\",Lokallønsprocenten!AA82)","v":""},null,null,null,null,{"$f":"IF(Lokallønsprocenten!AF82=\"\",\"\",Lokallønsprocenten!AF82)","v":""},null,{"$f":"IF(Lokallønsprocenten!AH82=\"\",\"\",Lokallønsprocenten!AH82)","v":""},null,null,null,"",""]
[null,{"$f":"IF('Kollega oplysninger'!B83=\"\",\"\",'Kollega oplysninger'!B83)","v":""},{"$f":"IF('Kollega oplysninger'!C83=\"\",\"\",'Kollega oplysninger'!C83)","v":""},null,null,{"$f":"IF('Kollega oplysninger'!I83=\"\",\"\",'Kollega oplysninger'!I83)","v":""},{"$f":"IF('Kollega oplysninger'!J83=\"\",\"\",'Kollega oplysninger'!J83)","v":""},{"$f":"IF('Kollega oplysninger'!L83=\"\",\"\",'Kollega oplysninger'!L83)","v":""},null,null,null,null,null,null,null,null,null,null,null,null,null,null,null,null,null,{"$f":"IF(Lokallønsprocenten!Z83=\"\",\"\",Lokallønsprocenten!Z83)","v":""},{"$f":"IF(Lokallønsprocenten!AA83=\"\",\"\",Lokallønsprocenten!AA83)","v":""},null,null,null,null,{"$f":"IF(Lokallønsprocenten!AF83=\"\",\"\",Lokallønsprocenten!AF83)","v":""},null,{"$f":"IF(Lokallønsprocenten!AH83=\"\",\"\",Lokallønsprocenten!AH83)","v":""},null,null,null,"",""]
[null,{"$f":"IF('Kollega oplysninger'!B84=\"\",\"\",'Kollega oplysninger'!B84)","v":""},{"$f":"IF('Kollega oplysninger'!C84=\"\",\"\",'Kollega oplysninger'!C84)","v":""},null,null,{"$f":"IF('Kollega oplysninger'!I84=\"\",\"\",'Kollega oplysninger'!I84)","v":""},{"$f":"IF('Kollega oplysninger'!J84=\"\",\"\",'Kollega oplysninger'!J84)","v":""},{"$f":"IF('Kollega oplysninger'!L84=\"\",\"\",'Kollega oplysninger'!L84)","v":""},null,null,null,null,null,null,null,null,null,null,null,null,null,null,null,null,null,{"$f":"IF(Lokallønsprocenten!Z84=\"\",\"\",Lokallønsprocenten!Z84)","v":""},{"$f":"IF(Lokallønsprocenten!AA84=\"\",\"\",Lokallønsprocenten!AA84)","v":""},null,null,null,null,{"$f":"IF(Lokallønsprocenten!AF84=\"\",\"\",Lokallønsprocenten!AF84)","v":""},null,{"$f":"IF(Lokallønsprocenten!AH84=\"\",\"\",Lokallønsprocenten!AH84)","v":""},null,null,null,"",""]
[null,{"$f":"IF('Kollega oplysninger'!B85=\"\",\"\",'Kollega oplysninger'!B85)","v":""},{"$f":"IF('Kollega oplysninger'!C85=\"\",\"\",'Kollega oplysninger'!C85)","v":""},null,null,{"$f":"IF('Kollega oplysninger'!I85=\"\",\"\",'Kollega oplysninger'!I85)","v":""},{"$f":"IF('Kollega oplysninger'!J85=\"\",\"\",'Kollega oplysninger'!J85)","v":""},{"$f":"IF('Kollega oplysninger'!L85=\"\",\"\",'Kollega oplysninger'!L85)","v":""},null,null,null,null,null,null,null,null,null,null,null,null,null,null,null,null,null,{"$f":"IF(Lokallønsprocenten!Z85=\"\",\"\",Lokallønsprocenten!Z85)","v":""},{"$f":"IF(Lokallønsprocenten!AA85=\"\",\"\",Lokallønsprocenten!AA85)","v":""},null,null,null,null,{"$f":"IF(Lokallønsprocenten!AF85=\"\",\"\",Lokallønsprocenten!AF85)","v":""},null,{"$f":"IF(Lokallønsprocenten!AH85=\"\",\"\",Lokallønsprocenten!AH85)","v":""},null,null,null,"",""]
[null,{"$f":"IF('Kollega oplysninger'!B86=\"\",\"\",'Kollega oplysninger'!B86)","v":""},{"$f":"IF('Kollega oplysninger'!C86=\"\",\"\",'Kollega oplysninger'!C86)","v":""},null,null,{"$f":"IF('Kollega oplysninger'!I86=\"\",\"\",'Kollega oplysninger'!I86)","v":""},{"$f":"IF('Kollega oplysninger'!J86=\"\",\"\",'Kollega oplysninger'!J86)","v":""},{"$f":"IF('Kollega oplysninger'!L86=\"\",\"\",'Kollega oplysninger'!L86)","v":""},null,null,null,null,null,null,null,null,null,null,null,null,null,null,null,null,null,{"$f":"IF(Lokallønsprocenten!Z86=\"\",\"\",Lokallønsprocenten!Z86)","v":""},{"$f":"IF(Lokallønsprocenten!AA86=\"\",\"\",Lokallønsprocenten!AA86)","v":""},null,null,null,null,{"$f":"IF(Lokallønsprocenten!AF86=\"\",\"\",Lokallønsprocenten!AF86)","v":""},null,{"$f":"IF(Lokallønsprocenten!AH86=\"\",\"\",Lokallønsprocenten!AH86)","v":""},null,null,null,"",""]
[null,{"$f":"IF('Kollega oplysninger'!B87=\"\",\"\",'Kollega oplysninger'!B87)","v":""},{"$f":"IF('Kollega oplysninger'!C87=\"\",\"\",'Kollega oplysninger'!C87)","v":""},null,null,{"$f":"IF('Kollega oplysninger'!I87=\"\",\"\",'Kollega oplysninger'!I87)","v":""},{"$f":"IF('Kollega oplysninger'!J87=\"\",\"\",'Kollega oplysninger'!J87)","v":""},{"$f":"IF('Kollega oplysninger'!L87=\"\",\"\",'Kollega oplysninger'!L87)","v":""},null,null,null,null,null,null,null,null,null,null,null,null,null,null,null,null,null,{"$f":"IF(Lokallønsprocenten!Z87=\"\",\"\",Lokallønsprocenten!Z87)","v":""},{"$f":"IF(Lokallønsprocenten!AA87=\"\",\"\",Lokallønsprocenten!AA87)","v":""},null,null,null,null,{"$f":"IF(Lokallønsprocenten!AF87=\"\",\"\",Lokallønsprocenten!AF87)","v":""},null,{"$f":"IF(Lokallønsprocenten!AH87=\"\",\"\",Lokallønsprocenten!AH87)","v":""},null,null,null,"",""]
[null,{"$f":"IF('Kollega oplysninger'!B88=\"\",\"\",'Kollega oplysninger'!B88)","v":""},{"$f":"IF('Kollega oplysninger'!C88=\"\",\"\",'Kollega oplysninger'!C88)","v":""},null,null,{"$f":"IF('Kollega oplysninger'!I88=\"\",\"\",'Kollega oplysninger'!I88)","v":""},{"$f":"IF('Kollega oplysninger'!J88=\"\",\"\",'Kollega oplysninger'!J88)","v":""},{"$f":"IF('Kollega oplysninger'!L88=\"\",\"\",'Kollega oplysninger'!L88)","v":""},null,null,null,null,null,null,null,null,null,null,null,null,null,null,null,null,null,{"$f":"IF(Lokallønsprocenten!Z88=\"\",\"\",Lokallønsprocenten!Z88)","v":""},{"$f":"IF(Lokallønsprocenten!AA88=\"\",\"\",Lokallønsprocenten!AA88)","v":""},null,null,null,null,{"$f":"IF(Lokallønsprocenten!AF88=\"\",\"\",Lokallønsprocenten!AF88)","v":""},null,{"$f":"IF(Lokallønsprocenten!AH88=\"\",\"\",Lokallønsprocenten!AH88)","v":""},null,null,null,"",""]
[null,{"$f":"IF('Kollega oplysninger'!B89=\"\",\"\",'Kollega oplysninger'!B89)","v":""},{"$f":"IF('Kollega oplysninger'!C89=\"\",\"\",'Kollega oplysninger'!C89)","v":""},null,null,{"$f":"IF('Kollega oplysninger'!I89=\"\",\"\",'Kollega oplysninger'!I89)","v":""},{"$f":"IF('Kollega oplysninger'!J89=\"\",\"\",'Kollega oplysninger'!J89)","v":""},{"$f":"IF('Kollega oplysninger'!L89=\"\",\"\",'Kollega oplysninger'!L89)","v":""},null,null,null,null,null,null,null,null,null,null,null,null,null,null,null,null,null,{"$f":"IF(Lokallønsprocenten!Z89=\"\",\"\",Lokallønsprocenten!Z89)","v":""},{"$f":"IF(Lokallønsprocenten!AA89=\"\",\"\",Lokallønsprocenten!AA89)","v":""},null,null,null,null,{"$f":"IF(Lokallønsprocenten!AF89=\"\",\"\",Lokallønsprocenten!AF89)","v":""},null,{"$f":"IF(Lokallønsprocenten!AH89=\"\",\"\",Lokallønsprocenten!AH89)","v":""},null,null,null,"",""]
[null,{"$f":"IF('Kollega oplysninger'!B90=\"\",\"\",'Kollega oplysninger'!B90)","v":""},{"$f":"IF('Kollega oplysninger'!C90=\"\",\"\",'Kollega oplysninger'!C90)","v":""},null,null,{"$f":"IF('Kollega oplysninger'!I90=\"\",\"\",'Kollega oplysninger'!I90)","v":""},{"$f":"IF('Kollega oplysninger'!J90=\"\",\"\",'Kollega oplysninger'!J90)","v":""},{"$f":"IF('Kollega oplysninger'!L90=\"\",\"\",'Kollega oplysninger'!L90)","v":""},null,null,null,null,null,null,null,null,null,null,null,null,null,null,null,null,null,{"$f":"IF(Lokallønsprocenten!Z90=\"\",\"\",Lokallønsprocenten!Z90)","v":""},{"$f":"IF(Lokallønsprocenten!AA90=\"\",\"\",Lokallønsprocenten!AA90)","v":""},null,null,null,null,{"$f":"IF(Lokallønsprocenten!AF90=\"\",\"\",Lokallønsprocenten!AF90)","v":""},null,{"$f":"IF(Lokallønsprocenten!AH90=\"\",\"\",Lokallønsprocenten!AH90)","v":""},null,null,null,"",""]
[null,{"$f":"IF('Kollega oplysninger'!B91=\"\",\"\",'Kollega oplysninger'!B91)","v":""},{"$f":"IF('Kollega oplysninger'!C91=\"\",\"\",'Kollega oplysninger'!C91)","v":""},null,null,{"$f":"IF('Kollega oplysninger'!I91=\"\",\"\",'Kollega oplysninger'!I91)","v":""},{"$f":"IF('Kollega oplysninger'!J91=\"\",\"\",'Kollega oplysninger'!J91)","v":""},{"$f":"IF('Kollega oplysninger'!L91=\"\",\"\",'Kollega oplysninger'!L91)","v":""},null,null,null,null,null,null,null,null,null,null,null,null,null,null,null,null,null,{"$f":"IF(Lokallønsprocenten!Z91=\"\",\"\",Lokallønsprocenten!Z91)","v":""},{"$f":"IF(Lokallønsprocenten!AA91=\"\",\"\",Lokallønsprocenten!AA91)","v":""},null,null,null,null,{"$f":"IF(Lokallønsprocenten!AF91=\"\",\"\",Lokallønsprocenten!AF91)","v":""},null,{"$f":"IF(Lokallønsprocenten!AH91=\"\",\"\",Lokallønsprocenten!AH91)","v":""},null,null,null,"",""]
[null,{"$f":"IF('Kollega oplysninger'!B92=\"\",\"\",'Kollega oplysninger'!B92)","v":""},{"$f":"IF('Kollega oplysninger'!C92=\"\",\"\",'Kollega oplysninger'!C92)","v":""},null,null,{"$f":"IF('Kollega oplysninger'!I92=\"\",\"\",'Kollega oplysninger'!I92)","v":""},{"$f":"IF('Kollega oplysninger'!J92=\"\",\"\",'Kollega oplysninger'!J92)","v":""},{"$f":"IF('Kollega oplysninger'!L92=\"\",\"\",'Kollega oplysninger'!L92)","v":""},null,null,null,null,null,null,null,null,null,null,null,null,null,null,null,null,null,{"$f":"IF(Lokallønsprocenten!Z92=\"\",\"\",Lokallønsprocenten!Z92)","v":""},{"$f":"IF(Lokallønsprocenten!AA92=\"\",\"\",Lokallønsprocenten!AA92)","v":""},null,null,null,null,{"$f":"IF(Lokallønsprocenten!AF92=\"\",\"\",Lokallønsprocenten!AF92)","v":""},null,{"$f":"IF(Lokallønsprocenten!AH92=\"\",\"\",Lokallønsprocenten!AH92)","v":""},null,null,null,"",""]
[null,{"$f":"IF('Kollega oplysninger'!B93=\"\",\"\",'Kollega oplysninger'!B93)","v":""},{"$f":"IF('Kollega oplysninger'!C93=\"\",\"\",'Kollega oplysninger'!C93)","v":""},null,null,{"$f":"IF('Kollega oplysninger'!I93=\"\",\"\",'Kollega oplysninger'!I93)","v":""},{"$f":"IF('Kollega oplysninger'!J93=\"\",\"\",'Kollega oplysninger'!J93)","v":""},{"$f":"IF('Kollega oplysninger'!L93=\"\",\"\",'Kollega oplysninger'!L93)","v":""},null,null,null,null,null,null,null,null,null,null,null,null,null,null,null,null,null,{"$f":"IF(Lokallønsprocenten!Z93=\"\",\"\",Lokallønsprocenten!Z93)","v":""},{"$f":"IF(Lokallønsprocenten!AA93=\"\",\"\",Lokallønsprocenten!AA93)","v":""},null,null,null,null,{"$f":"IF(Lokallønsprocenten!AF93=\"\",\"\",Lokallønsprocenten!AF93)","v":""},null,{"$f":"IF(Lokallønsprocenten!AH93=\"\",\"\",Lokallønsprocenten!AH93)","v":""},null,null,null,"",""]
[null,{"$f":"IF('Kollega oplysninger'!B94=\"\",\"\",'Kollega oplysninger'!B94)","v":""},{"$f":"IF('Kollega oplysninger'!C94=\"\",\"\",'Kollega oplysninger'!C94)","v":""},null,null,{"$f":"IF('Kollega oplysninger'!I94=\"\",\"\",'Kollega oplysninger'!I94)","v":""},{"$f":"IF('Kollega oplysninger'!J94=\"\",\"\",'Kollega oplysninger'!J94)","v":""},{"$f":"IF('Kollega oplysninger'!L94=\"\",\"\",'Kollega oplysninger'!L94)","v":""},null,null,null,null,null,null,null,null,null,null,null,null,null,null,null,null,null,{"$f":"IF(Lokallønsprocenten!Z94=\"\",\"\",Lokallønsprocenten!Z94)","v":""},{"$f":"IF(Lokallønsprocenten!AA94=\"\",\"\",Lokallønsprocenten!AA94)","v":""},null,null,null,null,{"$f":"IF(Lokallønsprocenten!AF94=\"\",\"\",Lokallønsprocenten!AF94)","v":""},null,{"$f":"IF(Lokallønsprocenten!AH94=\"\",\"\",Lokallønsprocenten!AH94)","v":""},null,null,null,"",""]
[null,{"$f":"IF('Kollega oplysninger'!B95=\"\",\"\",'Kollega oplysninger'!B95)","v":""},{"$f":"IF('Kollega oplysninger'!C95=\"\",\"\",'Kollega oplysninger'!C95)","v":""},null,null,{"$f":"IF('Kollega oplysninger'!I95=\"\",\"\",'Kollega oplysninger'!I95)","v":""},{"$f":"IF('Kollega oplysninger'!J95=\"\",\"\",'Kollega oplysninger'!J95)","v":""},{"$f":"IF('Kollega oplysninger'!L95=\"\",\"\",'Kollega oplysninger'!L95)","v":""},null,null,null,null,null,null,null,null,null,null,null,null,null,null,null,null,null,{"$f":"IF(Lokallønsprocenten!Z95=\"\",\"\",Lokallønsprocenten!Z95)","v":""},{"$f":"IF(Lokallønsprocenten!AA95=\"\",\"\",Lokallønsprocenten!AA95)","v":""},null,null,null,null,{"$f":"IF(Lokallønsprocenten!AF95=\"\",\"\",Lokallønsprocenten!AF95)","v":""},null,{"$f":"IF(Lokallønsprocenten!AH95=\"\",\"\",Lokallønsprocenten!AH95)","v":""},null,null,null,"",""]
[null,{"$f":"IF('Kollega oplysninger'!B96=\"\",\"\",'Kollega oplysninger'!B96)","v":""},{"$f":"IF('Kollega oplysninger'!C96=\"\",\"\",'Kollega oplysninger'!C96)","v":""},null,null,{"$f":"IF('Kollega oplysninger'!I96=\"\",\"\",'Kollega oplysninger'!I96)","v":""},{"$f":"IF('Kollega oplysninger'!J96=\"\",\"\",'Kollega oplysninger'!J96)","v":""},{"$f":"IF('Kollega oplysninger'!L96=\"\",\"\",'Kollega oplysninger'!L96)","v":""},null,null,null,null,null,null,null,null,null,null,null,null,null,null,null,null,null,{"$f":"IF(Lokallønsprocenten!Z96=\"\",\"\",Lokallønsprocenten!Z96)","v":""},{"$f":"IF(Lokallønsprocenten!AA96=\"\",\"\",Lokallønsprocenten!AA96)","v":""},null,null,null,null,{"$f":"IF(Lokallønsprocenten!AF96=\"\",\"\",Lokallønsprocenten!AF96)","v":""},null,{"$f":"IF(Lokallønsprocenten!AH96=\"\",\"\",Lokallønsprocenten!AH96)","v":""},null,null,null,"",""]
[null,{"$f":"IF('Kollega oplysninger'!B97=\"\",\"\",'Kollega oplysninger'!B97)","v":""},{"$f":"IF('Kollega oplysninger'!C97=\"\",\"\",'Kollega oplysninger'!C97)","v":""},null,null,{"$f":"IF('Kollega oplysninger'!I97=\"\",\"\",'Kollega oplysninger'!I97)","v":""},{"$f":"IF('Kollega oplysninger'!J97=\"\",\"\",'Kollega oplysninger'!J97)","v":""},{"$f":"IF('Kollega oplysninger'!L97=\"\",\"\",'Kollega oplysninger'!L97)","v":""},null,null,null,null,null,null,null,null,null,null,null,null,null,null,null,null,null,{"$f":"IF(Lokallønsprocenten!Z97=\"\",\"\",Lokallønsprocenten!Z97)","v":""},{"$f":"IF(Lokallønsprocenten!AA97=\"\",\"\",Lokallønsprocenten!AA97)","v":""},null,null,null,null,{"$f":"IF(Lokallønsprocenten!AF97=\"\",\"\",Lokallønsprocenten!AF97)","v":""},null,{"$f":"IF(Lokallønsprocenten!AH97=\"\",\"\",Lokallønsprocenten!AH97)","v":""},null,null,null,"",""]
[null,{"$f":"IF('Kollega oplysninger'!B98=\"\",\"\",'Kollega oplysninger'!B98)","v":""},{"$f":"IF('Kollega oplysninger'!C98=\"\",\"\",'Kollega oplysninger'!C98)","v":""},null,null,{"$f":"IF('Kollega oplysninger'!I98=\"\",\"\",'Kollega oplysninger'!I98)","v":""},{"$f":"IF('Kollega oplysninger'!J98=\"\",\"\",'Kollega oplysninger'!J98)","v":""},{"$f":"IF('Kollega oplysninger'!L98=\"\",\"\",'Kollega oplysninger'!L98)","v":""},null,null,null,null,null,null,null,null,null,null,null,null,null,null,null,null,null,{"$f":"IF(Lokallønsprocenten!Z98=\"\",\"\",Lokallønsprocenten!Z98)","v":""},{"$f":"IF(Lokallønsprocenten!AA98=\"\",\"\",Lokallønsprocenten!AA98)","v":""},null,null,null,null,{"$f":"IF(Lokallønsprocenten!AF98=\"\",\"\",Lokallønsprocenten!AF98)","v":""},null,{"$f":"IF(Lokallønsprocenten!AH98=\"\",\"\",Lokallønsprocenten!AH98)","v":""},null,null,null,"",""]
[null,{"$f":"IF('Kollega oplysninger'!B99=\"\",\"\",'Kollega oplysninger'!B99)","v":""},{"$f":"IF('Kollega oplysninger'!C99=\"\",\"\",'Kollega oplysninger'!C99)","v":""},null,null,{"$f":"IF('Kollega oplysninger'!I99=\"\",\"\",'Kollega oplysninger'!I99)","v":""},{"$f":"IF('Kollega oplysninger'!J99=\"\",\"\",'Kollega oplysninger'!J99)","v":""},{"$f":"IF('Kollega oplysninger'!L99=\"\",\"\",'Kollega oplysninger'!L99)","v":""},null,null,null,null,null,null,null,null,null,null,null,null,null,null,null,null,null,{"$f":"IF(Lokallønsprocenten!Z99=\"\",\"\",Lokallønsprocenten!Z99)","v":""},{"$f":"IF(Lokallønsprocenten!AA99=\"\",\"\",Lokallønsprocenten!AA99)","v":""},null,null,null,null,{"$f":"IF(Lokallønsprocenten!AF99=\"\",\"\",Lokallønsprocenten!AF99)","v":""},null,{"$f":"IF(Lokallønsprocenten!AH99=\"\",\"\",Lokallønsprocenten!AH99)","v":""},null,null,null,"",""]
[null,{"$f":"IF('Kollega oplysninger'!B100=\"\",\"\",'Kollega oplysninger'!B100)","v":""},{"$f":"IF('Kollega oplysninger'!C100=\"\",\"\",'Kollega oplysninger'!C100)","v":""},null,null,{"$f":"IF('Kollega oplysninger'!I100=\"\",\"\",'Kollega oplysninger'!I100)","v":""},{"$f":"IF('Kollega oplysninger'!J100=\"\",\"\",'Kollega oplysninger'!J100)","v":""},{"$f":"IF('Kollega oplysninger'!L100=\"\",\"\",'Kollega oplysninger'!L100)","v":""},null,null,null,null,null,null,null,null,null,null,null,null,null,null,null,null,null,{"$f":"IF(Lokallønsprocenten!Z100=\"\",\"\",Lokallønsprocenten!Z100)","v":""},{"$f":"IF(Lokallønsprocenten!AA100=\"\",\"\",Lokallønsprocenten!AA100)","v":""},null,null,null,null,{"$f":"IF(Lokallønsprocenten!AF100=\"\",\"\",Lokallønsprocenten!AF100)","v":""},null,{"$f":"IF(Lokallønsprocenten!AH100=\"\",\"\",Lokallønsprocenten!AH100)","v":""},null,null,null,"",""]
[null,{"$f":"IF('Kollega oplysninger'!B101=\"\",\"\",'Kollega oplysninger'!B101)","v":""},{"$f":"IF('Kollega oplysninger'!C101=\"\",\"\",'Kollega oplysninger'!C101)","v":""},null,null,{"$f":"IF('Kollega oplysninger'!I101=\"\",\"\",'Kollega oplysninger'!I101)","v":""},{"$f":"IF('Kollega oplysninger'!J101=\"\",\"\",'Kollega oplysninger'!J101)","v":""},{"$f":"IF('Kollega oplysninger'!L101=\"\",\"\",'Kollega oplysninger'!L101)","v":""},null,null,null,null,null,null,null,null,null,null,null,null,null,null,null,null,null,{"$f":"IF(Lokallønsprocenten!Z101=\"\",\"\",Lokallønsprocenten!Z101)","v":""},{"$f":"IF(Lokallønsprocenten!AA101=\"\",\"\",Lokallønsprocenten!AA101)","v":""},null,null,null,null,{"$f":"IF(Lokallønsprocenten!AF101=\"\",\"\",Lokallønsprocenten!AF101)","v":""},null,{"$f":"IF(Lokallønsprocenten!AH101=\"\",\"\",Lokallønsprocenten!AH101)","v":""},null,null,null,"",""]
[null,{"$f":"IF('Kollega oplysninger'!B102=\"\",\"\",'Kollega oplysninger'!B102)","v":""},{"$f":"IF('Kollega oplysninger'!C102=\"\",\"\",'Kollega oplysninger'!C102)","v":""},null,null,{"$f":"IF('Kollega oplysninger'!I102=\"\",\"\",'Kollega oplysninger'!I102)","v":""},{"$f":"IF('Kollega oplysninger'!J102=\"\",\"\",'Kollega oplysninger'!J102)","v":""},{"$f":"IF('Kollega oplysninger'!L102=\"\",\"\",'Kollega oplysninger'!L102)","v":""},null,null,null,null,null,null,null,null,null,null,null,null,null,null,null,null,null,{"$f":"IF(Lokallønsprocenten!Z102=\"\",\"\",Lokallønsprocenten!Z102)","v":""},{"$f":"IF(Lokallønsprocenten!AA102=\"\",\"\",Lokallønsprocenten!AA102)","v":""},null,null,null,null,{"$f":"IF(Lokallønsprocenten!AF102=\"\",\"\",Lokallønsprocenten!AF102)","v":""},null,{"$f":"IF(Lokallønsprocenten!AH102=\"\",\"\",Lokallønsprocenten!AH102)","v":""},null,null,null,"",""]
[null,{"$f":"IF('Kollega oplysninger'!B103=\"\",\"\",'Kollega oplysninger'!B103)","v":""},{"$f":"IF('Kollega oplysninger'!C103=\"\",\"\",'Kollega oplysninger'!C103)","v":""},null,null,{"$f":"IF('Kollega oplysninger'!I103=\"\",\"\",'Kollega oplysninger'!I103)","v":""},{"$f":"IF('Kollega oplysninger'!J103=\"\",\"\",'Kollega oplysninger'!J103)","v":""},{"$f":"IF('Kollega oplysninger'!L103=\"\",\"\",'Kollega oplysninger'!L103)","v":""},null,null,null,null,null,null,null,null,null,null,null,null,null,null,null,null,null,{"$f":"IF(Lokallønsprocenten!Z103=\"\",\"\",Lokallønsprocenten!Z103)","v":""},{"$f":"IF(Lokallønsprocenten!AA103=\"\",\"\",Lokallønsprocenten!AA103)","v":""},null,null,null,null,{"$f":"IF(Lokallønsprocenten!AF103=\"\",\"\",Lokallønsprocenten!AF103)","v":""},null,{"$f":"IF(Lokallønsprocenten!AH103=\"\",\"\",Lokallønsprocenten!AH103)","v":""},null,null,null,"",""]
[null,{"$f":"IF('Kollega oplysninger'!B104=\"\",\"\",'Kollega oplysninger'!B104)","v":""},{"$f":"IF('Kollega oplysninger'!C104=\"\",\"\",'Kollega oplysninger'!C104)","v":""},null,null,{"$f":"IF('Kollega oplysninger'!I104=\"\",\"\",'Kollega oplysninger'!I104)","v":""},{"$f":"IF('Kollega oplysninger'!J104=\"\",\"\",'Kollega oplysninger'!J104)","v":""},{"$f":"IF('Kollega oplysninger'!L104=\"\",\"\",'Kollega oplysninger'!L104)","v":""},null,null,null,null,null,null,null,null,null,null,null,null,null,null,null,null,null,{"$f":"IF(Lokallønsprocenten!Z104=\"\",\"\",Lokallønsprocenten!Z104)","v":""},{"$f":"IF(Lokallønsprocenten!AA104=\"\",\"\",Lokallønsprocenten!AA104)","v":""},null,null,null,null,{"$f":"IF(Lokallønsprocenten!AF104=\"\",\"\",Lokallønsprocenten!AF104)","v":""},null,{"$f":"IF(Lokallønsprocenten!AH104=\"\",\"\",Lokallønsprocenten!AH104)","v":""},null,null,null,"",""]
[null,{"$f":"IF('Kollega oplysninger'!B105=\"\",\"\",'Kollega oplysninger'!B105)","v":""},{"$f":"IF('Kollega oplysninger'!C105=\"\",\"\",'Kollega oplysninger'!C105)","v":""},null,null,{"$f":"IF('Kollega oplysninger'!I105=\"\",\"\",'Kollega oplysninger'!I105)","v":""},{"$f":"IF('Kollega oplysninger'!J105=\"\",\"\",'Kollega oplysninger'!J105)","v":""},{"$f":"IF('Kollega oplysninger'!L105=\"\",\"\",'Kollega oplysninger'!L105)","v":""},null,null,null,null,null,null,null,null,null,null,null,null,null,null,null,null,null,{"$f":"IF(Lokallønsprocenten!Z105=\"\",\"\",Lokallønsprocenten!Z105)","v":""},{"$f":"IF(Lokallønsprocenten!AA105=\"\",\"\",Lokallønsprocenten!AA105)","v":""},null,null,null,null,{"$f":"IF(Lokallønsprocenten!AF105=\"\",\"\",Lokallønsprocenten!AF105)","v":""},null,{"$f":"IF(Lokallønsprocenten!AH105=\"\",\"\",Lokallønsprocenten!AH105)","v":""},null,null,null,"",""]
[null,{"$f":"IF('Kollega oplysninger'!B106=\"\",\"\",'Kollega oplysninger'!B106)","v":""},{"$f":"IF('Kollega oplysninger'!C106=\"\",\"\",'Kollega oplysninger'!C106)","v":""},null,null,{"$f":"IF('Kollega oplysninger'!I106=\"\",\"\",'Kollega oplysninger'!I106)","v":""},{"$f":"IF('Kollega oplysninger'!J106=\"\",\"\",'Kollega oplysninger'!J106)","v":""},{"$f":"IF('Kollega oplysninger'!L106=\"\",\"\",'Kollega oplysninger'!L106)","v":""},null,null,null,null,null,null,null,null,null,null,null,null,null,null,null,null,null,{"$f":"IF(Lokallønsprocenten!Z106=\"\",\"\",Lokallønsprocenten!Z106)","v":""},{"$f":"IF(Lokallønsprocenten!AA106=\"\",\"\",Lokallønsprocenten!AA106)","v":""},null,null,null,null,{"$f":"IF(Lokallønsprocenten!AF106=\"\",\"\",Lokallønsprocenten!AF106)","v":""},null,{"$f":"IF(Lokallønsprocenten!AH106=\"\",\"\",Lokallønsprocenten!AH106)","v":""},null,null,null,"",""]
[null,{"$f":"IF('Kollega oplysninger'!B107=\"\",\"\",'Kollega oplysninger'!B107)","v":""},{"$f":"IF('Kollega oplysninger'!C107=\"\",\"\",'Kollega oplysninger'!C107)","v":""},null,null,{"$f":"IF('Kollega oplysninger'!I107=\"\",\"\",'Kollega oplysninger'!I107)","v":""},{"$f":"IF('Kollega oplysninger'!J107=\"\",\"\",'Kollega oplysninger'!J107)","v":""},{"$f":"IF('Kollega oplysninger'!L107=\"\",\"\",'Kollega oplysninger'!L107)","v":""},null,null,null,null,null,null,null,null,null,null,null,null,null,null,null,null,null,{"$f":"IF(Lokallønsprocenten!Z107=\"\",\"\",Lokallønsprocenten!Z107)","v":""},{"$f":"IF(Lokallønsprocenten!AA107=\"\",\"\",Lokallønsprocenten!AA107)","v":""},null,null,null,null,{"$f":"IF(Lokallønsprocenten!AF107=\"\",\"\",Lokallønsprocenten!AF107)","v":""},null,{"$f":"IF(Lokallønsprocenten!AH107=\"\",\"\",Lokallønsprocenten!AH107)","v":""},null,null,null,"",""]
[null,{"$f":"IF('Kollega oplysninger'!B108=\"\",\"\",'Kollega oplysninger'!B108)","v":""},{"$f":"IF('Kollega oplysninger'!C108=\"\",\"\",'Kollega oplysninger'!C108)","v":""},null,null,{"$f":"IF('Kollega oplysninger'!I108=\"\",\"\",'Kollega oplysninger'!I108)","v":""},{"$f":"IF('Kollega oplysninger'!J108=\"\",\"\",'Kollega oplysninger'!J108)","v":""},{"$f":"IF('Kollega oplysninger'!L108=\"\",\"\",'Kollega oplysninger'!L108)","v":""},null,null,null,null,null,null,null,null,null,null,null,null,null,null,null,null,null,{"$f":"IF(Lokallønsprocenten!Z108=\"\",\"\",Lokallønsprocenten!Z108)","v":""},{"$f":"IF(Lokallønsprocenten!AA108=\"\",\"\",Lokallønsprocenten!AA108)","v":""},null,null,null,null,{"$f":"IF(Lokallønsprocenten!AF108=\"\",\"\",Lokallønsprocenten!AF108)","v":""},null,{"$f":"IF(Lokallønsprocenten!AH108=\"\",\"\",Lokallønsprocenten!AH108)","v":""},null,null,null,"",""]
[null,{"$f":"IF('Kollega oplysninger'!B109=\"\",\"\",'Kollega oplysninger'!B109)","v":""},{"$f":"IF('Kollega oplysninger'!C109=\"\",\"\",'Kollega oplysninger'!C109)","v":""},null,null,{"$f":"IF('Kollega oplysninger'!I109=\"\",\"\",'Kollega oplysninger'!I109)","v":""},{"$f":"IF('Kollega oplysninger'!J109=\"\",\"\",'Kollega oplysninger'!J109)","v":""},{"$f":"IF('Kollega oplysninger'!L109=\"\",\"\",'Kollega oplysninger'!L109)","v":""},null,null,null,null,null,null,null,null,null,null,null,null,null,null,null,null,null,{"$f":"IF(Lokallønsprocenten!Z109=\"\",\"\",Lokallønsprocenten!Z109)","v":""},{"$f":"IF(Lokallønsprocenten!AA109=\"\",\"\",Lokallønsprocenten!AA109)","v":""},null,null,null,null,{"$f":"IF(Lokallønsprocenten!AF109=\"\",\"\",Lokallønsprocenten!AF109)","v":""},null,{"$f":"IF(Lokallønsprocenten!AH109=\"\",\"\",Lokallønsprocenten!AH109)","v":""},null,null,null,"",""]
[null,{"$f":"IF('Kollega oplysninger'!B110=\"\",\"\",'Kollega oplysninger'!B110)","v":""},{"$f":"IF('Kollega oplysninger'!C110=\"\",\"\",'Kollega oplysninger'!C110)","v":""},null,null,{"$f":"IF('Kollega oplysninger'!I110=\"\",\"\",'Kollega oplysninger'!I110)","v":""},{"$f":"IF('Kollega oplysninger'!J110=\"\",\"\",'Kollega oplysninger'!J110)","v":""},{"$f":"IF('Kollega oplysninger'!L110=\"\",\"\",'Kollega oplysninger'!L110)","v":""},null,null,null,null,null,null,null,null,null,null,null,null,null,null,null,null,null,{"$f":"IF(Lokallønsprocenten!Z110=\"\",\"\",Lokallønsprocenten!Z110)","v":""},{"$f":"IF(Lokallønsprocenten!AA110=\"\",\"\",Lokallønsprocenten!AA110)","v":""},null,null,null,null,{"$f":"IF(Lokallønsprocenten!AF110=\"\",\"\",Lokallønsprocenten!AF110)","v":""},null,{"$f":"IF(Lokallønsprocenten!AH110=\"\",\"\",Lokallønsprocenten!AH110)","v":""},null,null,null,"",""]
[null,{"$f":"IF('Kollega oplysninger'!B111=\"\",\"\",'Kollega oplysninger'!B111)","v":""},{"$f":"IF('Kollega oplysninger'!C111=\"\",\"\",'Kollega oplysninger'!C111)","v":""},null,null,{"$f":"IF('Kollega oplysninger'!I111=\"\",\"\",'Kollega oplysninger'!I111)","v":""},{"$f":"IF('Kollega oplysninger'!J111=\"\",\"\",'Kollega oplysninger'!J111)","v":""},{"$f":"IF('Kollega oplysninger'!L111=\"\",\"\",'Kollega oplysninger'!L111)","v":""},null,null,null,null,null,null,null,null,null,null,null,null,null,null,null,null,null,{"$f":"IF(Lokallønsprocenten!Z111=\"\",\"\",Lokallønsprocenten!Z111)","v":""},{"$f":"IF(Lokallønsprocenten!AA111=\"\",\"\",Lokallønsprocenten!AA111)","v":""},null,null,null,null,{"$f":"IF(Lokallønsprocenten!AF111=\"\",\"\",Lokallønsprocenten!AF111)","v":""},null,{"$f":"IF(Lokallønsprocenten!AH111=\"\",\"\",Lokallønsprocenten!AH111)","v":""},null,null,null,"",""]
[null,{"$f":"IF('Kollega oplysninger'!B112=\"\",\"\",'Kollega oplysninger'!B112)","v":""},{"$f":"IF('Kollega oplysninger'!C112=\"\",\"\",'Kollega oplysninger'!C112)","v":""},null,null,{"$f":"IF('Kollega oplysninger'!I112=\"\",\"\",'Kollega oplysninger'!I112)","v":""},{"$f":"IF('Kollega oplysninger'!J112=\"\",\"\",'Kollega oplysninger'!J112)","v":""},{"$f":"IF('Kollega oplysninger'!L112=\"\",\"\",'Kollega oplysninger'!L112)","v":""},null,null,null,null,null,null,null,null,null,null,null,null,null,null,null,null,null,{"$f":"IF(Lokallønsprocenten!Z112=\"\",\"\",Lokallønsprocenten!Z112)","v":""},{"$f":"IF(Lokallønsprocenten!AA112=\"\",\"\",Lokallønsprocenten!AA112)","v":""},null,null,null,null,{"$f":"IF(Lokallønsprocenten!AF112=\"\",\"\",Lokallønsprocenten!AF112)","v":""},null,{"$f":"IF(Lokallønsprocenten!AH112=\"\",\"\",Lokallønsprocenten!AH112)","v":""},null,null,null,"",""]
[null,{"$f":"IF('Kollega oplysninger'!B113=\"\",\"\",'Kollega oplysninger'!B113)","v":""},{"$f":"IF('Kollega oplysninger'!C113=\"\",\"\",'Kollega oplysninger'!C113)","v":""},null,null,{"$f":"IF('Kollega oplysninger'!I113=\"\",\"\",'Kollega oplysninger'!I113)","v":""},{"$f":"IF('Kollega oplysninger'!J113=\"\",\"\",'Kollega oplysninger'!J113)","v":""},{"$f":"IF('Kollega oplysninger'!L113=\"\",\"\",'Kollega oplysninger'!L113)","v":""},null,null,null,null,null,null,null,null,null,null,null,null,null,null,null,null,null,{"$f":"IF(Lokallønsprocenten!Z113=\"\",\"\",Lokallønsprocenten!Z113)","v":""},{"$f":"IF(Lokallønsprocenten!AA113=\"\",\"\",Lokallønsprocenten!AA113)","v":""},null,null,null,null,{"$f":"IF(Lokallønsprocenten!AF113=\"\",\"\",Lokallønsprocenten!AF113)","v":""},null,{"$f":"IF(Lokallønsprocenten!AH113=\"\",\"\",Lokallønsprocenten!AH113)","v":""},null,null,null,"",""]
[null,{"$f":"IF('Kollega oplysninger'!B114=\"\",\"\",'Kollega oplysninger'!B114)","v":""},{"$f":"IF('Kollega oplysninger'!C114=\"\",\"\",'Kollega oplysninger'!C114)","v":""},null,null,{"$f":"IF('Kollega oplysninger'!I114=\"\",\"\",'Kollega oplysninger'!I114)","v":""},{"$f":"IF('Kollega oplysninger'!J114=\"\",\"\",'Kollega oplysninger'!J114)","v":""},{"$f":"IF('Kollega oplysninger'!L114=\"\",\"\",'Kollega oplysninger'!L114)","v":""},null,null,null,null,null,null,null,null,null,null,null,null,null,null,null,null,null,{"$f":"IF(Lokallønsprocenten!Z114=\"\",\"\",Lokallønsprocenten!Z114)","v":""},{"$f":"IF(Lokallønsprocenten!AA114=\"\",\"\",Lokallønsprocenten!AA114)","v":""},null,null,null,null,{"$f":"IF(Lokallønsprocenten!AF114=\"\",\"\",Lokallønsprocenten!AF114)","v":""},null,{"$f":"IF(Lokallønsprocenten!AH114=\"\",\"\",Lokallønsprocenten!AH114)","v":""},null,null,null,"",""]
[null,{"$f":"IF('Kollega oplysninger'!B115=\"\",\"\",'Kollega oplysninger'!B115)","v":""},{"$f":"IF('Kollega oplysninger'!C115=\"\",\"\",'Kollega oplysninger'!C115)","v":""},null,null,{"$f":"IF('Kollega oplysninger'!I115=\"\",\"\",'Kollega oplysninger'!I115)","v":""},{"$f":"IF('Kollega oplysninger'!J115=\"\",\"\",'Kollega oplysninger'!J115)","v":""},{"$f":"IF('Kollega oplysninger'!L115=\"\",\"\",'Kollega oplysninger'!L115)","v":""},null,null,null,null,null,null,null,null,null,null,null,null,null,null,null,null,null,{"$f":"IF(Lokallønsprocenten!Z115=\"\",\"\",Lokallønsprocenten!Z115)","v":""},{"$f":"IF(Lokallønsprocenten!AA115=\"\",\"\",Lokallønsprocenten!AA115)","v":""},null,null,null,null,{"$f":"IF(Lokallønsprocenten!AF115=\"\",\"\",Lokallønsprocenten!AF115)","v":""},null,{"$f":"IF(Lokallønsprocenten!AH115=\"\",\"\",Lokallønsprocenten!AH115)","v":""},null,null,null,"",""]
[null,{"$f":"IF('Kollega oplysninger'!B116=\"\",\"\",'Kollega oplysninger'!B116)","v":""},{"$f":"IF('Kollega oplysninger'!C116=\"\",\"\",'Kollega oplysninger'!C116)","v":""},null,null,{"$f":"IF('Kollega oplysninger'!I116=\"\",\"\",'Kollega oplysninger'!I116)","v":""},{"$f":"IF('Kollega oplysninger'!J116=\"\",\"\",'Kollega oplysninger'!J116)","v":""},{"$f":"IF('Kollega oplysninger'!L116=\"\",\"\",'Kollega oplysninger'!L116)","v":""},null,null,null,null,null,null,null,null,null,null,null,null,null,null,null,null,null,{"$f":"IF(Lokallønsprocenten!Z116=\"\",\"\",Lokallønsprocenten!Z116)","v":""},{"$f":"IF(Lokallønsprocenten!AA116=\"\",\"\",Lokallønsprocenten!AA116)","v":""},null,null,null,null,{"$f":"IF(Lokallønsprocenten!AF116=\"\",\"\",Lokallønsprocenten!AF116)","v":""},null,{"$f":"IF(Lokallønsprocenten!AH116=\"\",\"\",Lokallønsprocenten!AH116)","v":""},null,null,null,"",""]
[null,{"$f":"IF('Kollega oplysninger'!B117=\"\",\"\",'Kollega oplysninger'!B117)","v":""},{"$f":"IF('Kollega oplysninger'!C117=\"\",\"\",'Kollega oplysninger'!C117)","v":""},null,null,{"$f":"IF('Kollega oplysninger'!I117=\"\",\"\",'Kollega oplysninger'!I117)","v":""},{"$f":"IF('Kollega oplysninger'!J117=\"\",\"\",'Kollega oplysninger'!J117)","v":""},{"$f":"IF('Kollega oplysninger'!L117=\"\",\"\",'Kollega oplysninger'!L117)","v":""},null,null,null,null,null,null,null,null,null,null,null,null,null,null,null,null,null,{"$f":"IF(Lokallønsprocenten!Z117=\"\",\"\",Lokallønsprocenten!Z117)","v":""},{"$f":"IF(Lokallønsprocenten!AA117=\"\",\"\",Lokallønsprocenten!AA117)","v":""},null,null,null,null,{"$f":"IF(Lokallønsprocenten!AF117=\"\",\"\",Lokallønsprocenten!AF117)","v":""},null,{"$f":"IF(Lokallønsprocenten!AH117=\"\",\"\",Lokallønsprocenten!AH117)","v":""},null,null,null,"",""]
[null,{"$f":"IF('Kollega oplysninger'!B118=\"\",\"\",'Kollega oplysninger'!B118)","v":""},{"$f":"IF('Kollega oplysninger'!C118=\"\",\"\",'Kollega oplysninger'!C118)","v":""},null,null,{"$f":"IF('Kollega oplysninger'!I118=\"\",\"\",'Kollega oplysninger'!I118)","v":""},{"$f":"IF('Kollega oplysninger'!J118=\"\",\"\",'Kollega oplysninger'!J118)","v":""},{"$f":"IF('Kollega oplysninger'!L118=\"\",\"\",'Kollega oplysninger'!L118)","v":""},null,null,null,null,null,null,null,null,null,null,null,null,null,null,null,null,null,{"$f":"IF(Lokallønsprocenten!Z118=\"\",\"\",Lokallønsprocenten!Z118)","v":""},{"$f":"IF(Lokallønsprocenten!AA118=\"\",\"\",Lokallønsprocenten!AA118)","v":""},null,null,null,null,{"$f":"IF(Lokallønsprocenten!AF118=\"\",\"\",Lokallønsprocenten!AF118)","v":""},null,{"$f":"IF(Lokallønsprocenten!AH118=\"\",\"\",Lokallønsprocenten!AH118)","v":""},null,null,null,"",""]
[null,{"$f":"IF('Kollega oplysninger'!B119=\"\",\"\",'Kollega oplysninger'!B119)","v":""},{"$f":"IF('Kollega oplysninger'!C119=\"\",\"\",'Kollega oplysninger'!C119)","v":""},null,null,{"$f":"IF('Kollega oplysninger'!I119=\"\",\"\",'Kollega oplysninger'!I119)","v":""},{"$f":"IF('Kollega oplysninger'!J119=\"\",\"\",'Kollega oplysninger'!J119)","v":""},{"$f":"IF('Kollega oplysninger'!L119=\"\",\"\",'Kollega oplysninger'!L119)","v":""},null,null,null,null,null,null,null,null,null,null,null,null,null,null,null,null,null,{"$f":"IF(Lokallønsprocenten!Z119=\"\",\"\",Lokallønsprocenten!Z119)","v":""},{"$f":"IF(Lokallønsprocenten!AA119=\"\",\"\",Lokallønsprocenten!AA119)","v":""},null,null,null,null,{"$f":"IF(Lokallønsprocenten!AF119=\"\",\"\",Lokallønsprocenten!AF119)","v":""},null,{"$f":"IF(Lokallønsprocenten!AH119=\"\",\"\",Lokallønsprocenten!AH119)","v":""},null,null,null,"",""]
[null,{"$f":"IF('Kollega oplysninger'!B120=\"\",\"\",'Kollega oplysninger'!B120)","v":""},{"$f":"IF('Kollega oplysninger'!C120=\"\",\"\",'Kollega oplysninger'!C120)","v":""},null,null,{"$f":"IF('Kollega oplysninger'!I120=\"\",\"\",'Kollega oplysninger'!I120)","v":""},{"$f":"IF('Kollega oplysninger'!J120=\"\",\"\",'Kollega oplysninger'!J120)","v":""},{"$f":"IF('Kollega oplysninger'!L120=\"\",\"\",'Kollega oplysninger'!L120)","v":""},null,null,null,null,null,null,null,null,null,null,null,null,null,null,null,null,null,{"$f":"IF(Lokallønsprocenten!Z120=\"\",\"\",Lokallønsprocenten!Z120)","v":""},{"$f":"IF(Lokallønsprocenten!AA120=\"\",\"\",Lokallønsprocenten!AA120)","v":""},null,null,null,null,{"$f":"IF(Lokallønsprocenten!AF120=\"\",\"\",Lokallønsprocenten!AF120)","v":""},null,{"$f":"IF(Lokallønsprocenten!AH120=\"\",\"\",Lokallønsprocenten!AH120)","v":""},null,null,null,"",""]
[null,{"$f":"IF('Kollega oplysninger'!B121=\"\",\"\",'Kollega oplysninger'!B121)","v":""},{"$f":"IF('Kollega oplysninger'!C121=\"\",\"\",'Kollega oplysninger'!C121)","v":""},null,null,{"$f":"IF('Kollega oplysninger'!I121=\"\",\"\",'Kollega oplysninger'!I121)","v":""},{"$f":"IF('Kollega oplysninger'!J121=\"\",\"\",'Kollega oplysninger'!J121)","v":""},{"$f":"IF('Kollega oplysninger'!L121=\"\",\"\",'Kollega oplysninger'!L121)","v":""},null,null,null,null,null,null,null,null,null,null,null,null,null,null,null,null,null,{"$f":"IF(Lokallønsprocenten!Z121=\"\",\"\",Lokallønsprocenten!Z121)","v":""},{"$f":"IF(Lokallønsprocenten!AA121=\"\",\"\",Lokallønsprocenten!AA121)","v":""},null,null,null,null,{"$f":"IF(Lokallønsprocenten!AF121=\"\",\"\",Lokallønsprocenten!AF121)","v":""},null,{"$f":"IF(Lokallønsprocenten!AH121=\"\",\"\",Lokallønsprocenten!AH121)","v":""},null,null,null,"",""]
[null,{"$f":"IF('Kollega oplysninger'!B122=\"\",\"\",'Kollega oplysninger'!B122)","v":""},{"$f":"IF('Kollega oplysninger'!C122=\"\",\"\",'Kollega oplysninger'!C122)","v":""},null,null,{"$f":"IF('Kollega oplysninger'!I122=\"\",\"\",'Kollega oplysninger'!I122)","v":""},{"$f":"IF('Kollega oplysninger'!J122=\"\",\"\",'Kollega oplysninger'!J122)","v":""},{"$f":"IF('Kollega oplysninger'!L122=\"\",\"\",'Kollega oplysninger'!L122)","v":""},null,null,null,null,null,null,null,null,null,null,null,null,null,null,null,null,null,{"$f":"IF(Lokallønsprocenten!Z122=\"\",\"\",Lokallønsprocenten!Z122)","v":""},{"$f":"IF(Lokallønsprocenten!AA122=\"\",\"\",Lokallønsprocenten!AA122)","v":""},null,null,null,null,{"$f":"IF(Lokallønsprocenten!AF122=\"\",\"\",Lokallønsprocenten!AF122)","v":""},null,{"$f":"IF(Lokallønsprocenten!AH122=\"\",\"\",Lokallønsprocenten!AH122)","v":""},null,null,null,"",""]
[null,{"$f":"IF('Kollega oplysninger'!B123=\"\",\"\",'Kollega oplysninger'!B123)","v":""},{"$f":"IF('Kollega oplysninger'!C123=\"\",\"\",'Kollega oplysninger'!C123)","v":""},null,null,{"$f":"IF('Kollega oplysninger'!I123=\"\",\"\",'Kollega oplysninger'!I123)","v":""},{"$f":"IF('Kollega oplysninger'!J123=\"\",\"\",'Kollega oplysninger'!J123)","v":""},{"$f":"IF('Kollega oplysninger'!L123=\"\",\"\",'Kollega oplysninger'!L123)","v":""},null,null,null,null,null,null,null,null,null,null,null,null,null,null,null,null,null,{"$f":"IF(Lokallønsprocenten!Z123=\"\",\"\",Lokallønsprocenten!Z123)","v":""},{"$f":"IF(Lokallønsprocenten!AA123=\"\",\"\",Lokallønsprocenten!AA123)","v":""},null,null,null,null,{"$f":"IF(Lokallønsprocenten!AF123=\"\",\"\",Lokallønsprocenten!AF123)","v":""},null,{"$f":"IF(Lokallønsprocenten!AH123=\"\",\"\",Lokallønsprocenten!AH123)","v":""},null,null,null,"",""]
[null,{"$f":"IF('Kollega oplysninger'!B124=\"\",\"\",'Kollega oplysninger'!B124)","v":""},{"$f":"IF('Kollega oplysninger'!C124=\"\",\"\",'Kollega oplysninger'!C124)","v":""},null,null,{"$f":"IF('Kollega oplysninger'!I124=\"\",\"\",'Kollega oplysninger'!I124)","v":""},{"$f":"IF('Kollega oplysninger'!J124=\"\",\"\",'Kollega oplysninger'!J124)","v":""},{"$f":"IF('Kollega oplysninger'!L124=\"\",\"\",'Kollega oplysninger'!L124)","v":""},null,null,null,null,null,null,null,null,null,null,null,null,null,null,null,null,null,{"$f":"IF(Lokallønsprocenten!Z124=\"\",\"\",Lokallønsprocenten!Z124)","v":""},{"$f":"IF(Lokallønsprocenten!AA124=\"\",\"\",Lokallønsprocenten!AA124)","v":""},null,null,null,null,{"$f":"IF(Lokallønsprocenten!AF124=\"\",\"\",Lokallønsprocenten!AF124)","v":""},null,{"$f":"IF(Lokallønsprocenten!AH124=\"\",\"\",Lokallønsprocenten!AH124)","v":""},null,null,null,"",""]
[null,{"$f":"IF('Kollega oplysninger'!B125=\"\",\"\",'Kollega oplysninger'!B125)","v":""},{"$f":"IF('Kollega oplysninger'!C125=\"\",\"\",'Kollega oplysninger'!C125)","v":""},null,null,{"$f":"IF('Kollega oplysninger'!I125=\"\",\"\",'Kollega oplysninger'!I125)","v":""},{"$f":"IF('Kollega oplysninger'!J125=\"\",\"\",'Kollega oplysninger'!J125)","v":""},{"$f":"IF('Kollega oplysninger'!L125=\"\",\"\",'Kollega oplysninger'!L125)","v":""},null,null,null,null,null,null,null,null,null,null,null,null,null,null,null,null,null,{"$f":"IF(Lokallønsprocenten!Z125=\"\",\"\",Lokallønsprocenten!Z125)","v":""},{"$f":"IF(Lokallønsprocenten!AA125=\"\",\"\",Lokallønsprocenten!AA125)","v":""},null,null,null,null,{"$f":"IF(Lokallønsprocenten!AF125=\"\",\"\",Lokallønsprocenten!AF125)","v":""},null,{"$f":"IF(Lokallønsprocenten!AH125=\"\",\"\",Lokallønsprocenten!AH125)","v":""},null,null,null,"",""]
[null,{"$f":"IF('Kollega oplysninger'!B126=\"\",\"\",'Kollega oplysninger'!B126)","v":""},{"$f":"IF('Kollega oplysninger'!C126=\"\",\"\",'Kollega oplysninger'!C126)","v":""},null,null,{"$f":"IF('Kollega oplysninger'!I126=\"\",\"\",'Kollega oplysninger'!I126)","v":""},{"$f":"IF('Kollega oplysninger'!J126=\"\",\"\",'Kollega oplysninger'!J126)","v":""},{"$f":"IF('Kollega oplysninger'!L126=\"\",\"\",'Kollega oplysninger'!L126)","v":""},null,null,null,null,null,null,null,null,null,null,null,null,null,null,null,null,null,{"$f":"IF(Lokallønsprocenten!Z126=\"\",\"\",Lokallønsprocenten!Z126)","v":""},{"$f":"IF(Lokallønsprocenten!AA126=\"\",\"\",Lokallønsprocenten!AA126)","v":""},null,null,null,null,{"$f":"IF(Lokallønsprocenten!AF126=\"\",\"\",Lokallønsprocenten!AF126)","v":""},null,{"$f":"IF(Lokallønsprocenten!AH126=\"\",\"\",Lokallønsprocenten!AH126)","v":""},null,null,null,"",""]
[null,{"$f":"IF('Kollega oplysninger'!B127=\"\",\"\",'Kollega oplysninger'!B127)","v":""},{"$f":"IF('Kollega oplysninger'!C127=\"\",\"\",'Kollega oplysninger'!C127)","v":""},null,null,{"$f":"IF('Kollega oplysninger'!I127=\"\",\"\",'Kollega oplysninger'!I127)","v":""},{"$f":"IF('Kollega oplysninger'!J127=\"\",\"\",'Kollega oplysninger'!J127)","v":""},{"$f":"IF('Kollega oplysninger'!L127=\"\",\"\",'Kollega oplysninger'!L127)","v":""},null,null,null,null,null,null,null,null,null,null,null,null,null,null,null,null,null,{"$f":"IF(Lokallønsprocenten!Z127=\"\",\"\",Lokallønsprocenten!Z127)","v":""},{"$f":"IF(Lokallønsprocenten!AA127=\"\",\"\",Lokallønsprocenten!AA127)","v":""},null,null,null,null,{"$f":"IF(Lokallønsprocenten!AF127=\"\",\"\",Lokallønsprocenten!AF127)","v":""},null,{"$f":"IF(Lokallønsprocenten!AH127=\"\",\"\",Lokallønsprocenten!AH127)","v":""},null,null,null,"",""]
[null,{"$f":"IF('Kollega oplysninger'!B128=\"\",\"\",'Kollega oplysninger'!B128)","v":""},{"$f":"IF('Kollega oplysninger'!C128=\"\",\"\",'Kollega oplysninger'!C128)","v":""},null,null,{"$f":"IF('Kollega oplysninger'!I128=\"\",\"\",'Kollega oplysninger'!I128)","v":""},{"$f":"IF('Kollega oplysninger'!J128=\"\",\"\",'Kollega oplysninger'!J128)","v":""},{"$f":"IF('Kollega oplysninger'!L128=\"\",\"\",'Kollega oplysninger'!L128)","v":""},null,null,null,null,null,null,null,null,null,null,null,null,null,null,null,null,null,{"$f":"IF(Lokallønsprocenten!Z128=\"\",\"\",Lokallønsprocenten!Z128)","v":""},{"$f":"IF(Lokallønsprocenten!AA128=\"\",\"\",Lokallønsprocenten!AA128)","v":""},null,null,null,null,{"$f":"IF(Lokallønsprocenten!AF128=\"\",\"\",Lokallønsprocenten!AF128)","v":""},null,{"$f":"IF(Lokallønsprocenten!AH128=\"\",\"\",Lokallønsprocenten!AH128)","v":""},null,null,null,"",""]
[null,{"$f":"IF('Kollega oplysninger'!B129=\"\",\"\",'Kollega oplysninger'!B129)","v":""},{"$f":"IF('Kollega oplysninger'!C129=\"\",\"\",'Kollega oplysninger'!C129)","v":""},null,null,{"$f":"IF('Kollega oplysninger'!I129=\"\",\"\",'Kollega oplysninger'!I129)","v":""},{"$f":"IF('Kollega oplysninger'!J129=\"\",\"\",'Kollega oplysninger'!J129)","v":""},{"$f":"IF('Kollega oplysninger'!L129=\"\",\"\",'Kollega oplysninger'!L129)","v":""},null,null,null,null,null,null,null,null,null,null,null,null,null,null,null,null,null,{"$f":"IF(Lokallønsprocenten!Z129=\"\",\"\",Lokallønsprocenten!Z129)","v":""},{"$f":"IF(Lokallønsprocenten!AA129=\"\",\"\",Lokallønsprocenten!AA129)","v":""},null,null,null,null,{"$f":"IF(Lokallønsprocenten!AF129=\"\",\"\",Lokallønsprocenten!AF129)","v":""},null,{"$f":"IF(Lokallønsprocenten!AH129=\"\",\"\",Lokallønsprocenten!AH129)","v":""},null,null,null,"",""]
[null,{"$f":"IF('Kollega oplysninger'!B130=\"\",\"\",'Kollega oplysninger'!B130)","v":""},{"$f":"IF('Kollega oplysninger'!C130=\"\",\"\",'Kollega oplysninger'!C130)","v":""},null,null,{"$f":"IF('Kollega oplysninger'!I130=\"\",\"\",'Kollega oplysninger'!I130)","v":""},{"$f":"IF('Kollega oplysninger'!J130=\"\",\"\",'Kollega oplysninger'!J130)","v":""},{"$f":"IF('Kollega oplysninger'!L130=\"\",\"\",'Kollega oplysninger'!L130)","v":""},null,null,null,null,null,null,null,null,null,null,null,null,null,null,null,null,null,{"$f":"IF(Lokallønsprocenten!Z130=\"\",\"\",Lokallønsprocenten!Z130)","v":""},{"$f":"IF(Lokallønsprocenten!AA130=\"\",\"\",Lokallønsprocenten!AA130)","v":""},null,null,null,null,{"$f":"IF(Lokallønsprocenten!AF130=\"\",\"\",Lokallønsprocenten!AF130)","v":""},null,{"$f":"IF(Lokallønsprocenten!AH130=\"\",\"\",Lokallønsprocenten!AH130)","v":""},null,null,null,"",""]
[null,{"$f":"IF('Kollega oplysninger'!B131=\"\",\"\",'Kollega oplysninger'!B131)","v":""},{"$f":"IF('Kollega oplysninger'!C131=\"\",\"\",'Kollega oplysninger'!C131)","v":""},null,null,{"$f":"IF('Kollega oplysninger'!I131=\"\",\"\",'Kollega oplysninger'!I131)","v":""},{"$f":"IF('Kollega oplysninger'!J131=\"\",\"\",'Kollega oplysninger'!J131)","v":""},{"$f":"IF('Kollega oplysninger'!L131=\"\",\"\",'Kollega oplysninger'!L131)","v":""},null,null,null,null,null,null,null,null,null,null,null,null,null,null,null,null,null,{"$f":"IF(Lokallønsprocenten!Z131=\"\",\"\",Lokallønsprocenten!Z131)","v":""},{"$f":"IF(Lokallønsprocenten!AA131=\"\",\"\",Lokallønsprocenten!AA131)","v":""},null,null,null,null,{"$f":"IF(Lokallønsprocenten!AF131=\"\",\"\",Lokallønsprocenten!AF131)","v":""},null,{"$f":"IF(Lokallønsprocenten!AH131=\"\",\"\",Lokallønsprocenten!AH131)","v":""},null,null,null,"",""]
[null,{"$f":"IF('Kollega oplysninger'!B132=\"\",\"\",'Kollega oplysninger'!B132)","v":""},{"$f":"IF('Kollega oplysninger'!C132=\"\",\"\",'Kollega oplysninger'!C132)","v":""},null,null,{"$f":"IF('Kollega oplysninger'!I132=\"\",\"\",'Kollega oplysninger'!I132)","v":""},{"$f":"IF('Kollega oplysninger'!J132=\"\",\"\",'Kollega oplysninger'!J132)","v":""},{"$f":"IF('Kollega oplysninger'!L132=\"\",\"\",'Kollega oplysninger'!L132)","v":""},null,null,null,null,null,null,null,null,null,null,null,null,null,null,null,null,null,{"$f":"IF(Lokallønsprocenten!Z132=\"\",\"\",Lokallønsprocenten!Z132)","v":""},{"$f":"IF(Lokallønsprocenten!AA132=\"\",\"\",Lokallønsprocenten!AA132)","v":""},null,null,null,null,{"$f":"IF(Lokallønsprocenten!AF132=\"\",\"\",Lokallønsprocenten!AF132)","v":""},null,{"$f":"IF(Lokallønsprocenten!AH132=\"\",\"\",Lokallønsprocenten!AH132)","v":""},null,null,null,"",""]
[null,{"$f":"IF('Kollega oplysninger'!B133=\"\",\"\",'Kollega oplysninger'!B133)","v":""},{"$f":"IF('Kollega oplysninger'!C133=\"\",\"\",'Kollega oplysninger'!C133)","v":""},null,null,{"$f":"IF('Kollega oplysninger'!I133=\"\",\"\",'Kollega oplysninger'!I133)","v":""},{"$f":"IF('Kollega oplysninger'!J133=\"\",\"\",'Kollega oplysninger'!J133)","v":""},{"$f":"IF('Kollega oplysninger'!L133=\"\",\"\",'Kollega oplysninger'!L133)","v":""},null,null,null,null,null,null,null,null,null,null,null,null,null,null,null,null,null,{"$f":"IF(Lokallønsprocenten!Z133=\"\",\"\",Lokallønsprocenten!Z133)","v":""},{"$f":"IF(Lokallønsprocenten!AA133=\"\",\"\",Lokallønsprocenten!AA133)","v":""},null,null,null,null,{"$f":"IF(Lokallønsprocenten!AF133=\"\",\"\",Lokallønsprocenten!AF133)","v":""},null,{"$f":"IF(Lokallønsprocenten!AH133=\"\",\"\",Lokallønsprocenten!AH133)","v":""},null,null,null,"",""]
[null,{"$f":"IF('Kollega oplysninger'!B134=\"\",\"\",'Kollega oplysninger'!B134)","v":""},{"$f":"IF('Kollega oplysninger'!C134=\"\",\"\",'Kollega oplysninger'!C134)","v":""},null,null,{"$f":"IF('Kollega oplysninger'!I134=\"\",\"\",'Kollega oplysninger'!I134)","v":""},{"$f":"IF('Kollega oplysninger'!J134=\"\",\"\",'Kollega oplysninger'!J134)","v":""},{"$f":"IF('Kollega oplysninger'!L134=\"\",\"\",'Kollega oplysninger'!L134)","v":""},null,null,null,null,null,null,null,null,null,null,null,null,null,null,null,null,null,{"$f":"IF(Lokallønsprocenten!Z134=\"\",\"\",Lokallønsprocenten!Z134)","v":""},{"$f":"IF(Lokallønsprocenten!AA134=\"\",\"\",Lokallønsprocenten!AA134)","v":""},null,null,null,null,{"$f":"IF(Lokallønsprocenten!AF134=\"\",\"\",Lokallønsprocenten!AF134)","v":""},null,{"$f":"IF(Lokallønsprocenten!AH134=\"\",\"\",Lokallønsprocenten!AH134)","v":""},null,null,null,"",""]
[null,{"$f":"IF('Kollega oplysninger'!B135=\"\",\"\",'Kollega oplysninger'!B135)","v":""},{"$f":"IF('Kollega oplysninger'!C135=\"\",\"\",'Kollega oplysninger'!C135)","v":""},null,null,{"$f":"IF('Kollega oplysninger'!I135=\"\",\"\",'Kollega oplysninger'!I135)","v":""},{"$f":"IF('Kollega oplysninger'!J135=\"\",\"\",'Kollega oplysninger'!J135)","v":""},{"$f":"IF('Kollega oplysninger'!L135=\"\",\"\",'Kollega oplysninger'!L135)","v":""},null,null,null,null,null,null,null,null,null,null,null,null,null,null,null,null,null,{"$f":"IF(Lokallønsprocenten!Z135=\"\",\"\",Lokallønsprocenten!Z135)","v":""},{"$f":"IF(Lokallønsprocenten!AA135=\"\",\"\",Lokallønsprocenten!AA135)","v":""},null,null,null,null,{"$f":"IF(Lokallønsprocenten!AF135=\"\",\"\",Lokallønsprocenten!AF135)","v":""},null,{"$f":"IF(Lokallønsprocenten!AH135=\"\",\"\",Lokallønsprocenten!AH135)","v":""},null,null,null,{"$f":"IF(Z135=\"fejl\",X135,\"\")","v":""},{"$f":"IF(Z135=\"fejl\",Y135,\"\")","v":""}]
[null,{"$f":"IF('Kollega oplysninger'!B136=\"\",\"\",'Kollega oplysninger'!B136)","v":""},{"$f":"IF('Kollega oplysninger'!C136=\"\",\"\",'Kollega oplysninger'!C136)","v":""},null,null,{"$f":"IF('Kollega oplysninger'!I136=\"\",\"\",'Kollega oplysninger'!I136)","v":""},{"$f":"IF('Kollega oplysninger'!J136=\"\",\"\",'Kollega oplysninger'!J136)","v":""},{"$f":"IF('Kollega oplysninger'!L136=\"\",\"\",'Kollega oplysninger'!L136)","v":""},null,null,null,null,null,null,null,null,null,null,null,null,null,null,null,null,null,{"$f":"IF(Lokallønsprocenten!Z136=\"\",\"\",Lokallønsprocenten!Z136)","v":""},{"$f":"IF(Lokallønsprocenten!AA136=\"\",\"\",Lokallønsprocenten!AA136)","v":""},null,null,null,null,{"$f":"IF(Lokallønsprocenten!AF136=\"\",\"\",Lokallønsprocenten!AF136)","v":""},null,{"$f":"IF(Lokallønsprocenten!AH136=\"\",\"\",Lokallønsprocenten!AH136)","v":""},null,null,null,"",""]
[null,{"$f":"IF('Kollega oplysninger'!B137=\"\",\"\",'Kollega oplysninger'!B137)","v":""},{"$f":"IF('Kollega oplysninger'!C137=\"\",\"\",'Kollega oplysninger'!C137)","v":""},null,null,{"$f":"IF('Kollega oplysninger'!I137=\"\",\"\",'Kollega oplysninger'!I137)","v":""},{"$f":"IF('Kollega oplysninger'!J137=\"\",\"\",'Kollega oplysninger'!J137)","v":""},{"$f":"IF('Kollega oplysninger'!L137=\"\",\"\",'Kollega oplysninger'!L137)","v":""},null,null,null,null,null,null,null,null,null,null,null,null,null,null,null,null,null,{"$f":"IF(Lokallønsprocenten!Z137=\"\",\"\",Lokallønsprocenten!Z137)","v":""},{"$f":"IF(Lokallønsprocenten!AA137=\"\",\"\",Lokallønsprocenten!AA137)","v":""},null,null,null,null,{"$f":"IF(Lokallønsprocenten!AF137=\"\",\"\",Lokallønsprocenten!AF137)","v":""},null,{"$f":"IF(Lokallønsprocenten!AH137=\"\",\"\",Lokallønsprocenten!AH137)","v":""},null,null,null,"",""]
[null,{"$f":"IF('Kollega oplysninger'!B138=\"\",\"\",'Kollega oplysninger'!B138)","v":""},{"$f":"IF('Kollega oplysninger'!C138=\"\",\"\",'Kollega oplysninger'!C138)","v":""},null,null,{"$f":"IF('Kollega oplysninger'!I138=\"\",\"\",'Kollega oplysninger'!I138)","v":""},{"$f":"IF('Kollega oplysninger'!J138=\"\",\"\",'Kollega oplysninger'!J138)","v":""},{"$f":"IF('Kollega oplysninger'!L138=\"\",\"\",'Kollega oplysninger'!L138)","v":""},null,null,null,null,null,null,null,null,null,null,null,null,null,null,null,null,null,{"$f":"IF(Lokallønsprocenten!Z138=\"\",\"\",Lokallønsprocenten!Z138)","v":""},{"$f":"IF(Lokallønsprocenten!AA138=\"\",\"\",Lokallønsprocenten!AA138)","v":""},null,null,null,null,{"$f":"IF(Lokallønsprocenten!AF138=\"\",\"\",Lokallønsprocenten!AF138)","v":""},null,{"$f":"IF(Lokallønsprocenten!AH138=\"\",\"\",Lokallønsprocenten!AH138)","v":""},null,null,null,"",""]
[null,{"$f":"IF('Kollega oplysninger'!B139=\"\",\"\",'Kollega oplysninger'!B139)","v":""},{"$f":"IF('Kollega oplysninger'!C139=\"\",\"\",'Kollega oplysninger'!C139)","v":""},null,null,{"$f":"IF('Kollega oplysninger'!I139=\"\",\"\",'Kollega oplysninger'!I139)","v":""},{"$f":"IF('Kollega oplysninger'!J139=\"\",\"\",'Kollega oplysninger'!J139)","v":""},{"$f":"IF('Kollega oplysninger'!L139=\"\",\"\",'Kollega oplysninger'!L139)","v":""},null,null,null,null,null,null,null,null,null,null,null,null,null,null,null,null,null,{"$f":"IF(Lokallønsprocenten!Z139=\"\",\"\",Lokallønsprocenten!Z139)","v":""},{"$f":"IF(Lokallønsprocenten!AA139=\"\",\"\",Lokallønsprocenten!AA139)","v":""},null,null,null,null,{"$f":"IF(Lokallønsprocenten!AF139=\"\",\"\",Lokallønsprocenten!AF139)","v":""},null,{"$f":"IF(Lokallønsprocenten!AH139=\"\",\"\",Lokallønsprocenten!AH139)","v":""},null,null,null,"",""]
[null,{"$f":"IF('Kollega oplysninger'!B140=\"\",\"\",'Kollega oplysninger'!B140)","v":""},{"$f":"IF('Kollega oplysninger'!C140=\"\",\"\",'Kollega oplysninger'!C140)","v":""},null,null,{"$f":"IF('Kollega oplysninger'!I140=\"\",\"\",'Kollega oplysninger'!I140)","v":""},{"$f":"IF('Kollega oplysninger'!J140=\"\",\"\",'Kollega oplysninger'!J140)","v":""},{"$f":"IF('Kollega oplysninger'!L140=\"\",\"\",'Kollega oplysninger'!L140)","v":""},null,null,null,null,null,null,null,null,null,null,null,null,null,null,null,null,null,{"$f":"IF(Lokallønsprocenten!Z140=\"\",\"\",Lokallønsprocenten!Z140)","v":""},{"$f":"IF(Lokallønsprocenten!AA140=\"\",\"\",Lokallønsprocenten!AA140)","v":""},null,null,null,null,{"$f":"IF(Lokallønsprocenten!AF140=\"\",\"\",Lokallønsprocenten!AF140)","v":""},null,{"$f":"IF(Lokallønsprocenten!AH140=\"\",\"\",Lokallønsprocenten!AH140)","v":""},null,null,null,"",""]
[null,{"$f":"IF('Kollega oplysninger'!B141=\"\",\"\",'Kollega oplysninger'!B141)","v":""},{"$f":"IF('Kollega oplysninger'!C141=\"\",\"\",'Kollega oplysninger'!C141)","v":""},null,null,{"$f":"IF('Kollega oplysninger'!I141=\"\",\"\",'Kollega oplysninger'!I141)","v":""},{"$f":"IF('Kollega oplysninger'!J141=\"\",\"\",'Kollega oplysninger'!J141)","v":""},{"$f":"IF('Kollega oplysninger'!L141=\"\",\"\",'Kollega oplysninger'!L141)","v":""},null,null,null,null,null,null,null,null,null,null,null,null,null,null,null,null,null,{"$f":"IF(Lokallønsprocenten!Z141=\"\",\"\",Lokallønsprocenten!Z141)","v":""},{"$f":"IF(Lokallønsprocenten!AA141=\"\",\"\",Lokallønsprocenten!AA141)","v":""},null,null,null,null,{"$f":"IF(Lokallønsprocenten!AF141=\"\",\"\",Lokallønsprocenten!AF141)","v":""},null,{"$f":"IF(Lokallønsprocenten!AH141=\"\",\"\",Lokallønsprocenten!AH141)","v":""},null,null,null,"",""]
[null,{"$f":"IF('Kollega oplysninger'!B142=\"\",\"\",'Kollega oplysninger'!B142)","v":""},{"$f":"IF('Kollega oplysninger'!C142=\"\",\"\",'Kollega oplysninger'!C142)","v":""},null,null,{"$f":"IF('Kollega oplysninger'!I142=\"\",\"\",'Kollega oplysninger'!I142)","v":""},{"$f":"IF('Kollega oplysninger'!J142=\"\",\"\",'Kollega oplysninger'!J142)","v":""},{"$f":"IF('Kollega oplysninger'!L142=\"\",\"\",'Kollega oplysninger'!L142)","v":""},null,null,null,null,null,null,null,null,null,null,null,null,null,null,null,null,null,{"$f":"IF(Lokallønsprocenten!Z142=\"\",\"\",Lokallønsprocenten!Z142)","v":""},{"$f":"IF(Lokallønsprocenten!AA142=\"\",\"\",Lokallønsprocenten!AA142)","v":""},null,null,null,null,{"$f":"IF(Lokallønsprocenten!AF142=\"\",\"\",Lokallønsprocenten!AF142)","v":""},null,{"$f":"IF(Lokallønsprocenten!AH142=\"\",\"\",Lokallønsprocenten!AH142)","v":""},null,null,null,"",""]
[null,{"$f":"IF('Kollega oplysninger'!B143=\"\",\"\",'Kollega oplysninger'!B143)","v":""},{"$f":"IF('Kollega oplysninger'!C143=\"\",\"\",'Kollega oplysninger'!C143)","v":""},null,null,{"$f":"IF('Kollega oplysninger'!I143=\"\",\"\",'Kollega oplysninger'!I143)","v":""},{"$f":"IF('Kollega oplysninger'!J143=\"\",\"\",'Kollega oplysninger'!J143)","v":""},{"$f":"IF('Kollega oplysninger'!L143=\"\",\"\",'Kollega oplysninger'!L143)","v":""},null,null,null,null,null,null,null,null,null,null,null,null,null,null,null,null,null,{"$f":"IF(Lokallønsprocenten!Z143=\"\",\"\",Lokallønsprocenten!Z143)","v":""},{"$f":"IF(Lokallønsprocenten!AA143=\"\",\"\",Lokallønsprocenten!AA143)","v":""},null,null,null,null,{"$f":"IF(Lokallønsprocenten!AF143=\"\",\"\",Lokallønsprocenten!AF143)","v":""},null,{"$f":"IF(Lokallønsprocenten!AH143=\"\",\"\",Lokallønsprocenten!AH143)","v":""},null,null,null,"",""]
[null,{"$f":"IF('Kollega oplysninger'!B144=\"\",\"\",'Kollega oplysninger'!B144)","v":""},{"$f":"IF('Kollega oplysninger'!C144=\"\",\"\",'Kollega oplysninger'!C144)","v":""},null,null,{"$f":"IF('Kollega oplysninger'!I144=\"\",\"\",'Kollega oplysninger'!I144)","v":""},{"$f":"IF('Kollega oplysninger'!J144=\"\",\"\",'Kollega oplysninger'!J144)","v":""},{"$f":"IF('Kollega oplysninger'!L144=\"\",\"\",'Kollega oplysninger'!L144)","v":""},null,null,null,null,null,null,null,null,null,null,null,null,null,null,null,null,null,{"$f":"IF(Lokallønsprocenten!Z144=\"\",\"\",Lokallønsprocenten!Z144)","v":""},{"$f":"IF(Lokallønsprocenten!AA144=\"\",\"\",Lokallønsprocenten!AA144)","v":""},null,null,null,null,{"$f":"IF(Lokallønsprocenten!AF144=\"\",\"\",Lokallønsprocenten!AF144)","v":""},null,{"$f":"IF(Lokallønsprocenten!AH144=\"\",\"\",Lokallønsprocenten!AH144)","v":""},null,null,null,"",""]
[null,{"$f":"IF('Kollega oplysninger'!B145=\"\",\"\",'Kollega oplysninger'!B145)","v":""},{"$f":"IF('Kollega oplysninger'!C145=\"\",\"\",'Kollega oplysninger'!C145)","v":""},null,null,{"$f":"IF('Kollega oplysninger'!I145=\"\",\"\",'Kollega oplysninger'!I145)","v":""},{"$f":"IF('Kollega oplysninger'!J145=\"\",\"\",'Kollega oplysninger'!J145)","v":""},{"$f":"IF('Kollega oplysninger'!L145=\"\",\"\",'Kollega oplysninger'!L145)","v":""},null,null,null,null,null,null,null,null,null,null,null,null,null,null,null,null,null,{"$f":"IF(Lokallønsprocenten!Z145=\"\",\"\",Lokallønsprocenten!Z145)","v":""},{"$f":"IF(Lokallønsprocenten!AA145=\"\",\"\",Lokallønsprocenten!AA145)","v":""},null,null,null,null,{"$f":"IF(Lokallønsprocenten!AF145=\"\",\"\",Lokallønsprocenten!AF145)","v":""},null,{"$f":"IF(Lokallønsprocenten!AH145=\"\",\"\",Lokallønsprocenten!AH145)","v":""},null,null,null,"",""]
[null,{"$f":"IF('Kollega oplysninger'!B146=\"\",\"\",'Kollega oplysninger'!B146)","v":""},{"$f":"IF('Kollega oplysninger'!C146=\"\",\"\",'Kollega oplysninger'!C146)","v":""},null,null,{"$f":"IF('Kollega oplysninger'!I146=\"\",\"\",'Kollega oplysninger'!I146)","v":""},{"$f":"IF('Kollega oplysninger'!J146=\"\",\"\",'Kollega oplysninger'!J146)","v":""},{"$f":"IF('Kollega oplysninger'!L146=\"\",\"\",'Kollega oplysninger'!L146)","v":""},null,null,null,null,null,null,null,null,null,null,null,null,null,null,null,null,null,{"$f":"IF(Lokallønsprocenten!Z146=\"\",\"\",Lokallønsprocenten!Z146)","v":""},{"$f":"IF(Lokallønsprocenten!AA146=\"\",\"\",Lokallønsprocenten!AA146)","v":""},null,null,null,null,{"$f":"IF(Lokallønsprocenten!AF146=\"\",\"\",Lokallønsprocenten!AF146)","v":""},null,{"$f":"IF(Lokallønsprocenten!AH146=\"\",\"\",Lokallønsprocenten!AH146)","v":""},null,null,null,"",""]
[null,{"$f":"IF('Kollega oplysninger'!B147=\"\",\"\",'Kollega oplysninger'!B147)","v":""},{"$f":"IF('Kollega oplysninger'!C147=\"\",\"\",'Kollega oplysninger'!C147)","v":""},null,null,{"$f":"IF('Kollega oplysninger'!I147=\"\",\"\",'Kollega oplysninger'!I147)","v":""},{"$f":"IF('Kollega oplysninger'!J147=\"\",\"\",'Kollega oplysninger'!J147)","v":""},{"$f":"IF('Kollega oplysninger'!L147=\"\",\"\",'Kollega oplysninger'!L147)","v":""},null,null,null,null,null,null,null,null,null,null,null,null,null,null,null,null,null,{"$f":"IF(Lokallønsprocenten!Z147=\"\",\"\",Lokallønsprocenten!Z147)","v":""},{"$f":"IF(Lokallønsprocenten!AA147=\"\",\"\",Lokallønsprocenten!AA147)","v":""},null,null,null,null,{"$f":"IF(Lokallønsprocenten!AF147=\"\",\"\",Lokallønsprocenten!AF147)","v":""},null,{"$f":"IF(Lokallønsprocenten!AH147=\"\",\"\",Lokallønsprocenten!AH147)","v":""},null,null,null,"",""]
[null,{"$f":"IF('Kollega oplysninger'!B148=\"\",\"\",'Kollega oplysninger'!B148)","v":""},{"$f":"IF('Kollega oplysninger'!C148=\"\",\"\",'Kollega oplysninger'!C148)","v":""},null,null,{"$f":"IF('Kollega oplysninger'!I148=\"\",\"\",'Kollega oplysninger'!I148)","v":""},{"$f":"IF('Kollega oplysninger'!J148=\"\",\"\",'Kollega oplysninger'!J148)","v":""},{"$f":"IF('Kollega oplysninger'!L148=\"\",\"\",'Kollega oplysninger'!L148)","v":""},null,null,null,null,null,null,null,null,null,null,null,null,null,null,null,null,null,{"$f":"IF(Lokallønsprocenten!Z148=\"\",\"\",Lokallønsprocenten!Z148)","v":""},{"$f":"IF(Lokallønsprocenten!AA148=\"\",\"\",Lokallønsprocenten!AA148)","v":""},null,null,null,null,{"$f":"IF(Lokallønsprocenten!AF148=\"\",\"\",Lokallønsprocenten!AF148)","v":""},null,{"$f":"IF(Lokallønsprocenten!AH148=\"\",\"\",Lokallønsprocenten!AH148)","v":""},null,null,null,"",""]
[null,{"$f":"IF('Kollega oplysninger'!B149=\"\",\"\",'Kollega oplysninger'!B149)","v":""},{"$f":"IF('Kollega oplysninger'!C149=\"\",\"\",'Kollega oplysninger'!C149)","v":""},null,null,{"$f":"IF('Kollega oplysninger'!I149=\"\",\"\",'Kollega oplysninger'!I149)","v":""},{"$f":"IF('Kollega oplysninger'!J149=\"\",\"\",'Kollega oplysninger'!J149)","v":""},{"$f":"IF('Kollega oplysninger'!L149=\"\",\"\",'Kollega oplysninger'!L149)","v":""},null,null,null,null,null,null,null,null,null,null,null,null,null,null,null,null,null,{"$f":"IF(Lokallønsprocenten!Z149=\"\",\"\",Lokallønsprocenten!Z149)","v":""},{"$f":"IF(Lokallønsprocenten!AA149=\"\",\"\",Lokallønsprocenten!AA149)","v":""},null,null,null,null,{"$f":"IF(Lokallønsprocenten!AF149=\"\",\"\",Lokallønsprocenten!AF149)","v":""},null,{"$f":"IF(Lokallønsprocenten!AH149=\"\",\"\",Lokallønsprocenten!AH149)","v":""},null,null,null,"",""]
[null,{"$f":"IF('Kollega oplysninger'!B150=\"\",\"\",'Kollega oplysninger'!B150)","v":""},{"$f":"IF('Kollega oplysninger'!C150=\"\",\"\",'Kollega oplysninger'!C150)","v":""},null,null,{"$f":"IF('Kollega oplysninger'!I150=\"\",\"\",'Kollega oplysninger'!I150)","v":""},{"$f":"IF('Kollega oplysninger'!J150=\"\",\"\",'Kollega oplysninger'!J150)","v":""},{"$f":"IF('Kollega oplysninger'!L150=\"\",\"\",'Kollega oplysninger'!L150)","v":""},null,null,null,null,null,null,null,null,null,null,null,null,null,null,null,null,null,{"$f":"IF(Lokallønsprocenten!Z150=\"\",\"\",Lokallønsprocenten!Z150)","v":""},{"$f":"IF(Lokallønsprocenten!AA150=\"\",\"\",Lokallønsprocenten!AA150)","v":""},null,null,null,null,{"$f":"IF(Lokallønsprocenten!AF150=\"\",\"\",Lokallønsprocenten!AF150)","v":""},null,{"$f":"IF(Lokallønsprocenten!AH150=\"\",\"\",Lokallønsprocenten!AH150)","v":""},null,null,null,"",""]
[null,{"$f":"IF('Kollega oplysninger'!B151=\"\",\"\",'Kollega oplysninger'!B151)","v":""},{"$f":"IF('Kollega oplysninger'!C151=\"\",\"\",'Kollega oplysninger'!C151)","v":""},null,null,{"$f":"IF('Kollega oplysninger'!I151=\"\",\"\",'Kollega oplysninger'!I151)","v":""},{"$f":"IF('Kollega oplysninger'!J151=\"\",\"\",'Kollega oplysninger'!J151)","v":""},{"$f":"IF('Kollega oplysninger'!L151=\"\",\"\",'Kollega oplysninger'!L151)","v":""},null,null,null,null,null,null,null,null,null,null,null,null,null,null,null,null,null,{"$f":"IF(Lokallønsprocenten!Z151=\"\",\"\",Lokallønsprocenten!Z151)","v":""},{"$f":"IF(Lokallønsprocenten!AA151=\"\",\"\",Lokallønsprocenten!AA151)","v":""},null,null,null,null,{"$f":"IF(Lokallønsprocenten!AF151=\"\",\"\",Lokallønsprocenten!AF151)","v":""},null,{"$f":"IF(Lokallønsprocenten!AH151=\"\",\"\",Lokallønsprocenten!AH151)","v":""},null,null,null,"",""]
[null,{"$f":"IF('Kollega oplysninger'!B152=\"\",\"\",'Kollega oplysninger'!B152)","v":""},{"$f":"IF('Kollega oplysninger'!C152=\"\",\"\",'Kollega oplysninger'!C152)","v":""},null,null,{"$f":"IF('Kollega oplysninger'!I152=\"\",\"\",'Kollega oplysninger'!I152)","v":""},{"$f":"IF('Kollega oplysninger'!J152=\"\",\"\",'Kollega oplysninger'!J152)","v":""},{"$f":"IF('Kollega oplysninger'!L152=\"\",\"\",'Kollega oplysninger'!L152)","v":""},null,null,null,null,null,null,null,null,null,null,null,null,null,null,null,null,null,{"$f":"IF(Lokallønsprocenten!Z152=\"\",\"\",Lokallønsprocenten!Z152)","v":""},{"$f":"IF(Lokallønsprocenten!AA152=\"\",\"\",Lokallønsprocenten!AA152)","v":""},null,null,null,null,{"$f":"IF(Lokallønsprocenten!AF152=\"\",\"\",Lokallønsprocenten!AF152)","v":""},null,{"$f":"IF(Lokallønsprocenten!AH152=\"\",\"\",Lokallønsprocenten!AH152)","v":""},null,null,null,"",""]
[null,{"$f":"IF('Kollega oplysninger'!B153=\"\",\"\",'Kollega oplysninger'!B153)","v":""},{"$f":"IF('Kollega oplysninger'!C153=\"\",\"\",'Kollega oplysninger'!C153)","v":""},null,null,{"$f":"IF('Kollega oplysninger'!I153=\"\",\"\",'Kollega oplysninger'!I153)","v":""},{"$f":"IF('Kollega oplysninger'!J153=\"\",\"\",'Kollega oplysninger'!J153)","v":""},{"$f":"IF('Kollega oplysninger'!L153=\"\",\"\",'Kollega oplysninger'!L153)","v":""},null,null,null,null,null,null,null,null,null,null,null,null,null,null,null,null,null,{"$f":"IF(Lokallønsprocenten!Z153=\"\",\"\",Lokallønsprocenten!Z153)","v":""},{"$f":"IF(Lokallønsprocenten!AA153=\"\",\"\",Lokallønsprocenten!AA153)","v":""},null,null,null,null,{"$f":"IF(Lokallønsprocenten!AF153=\"\",\"\",Lokallønsprocenten!AF153)","v":""},null,{"$f":"IF(Lokallønsprocenten!AH153=\"\",\"\",Lokallønsprocenten!AH153)","v":""},null,null,null,"",""]
[null,{"$f":"IF('Kollega oplysninger'!B154=\"\",\"\",'Kollega oplysninger'!B154)","v":""},{"$f":"IF('Kollega oplysninger'!C154=\"\",\"\",'Kollega oplysninger'!C154)","v":""},null,null,{"$f":"IF('Kollega oplysninger'!I154=\"\",\"\",'Kollega oplysninger'!I154)","v":""},{"$f":"IF('Kollega oplysninger'!J154=\"\",\"\",'Kollega oplysninger'!J154)","v":""},{"$f":"IF('Kollega oplysninger'!L154=\"\",\"\",'Kollega oplysninger'!L154)","v":""},null,null,null,null,null,null,null,null,null,null,null,null,null,null,null,null,null,{"$f":"IF(Lokallønsprocenten!Z154=\"\",\"\",Lokallønsprocenten!Z154)","v":""},{"$f":"IF(Lokallønsprocenten!AA154=\"\",\"\",Lokallønsprocenten!AA154)","v":""},null,null,null,null,{"$f":"IF(Lokallønsprocenten!AF154=\"\",\"\",Lokallønsprocenten!AF154)","v":""},null,{"$f":"IF(Lokallønsprocenten!AH154=\"\",\"\",Lokallønsprocenten!AH154)","v":""},null,null,null,"",""]
[null,{"$f":"IF('Kollega oplysninger'!B155=\"\",\"\",'Kollega oplysninger'!B155)","v":""},{"$f":"IF('Kollega oplysninger'!C155=\"\",\"\",'Kollega oplysninger'!C155)","v":""},null,null,{"$f":"IF('Kollega oplysninger'!I155=\"\",\"\",'Kollega oplysninger'!I155)","v":""},{"$f":"IF('Kollega oplysninger'!J155=\"\",\"\",'Kollega oplysninger'!J155)","v":""},{"$f":"IF('Kollega oplysninger'!L155=\"\",\"\",'Kollega oplysninger'!L155)","v":""},null,null,null,null,null,null,null,null,null,null,null,null,null,null,null,null,null,{"$f":"IF(Lokallønsprocenten!Z155=\"\",\"\",Lokallønsprocenten!Z155)","v":""},{"$f":"IF(Lokallønsprocenten!AA155=\"\",\"\",Lokallønsprocenten!AA155)","v":""},null,null,null,null,{"$f":"IF(Lokallønsprocenten!AF155=\"\",\"\",Lokallønsprocenten!AF155)","v":""},null,{"$f":"IF(Lokallønsprocenten!AH155=\"\",\"\",Lokallønsprocenten!AH155)","v":""},null,null,null,"",""]
[null,{"$f":"IF('Kollega oplysninger'!B156=\"\",\"\",'Kollega oplysninger'!B156)","v":""},{"$f":"IF('Kollega oplysninger'!C156=\"\",\"\",'Kollega oplysninger'!C156)","v":""},null,null,{"$f":"IF('Kollega oplysninger'!I156=\"\",\"\",'Kollega oplysninger'!I156)","v":""},{"$f":"IF('Kollega oplysninger'!J156=\"\",\"\",'Kollega oplysninger'!J156)","v":""},{"$f":"IF('Kollega oplysninger'!L156=\"\",\"\",'Kollega oplysninger'!L156)","v":""},null,null,null,null,null,null,null,null,null,null,null,null,null,null,null,null,null,{"$f":"IF(Lokallønsprocenten!Z156=\"\",\"\",Lokallønsprocenten!Z156)","v":""},{"$f":"IF(Lokallønsprocenten!AA156=\"\",\"\",Lokallønsprocenten!AA156)","v":""},null,null,null,null,{"$f":"IF(Lokallønsprocenten!AF156=\"\",\"\",Lokallønsprocenten!AF156)","v":""},null,{"$f":"IF(Lokallønsprocenten!AH156=\"\",\"\",Lokallønsprocenten!AH156)","v":""},null,null,null,"",""]
[null,{"$f":"IF('Kollega oplysninger'!B157=\"\",\"\",'Kollega oplysninger'!B157)","v":""},{"$f":"IF('Kollega oplysninger'!C157=\"\",\"\",'Kollega oplysninger'!C157)","v":""},null,null,{"$f":"IF('Kollega oplysninger'!I157=\"\",\"\",'Kollega oplysninger'!I157)","v":""},{"$f":"IF('Kollega oplysninger'!J157=\"\",\"\",'Kollega oplysninger'!J157)","v":""},{"$f":"IF('Kollega oplysninger'!L157=\"\",\"\",'Kollega oplysninger'!L157)","v":""},null,null,null,null,null,null,null,null,null,null,null,null,null,null,null,null,null,{"$f":"IF(Lokallønsprocenten!Z157=\"\",\"\",Lokallønsprocenten!Z157)","v":""},{"$f":"IF(Lokallønsprocenten!AA157=\"\",\"\",Lokallønsprocenten!AA157)","v":""},null,null,null,null,{"$f":"IF(Lokallønsprocenten!AF157=\"\",\"\",Lokallønsprocenten!AF157)","v":""},null,{"$f":"IF(Lokallønsprocenten!AH157=\"\",\"\",Lokallønsprocenten!AH157)","v":""},null,null,null,"",""]
[null,{"$f":"IF('Kollega oplysninger'!B158=\"\",\"\",'Kollega oplysninger'!B158)","v":""},{"$f":"IF('Kollega oplysninger'!C158=\"\",\"\",'Kollega oplysninger'!C158)","v":""},null,null,{"$f":"IF('Kollega oplysninger'!I158=\"\",\"\",'Kollega oplysninger'!I158)","v":""},{"$f":"IF('Kollega oplysninger'!J158=\"\",\"\",'Kollega oplysninger'!J158)","v":""},{"$f":"IF('Kollega oplysninger'!L158=\"\",\"\",'Kollega oplysninger'!L158)","v":""},null,null,null,null,null,null,null,null,null,null,null,null,null,null,null,null,null,{"$f":"IF(Lokallønsprocenten!Z158=\"\",\"\",Lokallønsprocenten!Z158)","v":""},{"$f":"IF(Lokallønsprocenten!AA158=\"\",\"\",Lokallønsprocenten!AA158)","v":""},null,null,null,null,{"$f":"IF(Lokallønsprocenten!AF158=\"\",\"\",Lokallønsprocenten!AF158)","v":""},null,{"$f":"IF(Lokallønsprocenten!AH158=\"\",\"\",Lokallønsprocenten!AH158)","v":""},null,null,null,"",""]
[null,{"$f":"IF('Kollega oplysninger'!B159=\"\",\"\",'Kollega oplysninger'!B159)","v":""},{"$f":"IF('Kollega oplysninger'!C159=\"\",\"\",'Kollega oplysninger'!C159)","v":""},null,null,{"$f":"IF('Kollega oplysninger'!I159=\"\",\"\",'Kollega oplysninger'!I159)","v":""},{"$f":"IF('Kollega oplysninger'!J159=\"\",\"\",'Kollega oplysninger'!J159)","v":""},{"$f":"IF('Kollega oplysninger'!L159=\"\",\"\",'Kollega oplysninger'!L159)","v":""},null,null,null,null,null,null,null,null,null,null,null,null,null,null,null,null,null,{"$f":"IF(Lokallønsprocenten!Z159=\"\",\"\",Lokallønsprocenten!Z159)","v":""},{"$f":"IF(Lokallønsprocenten!AA159=\"\",\"\",Lokallønsprocenten!AA159)","v":""},null,null,null,null,{"$f":"IF(Lokallønsprocenten!AF159=\"\",\"\",Lokallønsprocenten!AF159)","v":""},null,{"$f":"IF(Lokallønsprocenten!AH159=\"\",\"\",Lokallønsprocenten!AH159)","v":""},null,null,null,"",""]
[null,{"$f":"IF('Kollega oplysninger'!B160=\"\",\"\",'Kollega oplysninger'!B160)","v":""},{"$f":"IF('Kollega oplysninger'!C160=\"\",\"\",'Kollega oplysninger'!C160)","v":""},null,null,{"$f":"IF('Kollega oplysninger'!I160=\"\",\"\",'Kollega oplysninger'!I160)","v":""},{"$f":"IF('Kollega oplysninger'!J160=\"\",\"\",'Kollega oplysninger'!J160)","v":""},{"$f":"IF('Kollega oplysninger'!L160=\"\",\"\",'Kollega oplysninger'!L160)","v":""},null,null,null,null,null,null,null,null,null,null,null,null,null,null,null,null,null,{"$f":"IF(Lokallønsprocenten!Z160=\"\",\"\",Lokallønsprocenten!Z160)","v":""},{"$f":"IF(Lokallønsprocenten!AA160=\"\",\"\",Lokallønsprocenten!AA160)","v":""},null,null,null,null,{"$f":"IF(Lokallønsprocenten!AF160=\"\",\"\",Lokallønsprocenten!AF160)","v":""},null,{"$f":"IF(Lokallønsprocenten!AH160=\"\",\"\",Lokallønsprocenten!AH160)","v":""},null,null,null,"",""]
[null,{"$f":"IF('Kollega oplysninger'!B161=\"\",\"\",'Kollega oplysninger'!B161)","v":""},{"$f":"IF('Kollega oplysninger'!C161=\"\",\"\",'Kollega oplysninger'!C161)","v":""},null,null,{"$f":"IF('Kollega oplysninger'!I161=\"\",\"\",'Kollega oplysninger'!I161)","v":""},{"$f":"IF('Kollega oplysninger'!J161=\"\",\"\",'Kollega oplysninger'!J161)","v":""},{"$f":"IF('Kollega oplysninger'!L161=\"\",\"\",'Kollega oplysninger'!L161)","v":""},null,null,null,null,null,null,null,null,null,null,null,null,null,null,null,null,null,{"$f":"IF(Lokallønsprocenten!Z161=\"\",\"\",Lokallønsprocenten!Z161)","v":""},{"$f":"IF(Lokallønsprocenten!AA161=\"\",\"\",Lokallønsprocenten!AA161)","v":""},null,null,null,null,{"$f":"IF(Lokallønsprocenten!AF161=\"\",\"\",Lokallønsprocenten!AF161)","v":""},null,{"$f":"IF(Lokallønsprocenten!AH161=\"\",\"\",Lokallønsprocenten!AH161)","v":""},null,null,null,"",""]
[null,{"$f":"IF('Kollega oplysninger'!B162=\"\",\"\",'Kollega oplysninger'!B162)","v":""},{"$f":"IF('Kollega oplysninger'!C162=\"\",\"\",'Kollega oplysninger'!C162)","v":""},null,null,{"$f":"IF('Kollega oplysninger'!I162=\"\",\"\",'Kollega oplysninger'!I162)","v":""},{"$f":"IF('Kollega oplysninger'!J162=\"\",\"\",'Kollega oplysninger'!J162)","v":""},{"$f":"IF('Kollega oplysninger'!L162=\"\",\"\",'Kollega oplysninger'!L162)","v":""},null,null,null,null,null,null,null,null,null,null,null,null,null,null,null,null,null,{"$f":"IF(Lokallønsprocenten!Z162=\"\",\"\",Lokallønsprocenten!Z162)","v":""},{"$f":"IF(Lokallønsprocenten!AA162=\"\",\"\",Lokallønsprocenten!AA162)","v":""},null,null,null,null,{"$f":"IF(Lokallønsprocenten!AF162=\"\",\"\",Lokallønsprocenten!AF162)","v":""},null,{"$f":"IF(Lokallønsprocenten!AH162=\"\",\"\",Lokallønsprocenten!AH162)","v":""},null,null,null,"",""]
[null,{"$f":"IF('Kollega oplysninger'!B163=\"\",\"\",'Kollega oplysninger'!B163)","v":""},{"$f":"IF('Kollega oplysninger'!C163=\"\",\"\",'Kollega oplysninger'!C163)","v":""},null,null,{"$f":"IF('Kollega oplysninger'!I163=\"\",\"\",'Kollega oplysninger'!I163)","v":""},{"$f":"IF('Kollega oplysninger'!J163=\"\",\"\",'Kollega oplysninger'!J163)","v":""},{"$f":"IF('Kollega oplysninger'!L163=\"\",\"\",'Kollega oplysninger'!L163)","v":""},null,null,null,null,null,null,null,null,null,null,null,null,null,null,null,null,null,{"$f":"IF(Lokallønsprocenten!Z163=\"\",\"\",Lokallønsprocenten!Z163)","v":""},{"$f":"IF(Lokallønsprocenten!AA163=\"\",\"\",Lokallønsprocenten!AA163)","v":""},null,null,null,null,{"$f":"IF(Lokallønsprocenten!AF163=\"\",\"\",Lokallønsprocenten!AF163)","v":""},null,{"$f":"IF(Lokallønsprocenten!AH163=\"\",\"\",Lokallønsprocenten!AH163)","v":""},null,null,null,"",""]
[null,{"$f":"IF('Kollega oplysninger'!B164=\"\",\"\",'Kollega oplysninger'!B164)","v":""},{"$f":"IF('Kollega oplysninger'!C164=\"\",\"\",'Kollega oplysninger'!C164)","v":""},null,null,{"$f":"IF('Kollega oplysninger'!I164=\"\",\"\",'Kollega oplysninger'!I164)","v":""},{"$f":"IF('Kollega oplysninger'!J164=\"\",\"\",'Kollega oplysninger'!J164)","v":""},{"$f":"IF('Kollega oplysninger'!L164=\"\",\"\",'Kollega oplysninger'!L164)","v":""},null,null,null,null,null,null,null,null,null,null,null,null,null,null,null,null,null,{"$f":"IF(Lokallønsprocenten!Z164=\"\",\"\",Lokallønsprocenten!Z164)","v":""},{"$f":"IF(Lokallønsprocenten!AA164=\"\",\"\",Lokallønsprocenten!AA164)","v":""},null,null,null,null,{"$f":"IF(Lokallønsprocenten!AF164=\"\",\"\",Lokallønsprocenten!AF164)","v":""},null,{"$f":"IF(Lokallønsprocenten!AH164=\"\",\"\",Lokallønsprocenten!AH164)","v":""},null,null,null,"",""]
[null,{"$f":"IF('Kollega oplysninger'!B165=\"\",\"\",'Kollega oplysninger'!B165)","v":""},{"$f":"IF('Kollega oplysninger'!C165=\"\",\"\",'Kollega oplysninger'!C165)","v":""},null,null,{"$f":"IF('Kollega oplysninger'!I165=\"\",\"\",'Kollega oplysninger'!I165)","v":""},{"$f":"IF('Kollega oplysninger'!J165=\"\",\"\",'Kollega oplysninger'!J165)","v":""},{"$f":"IF('Kollega oplysninger'!L165=\"\",\"\",'Kollega oplysninger'!L165)","v":""},null,null,null,null,null,null,null,null,null,null,null,null,null,null,null,null,null,{"$f":"IF(Lokallønsprocenten!Z165=\"\",\"\",Lokallønsprocenten!Z165)","v":""},{"$f":"IF(Lokallønsprocenten!AA165=\"\",\"\",Lokallønsprocenten!AA165)","v":""},null,null,null,null,{"$f":"IF(Lokallønsprocenten!AF165=\"\",\"\",Lokallønsprocenten!AF165)","v":""},null,{"$f":"IF(Lokallønsprocenten!AH165=\"\",\"\",Lokallønsprocenten!AH165)","v":""},null,null,null,"",""]
[null,{"$f":"IF('Kollega oplysninger'!B166=\"\",\"\",'Kollega oplysninger'!B166)","v":""},{"$f":"IF('Kollega oplysninger'!C166=\"\",\"\",'Kollega oplysninger'!C166)","v":""},null,null,{"$f":"IF('Kollega oplysninger'!I166=\"\",\"\",'Kollega oplysninger'!I166)","v":""},{"$f":"IF('Kollega oplysninger'!J166=\"\",\"\",'Kollega oplysninger'!J166)","v":""},{"$f":"IF('Kollega oplysninger'!L166=\"\",\"\",'Kollega oplysninger'!L166)","v":""},null,null,null,null,null,null,null,null,null,null,null,null,null,null,null,null,null,{"$f":"IF(Lokallønsprocenten!Z166=\"\",\"\",Lokallønsprocenten!Z166)","v":""},{"$f":"IF(Lokallønsprocenten!AA166=\"\",\"\",Lokallønsprocenten!AA166)","v":""},null,null,null,null,{"$f":"IF(Lokallønsprocenten!AF166=\"\",\"\",Lokallønsprocenten!AF166)","v":""},null,{"$f":"IF(Lokallønsprocenten!AH166=\"\",\"\",Lokallønsprocenten!AH166)","v":""},null,null,null,"",""]
[null,{"$f":"IF('Kollega oplysninger'!B167=\"\",\"\",'Kollega oplysninger'!B167)","v":""},{"$f":"IF('Kollega oplysninger'!C167=\"\",\"\",'Kollega oplysninger'!C167)","v":""},null,null,{"$f":"IF('Kollega oplysninger'!I167=\"\",\"\",'Kollega oplysninger'!I167)","v":""},{"$f":"IF('Kollega oplysninger'!J167=\"\",\"\",'Kollega oplysninger'!J167)","v":""},{"$f":"IF('Kollega oplysninger'!L167=\"\",\"\",'Kollega oplysninger'!L167)","v":""},null,null,null,null,null,null,null,null,null,null,null,null,null,null,null,null,null,{"$f":"IF(Lokallønsprocenten!Z167=\"\",\"\",Lokallønsprocenten!Z167)","v":""},{"$f":"IF(Lokallønsprocenten!AA167=\"\",\"\",Lokallønsprocenten!AA167)","v":""},null,null,null,null,{"$f":"IF(Lokallønsprocenten!AF167=\"\",\"\",Lokallønsprocenten!AF167)","v":""},null,{"$f":"IF(Lokallønsprocenten!AH167=\"\",\"\",Lokallønsprocenten!AH167)","v":""},null,null,null,"",""]
[null,{"$f":"IF('Kollega oplysninger'!B168=\"\",\"\",'Kollega oplysninger'!B168)","v":""},{"$f":"IF('Kollega oplysninger'!C168=\"\",\"\",'Kollega oplysninger'!C168)","v":""},null,null,{"$f":"IF('Kollega oplysninger'!I168=\"\",\"\",'Kollega oplysninger'!I168)","v":""},{"$f":"IF('Kollega oplysninger'!J168=\"\",\"\",'Kollega oplysninger'!J168)","v":""},{"$f":"IF('Kollega oplysninger'!L168=\"\",\"\",'Kollega oplysninger'!L168)","v":""},null,null,null,null,null,null,null,null,null,null,null,null,null,null,null,null,null,{"$f":"IF(Lokallønsprocenten!Z168=\"\",\"\",Lokallønsprocenten!Z168)","v":""},{"$f":"IF(Lokallønsprocenten!AA168=\"\",\"\",Lokallønsprocenten!AA168)","v":""},null,null,null,null,{"$f":"IF(Lokallønsprocenten!AF168=\"\",\"\",Lokallønsprocenten!AF168)","v":""},null,{"$f":"IF(Lokallønsprocenten!AH168=\"\",\"\",Lokallønsprocenten!AH168)","v":""},null,null,null,"",""]
[null,{"$f":"IF('Kollega oplysninger'!B169=\"\",\"\",'Kollega oplysninger'!B169)","v":""},{"$f":"IF('Kollega oplysninger'!C169=\"\",\"\",'Kollega oplysninger'!C169)","v":""},null,null,{"$f":"IF('Kollega oplysninger'!I169=\"\",\"\",'Kollega oplysninger'!I169)","v":""},{"$f":"IF('Kollega oplysninger'!J169=\"\",\"\",'Kollega oplysninger'!J169)","v":""},{"$f":"IF('Kollega oplysninger'!L169=\"\",\"\",'Kollega oplysninger'!L169)","v":""},null,null,null,null,null,null,null,null,null,null,null,null,null,null,null,null,null,{"$f":"IF(Lokallønsprocenten!Z169=\"\",\"\",Lokallønsprocenten!Z169)","v":""},{"$f":"IF(Lokallønsprocenten!AA169=\"\",\"\",Lokallønsprocenten!AA169)","v":""},null,null,null,null,{"$f":"IF(Lokallønsprocenten!AF169=\"\",\"\",Lokallønsprocenten!AF169)","v":""},null,{"$f":"IF(Lokallønsprocenten!AH169=\"\",\"\",Lokallønsprocenten!AH169)","v":""},null,null,null,"",""]
[null,{"$f":"IF('Kollega oplysninger'!B170=\"\",\"\",'Kollega oplysninger'!B170)","v":""},{"$f":"IF('Kollega oplysninger'!C170=\"\",\"\",'Kollega oplysninger'!C170)","v":""},null,null,{"$f":"IF('Kollega oplysninger'!I170=\"\",\"\",'Kollega oplysninger'!I170)","v":""},{"$f":"IF('Kollega oplysninger'!J170=\"\",\"\",'Kollega oplysninger'!J170)","v":""},{"$f":"IF('Kollega oplysninger'!L170=\"\",\"\",'Kollega oplysninger'!L170)","v":""},null,null,null,null,null,null,null,null,null,null,null,null,null,null,null,null,null,{"$f":"IF(Lokallønsprocenten!Z170=\"\",\"\",Lokallønsprocenten!Z170)","v":""},{"$f":"IF(Lokallønsprocenten!AA170=\"\",\"\",Lokallønsprocenten!AA170)","v":""},null,null,null,null,{"$f":"IF(Lokallønsprocenten!AF170=\"\",\"\",Lokallønsprocenten!AF170)","v":""},null,{"$f":"IF(Lokallønsprocenten!AH170=\"\",\"\",Lokallønsprocenten!AH170)","v":""},null,null,null,"",""]
[null,{"$f":"IF('Kollega oplysninger'!B171=\"\",\"\",'Kollega oplysninger'!B171)","v":""},{"$f":"IF('Kollega oplysninger'!C171=\"\",\"\",'Kollega oplysninger'!C171)","v":""},null,null,{"$f":"IF('Kollega oplysninger'!I171=\"\",\"\",'Kollega oplysninger'!I171)","v":""},{"$f":"IF('Kollega oplysninger'!J171=\"\",\"\",'Kollega oplysninger'!J171)","v":""},{"$f":"IF('Kollega oplysninger'!L171=\"\",\"\",'Kollega oplysninger'!L171)","v":""},null,null,null,null,null,null,null,null,null,null,null,null,null,null,null,null,null,{"$f":"IF(Lokallønsprocenten!Z171=\"\",\"\",Lokallønsprocenten!Z171)","v":""},{"$f":"IF(Lokallønsprocenten!AA171=\"\",\"\",Lokallønsprocenten!AA171)","v":""},null,null,null,null,{"$f":"IF(Lokallønsprocenten!AF171=\"\",\"\",Lokallønsprocenten!AF171)","v":""},null,{"$f":"IF(Lokallønsprocenten!AH171=\"\",\"\",Lokallønsprocenten!AH171)","v":""},null,null,null,"",""]
[null,{"$f":"IF('Kollega oplysninger'!B172=\"\",\"\",'Kollega oplysninger'!B172)","v":""},{"$f":"IF('Kollega oplysninger'!C172=\"\",\"\",'Kollega oplysninger'!C172)","v":""},null,null,{"$f":"IF('Kollega oplysninger'!I172=\"\",\"\",'Kollega oplysninger'!I172)","v":""},{"$f":"IF('Kollega oplysninger'!J172=\"\",\"\",'Kollega oplysninger'!J172)","v":""},{"$f":"IF('Kollega oplysninger'!L172=\"\",\"\",'Kollega oplysninger'!L172)","v":""},null,null,null,null,null,null,null,null,null,null,null,null,null,null,null,null,null,{"$f":"IF(Lokallønsprocenten!Z172=\"\",\"\",Lokallønsprocenten!Z172)","v":""},{"$f":"IF(Lokallønsprocenten!AA172=\"\",\"\",Lokallønsprocenten!AA172)","v":""},null,null,null,null,{"$f":"IF(Lokallønsprocenten!AF172=\"\",\"\",Lokallønsprocenten!AF172)","v":""},null,{"$f":"IF(Lokallønsprocenten!AH172=\"\",\"\",Lokallønsprocenten!AH172)","v":""},null,null,null,"",""]
[null,{"$f":"IF('Kollega oplysninger'!B173=\"\",\"\",'Kollega oplysninger'!B173)","v":""},{"$f":"IF('Kollega oplysninger'!C173=\"\",\"\",'Kollega oplysninger'!C173)","v":""},null,null,{"$f":"IF('Kollega oplysninger'!I173=\"\",\"\",'Kollega oplysninger'!I173)","v":""},{"$f":"IF('Kollega oplysninger'!J173=\"\",\"\",'Kollega oplysninger'!J173)","v":""},{"$f":"IF('Kollega oplysninger'!L173=\"\",\"\",'Kollega oplysninger'!L173)","v":""},null,null,null,null,null,null,null,null,null,null,null,null,null,null,null,null,null,{"$f":"IF(Lokallønsprocenten!Z173=\"\",\"\",Lokallønsprocenten!Z173)","v":""},{"$f":"IF(Lokallønsprocenten!AA173=\"\",\"\",Lokallønsprocenten!AA173)","v":""},null,null,null,null,{"$f":"IF(Lokallønsprocenten!AF173=\"\",\"\",Lokallønsprocenten!AF173)","v":""},null,{"$f":"IF(Lokallønsprocenten!AH173=\"\",\"\",Lokallønsprocenten!AH173)","v":""},null,null,null,"",""]
[null,{"$f":"IF('Kollega oplysninger'!B174=\"\",\"\",'Kollega oplysninger'!B174)","v":""},{"$f":"IF('Kollega oplysninger'!C174=\"\",\"\",'Kollega oplysninger'!C174)","v":""},null,null,{"$f":"IF('Kollega oplysninger'!I174=\"\",\"\",'Kollega oplysninger'!I174)","v":""},{"$f":"IF('Kollega oplysninger'!J174=\"\",\"\",'Kollega oplysninger'!J174)","v":""},{"$f":"IF('Kollega oplysninger'!L174=\"\",\"\",'Kollega oplysninger'!L174)","v":""},null,null,null,null,null,null,null,null,null,null,null,null,null,null,null,null,null,{"$f":"IF(Lokallønsprocenten!Z174=\"\",\"\",Lokallønsprocenten!Z174)","v":""},{"$f":"IF(Lokallønsprocenten!AA174=\"\",\"\",Lokallønsprocenten!AA174)","v":""},null,null,null,null,{"$f":"IF(Lokallønsprocenten!AF174=\"\",\"\",Lokallønsprocenten!AF174)","v":""},null,{"$f":"IF(Lokallønsprocenten!AH174=\"\",\"\",Lokallønsprocenten!AH174)","v":""},null,null,null,"",""]
[null,{"$f":"IF('Kollega oplysninger'!B175=\"\",\"\",'Kollega oplysninger'!B175)","v":""},{"$f":"IF('Kollega oplysninger'!C175=\"\",\"\",'Kollega oplysninger'!C175)","v":""},null,null,{"$f":"IF('Kollega oplysninger'!I175=\"\",\"\",'Kollega oplysninger'!I175)","v":""},{"$f":"IF('Kollega oplysninger'!J175=\"\",\"\",'Kollega oplysninger'!J175)","v":""},{"$f":"IF('Kollega oplysninger'!L175=\"\",\"\",'Kollega oplysninger'!L175)","v":""},null,null,null,null,null,null,null,null,null,null,null,null,null,null,null,null,null,{"$f":"IF(Lokallønsprocenten!Z175=\"\",\"\",Lokallønsprocenten!Z175)","v":""},{"$f":"IF(Lokallønsprocenten!AA175=\"\",\"\",Lokallønsprocenten!AA175)","v":""},null,null,null,null,{"$f":"IF(Lokallønsprocenten!AF175=\"\",\"\",Lokallønsprocenten!AF175)","v":""},null,{"$f":"IF(Lokallønsprocenten!AH175=\"\",\"\",Lokallønsprocenten!AH175)","v":""},null,null,null,"",""]
[null,{"$f":"IF('Kollega oplysninger'!B176=\"\",\"\",'Kollega oplysninger'!B176)","v":""},{"$f":"IF('Kollega oplysninger'!C176=\"\",\"\",'Kollega oplysninger'!C176)","v":""},null,null,{"$f":"IF('Kollega oplysninger'!I176=\"\",\"\",'Kollega oplysninger'!I176)","v":""},{"$f":"IF('Kollega oplysninger'!J176=\"\",\"\",'Kollega oplysninger'!J176)","v":""},{"$f":"IF('Kollega oplysninger'!L176=\"\",\"\",'Kollega oplysninger'!L176)","v":""},null,null,null,null,null,null,null,null,null,null,null,null,null,null,null,null,null,{"$f":"IF(Lokallønsprocenten!Z176=\"\",\"\",Lokallønsprocenten!Z176)","v":""},{"$f":"IF(Lokallønsprocenten!AA176=\"\",\"\",Lokallønsprocenten!AA176)","v":""},null,null,null,null,{"$f":"IF(Lokallønsprocenten!AF176=\"\",\"\",Lokallønsprocenten!AF176)","v":""},null,{"$f":"IF(Lokallønsprocenten!AH176=\"\",\"\",Lokallønsprocenten!AH176)","v":""},null,null,null,"",""]
[null,{"$f":"IF('Kollega oplysninger'!B177=\"\",\"\",'Kollega oplysninger'!B177)","v":""},{"$f":"IF('Kollega oplysninger'!C177=\"\",\"\",'Kollega oplysninger'!C177)","v":""},null,null,{"$f":"IF('Kollega oplysninger'!I177=\"\",\"\",'Kollega oplysninger'!I177)","v":""},{"$f":"IF('Kollega oplysninger'!J177=\"\",\"\",'Kollega oplysninger'!J177)","v":""},{"$f":"IF('Kollega oplysninger'!L177=\"\",\"\",'Kollega oplysninger'!L177)","v":""},null,null,null,null,null,null,null,null,null,null,null,null,null,null,null,null,null,{"$f":"IF(Lokallønsprocenten!Z177=\"\",\"\",Lokallønsprocenten!Z177)","v":""},{"$f":"IF(Lokallønsprocenten!AA177=\"\",\"\",Lokallønsprocenten!AA177)","v":""},null,null,null,null,{"$f":"IF(Lokallønsprocenten!AF177=\"\",\"\",Lokallønsprocenten!AF177)","v":""},null,{"$f":"IF(Lokallønsprocenten!AH177=\"\",\"\",Lokallønsprocenten!AH177)","v":""},null,null,null,"",""]
[null,{"$f":"IF('Kollega oplysninger'!B178=\"\",\"\",'Kollega oplysninger'!B178)","v":""},{"$f":"IF('Kollega oplysninger'!C178=\"\",\"\",'Kollega oplysninger'!C178)","v":""},null,null,{"$f":"IF('Kollega oplysninger'!I178=\"\",\"\",'Kollega oplysninger'!I178)","v":""},{"$f":"IF('Kollega oplysninger'!J178=\"\",\"\",'Kollega oplysninger'!J178)","v":""},{"$f":"IF('Kollega oplysninger'!L178=\"\",\"\",'Kollega oplysninger'!L178)","v":""},null,null,null,null,null,null,null,null,null,null,null,null,null,null,null,null,null,{"$f":"IF(Lokallønsprocenten!Z178=\"\",\"\",Lokallønsprocenten!Z178)","v":""},{"$f":"IF(Lokallønsprocenten!AA178=\"\",\"\",Lokallønsprocenten!AA178)","v":""},null,null,null,null,{"$f":"IF(Lokallønsprocenten!AF178=\"\",\"\",Lokallønsprocenten!AF178)","v":""},null,{"$f":"IF(Lokallønsprocenten!AH178=\"\",\"\",Lokallønsprocenten!AH178)","v":""},null,null,null,"",""]
[null,{"$f":"IF('Kollega oplysninger'!B179=\"\",\"\",'Kollega oplysninger'!B179)","v":""},{"$f":"IF('Kollega oplysninger'!C179=\"\",\"\",'Kollega oplysninger'!C179)","v":""},null,null,{"$f":"IF('Kollega oplysninger'!I179=\"\",\"\",'Kollega oplysninger'!I179)","v":""},{"$f":"IF('Kollega oplysninger'!J179=\"\",\"\",'Kollega oplysninger'!J179)","v":""},{"$f":"IF('Kollega oplysninger'!L179=\"\",\"\",'Kollega oplysninger'!L179)","v":""},null,null,null,null,null,null,null,null,null,null,null,null,null,null,null,null,null,{"$f":"IF(Lokallønsprocenten!Z179=\"\",\"\",Lokallønsprocenten!Z179)","v":""},{"$f":"IF(Lokallønsprocenten!AA179=\"\",\"\",Lokallønsprocenten!AA179)","v":""},null,null,null,null,{"$f":"IF(Lokallønsprocenten!AF179=\"\",\"\",Lokallønsprocenten!AF179)","v":""},null,{"$f":"IF(Lokallønsprocenten!AH179=\"\",\"\",Lokallønsprocenten!AH179)","v":""},null,null,null,"",""]
[null,{"$f":"IF('Kollega oplysninger'!B180=\"\",\"\",'Kollega oplysninger'!B180)","v":""},{"$f":"IF('Kollega oplysninger'!C180=\"\",\"\",'Kollega oplysninger'!C180)","v":""},null,null,{"$f":"IF('Kollega oplysninger'!I180=\"\",\"\",'Kollega oplysninger'!I180)","v":""},{"$f":"IF('Kollega oplysninger'!J180=\"\",\"\",'Kollega oplysninger'!J180)","v":""},{"$f":"IF('Kollega oplysninger'!L180=\"\",\"\",'Kollega oplysninger'!L180)","v":""},null,null,null,null,null,null,null,null,null,null,null,null,null,null,null,null,null,{"$f":"IF(Lokallønsprocenten!Z180=\"\",\"\",Lokallønsprocenten!Z180)","v":""},{"$f":"IF(Lokallønsprocenten!AA180=\"\",\"\",Lokallønsprocenten!AA180)","v":""},null,null,null,null,{"$f":"IF(Lokallønsprocenten!AF180=\"\",\"\",Lokallønsprocenten!AF180)","v":""},null,{"$f":"IF(Lokallønsprocenten!AH180=\"\",\"\",Lokallønsprocenten!AH180)","v":""},null,null,null,"",""]
[null,{"$f":"IF('Kollega oplysninger'!B181=\"\",\"\",'Kollega oplysninger'!B181)","v":""},{"$f":"IF('Kollega oplysninger'!C181=\"\",\"\",'Kollega oplysninger'!C181)","v":""},null,null,{"$f":"IF('Kollega oplysninger'!I181=\"\",\"\",'Kollega oplysninger'!I181)","v":""},{"$f":"IF('Kollega oplysninger'!J181=\"\",\"\",'Kollega oplysninger'!J181)","v":""},{"$f":"IF('Kollega oplysninger'!L181=\"\",\"\",'Kollega oplysninger'!L181)","v":""},null,null,null,null,null,null,null,null,null,null,null,null,null,null,null,null,null,{"$f":"IF(Lokallønsprocenten!Z181=\"\",\"\",Lokallønsprocenten!Z181)","v":""},{"$f":"IF(Lokallønsprocenten!AA181=\"\",\"\",Lokallønsprocenten!AA181)","v":""},null,null,null,null,{"$f":"IF(Lokallønsprocenten!AF181=\"\",\"\",Lokallønsprocenten!AF181)","v":""},null,{"$f":"IF(Lokallønsprocenten!AH181=\"\",\"\",Lokallønsprocenten!AH181)","v":""},null,null,null,"",""]
[null,{"$f":"IF('Kollega oplysninger'!B182=\"\",\"\",'Kollega oplysninger'!B182)","v":""},{"$f":"IF('Kollega oplysninger'!C182=\"\",\"\",'Kollega oplysninger'!C182)","v":""},null,null,{"$f":"IF('Kollega oplysninger'!I182=\"\",\"\",'Kollega oplysninger'!I182)","v":""},{"$f":"IF('Kollega oplysninger'!J182=\"\",\"\",'Kollega oplysninger'!J182)","v":""},{"$f":"IF('Kollega oplysninger'!L182=\"\",\"\",'Kollega oplysninger'!L182)","v":""},null,null,null,null,null,null,null,null,null,null,null,null,null,null,null,null,null,{"$f":"IF(Lokallønsprocenten!Z182=\"\",\"\",Lokallønsprocenten!Z182)","v":""},{"$f":"IF(Lokallønsprocenten!AA182=\"\",\"\",Lokallønsprocenten!AA182)","v":""},null,null,null,null,{"$f":"IF(Lokallønsprocenten!AF182=\"\",\"\",Lokallønsprocenten!AF182)","v":""},null,{"$f":"IF(Lokallønsprocenten!AH182=\"\",\"\",Lokallønsprocenten!AH182)","v":""},null,null,null,"",""]
[null,{"$f":"IF('Kollega oplysninger'!B183=\"\",\"\",'Kollega oplysninger'!B183)","v":""},{"$f":"IF('Kollega oplysninger'!C183=\"\",\"\",'Kollega oplysninger'!C183)","v":""},null,null,{"$f":"IF('Kollega oplysninger'!I183=\"\",\"\",'Kollega oplysninger'!I183)","v":""},{"$f":"IF('Kollega oplysninger'!J183=\"\",\"\",'Kollega oplysninger'!J183)","v":""},{"$f":"IF('Kollega oplysninger'!L183=\"\",\"\",'Kollega oplysninger'!L183)","v":""},null,null,null,null,null,null,null,null,null,null,null,null,null,null,null,null,null,{"$f":"IF(Lokallønsprocenten!Z183=\"\",\"\",Lokallønsprocenten!Z183)","v":""},{"$f":"IF(Lokallønsprocenten!AA183=\"\",\"\",Lokallønsprocenten!AA183)","v":""},null,null,null,null,{"$f":"IF(Lokallønsprocenten!AF183=\"\",\"\",Lokallønsprocenten!AF183)","v":""},null,{"$f":"IF(Lokallønsprocenten!AH183=\"\",\"\",Lokallønsprocenten!AH183)","v":""},null,null,null,"",""]
[null,{"$f":"IF('Kollega oplysninger'!B184=\"\",\"\",'Kollega oplysninger'!B184)","v":""},{"$f":"IF('Kollega oplysninger'!C184=\"\",\"\",'Kollega oplysninger'!C184)","v":""},null,null,{"$f":"IF('Kollega oplysninger'!I184=\"\",\"\",'Kollega oplysninger'!I184)","v":""},{"$f":"IF('Kollega oplysninger'!J184=\"\",\"\",'Kollega oplysninger'!J184)","v":""},{"$f":"IF('Kollega oplysninger'!L184=\"\",\"\",'Kollega oplysninger'!L184)","v":""},null,null,null,null,null,null,null,null,null,null,null,null,null,null,null,null,null,{"$f":"IF(Lokallønsprocenten!Z184=\"\",\"\",Lokallønsprocenten!Z184)","v":""},{"$f":"IF(Lokallønsprocenten!AA184=\"\",\"\",Lokallønsprocenten!AA184)","v":""},null,null,null,null,{"$f":"IF(Lokallønsprocenten!AF184=\"\",\"\",Lokallønsprocenten!AF184)","v":""},null,{"$f":"IF(Lokallønsprocenten!AH184=\"\",\"\",Lokallønsprocenten!AH184)","v":""},null,null,null,"",""]
[null,{"$f":"IF('Kollega oplysninger'!B185=\"\",\"\",'Kollega oplysninger'!B185)","v":""},{"$f":"IF('Kollega oplysninger'!C185=\"\",\"\",'Kollega oplysninger'!C185)","v":""},null,null,{"$f":"IF('Kollega oplysninger'!I185=\"\",\"\",'Kollega oplysninger'!I185)","v":""},{"$f":"IF('Kollega oplysninger'!J185=\"\",\"\",'Kollega oplysninger'!J185)","v":""},{"$f":"IF('Kollega oplysninger'!L185=\"\",\"\",'Kollega oplysninger'!L185)","v":""},null,null,null,null,null,null,null,null,null,null,null,null,null,null,null,null,null,{"$f":"IF(Lokallønsprocenten!Z185=\"\",\"\",Lokallønsprocenten!Z185)","v":""},{"$f":"IF(Lokallønsprocenten!AA185=\"\",\"\",Lokallønsprocenten!AA185)","v":""},null,null,null,null,{"$f":"IF(Lokallønsprocenten!AF185=\"\",\"\",Lokallønsprocenten!AF185)","v":""},null,{"$f":"IF(Lokallønsprocenten!AH185=\"\",\"\",Lokallønsprocenten!AH185)","v":""},null,null,null,"",""]
[null,{"$f":"IF('Kollega oplysninger'!B186=\"\",\"\",'Kollega oplysninger'!B186)","v":""},{"$f":"IF('Kollega oplysninger'!C186=\"\",\"\",'Kollega oplysninger'!C186)","v":""},null,null,{"$f":"IF('Kollega oplysninger'!I186=\"\",\"\",'Kollega oplysninger'!I186)","v":""},{"$f":"IF('Kollega oplysninger'!J186=\"\",\"\",'Kollega oplysninger'!J186)","v":""},{"$f":"IF('Kollega oplysninger'!L186=\"\",\"\",'Kollega oplysninger'!L186)","v":""},null,null,null,null,null,null,null,null,null,null,null,null,null,null,null,null,null,{"$f":"IF(Lokallønsprocenten!Z186=\"\",\"\",Lokallønsprocenten!Z186)","v":""},{"$f":"IF(Lokallønsprocenten!AA186=\"\",\"\",Lokallønsprocenten!AA186)","v":""},null,null,null,null,{"$f":"IF(Lokallønsprocenten!AF186=\"\",\"\",Lokallønsprocenten!AF186)","v":""},null,{"$f":"IF(Lokallønsprocenten!AH186=\"\",\"\",Lokallønsprocenten!AH186)","v":""},null,null,null,"",""]
[null,{"$f":"IF('Kollega oplysninger'!B187=\"\",\"\",'Kollega oplysninger'!B187)","v":""},{"$f":"IF('Kollega oplysninger'!C187=\"\",\"\",'Kollega oplysninger'!C187)","v":""},null,null,{"$f":"IF('Kollega oplysninger'!I187=\"\",\"\",'Kollega oplysninger'!I187)","v":""},{"$f":"IF('Kollega oplysninger'!J187=\"\",\"\",'Kollega oplysninger'!J187)","v":""},{"$f":"IF('Kollega oplysninger'!L187=\"\",\"\",'Kollega oplysninger'!L187)","v":""},null,null,null,null,null,null,null,null,null,null,null,null,null,null,null,null,null,{"$f":"IF(Lokallønsprocenten!Z187=\"\",\"\",Lokallønsprocenten!Z187)","v":""},{"$f":"IF(Lokallønsprocenten!AA187=\"\",\"\",Lokallønsprocenten!AA187)","v":""},null,null,null,null,{"$f":"IF(Lokallønsprocenten!AF187=\"\",\"\",Lokallønsprocenten!AF187)","v":""},null,{"$f":"IF(Lokallønsprocenten!AH187=\"\",\"\",Lokallønsprocenten!AH187)","v":""},null,null,null,"",""]
[null,{"$f":"IF('Kollega oplysninger'!B188=\"\",\"\",'Kollega oplysninger'!B188)","v":""},{"$f":"IF('Kollega oplysninger'!C188=\"\",\"\",'Kollega oplysninger'!C188)","v":""},null,null,{"$f":"IF('Kollega oplysninger'!I188=\"\",\"\",'Kollega oplysninger'!I188)","v":""},{"$f":"IF('Kollega oplysninger'!J188=\"\",\"\",'Kollega oplysninger'!J188)","v":""},{"$f":"IF('Kollega oplysninger'!L188=\"\",\"\",'Kollega oplysninger'!L188)","v":""},null,null,null,null,null,null,null,null,null,null,null,null,null,null,null,null,null,{"$f":"IF(Lokallønsprocenten!Z188=\"\",\"\",Lokallønsprocenten!Z188)","v":""},{"$f":"IF(Lokallønsprocenten!AA188=\"\",\"\",Lokallønsprocenten!AA188)","v":""},null,null,null,null,{"$f":"IF(Lokallønsprocenten!AF188=\"\",\"\",Lokallønsprocenten!AF188)","v":""},null,{"$f":"IF(Lokallønsprocenten!AH188=\"\",\"\",Lokallønsprocenten!AH188)","v":""},null,null,null,"",""]
[null,{"$f":"IF('Kollega oplysninger'!B189=\"\",\"\",'Kollega oplysninger'!B189)","v":""},{"$f":"IF('Kollega oplysninger'!C189=\"\",\"\",'Kollega oplysninger'!C189)","v":""},null,null,{"$f":"IF('Kollega oplysninger'!I189=\"\",\"\",'Kollega oplysninger'!I189)","v":""},{"$f":"IF('Kollega oplysninger'!J189=\"\",\"\",'Kollega oplysninger'!J189)","v":""},{"$f":"IF('Kollega oplysninger'!L189=\"\",\"\",'Kollega oplysninger'!L189)","v":""},null,null,null,null,null,null,null,null,null,null,null,null,null,null,null,null,null,{"$f":"IF(Lokallønsprocenten!Z189=\"\",\"\",Lokallønsprocenten!Z189)","v":""},{"$f":"IF(Lokallønsprocenten!AA189=\"\",\"\",Lokallønsprocenten!AA189)","v":""},null,null,null,null,{"$f":"IF(Lokallønsprocenten!AF189=\"\",\"\",Lokallønsprocenten!AF189)","v":""},null,{"$f":"IF(Lokallønsprocenten!AH189=\"\",\"\",Lokallønsprocenten!AH189)","v":""},null,null,null,"",""]
[null,{"$f":"IF('Kollega oplysninger'!B190=\"\",\"\",'Kollega oplysninger'!B190)","v":""},{"$f":"IF('Kollega oplysninger'!C190=\"\",\"\",'Kollega oplysninger'!C190)","v":""},null,null,{"$f":"IF('Kollega oplysninger'!I190=\"\",\"\",'Kollega oplysninger'!I190)","v":""},{"$f":"IF('Kollega oplysninger'!J190=\"\",\"\",'Kollega oplysninger'!J190)","v":""},{"$f":"IF('Kollega oplysninger'!L190=\"\",\"\",'Kollega oplysninger'!L190)","v":""},null,null,null,null,null,null,null,null,null,null,null,null,null,null,null,null,null,{"$f":"IF(Lokallønsprocenten!Z190=\"\",\"\",Lokallønsprocenten!Z190)","v":""},{"$f":"IF(Lokallønsprocenten!AA190=\"\",\"\",Lokallønsprocenten!AA190)","v":""},null,null,null,null,{"$f":"IF(Lokallønsprocenten!AF190=\"\",\"\",Lokallønsprocenten!AF190)","v":""},null,{"$f":"IF(Lokallønsprocenten!AH190=\"\",\"\",Lokallønsprocenten!AH190)","v":""},null,null,null,"",""]
[null,{"$f":"IF('Kollega oplysninger'!B191=\"\",\"\",'Kollega oplysninger'!B191)","v":""},{"$f":"IF('Kollega oplysninger'!C191=\"\",\"\",'Kollega oplysninger'!C191)","v":""},null,null,{"$f":"IF('Kollega oplysninger'!I191=\"\",\"\",'Kollega oplysninger'!I191)","v":""},{"$f":"IF('Kollega oplysninger'!J191=\"\",\"\",'Kollega oplysninger'!J191)","v":""},{"$f":"IF('Kollega oplysninger'!L191=\"\",\"\",'Kollega oplysninger'!L191)","v":""},null,null,null,null,null,null,null,null,null,null,null,null,null,null,null,null,null,{"$f":"IF(Lokallønsprocenten!Z191=\"\",\"\",Lokallønsprocenten!Z191)","v":""},{"$f":"IF(Lokallønsprocenten!AA191=\"\",\"\",Lokallønsprocenten!AA191)","v":""},null,null,null,null,{"$f":"IF(Lokallønsprocenten!AF191=\"\",\"\",Lokallønsprocenten!AF191)","v":""},null,{"$f":"IF(Lokallønsprocenten!AH191=\"\",\"\",Lokallønsprocenten!AH191)","v":""},null,null,null,"",""]
[null,{"$f":"IF('Kollega oplysninger'!B192=\"\",\"\",'Kollega oplysninger'!B192)","v":""},{"$f":"IF('Kollega oplysninger'!C192=\"\",\"\",'Kollega oplysninger'!C192)","v":""},null,null,{"$f":"IF('Kollega oplysninger'!I192=\"\",\"\",'Kollega oplysninger'!I192)","v":""},{"$f":"IF('Kollega oplysninger'!J192=\"\",\"\",'Kollega oplysninger'!J192)","v":""},{"$f":"IF('Kollega oplysninger'!L192=\"\",\"\",'Kollega oplysninger'!L192)","v":""},null,null,null,null,null,null,null,null,null,null,null,null,null,null,null,null,null,{"$f":"IF(Lokallønsprocenten!Z192=\"\",\"\",Lokallønsprocenten!Z192)","v":""},{"$f":"IF(Lokallønsprocenten!AA192=\"\",\"\",Lokallønsprocenten!AA192)","v":""},null,null,null,null,{"$f":"IF(Lokallønsprocenten!AF192=\"\",\"\",Lokallønsprocenten!AF192)","v":""},null,{"$f":"IF(Lokallønsprocenten!AH192=\"\",\"\",Lokallønsprocenten!AH192)","v":""},null,null,null,"",""]
[null,{"$f":"IF('Kollega oplysninger'!B193=\"\",\"\",'Kollega oplysninger'!B193)","v":""},{"$f":"IF('Kollega oplysninger'!C193=\"\",\"\",'Kollega oplysninger'!C193)","v":""},null,null,{"$f":"IF('Kollega oplysninger'!I193=\"\",\"\",'Kollega oplysninger'!I193)","v":""},{"$f":"IF('Kollega oplysninger'!J193=\"\",\"\",'Kollega oplysninger'!J193)","v":""},{"$f":"IF('Kollega oplysninger'!L193=\"\",\"\",'Kollega oplysninger'!L193)","v":""},null,null,null,null,null,null,null,null,null,null,null,null,null,null,null,null,null,{"$f":"IF(Lokallønsprocenten!Z193=\"\",\"\",Lokallønsprocenten!Z193)","v":""},{"$f":"IF(Lokallønsprocenten!AA193=\"\",\"\",Lokallønsprocenten!AA193)","v":""},null,null,null,null,{"$f":"IF(Lokallønsprocenten!AF193=\"\",\"\",Lokallønsprocenten!AF193)","v":""},null,{"$f":"IF(Lokallønsprocenten!AH193=\"\",\"\",Lokallønsprocenten!AH193)","v":""},null,null,null,"",""]
[null,{"$f":"IF('Kollega oplysninger'!B194=\"\",\"\",'Kollega oplysninger'!B194)","v":""},{"$f":"IF('Kollega oplysninger'!C194=\"\",\"\",'Kollega oplysninger'!C194)","v":""},null,null,{"$f":"IF('Kollega oplysninger'!I194=\"\",\"\",'Kollega oplysninger'!I194)","v":""},{"$f":"IF('Kollega oplysninger'!J194=\"\",\"\",'Kollega oplysninger'!J194)","v":""},{"$f":"IF('Kollega oplysninger'!L194=\"\",\"\",'Kollega oplysninger'!L194)","v":""},null,null,null,null,null,null,null,null,null,null,null,null,null,null,null,null,null,{"$f":"IF(Lokallønsprocenten!Z194=\"\",\"\",Lokallønsprocenten!Z194)","v":""},{"$f":"IF(Lokallønsprocenten!AA194=\"\",\"\",Lokallønsprocenten!AA194)","v":""},null,null,null,null,{"$f":"IF(Lokallønsprocenten!AF194=\"\",\"\",Lokallønsprocenten!AF194)","v":""},null,{"$f":"IF(Lokallønsprocenten!AH194=\"\",\"\",Lokallønsprocenten!AH194)","v":""},null,null,null,"",""]
[null,{"$f":"IF('Kollega oplysninger'!B195=\"\",\"\",'Kollega oplysninger'!B195)","v":""},{"$f":"IF('Kollega oplysninger'!C195=\"\",\"\",'Kollega oplysninger'!C195)","v":""},null,null,{"$f":"IF('Kollega oplysninger'!I195=\"\",\"\",'Kollega oplysninger'!I195)","v":""},{"$f":"IF('Kollega oplysninger'!J195=\"\",\"\",'Kollega oplysninger'!J195)","v":""},{"$f":"IF('Kollega oplysninger'!L195=\"\",\"\",'Kollega oplysninger'!L195)","v":""},null,null,null,null,null,null,null,null,null,null,null,null,null,null,null,null,null,{"$f":"IF(Lokallønsprocenten!Z195=\"\",\"\",Lokallønsprocenten!Z195)","v":""},{"$f":"IF(Lokallønsprocenten!AA195=\"\",\"\",Lokallønsprocenten!AA195)","v":""},null,null,null,null,{"$f":"IF(Lokallønsprocenten!AF195=\"\",\"\",Lokallønsprocenten!AF195)","v":""},null,{"$f":"IF(Lokallønsprocenten!AH195=\"\",\"\",Lokallønsprocenten!AH195)","v":""},null,null,null,"",""]
[null,{"$f":"IF('Kollega oplysninger'!B196=\"\",\"\",'Kollega oplysninger'!B196)","v":""},{"$f":"IF('Kollega oplysninger'!C196=\"\",\"\",'Kollega oplysninger'!C196)","v":""},null,null,{"$f":"IF('Kollega oplysninger'!I196=\"\",\"\",'Kollega oplysninger'!I196)","v":""},{"$f":"IF('Kollega oplysninger'!J196=\"\",\"\",'Kollega oplysninger'!J196)","v":""},{"$f":"IF('Kollega oplysninger'!L196=\"\",\"\",'Kollega oplysninger'!L196)","v":""},null,null,null,null,null,null,null,null,null,null,null,null,null,null,null,null,null,{"$f":"IF(Lokallønsprocenten!Z196=\"\",\"\",Lokallønsprocenten!Z196)","v":""},{"$f":"IF(Lokallønsprocenten!AA196=\"\",\"\",Lokallønsprocenten!AA196)","v":""},null,null,null,null,{"$f":"IF(Lokallønsprocenten!AF196=\"\",\"\",Lokallønsprocenten!AF196)","v":""},null,{"$f":"IF(Lokallønsprocenten!AH196=\"\",\"\",Lokallønsprocenten!AH196)","v":""},null,null,null,"",""]
[null,{"$f":"IF('Kollega oplysninger'!B197=\"\",\"\",'Kollega oplysninger'!B197)","v":""},{"$f":"IF('Kollega oplysninger'!C197=\"\",\"\",'Kollega oplysninger'!C197)","v":""},null,null,{"$f":"IF('Kollega oplysninger'!I197=\"\",\"\",'Kollega oplysninger'!I197)","v":""},{"$f":"IF('Kollega oplysninger'!J197=\"\",\"\",'Kollega oplysninger'!J197)","v":""},{"$f":"IF('Kollega oplysninger'!L197=\"\",\"\",'Kollega oplysninger'!L197)","v":""},null,null,null,null,null,null,null,null,null,null,null,null,null,null,null,null,null,{"$f":"IF(Lokallønsprocenten!Z197=\"\",\"\",Lokallønsprocenten!Z197)","v":""},{"$f":"IF(Lokallønsprocenten!AA197=\"\",\"\",Lokallønsprocenten!AA197)","v":""},null,null,null,null,{"$f":"IF(Lokallønsprocenten!AF197=\"\",\"\",Lokallønsprocenten!AF197)","v":""},null,{"$f":"IF(Lokallønsprocenten!AH197=\"\",\"\",Lokallønsprocenten!AH197)","v":""},null,null,null,"",""]
[null,{"$f":"IF('Kollega oplysninger'!B198=\"\",\"\",'Kollega oplysninger'!B198)","v":""},{"$f":"IF('Kollega oplysninger'!C198=\"\",\"\",'Kollega oplysninger'!C198)","v":""},null,null,{"$f":"IF('Kollega oplysninger'!I198=\"\",\"\",'Kollega oplysninger'!I198)","v":""},{"$f":"IF('Kollega oplysninger'!J198=\"\",\"\",'Kollega oplysninger'!J198)","v":""},{"$f":"IF('Kollega oplysninger'!L198=\"\",\"\",'Kollega oplysninger'!L198)","v":""},null,null,null,null,null,null,null,null,null,null,null,null,null,null,null,null,null,{"$f":"IF(Lokallønsprocenten!Z198=\"\",\"\",Lokallønsprocenten!Z198)","v":""},{"$f":"IF(Lokallønsprocenten!AA198=\"\",\"\",Lokallønsprocenten!AA198)","v":""},null,null,null,null,{"$f":"IF(Lokallønsprocenten!AF198=\"\",\"\",Lokallønsprocenten!AF198)","v":""},null,{"$f":"IF(Lokallønsprocenten!AH198=\"\",\"\",Lokallønsprocenten!AH198)","v":""},null,null,null,"",""]
[null,{"$f":"IF('Kollega oplysninger'!B199=\"\",\"\",'Kollega oplysninger'!B199)","v":""},{"$f":"IF('Kollega oplysninger'!C199=\"\",\"\",'Kollega oplysninger'!C199)","v":""},null,null,{"$f":"IF('Kollega oplysninger'!I199=\"\",\"\",'Kollega oplysninger'!I199)","v":""},{"$f":"IF('Kollega oplysninger'!J199=\"\",\"\",'Kollega oplysninger'!J199)","v":""},{"$f":"IF('Kollega oplysninger'!L199=\"\",\"\",'Kollega oplysninger'!L199)","v":""},null,null,null,null,null,null,null,null,null,null,null,null,null,null,null,null,null,{"$f":"IF(Lokallønsprocenten!Z199=\"\",\"\",Lokallønsprocenten!Z199)","v":""},{"$f":"IF(Lokallønsprocenten!AA199=\"\",\"\",Lokallønsprocenten!AA199)","v":""},null,null,null,null,{"$f":"IF(Lokallønsprocenten!AF199=\"\",\"\",Lokallønsprocenten!AF199)","v":""},null,{"$f":"IF(Lokallønsprocenten!AH199=\"\",\"\",Lokallønsprocenten!AH199)","v":""},null,null,null,{"$f":"IF(Z199=\"fejl\",X199,\"\")","v":""},{"$f":"IF(Z199=\"fejl\",Y199,\"\")","v":""}]
[null,{"$f":"IF('Kollega oplysninger'!B200=\"\",\"\",'Kollega oplysninger'!B200)","v":""},{"$f":"IF('Kollega oplysninger'!C200=\"\",\"\",'Kollega oplysninger'!C200)","v":""},null,null,{"$f":"IF('Kollega oplysninger'!I200=\"\",\"\",'Kollega oplysninger'!I200)","v":""},{"$f":"IF('Kollega oplysninger'!J200=\"\",\"\",'Kollega oplysninger'!J200)","v":""},{"$f":"IF('Kollega oplysninger'!L200=\"\",\"\",'Kollega oplysninger'!L200)","v":""},null,null,null,null,null,null,null,null,null,null,null,null,null,null,null,null,null,{"$f":"IF(Lokallønsprocenten!Z200=\"\",\"\",Lokallønsprocenten!Z200)","v":""},{"$f":"IF(Lokallønsprocenten!AA200=\"\",\"\",Lokallønsprocenten!AA200)","v":""},null,null,null,null,{"$f":"IF(Lokallønsprocenten!AF200=\"\",\"\",Lokallønsprocenten!AF200)","v":""},null,{"$f":"IF(Lokallønsprocenten!AH200=\"\",\"\",Lokallønsprocenten!AH200)","v":""},null,null,null,"",""]
[null,{"$f":"IF('Kollega oplysninger'!B201=\"\",\"\",'Kollega oplysninger'!B201)","v":""},{"$f":"IF('Kollega oplysninger'!C201=\"\",\"\",'Kollega oplysninger'!C201)","v":""},null,null,{"$f":"IF('Kollega oplysninger'!I201=\"\",\"\",'Kollega oplysninger'!I201)","v":""},{"$f":"IF('Kollega oplysninger'!J201=\"\",\"\",'Kollega oplysninger'!J201)","v":""},{"$f":"IF('Kollega oplysninger'!L201=\"\",\"\",'Kollega oplysninger'!L201)","v":""},null,null,null,null,null,null,null,null,null,null,null,null,null,null,null,null,null,{"$f":"IF(Lokallønsprocenten!Z201=\"\",\"\",Lokallønsprocenten!Z201)","v":""},{"$f":"IF(Lokallønsprocenten!AA201=\"\",\"\",Lokallønsprocenten!AA201)","v":""},null,null,null,null,{"$f":"IF(Lokallønsprocenten!AF201=\"\",\"\",Lokallønsprocenten!AF201)","v":""},null,{"$f":"IF(Lokallønsprocenten!AH201=\"\",\"\",Lokallønsprocenten!AH201)","v":""},null,null,null,"",""]
[null,{"$f":"IF('Kollega oplysninger'!B202=\"\",\"\",'Kollega oplysninger'!B202)","v":""},{"$f":"IF('Kollega oplysninger'!C202=\"\",\"\",'Kollega oplysninger'!C202)","v":""},null,null,{"$f":"IF('Kollega oplysninger'!I202=\"\",\"\",'Kollega oplysninger'!I202)","v":""},{"$f":"IF('Kollega oplysninger'!J202=\"\",\"\",'Kollega oplysninger'!J202)","v":""},{"$f":"IF('Kollega oplysninger'!L202=\"\",\"\",'Kollega oplysninger'!L202)","v":""},null,null,null,null,null,null,null,null,null,null,null,null,null,null,null,null,null,{"$f":"IF(Lokallønsprocenten!Z202=\"\",\"\",Lokallønsprocenten!Z202)","v":""},{"$f":"IF(Lokallønsprocenten!AA202=\"\",\"\",Lokallønsprocenten!AA202)","v":""},null,null,null,null,{"$f":"IF(Lokallønsprocenten!AF202=\"\",\"\",Lokallønsprocenten!AF202)","v":""},null,{"$f":"IF(Lokallønsprocenten!AH202=\"\",\"\",Lokallønsprocenten!AH202)","v":""},null,null,null,"",""]
[null,{"$f":"IF('Kollega oplysninger'!B203=\"\",\"\",'Kollega oplysninger'!B203)","v":""},{"$f":"IF('Kollega oplysninger'!C203=\"\",\"\",'Kollega oplysninger'!C203)","v":""},null,null,{"$f":"IF('Kollega oplysninger'!I203=\"\",\"\",'Kollega oplysninger'!I203)","v":""},{"$f":"IF('Kollega oplysninger'!J203=\"\",\"\",'Kollega oplysninger'!J203)","v":""},{"$f":"IF('Kollega oplysninger'!L203=\"\",\"\",'Kollega oplysninger'!L203)","v":""},null,null,null,null,null,null,null,null,null,null,null,null,null,null,null,null,null,{"$f":"IF(Lokallønsprocenten!Z203=\"\",\"\",Lokallønsprocenten!Z203)","v":""},{"$f":"IF(Lokallønsprocenten!AA203=\"\",\"\",Lokallønsprocenten!AA203)","v":""},null,null,null,null,{"$f":"IF(Lokallønsprocenten!AF203=\"\",\"\",Lokallønsprocenten!AF203)","v":""},null,{"$f":"IF(Lokallønsprocenten!AH203=\"\",\"\",Lokallønsprocenten!AH203)","v":""},null,null,null,"",""]
[null,{"$f":"IF('Kollega oplysninger'!B204=\"\",\"\",'Kollega oplysninger'!B204)","v":""},{"$f":"IF('Kollega oplysninger'!C204=\"\",\"\",'Kollega oplysninger'!C204)","v":""},null,null,{"$f":"IF('Kollega oplysninger'!I204=\"\",\"\",'Kollega oplysninger'!I204)","v":""},{"$f":"IF('Kollega oplysninger'!J204=\"\",\"\",'Kollega oplysninger'!J204)","v":""},{"$f":"IF('Kollega oplysninger'!L204=\"\",\"\",'Kollega oplysninger'!L204)","v":""},null,null,null,null,null,null,null,null,null,null,null,null,null,null,null,null,null,{"$f":"IF(Lokallønsprocenten!Z204=\"\",\"\",Lokallønsprocenten!Z204)","v":""},{"$f":"IF(Lokallønsprocenten!AA204=\"\",\"\",Lokallønsprocenten!AA204)","v":""},null,null,null,null,{"$f":"IF(Lokallønsprocenten!AF204=\"\",\"\",Lokallønsprocenten!AF204)","v":""},null,{"$f":"IF(Lokallønsprocenten!AH204=\"\",\"\",Lokallønsprocenten!AH204)","v":""},null,null,null,"",""]
[null,{"$f":"IF('Kollega oplysninger'!B205=\"\",\"\",'Kollega oplysninger'!B205)","v":""},{"$f":"IF('Kollega oplysninger'!C205=\"\",\"\",'Kollega oplysninger'!C205)","v":""},null,null,{"$f":"IF('Kollega oplysninger'!I205=\"\",\"\",'Kollega oplysninger'!I205)","v":""},{"$f":"IF('Kollega oplysninger'!J205=\"\",\"\",'Kollega oplysninger'!J205)","v":""},{"$f":"IF('Kollega oplysninger'!L205=\"\",\"\",'Kollega oplysninger'!L205)","v":""},null,null,null,null,null,null,null,null,null,null,null,null,null,null,null,null,null,{"$f":"IF(Lokallønsprocenten!Z205=\"\",\"\",Lokallønsprocenten!Z205)","v":""},{"$f":"IF(Lokallønsprocenten!AA205=\"\",\"\",Lokallønsprocenten!AA205)","v":""},null,null,null,null,{"$f":"IF(Lokallønsprocenten!AF205=\"\",\"\",Lokallønsprocenten!AF205)","v":""},null,{"$f":"IF(Lokallønsprocenten!AH205=\"\",\"\",Lokallønsprocenten!AH205)","v":""},null,null,null,"",""]
[null,{"$f":"IF('Kollega oplysninger'!B206=\"\",\"\",'Kollega oplysninger'!B206)","v":""},{"$f":"IF('Kollega oplysninger'!C206=\"\",\"\",'Kollega oplysninger'!C206)","v":""},null,null,{"$f":"IF('Kollega oplysninger'!I206=\"\",\"\",'Kollega oplysninger'!I206)","v":""},{"$f":"IF('Kollega oplysninger'!J206=\"\",\"\",'Kollega oplysninger'!J206)","v":""},{"$f":"IF('Kollega oplysninger'!L206=\"\",\"\",'Kollega oplysninger'!L206)","v":""},null,null,null,null,null,null,null,null,null,null,null,null,null,null,null,null,null,{"$f":"IF(Lokallønsprocenten!Z206=\"\",\"\",Lokallønsprocenten!Z206)","v":""},{"$f":"IF(Lokallønsprocenten!AA206=\"\",\"\",Lokallønsprocenten!AA206)","v":""},null,null,null,null,{"$f":"IF(Lokallønsprocenten!AF206=\"\",\"\",Lokallønsprocenten!AF206)","v":""},null,{"$f":"IF(Lokallønsprocenten!AH206=\"\",\"\",Lokallønsprocenten!AH206)","v":""},null,null,null,"",""]
[null,{"$f":"IF('Kollega oplysninger'!B207=\"\",\"\",'Kollega oplysninger'!B207)","v":""},{"$f":"IF('Kollega oplysninger'!C207=\"\",\"\",'Kollega oplysninger'!C207)","v":""},null,null,{"$f":"IF('Kollega oplysninger'!I207=\"\",\"\",'Kollega oplysninger'!I207)","v":""},{"$f":"IF('Kollega oplysninger'!J207=\"\",\"\",'Kollega oplysninger'!J207)","v":""},{"$f":"IF('Kollega oplysninger'!L207=\"\",\"\",'Kollega oplysninger'!L207)","v":""},null,null,null,null,null,null,null,null,null,null,null,null,null,null,null,null,null,{"$f":"IF(Lokallønsprocenten!Z207=\"\",\"\",Lokallønsprocenten!Z207)","v":""},{"$f":"IF(Lokallønsprocenten!AA207=\"\",\"\",Lokallønsprocenten!AA207)","v":""},null,null,null,null,{"$f":"IF(Lokallønsprocenten!AF207=\"\",\"\",Lokallønsprocenten!AF207)","v":""},null,{"$f":"IF(Lokallønsprocenten!AH207=\"\",\"\",Lokallønsprocenten!AH207)","v":""},null,null,null,"",""]
[null,{"$f":"IF('Kollega oplysninger'!B208=\"\",\"\",'Kollega oplysninger'!B208)","v":""},{"$f":"IF('Kollega oplysninger'!C208=\"\",\"\",'Kollega oplysninger'!C208)","v":""},null,null,{"$f":"IF('Kollega oplysninger'!I208=\"\",\"\",'Kollega oplysninger'!I208)","v":""},{"$f":"IF('Kollega oplysninger'!J208=\"\",\"\",'Kollega oplysninger'!J208)","v":""},{"$f":"IF('Kollega oplysninger'!L208=\"\",\"\",'Kollega oplysninger'!L208)","v":""},null,null,null,null,null,null,null,null,null,null,null,null,null,null,null,null,null,{"$f":"IF(Lokallønsprocenten!Z208=\"\",\"\",Lokallønsprocenten!Z208)","v":""},{"$f":"IF(Lokallønsprocenten!AA208=\"\",\"\",Lokallønsprocenten!AA208)","v":""},null,null,null,null,{"$f":"IF(Lokallønsprocenten!AF208=\"\",\"\",Lokallønsprocenten!AF208)","v":""},null,{"$f":"IF(Lokallønsprocenten!AH208=\"\",\"\",Lokallønsprocenten!AH208)","v":""},null,null,null,"",""]
[null,{"$f":"IF('Kollega oplysninger'!B209=\"\",\"\",'Kollega oplysninger'!B209)","v":""},{"$f":"IF('Kollega oplysninger'!C209=\"\",\"\",'Kollega oplysninger'!C209)","v":""},null,null,{"$f":"IF('Kollega oplysninger'!I209=\"\",\"\",'Kollega oplysninger'!I209)","v":""},{"$f":"IF('Kollega oplysninger'!J209=\"\",\"\",'Kollega oplysninger'!J209)","v":""},{"$f":"IF('Kollega oplysninger'!L209=\"\",\"\",'Kollega oplysninger'!L209)","v":""},null,null,null,null,null,null,null,null,null,null,null,null,null,null,null,null,null,{"$f":"IF(Lokallønsprocenten!Z209=\"\",\"\",Lokallønsprocenten!Z209)","v":""},{"$f":"IF(Lokallønsprocenten!AA209=\"\",\"\",Lokallønsprocenten!AA209)","v":""},null,null,null,null,{"$f":"IF(Lokallønsprocenten!AF209=\"\",\"\",Lokallønsprocenten!AF209)","v":""},null,{"$f":"IF(Lokallønsprocenten!AH209=\"\",\"\",Lokallønsprocenten!AH209)","v":""},null,null,null,"",""]
[null,{"$f":"IF('Kollega oplysninger'!B210=\"\",\"\",'Kollega oplysninger'!B210)","v":""},{"$f":"IF('Kollega oplysninger'!C210=\"\",\"\",'Kollega oplysninger'!C210)","v":""},null,null,{"$f":"IF('Kollega oplysninger'!I210=\"\",\"\",'Kollega oplysninger'!I210)","v":""},{"$f":"IF('Kollega oplysninger'!J210=\"\",\"\",'Kollega oplysninger'!J210)","v":""},{"$f":"IF('Kollega oplysninger'!L210=\"\",\"\",'Kollega oplysninger'!L210)","v":""},null,null,null,null,null,null,null,null,null,null,null,null,null,null,null,null,null,{"$f":"IF(Lokallønsprocenten!Z210=\"\",\"\",Lokallønsprocenten!Z210)","v":""},{"$f":"IF(Lokallønsprocenten!AA210=\"\",\"\",Lokallønsprocenten!AA210)","v":""},null,null,null,null,{"$f":"IF(Lokallønsprocenten!AF210=\"\",\"\",Lokallønsprocenten!AF210)","v":""},null,{"$f":"IF(Lokallønsprocenten!AH210=\"\",\"\",Lokallønsprocenten!AH210)","v":""},null,null,null,"",""]
[null,{"$f":"IF('Kollega oplysninger'!B211=\"\",\"\",'Kollega oplysninger'!B211)","v":""},{"$f":"IF('Kollega oplysninger'!C211=\"\",\"\",'Kollega oplysninger'!C211)","v":""},null,null,{"$f":"IF('Kollega oplysninger'!I211=\"\",\"\",'Kollega oplysninger'!I211)","v":""},{"$f":"IF('Kollega oplysninger'!J211=\"\",\"\",'Kollega oplysninger'!J211)","v":""},{"$f":"IF('Kollega oplysninger'!L211=\"\",\"\",'Kollega oplysninger'!L211)","v":""},null,null,null,null,null,null,null,null,null,null,null,null,null,null,null,null,null,{"$f":"IF(Lokallønsprocenten!Z211=\"\",\"\",Lokallønsprocenten!Z211)","v":""},{"$f":"IF(Lokallønsprocenten!AA211=\"\",\"\",Lokallønsprocenten!AA211)","v":""},null,null,null,null,{"$f":"IF(Lokallønsprocenten!AF211=\"\",\"\",Lokallønsprocenten!AF211)","v":""},null,{"$f":"IF(Lokallønsprocenten!AH211=\"\",\"\",Lokallønsprocenten!AH211)","v":""},null,null,null,"",""]
[null,{"$f":"IF('Kollega oplysninger'!B212=\"\",\"\",'Kollega oplysninger'!B212)","v":""},{"$f":"IF('Kollega oplysninger'!C212=\"\",\"\",'Kollega oplysninger'!C212)","v":""},null,null,{"$f":"IF('Kollega oplysninger'!I212=\"\",\"\",'Kollega oplysninger'!I212)","v":""},{"$f":"IF('Kollega oplysninger'!J212=\"\",\"\",'Kollega oplysninger'!J212)","v":""},{"$f":"IF('Kollega oplysninger'!L212=\"\",\"\",'Kollega oplysninger'!L212)","v":""},null,null,null,null,null,null,null,null,null,null,null,null,null,null,null,null,null,{"$f":"IF(Lokallønsprocenten!Z212=\"\",\"\",Lokallønsprocenten!Z212)","v":""},{"$f":"IF(Lokallønsprocenten!AA212=\"\",\"\",Lokallønsprocenten!AA212)","v":""},null,null,null,null,{"$f":"IF(Lokallønsprocenten!AF212=\"\",\"\",Lokallønsprocenten!AF212)","v":""},null,{"$f":"IF(Lokallønsprocenten!AH212=\"\",\"\",Lokallønsprocenten!AH212)","v":""},null,null,null,"",""]
[null,{"$f":"IF('Kollega oplysninger'!B213=\"\",\"\",'Kollega oplysninger'!B213)","v":""},{"$f":"IF('Kollega oplysninger'!C213=\"\",\"\",'Kollega oplysninger'!C213)","v":""},null,null,{"$f":"IF('Kollega oplysninger'!I213=\"\",\"\",'Kollega oplysninger'!I213)","v":""},{"$f":"IF('Kollega oplysninger'!J213=\"\",\"\",'Kollega oplysninger'!J213)","v":""},{"$f":"IF('Kollega oplysninger'!L213=\"\",\"\",'Kollega oplysninger'!L213)","v":""},null,null,null,null,null,null,null,null,null,null,null,null,null,null,null,null,null,{"$f":"IF(Lokallønsprocenten!Z213=\"\",\"\",Lokallønsprocenten!Z213)","v":""},{"$f":"IF(Lokallønsprocenten!AA213=\"\",\"\",Lokallønsprocenten!AA213)","v":""},null,null,null,null,{"$f":"IF(Lokallønsprocenten!AF213=\"\",\"\",Lokallønsprocenten!AF213)","v":""},null,{"$f":"IF(Lokallønsprocenten!AH213=\"\",\"\",Lokallønsprocenten!AH213)","v":""},null,null,null,"",""]
[null,{"$f":"IF('Kollega oplysninger'!B214=\"\",\"\",'Kollega oplysninger'!B214)","v":""},{"$f":"IF('Kollega oplysninger'!C214=\"\",\"\",'Kollega oplysninger'!C214)","v":""},null,null,{"$f":"IF('Kollega oplysninger'!I214=\"\",\"\",'Kollega oplysninger'!I214)","v":""},{"$f":"IF('Kollega oplysninger'!J214=\"\",\"\",'Kollega oplysninger'!J214)","v":""},{"$f":"IF('Kollega oplysninger'!L214=\"\",\"\",'Kollega oplysninger'!L214)","v":""},null,null,null,null,null,null,null,null,null,null,null,null,null,null,null,null,null,{"$f":"IF(Lokallønsprocenten!Z214=\"\",\"\",Lokallønsprocenten!Z214)","v":""},{"$f":"IF(Lokallønsprocenten!AA214=\"\",\"\",Lokallønsprocenten!AA214)","v":""},null,null,null,null,{"$f":"IF(Lokallønsprocenten!AF214=\"\",\"\",Lokallønsprocenten!AF214)","v":""},null,{"$f":"IF(Lokallønsprocenten!AH214=\"\",\"\",Lokallønsprocenten!AH214)","v":""},null,null,null,"",""]
[null,{"$f":"IF('Kollega oplysninger'!B215=\"\",\"\",'Kollega oplysninger'!B215)","v":""},{"$f":"IF('Kollega oplysninger'!C215=\"\",\"\",'Kollega oplysninger'!C215)","v":""},null,null,{"$f":"IF('Kollega oplysninger'!I215=\"\",\"\",'Kollega oplysninger'!I215)","v":""},{"$f":"IF('Kollega oplysninger'!J215=\"\",\"\",'Kollega oplysninger'!J215)","v":""},{"$f":"IF('Kollega oplysninger'!L215=\"\",\"\",'Kollega oplysninger'!L215)","v":""},null,null,null,null,null,null,null,null,null,null,null,null,null,null,null,null,null,{"$f":"IF(Lokallønsprocenten!Z215=\"\",\"\",Lokallønsprocenten!Z215)","v":""},{"$f":"IF(Lokallønsprocenten!AA215=\"\",\"\",Lokallønsprocenten!AA215)","v":""},null,null,null,null,{"$f":"IF(Lokallønsprocenten!AF215=\"\",\"\",Lokallønsprocenten!AF215)","v":""},null,{"$f":"IF(Lokallønsprocenten!AH215=\"\",\"\",Lokallønsprocenten!AH215)","v":""},null,null,null,"",""]
[null,{"$f":"IF('Kollega oplysninger'!B216=\"\",\"\",'Kollega oplysninger'!B216)","v":""},{"$f":"IF('Kollega oplysninger'!C216=\"\",\"\",'Kollega oplysninger'!C216)","v":""},null,null,{"$f":"IF('Kollega oplysninger'!I216=\"\",\"\",'Kollega oplysninger'!I216)","v":""},{"$f":"IF('Kollega oplysninger'!J216=\"\",\"\",'Kollega oplysninger'!J216)","v":""},{"$f":"IF('Kollega oplysninger'!L216=\"\",\"\",'Kollega oplysninger'!L216)","v":""},null,null,null,null,null,null,null,null,null,null,null,null,null,null,null,null,null,{"$f":"IF(Lokallønsprocenten!Z216=\"\",\"\",Lokallønsprocenten!Z216)","v":""},{"$f":"IF(Lokallønsprocenten!AA216=\"\",\"\",Lokallønsprocenten!AA216)","v":""},null,null,null,null,{"$f":"IF(Lokallønsprocenten!AF216=\"\",\"\",Lokallønsprocenten!AF216)","v":""},null,{"$f":"IF(Lokallønsprocenten!AH216=\"\",\"\",Lokallønsprocenten!AH216)","v":""},null,null,null,"",""]
[null,{"$f":"IF('Kollega oplysninger'!B217=\"\",\"\",'Kollega oplysninger'!B217)","v":""},{"$f":"IF('Kollega oplysninger'!C217=\"\",\"\",'Kollega oplysninger'!C217)","v":""},null,null,{"$f":"IF('Kollega oplysninger'!I217=\"\",\"\",'Kollega oplysninger'!I217)","v":""},{"$f":"IF('Kollega oplysninger'!J217=\"\",\"\",'Kollega oplysninger'!J217)","v":""},{"$f":"IF('Kollega oplysninger'!L217=\"\",\"\",'Kollega oplysninger'!L217)","v":""},null,null,null,null,null,null,null,null,null,null,null,null,null,null,null,null,null,{"$f":"IF(Lokallønsprocenten!Z217=\"\",\"\",Lokallønsprocenten!Z217)","v":""},{"$f":"IF(Lokallønsprocenten!AA217=\"\",\"\",Lokallønsprocenten!AA217)","v":""},null,null,null,null,{"$f":"IF(Lokallønsprocenten!AF217=\"\",\"\",Lokallønsprocenten!AF217)","v":""},null,{"$f":"IF(Lokallønsprocenten!AH217=\"\",\"\",Lokallønsprocenten!AH217)","v":""},null,null,null,"",""]
[null,{"$f":"IF('Kollega oplysninger'!B218=\"\",\"\",'Kollega oplysninger'!B218)","v":""},{"$f":"IF('Kollega oplysninger'!C218=\"\",\"\",'Kollega oplysninger'!C218)","v":""},null,null,{"$f":"IF('Kollega oplysninger'!I218=\"\",\"\",'Kollega oplysninger'!I218)","v":""},{"$f":"IF('Kollega oplysninger'!J218=\"\",\"\",'Kollega oplysninger'!J218)","v":""},{"$f":"IF('Kollega oplysninger'!L218=\"\",\"\",'Kollega oplysninger'!L218)","v":""},null,null,null,null,null,null,null,null,null,null,null,null,null,null,null,null,null,{"$f":"IF(Lokallønsprocenten!Z218=\"\",\"\",Lokallønsprocenten!Z218)","v":""},{"$f":"IF(Lokallønsprocenten!AA218=\"\",\"\",Lokallønsprocenten!AA218)","v":""},null,null,null,null,{"$f":"IF(Lokallønsprocenten!AF218=\"\",\"\",Lokallønsprocenten!AF218)","v":""},null,{"$f":"IF(Lokallønsprocenten!AH218=\"\",\"\",Lokallønsprocenten!AH218)","v":""},null,null,null,"",""]
[null,{"$f":"IF('Kollega oplysninger'!B219=\"\",\"\",'Kollega oplysninger'!B219)","v":""},{"$f":"IF('Kollega oplysninger'!C219=\"\",\"\",'Kollega oplysninger'!C219)","v":""},null,null,{"$f":"IF('Kollega oplysninger'!I219=\"\",\"\",'Kollega oplysninger'!I219)","v":""},{"$f":"IF('Kollega oplysninger'!J219=\"\",\"\",'Kollega oplysninger'!J219)","v":""},{"$f":"IF('Kollega oplysninger'!L219=\"\",\"\",'Kollega oplysninger'!L219)","v":""},null,null,null,null,null,null,null,null,null,null,null,null,null,null,null,null,null,{"$f":"IF(Lokallønsprocenten!Z219=\"\",\"\",Lokallønsprocenten!Z219)","v":""},{"$f":"IF(Lokallønsprocenten!AA219=\"\",\"\",Lokallønsprocenten!AA219)","v":""},null,null,null,null,{"$f":"IF(Lokallønsprocenten!AF219=\"\",\"\",Lokallønsprocenten!AF219)","v":""},null,{"$f":"IF(Lokallønsprocenten!AH219=\"\",\"\",Lokallønsprocenten!AH219)","v":""},null,null,null,"",""]
[null,{"$f":"IF('Kollega oplysninger'!B220=\"\",\"\",'Kollega oplysninger'!B220)","v":""},{"$f":"IF('Kollega oplysninger'!C220=\"\",\"\",'Kollega oplysninger'!C220)","v":""},null,null,{"$f":"IF('Kollega oplysninger'!I220=\"\",\"\",'Kollega oplysninger'!I220)","v":""},{"$f":"IF('Kollega oplysninger'!J220=\"\",\"\",'Kollega oplysninger'!J220)","v":""},{"$f":"IF('Kollega oplysninger'!L220=\"\",\"\",'Kollega oplysninger'!L220)","v":""},null,null,null,null,null,null,null,null,null,null,null,null,null,null,null,null,null,{"$f":"IF(Lokallønsprocenten!Z220=\"\",\"\",Lokallønsprocenten!Z220)","v":""},{"$f":"IF(Lokallønsprocenten!AA220=\"\",\"\",Lokallønsprocenten!AA220)","v":""},null,null,null,null,{"$f":"IF(Lokallønsprocenten!AF220=\"\",\"\",Lokallønsprocenten!AF220)","v":""},null,{"$f":"IF(Lokallønsprocenten!AH220=\"\",\"\",Lokallønsprocenten!AH220)","v":""},null,null,null,"",""]
[null,{"$f":"IF('Kollega oplysninger'!B221=\"\",\"\",'Kollega oplysninger'!B221)","v":""},{"$f":"IF('Kollega oplysninger'!C221=\"\",\"\",'Kollega oplysninger'!C221)","v":""},null,null,{"$f":"IF('Kollega oplysninger'!I221=\"\",\"\",'Kollega oplysninger'!I221)","v":""},{"$f":"IF('Kollega oplysninger'!J221=\"\",\"\",'Kollega oplysninger'!J221)","v":""},{"$f":"IF('Kollega oplysninger'!L221=\"\",\"\",'Kollega oplysninger'!L221)","v":""},null,null,null,null,null,null,null,null,null,null,null,null,null,null,null,null,null,{"$f":"IF(Lokallønsprocenten!Z221=\"\",\"\",Lokallønsprocenten!Z221)","v":""},{"$f":"IF(Lokallønsprocenten!AA221=\"\",\"\",Lokallønsprocenten!AA221)","v":""},null,null,null,null,{"$f":"IF(Lokallønsprocenten!AF221=\"\",\"\",Lokallønsprocenten!AF221)","v":""},null,{"$f":"IF(Lokallønsprocenten!AH221=\"\",\"\",Lokallønsprocenten!AH221)","v":""},null,null,null,"",""]
[null,{"$f":"IF('Kollega oplysninger'!B222=\"\",\"\",'Kollega oplysninger'!B222)","v":""},{"$f":"IF('Kollega oplysninger'!C222=\"\",\"\",'Kollega oplysninger'!C222)","v":""},null,null,{"$f":"IF('Kollega oplysninger'!I222=\"\",\"\",'Kollega oplysninger'!I222)","v":""},{"$f":"IF('Kollega oplysninger'!J222=\"\",\"\",'Kollega oplysninger'!J222)","v":""},{"$f":"IF('Kollega oplysninger'!L222=\"\",\"\",'Kollega oplysninger'!L222)","v":""},null,null,null,null,null,null,null,null,null,null,null,null,null,null,null,null,null,{"$f":"IF(Lokallønsprocenten!Z222=\"\",\"\",Lokallønsprocenten!Z222)","v":""},{"$f":"IF(Lokallønsprocenten!AA222=\"\",\"\",Lokallønsprocenten!AA222)","v":""},null,null,null,null,{"$f":"IF(Lokallønsprocenten!AF222=\"\",\"\",Lokallønsprocenten!AF222)","v":""},null,{"$f":"IF(Lokallønsprocenten!AH222=\"\",\"\",Lokallønsprocenten!AH222)","v":""},null,null,null,"",""]
[null,{"$f":"IF('Kollega oplysninger'!B223=\"\",\"\",'Kollega oplysninger'!B223)","v":""},{"$f":"IF('Kollega oplysninger'!C223=\"\",\"\",'Kollega oplysninger'!C223)","v":""},null,null,{"$f":"IF('Kollega oplysninger'!I223=\"\",\"\",'Kollega oplysninger'!I223)","v":""},{"$f":"IF('Kollega oplysninger'!J223=\"\",\"\",'Kollega oplysninger'!J223)","v":""},{"$f":"IF('Kollega oplysninger'!L223=\"\",\"\",'Kollega oplysninger'!L223)","v":""},null,null,null,null,null,null,null,null,null,null,null,null,null,null,null,null,null,{"$f":"IF(Lokallønsprocenten!Z223=\"\",\"\",Lokallønsprocenten!Z223)","v":""},{"$f":"IF(Lokallønsprocenten!AA223=\"\",\"\",Lokallønsprocenten!AA223)","v":""},null,null,null,null,{"$f":"IF(Lokallønsprocenten!AF223=\"\",\"\",Lokallønsprocenten!AF223)","v":""},null,{"$f":"IF(Lokallønsprocenten!AH223=\"\",\"\",Lokallønsprocenten!AH223)","v":""},null,null,null,"",""]
[null,{"$f":"IF('Kollega oplysninger'!B224=\"\",\"\",'Kollega oplysninger'!B224)","v":""},{"$f":"IF('Kollega oplysninger'!C224=\"\",\"\",'Kollega oplysninger'!C224)","v":""},null,null,{"$f":"IF('Kollega oplysninger'!I224=\"\",\"\",'Kollega oplysninger'!I224)","v":""},{"$f":"IF('Kollega oplysninger'!J224=\"\",\"\",'Kollega oplysninger'!J224)","v":""},{"$f":"IF('Kollega oplysninger'!L224=\"\",\"\",'Kollega oplysninger'!L224)","v":""},null,null,null,null,null,null,null,null,null,null,null,null,null,null,null,null,null,{"$f":"IF(Lokallønsprocenten!Z224=\"\",\"\",Lokallønsprocenten!Z224)","v":""},{"$f":"IF(Lokallønsprocenten!AA224=\"\",\"\",Lokallønsprocenten!AA224)","v":""},null,null,null,null,{"$f":"IF(Lokallønsprocenten!AF224=\"\",\"\",Lokallønsprocenten!AF224)","v":""},null,{"$f":"IF(Lokallønsprocenten!AH224=\"\",\"\",Lokallønsprocenten!AH224)","v":""},null,null,null,"",""]
[null,{"$f":"IF('Kollega oplysninger'!B225=\"\",\"\",'Kollega oplysninger'!B225)","v":""},{"$f":"IF('Kollega oplysninger'!C225=\"\",\"\",'Kollega oplysninger'!C225)","v":""},null,null,{"$f":"IF('Kollega oplysninger'!I225=\"\",\"\",'Kollega oplysninger'!I225)","v":""},{"$f":"IF('Kollega oplysninger'!J225=\"\",\"\",'Kollega oplysninger'!J225)","v":""},{"$f":"IF('Kollega oplysninger'!L225=\"\",\"\",'Kollega oplysninger'!L225)","v":""},null,null,null,null,null,null,null,null,null,null,null,null,null,null,null,null,null,{"$f":"IF(Lokallønsprocenten!Z225=\"\",\"\",Lokallønsprocenten!Z225)","v":""},{"$f":"IF(Lokallønsprocenten!AA225=\"\",\"\",Lokallønsprocenten!AA225)","v":""},null,null,null,null,{"$f":"IF(Lokallønsprocenten!AF225=\"\",\"\",Lokallønsprocenten!AF225)","v":""},null,{"$f":"IF(Lokallønsprocenten!AH225=\"\",\"\",Lokallønsprocenten!AH225)","v":""},null,null,null,"",""]
[null,{"$f":"IF('Kollega oplysninger'!B226=\"\",\"\",'Kollega oplysninger'!B226)","v":""},{"$f":"IF('Kollega oplysninger'!C226=\"\",\"\",'Kollega oplysninger'!C226)","v":""},null,null,{"$f":"IF('Kollega oplysninger'!I226=\"\",\"\",'Kollega oplysninger'!I226)","v":""},{"$f":"IF('Kollega oplysninger'!J226=\"\",\"\",'Kollega oplysninger'!J226)","v":""},{"$f":"IF('Kollega oplysninger'!L226=\"\",\"\",'Kollega oplysninger'!L226)","v":""},null,null,null,null,null,null,null,null,null,null,null,null,null,null,null,null,null,{"$f":"IF(Lokallønsprocenten!Z226=\"\",\"\",Lokallønsprocenten!Z226)","v":""},{"$f":"IF(Lokallønsprocenten!AA226=\"\",\"\",Lokallønsprocenten!AA226)","v":""},null,null,null,null,{"$f":"IF(Lokallønsprocenten!AF226=\"\",\"\",Lokallønsprocenten!AF226)","v":""},null,{"$f":"IF(Lokallønsprocenten!AH226=\"\",\"\",Lokallønsprocenten!AH226)","v":""},null,null,null,{"$f":"IF(Z226=\"fejl\",X226,\"\")","v":""},""]
[null,{"$f":"IF('Kollega oplysninger'!B227=\"\",\"\",'Kollega oplysninger'!B227)","v":""},{"$f":"IF('Kollega oplysninger'!C227=\"\",\"\",'Kollega oplysninger'!C227)","v":""},null,null,{"$f":"IF('Kollega oplysninger'!I227=\"\",\"\",'Kollega oplysninger'!I227)","v":""},{"$f":"IF('Kollega oplysninger'!J227=\"\",\"\",'Kollega oplysninger'!J227)","v":""},{"$f":"IF('Kollega oplysninger'!L227=\"\",\"\",'Kollega oplysninger'!L227)","v":""},null,null,null,null,null,null,null,null,null,null,null,null,null,null,null,null,null,{"$f":"IF(Lokallønsprocenten!Z227=\"\",\"\",Lokallønsprocenten!Z227)","v":""},{"$f":"IF(Lokallønsprocenten!AA227=\"\",\"\",Lokallønsprocenten!AA227)","v":""},null,null,null,null,{"$f":"IF(Lokallønsprocenten!AF227=\"\",\"\",Lokallønsprocenten!AF227)","v":""},null,{"$f":"IF(Lokallønsprocenten!AH227=\"\",\"\",Lokallønsprocenten!AH227)","v":""},null,null,null,"",""]
[null,{"$f":"IF('Kollega oplysninger'!B228=\"\",\"\",'Kollega oplysninger'!B228)","v":""},{"$f":"IF('Kollega oplysninger'!C228=\"\",\"\",'Kollega oplysninger'!C228)","v":""},null,null,{"$f":"IF('Kollega oplysninger'!I228=\"\",\"\",'Kollega oplysninger'!I228)","v":""},{"$f":"IF('Kollega oplysninger'!J228=\"\",\"\",'Kollega oplysninger'!J228)","v":""},{"$f":"IF('Kollega oplysninger'!L228=\"\",\"\",'Kollega oplysninger'!L228)","v":""},null,null,null,null,null,null,null,null,null,null,null,null,null,null,null,null,null,{"$f":"IF(Lokallønsprocenten!Z228=\"\",\"\",Lokallønsprocenten!Z228)","v":""},{"$f":"IF(Lokallønsprocenten!AA228=\"\",\"\",Lokallønsprocenten!AA228)","v":""},null,null,null,null,{"$f":"IF(Lokallønsprocenten!AF228=\"\",\"\",Lokallønsprocenten!AF228)","v":""},null,{"$f":"IF(Lokallønsprocenten!AH228=\"\",\"\",Lokallønsprocenten!AH228)","v":""},null,null,null,"",""]
[null,{"$f":"IF('Kollega oplysninger'!B229=\"\",\"\",'Kollega oplysninger'!B229)","v":""},{"$f":"IF('Kollega oplysninger'!C229=\"\",\"\",'Kollega oplysninger'!C229)","v":""},null,null,{"$f":"IF('Kollega oplysninger'!I229=\"\",\"\",'Kollega oplysninger'!I229)","v":""},{"$f":"IF('Kollega oplysninger'!J229=\"\",\"\",'Kollega oplysninger'!J229)","v":""},{"$f":"IF('Kollega oplysninger'!L229=\"\",\"\",'Kollega oplysninger'!L229)","v":""},null,null,null,null,null,null,null,null,null,null,null,null,null,null,null,null,null,{"$f":"IF(Lokallønsprocenten!Z229=\"\",\"\",Lokallønsprocenten!Z229)","v":""},{"$f":"IF(Lokallønsprocenten!AA229=\"\",\"\",Lokallønsprocenten!AA229)","v":""},null,null,null,null,{"$f":"IF(Lokallønsprocenten!AF229=\"\",\"\",Lokallønsprocenten!AF229)","v":""},null,{"$f":"IF(Lokallønsprocenten!AH229=\"\",\"\",Lokallønsprocenten!AH229)","v":""},null,null,null,"",""]
[null,{"$f":"IF('Kollega oplysninger'!B230=\"\",\"\",'Kollega oplysninger'!B230)","v":""},{"$f":"IF('Kollega oplysninger'!C230=\"\",\"\",'Kollega oplysninger'!C230)","v":""},null,null,{"$f":"IF('Kollega oplysninger'!I230=\"\",\"\",'Kollega oplysninger'!I230)","v":""},{"$f":"IF('Kollega oplysninger'!J230=\"\",\"\",'Kollega oplysninger'!J230)","v":""},{"$f":"IF('Kollega oplysninger'!L230=\"\",\"\",'Kollega oplysninger'!L230)","v":""},null,null,null,null,null,null,null,null,null,null,null,null,null,null,null,null,null,{"$f":"IF(Lokallønsprocenten!Z230=\"\",\"\",Lokallønsprocenten!Z230)","v":""},{"$f":"IF(Lokallønsprocenten!AA230=\"\",\"\",Lokallønsprocenten!AA230)","v":""},null,null,null,null,{"$f":"IF(Lokallønsprocenten!AF230=\"\",\"\",Lokallønsprocenten!AF230)","v":""},null,{"$f":"IF(Lokallønsprocenten!AH230=\"\",\"\",Lokallønsprocenten!AH230)","v":""},null,null,null,"",""]
[null,{"$f":"IF('Kollega oplysninger'!B231=\"\",\"\",'Kollega oplysninger'!B231)","v":""},{"$f":"IF('Kollega oplysninger'!C231=\"\",\"\",'Kollega oplysninger'!C231)","v":""},null,null,{"$f":"IF('Kollega oplysninger'!I231=\"\",\"\",'Kollega oplysninger'!I231)","v":""},{"$f":"IF('Kollega oplysninger'!J231=\"\",\"\",'Kollega oplysninger'!J231)","v":""},{"$f":"IF('Kollega oplysninger'!L231=\"\",\"\",'Kollega oplysninger'!L231)","v":""},null,null,null,null,null,null,null,null,null,null,null,null,null,null,null,null,null,{"$f":"IF(Lokallønsprocenten!Z231=\"\",\"\",Lokallønsprocenten!Z231)","v":""},{"$f":"IF(Lokallønsprocenten!AA231=\"\",\"\",Lokallønsprocenten!AA231)","v":""},null,null,null,null,{"$f":"IF(Lokallønsprocenten!AF231=\"\",\"\",Lokallønsprocenten!AF231)","v":""},null,{"$f":"IF(Lokallønsprocenten!AH231=\"\",\"\",Lokallønsprocenten!AH231)","v":""},null,null,null,"",""]
[null,{"$f":"IF('Kollega oplysninger'!B232=\"\",\"\",'Kollega oplysninger'!B232)","v":""},{"$f":"IF('Kollega oplysninger'!C232=\"\",\"\",'Kollega oplysninger'!C232)","v":""},null,null,{"$f":"IF('Kollega oplysninger'!I232=\"\",\"\",'Kollega oplysninger'!I232)","v":""},{"$f":"IF('Kollega oplysninger'!J232=\"\",\"\",'Kollega oplysninger'!J232)","v":""},{"$f":"IF('Kollega oplysninger'!L232=\"\",\"\",'Kollega oplysninger'!L232)","v":""},null,null,null,null,null,null,null,null,null,null,null,null,null,null,null,null,null,{"$f":"IF(Lokallønsprocenten!Z232=\"\",\"\",Lokallønsprocenten!Z232)","v":""},{"$f":"IF(Lokallønsprocenten!AA232=\"\",\"\",Lokallønsprocenten!AA232)","v":""},null,null,null,null,{"$f":"IF(Lokallønsprocenten!AF232=\"\",\"\",Lokallønsprocenten!AF232)","v":""},null,{"$f":"IF(Lokallønsprocenten!AH232=\"\",\"\",Lokallønsprocenten!AH232)","v":""},null,null,null,"",""]
[null,{"$f":"IF('Kollega oplysninger'!B233=\"\",\"\",'Kollega oplysninger'!B233)","v":""},{"$f":"IF('Kollega oplysninger'!C233=\"\",\"\",'Kollega oplysninger'!C233)","v":""},null,null,{"$f":"IF('Kollega oplysninger'!I233=\"\",\"\",'Kollega oplysninger'!I233)","v":""},{"$f":"IF('Kollega oplysninger'!J233=\"\",\"\",'Kollega oplysninger'!J233)","v":""},{"$f":"IF('Kollega oplysninger'!L233=\"\",\"\",'Kollega oplysninger'!L233)","v":""},null,null,null,null,null,null,null,null,null,null,null,null,null,null,null,null,null,{"$f":"IF(Lokallønsprocenten!Z233=\"\",\"\",Lokallønsprocenten!Z233)","v":""},{"$f":"IF(Lokallønsprocenten!AA233=\"\",\"\",Lokallønsprocenten!AA233)","v":""},null,null,null,null,{"$f":"IF(Lokallønsprocenten!AF233=\"\",\"\",Lokallønsprocenten!AF233)","v":""},null,{"$f":"IF(Lokallønsprocenten!AH233=\"\",\"\",Lokallønsprocenten!AH233)","v":""},null,null,null,"",""]
[null,{"$f":"IF('Kollega oplysninger'!B234=\"\",\"\",'Kollega oplysninger'!B234)","v":""},{"$f":"IF('Kollega oplysninger'!C234=\"\",\"\",'Kollega oplysninger'!C234)","v":""},null,null,{"$f":"IF('Kollega oplysninger'!I234=\"\",\"\",'Kollega oplysninger'!I234)","v":""},{"$f":"IF('Kollega oplysninger'!J234=\"\",\"\",'Kollega oplysninger'!J234)","v":""},{"$f":"IF('Kollega oplysninger'!L234=\"\",\"\",'Kollega oplysninger'!L234)","v":""},null,null,null,null,null,null,null,null,null,null,null,null,null,null,null,null,null,{"$f":"IF(Lokallønsprocenten!Z234=\"\",\"\",Lokallønsprocenten!Z234)","v":""},{"$f":"IF(Lokallønsprocenten!AA234=\"\",\"\",Lokallønsprocenten!AA234)","v":""},null,null,null,null,{"$f":"IF(Lokallønsprocenten!AF234=\"\",\"\",Lokallønsprocenten!AF234)","v":""},null,{"$f":"IF(Lokallønsprocenten!AH234=\"\",\"\",Lokallønsprocenten!AH234)","v":""},null,null,null,"",""]
[null,{"$f":"IF('Kollega oplysninger'!B235=\"\",\"\",'Kollega oplysninger'!B235)","v":""},{"$f":"IF('Kollega oplysninger'!C235=\"\",\"\",'Kollega oplysninger'!C235)","v":""},null,null,{"$f":"IF('Kollega oplysninger'!I235=\"\",\"\",'Kollega oplysninger'!I235)","v":""},{"$f":"IF('Kollega oplysninger'!J235=\"\",\"\",'Kollega oplysninger'!J235)","v":""},{"$f":"IF('Kollega oplysninger'!L235=\"\",\"\",'Kollega oplysninger'!L235)","v":""},null,null,null,null,null,null,null,null,null,null,null,null,null,null,null,null,null,{"$f":"IF(Lokallønsprocenten!Z235=\"\",\"\",Lokallønsprocenten!Z235)","v":""},{"$f":"IF(Lokallønsprocenten!AA235=\"\",\"\",Lokallønsprocenten!AA235)","v":""},null,null,null,null,{"$f":"IF(Lokallønsprocenten!AF235=\"\",\"\",Lokallønsprocenten!AF235)","v":""},null,{"$f":"IF(Lokallønsprocenten!AH235=\"\",\"\",Lokallønsprocenten!AH235)","v":""},null,null,null,"",""]
[null,{"$f":"IF('Kollega oplysninger'!B236=\"\",\"\",'Kollega oplysninger'!B236)","v":""},{"$f":"IF('Kollega oplysninger'!C236=\"\",\"\",'Kollega oplysninger'!C236)","v":""},null,null,{"$f":"IF('Kollega oplysninger'!I236=\"\",\"\",'Kollega oplysninger'!I236)","v":""},{"$f":"IF('Kollega oplysninger'!J236=\"\",\"\",'Kollega oplysninger'!J236)","v":""},{"$f":"IF('Kollega oplysninger'!L236=\"\",\"\",'Kollega oplysninger'!L236)","v":""},null,null,null,null,null,null,null,null,null,null,null,null,null,null,null,null,null,{"$f":"IF(Lokallønsprocenten!Z236=\"\",\"\",Lokallønsprocenten!Z236)","v":""},{"$f":"IF(Lokallønsprocenten!AA236=\"\",\"\",Lokallønsprocenten!AA236)","v":""},null,null,null,null,{"$f":"IF(Lokallønsprocenten!AF236=\"\",\"\",Lokallønsprocenten!AF236)","v":""},null,{"$f":"IF(Lokallønsprocenten!AH236=\"\",\"\",Lokallønsprocenten!AH236)","v":""},null,null,null,"",""]
[null,{"$f":"IF('Kollega oplysninger'!B237=\"\",\"\",'Kollega oplysninger'!B237)","v":""},{"$f":"IF('Kollega oplysninger'!C237=\"\",\"\",'Kollega oplysninger'!C237)","v":""},null,null,{"$f":"IF('Kollega oplysninger'!I237=\"\",\"\",'Kollega oplysninger'!I237)","v":""},{"$f":"IF('Kollega oplysninger'!J237=\"\",\"\",'Kollega oplysninger'!J237)","v":""},{"$f":"IF('Kollega oplysninger'!L237=\"\",\"\",'Kollega oplysninger'!L237)","v":""},null,null,null,null,null,null,null,null,null,null,null,null,null,null,null,null,null,{"$f":"IF(Lokallønsprocenten!Z237=\"\",\"\",Lokallønsprocenten!Z237)","v":""},{"$f":"IF(Lokallønsprocenten!AA237=\"\",\"\",Lokallønsprocenten!AA237)","v":""},null,null,null,null,{"$f":"IF(Lokallønsprocenten!AF237=\"\",\"\",Lokallønsprocenten!AF237)","v":""},null,{"$f":"IF(Lokallønsprocenten!AH237=\"\",\"\",Lokallønsprocenten!AH237)","v":""},null,null,null,"",""]
[null,{"$f":"IF('Kollega oplysninger'!B238=\"\",\"\",'Kollega oplysninger'!B238)","v":""},{"$f":"IF('Kollega oplysninger'!C238=\"\",\"\",'Kollega oplysninger'!C238)","v":""},null,null,{"$f":"IF('Kollega oplysninger'!I238=\"\",\"\",'Kollega oplysninger'!I238)","v":""},{"$f":"IF('Kollega oplysninger'!J238=\"\",\"\",'Kollega oplysninger'!J238)","v":""},{"$f":"IF('Kollega oplysninger'!L238=\"\",\"\",'Kollega oplysninger'!L238)","v":""},null,null,null,null,null,null,null,null,null,null,null,null,null,null,null,null,null,{"$f":"IF(Lokallønsprocenten!Z238=\"\",\"\",Lokallønsprocenten!Z238)","v":""},{"$f":"IF(Lokallønsprocenten!AA238=\"\",\"\",Lokallønsprocenten!AA238)","v":""},null,null,null,null,{"$f":"IF(Lokallønsprocenten!AF238=\"\",\"\",Lokallønsprocenten!AF238)","v":""},null,{"$f":"IF(Lokallønsprocenten!AH238=\"\",\"\",Lokallønsprocenten!AH238)","v":""},null,null,null,"",""]
[null,{"$f":"IF('Kollega oplysninger'!B239=\"\",\"\",'Kollega oplysninger'!B239)","v":""},{"$f":"IF('Kollega oplysninger'!C239=\"\",\"\",'Kollega oplysninger'!C239)","v":""},null,null,{"$f":"IF('Kollega oplysninger'!I239=\"\",\"\",'Kollega oplysninger'!I239)","v":""},{"$f":"IF('Kollega oplysninger'!J239=\"\",\"\",'Kollega oplysninger'!J239)","v":""},{"$f":"IF('Kollega oplysninger'!L239=\"\",\"\",'Kollega oplysninger'!L239)","v":""},null,null,null,null,null,null,null,null,null,null,null,null,null,null,null,null,null,{"$f":"IF(Lokallønsprocenten!Z239=\"\",\"\",Lokallønsprocenten!Z239)","v":""},{"$f":"IF(Lokallønsprocenten!AA239=\"\",\"\",Lokallønsprocenten!AA239)","v":""},null,null,null,null,{"$f":"IF(Lokallønsprocenten!AF239=\"\",\"\",Lokallønsprocenten!AF239)","v":""},null,{"$f":"IF(Lokallønsprocenten!AH239=\"\",\"\",Lokallønsprocenten!AH239)","v":""},null,null,null,"",""]
[null,{"$f":"IF('Kollega oplysninger'!B240=\"\",\"\",'Kollega oplysninger'!B240)","v":""},{"$f":"IF('Kollega oplysninger'!C240=\"\",\"\",'Kollega oplysninger'!C240)","v":""},null,null,{"$f":"IF('Kollega oplysninger'!I240=\"\",\"\",'Kollega oplysninger'!I240)","v":""},{"$f":"IF('Kollega oplysninger'!J240=\"\",\"\",'Kollega oplysninger'!J240)","v":""},{"$f":"IF('Kollega oplysninger'!L240=\"\",\"\",'Kollega oplysninger'!L240)","v":""},null,null,null,null,null,null,null,null,null,null,null,null,null,null,null,null,null,{"$f":"IF(Lokallønsprocenten!Z240=\"\",\"\",Lokallønsprocenten!Z240)","v":""},{"$f":"IF(Lokallønsprocenten!AA240=\"\",\"\",Lokallønsprocenten!AA240)","v":""},null,null,null,null,{"$f":"IF(Lokallønsprocenten!AF240=\"\",\"\",Lokallønsprocenten!AF240)","v":""},null,{"$f":"IF(Lokallønsprocenten!AH240=\"\",\"\",Lokallønsprocenten!AH240)","v":""},null,null,null,"",""]
[null,{"$f":"IF('Kollega oplysninger'!B241=\"\",\"\",'Kollega oplysninger'!B241)","v":""},{"$f":"IF('Kollega oplysninger'!C241=\"\",\"\",'Kollega oplysninger'!C241)","v":""},null,null,{"$f":"IF('Kollega oplysninger'!I241=\"\",\"\",'Kollega oplysninger'!I241)","v":""},{"$f":"IF('Kollega oplysninger'!J241=\"\",\"\",'Kollega oplysninger'!J241)","v":""},{"$f":"IF('Kollega oplysninger'!L241=\"\",\"\",'Kollega oplysninger'!L241)","v":""},null,null,null,null,null,null,null,null,null,null,null,null,null,null,null,null,null,{"$f":"IF(Lokallønsprocenten!Z241=\"\",\"\",Lokallønsprocenten!Z241)","v":""},{"$f":"IF(Lokallønsprocenten!AA241=\"\",\"\",Lokallønsprocenten!AA241)","v":""},null,null,null,null,{"$f":"IF(Lokallønsprocenten!AF241=\"\",\"\",Lokallønsprocenten!AF241)","v":""},null,{"$f":"IF(Lokallønsprocenten!AH241=\"\",\"\",Lokallønsprocenten!AH241)","v":""},null,null,null,"",""]
[null,{"$f":"IF('Kollega oplysninger'!B242=\"\",\"\",'Kollega oplysninger'!B242)","v":""},{"$f":"IF('Kollega oplysninger'!C242=\"\",\"\",'Kollega oplysninger'!C242)","v":""},null,null,{"$f":"IF('Kollega oplysninger'!I242=\"\",\"\",'Kollega oplysninger'!I242)","v":""},{"$f":"IF('Kollega oplysninger'!J242=\"\",\"\",'Kollega oplysninger'!J242)","v":""},{"$f":"IF('Kollega oplysninger'!L242=\"\",\"\",'Kollega oplysninger'!L242)","v":""},null,null,null,null,null,null,null,null,null,null,null,null,null,null,null,null,null,{"$f":"IF(Lokallønsprocenten!Z242=\"\",\"\",Lokallønsprocenten!Z242)","v":""},{"$f":"IF(Lokallønsprocenten!AA242=\"\",\"\",Lokallønsprocenten!AA242)","v":""},null,null,null,null,{"$f":"IF(Lokallønsprocenten!AF242=\"\",\"\",Lokallønsprocenten!AF242)","v":""},null,{"$f":"IF(Lokallønsprocenten!AH242=\"\",\"\",Lokallønsprocenten!AH242)","v":""},null,null,null,"",""]
[null,{"$f":"IF('Kollega oplysninger'!B243=\"\",\"\",'Kollega oplysninger'!B243)","v":""},{"$f":"IF('Kollega oplysninger'!C243=\"\",\"\",'Kollega oplysninger'!C243)","v":""},null,null,{"$f":"IF('Kollega oplysninger'!I243=\"\",\"\",'Kollega oplysninger'!I243)","v":""},{"$f":"IF('Kollega oplysninger'!J243=\"\",\"\",'Kollega oplysninger'!J243)","v":""},{"$f":"IF('Kollega oplysninger'!L243=\"\",\"\",'Kollega oplysninger'!L243)","v":""},null,null,null,null,null,null,null,null,null,null,null,null,null,null,null,null,null,{"$f":"IF(Lokallønsprocenten!Z243=\"\",\"\",Lokallønsprocenten!Z243)","v":""},{"$f":"IF(Lokallønsprocenten!AA243=\"\",\"\",Lokallønsprocenten!AA243)","v":""},null,null,null,null,{"$f":"IF(Lokallønsprocenten!AF243=\"\",\"\",Lokallønsprocenten!AF243)","v":""},null,{"$f":"IF(Lokallønsprocenten!AH243=\"\",\"\",Lokallønsprocenten!AH243)","v":""},null,null,null,"",""]
[null,{"$f":"IF('Kollega oplysninger'!B244=\"\",\"\",'Kollega oplysninger'!B244)","v":""},{"$f":"IF('Kollega oplysninger'!C244=\"\",\"\",'Kollega oplysninger'!C244)","v":""},null,null,{"$f":"IF('Kollega oplysninger'!I244=\"\",\"\",'Kollega oplysninger'!I244)","v":""},{"$f":"IF('Kollega oplysninger'!J244=\"\",\"\",'Kollega oplysninger'!J244)","v":""},{"$f":"IF('Kollega oplysninger'!L244=\"\",\"\",'Kollega oplysninger'!L244)","v":""},null,null,null,null,null,null,null,null,null,null,null,null,null,null,null,null,null,{"$f":"IF(Lokallønsprocenten!Z244=\"\",\"\",Lokallønsprocenten!Z244)","v":""},{"$f":"IF(Lokallønsprocenten!AA244=\"\",\"\",Lokallønsprocenten!AA244)","v":""},null,null,null,null,{"$f":"IF(Lokallønsprocenten!AF244=\"\",\"\",Lokallønsprocenten!AF244)","v":""},null,{"$f":"IF(Lokallønsprocenten!AH244=\"\",\"\",Lokallønsprocenten!AH244)","v":""},null,null,null,"",""]
[null,{"$f":"IF('Kollega oplysninger'!B245=\"\",\"\",'Kollega oplysninger'!B245)","v":""},{"$f":"IF('Kollega oplysninger'!C245=\"\",\"\",'Kollega oplysninger'!C245)","v":""},null,null,{"$f":"IF('Kollega oplysninger'!I245=\"\",\"\",'Kollega oplysninger'!I245)","v":""},{"$f":"IF('Kollega oplysninger'!J245=\"\",\"\",'Kollega oplysninger'!J245)","v":""},{"$f":"IF('Kollega oplysninger'!L245=\"\",\"\",'Kollega oplysninger'!L245)","v":""},null,null,null,null,null,null,null,null,null,null,null,null,null,null,null,null,null,{"$f":"IF(Lokallønsprocenten!Z245=\"\",\"\",Lokallønsprocenten!Z245)","v":""},{"$f":"IF(Lokallønsprocenten!AA245=\"\",\"\",Lokallønsprocenten!AA245)","v":""},null,null,null,null,{"$f":"IF(Lokallønsprocenten!AF245=\"\",\"\",Lokallønsprocenten!AF245)","v":""},null,{"$f":"IF(Lokallønsprocenten!AH245=\"\",\"\",Lokallønsprocenten!AH245)","v":""},null,null,null,"",""]
[null,{"$f":"IF('Kollega oplysninger'!B246=\"\",\"\",'Kollega oplysninger'!B246)","v":""},{"$f":"IF('Kollega oplysninger'!C246=\"\",\"\",'Kollega oplysninger'!C246)","v":""},null,null,{"$f":"IF('Kollega oplysninger'!I246=\"\",\"\",'Kollega oplysninger'!I246)","v":""},{"$f":"IF('Kollega oplysninger'!J246=\"\",\"\",'Kollega oplysninger'!J246)","v":""},{"$f":"IF('Kollega oplysninger'!L246=\"\",\"\",'Kollega oplysninger'!L246)","v":""},null,null,null,null,null,null,null,null,null,null,null,null,null,null,null,null,null,{"$f":"IF(Lokallønsprocenten!Z246=\"\",\"\",Lokallønsprocenten!Z246)","v":""},{"$f":"IF(Lokallønsprocenten!AA246=\"\",\"\",Lokallønsprocenten!AA246)","v":""},null,null,null,null,{"$f":"IF(Lokallønsprocenten!AF246=\"\",\"\",Lokallønsprocenten!AF246)","v":""},null,{"$f":"IF(Lokallønsprocenten!AH246=\"\",\"\",Lokallønsprocenten!AH246)","v":""},null,null,null,"",""]
[null,{"$f":"IF('Kollega oplysninger'!B247=\"\",\"\",'Kollega oplysninger'!B247)","v":""},{"$f":"IF('Kollega oplysninger'!C247=\"\",\"\",'Kollega oplysninger'!C247)","v":""},null,null,{"$f":"IF('Kollega oplysninger'!I247=\"\",\"\",'Kollega oplysninger'!I247)","v":""},{"$f":"IF('Kollega oplysninger'!J247=\"\",\"\",'Kollega oplysninger'!J247)","v":""},{"$f":"IF('Kollega oplysninger'!L247=\"\",\"\",'Kollega oplysninger'!L247)","v":""},null,null,null,null,null,null,null,null,null,null,null,null,null,null,null,null,null,{"$f":"IF(Lokallønsprocenten!Z247=\"\",\"\",Lokallønsprocenten!Z247)","v":""},{"$f":"IF(Lokallønsprocenten!AA247=\"\",\"\",Lokallønsprocenten!AA247)","v":""},null,null,null,null,{"$f":"IF(Lokallønsprocenten!AF247=\"\",\"\",Lokallønsprocenten!AF247)","v":""},null,{"$f":"IF(Lokallønsprocenten!AH247=\"\",\"\",Lokallønsprocenten!AH247)","v":""},null,null,null,"",""]
[null,{"$f":"IF('Kollega oplysninger'!B248=\"\",\"\",'Kollega oplysninger'!B248)","v":""},{"$f":"IF('Kollega oplysninger'!C248=\"\",\"\",'Kollega oplysninger'!C248)","v":""},null,null,{"$f":"IF('Kollega oplysninger'!I248=\"\",\"\",'Kollega oplysninger'!I248)","v":""},{"$f":"IF('Kollega oplysninger'!J248=\"\",\"\",'Kollega oplysninger'!J248)","v":""},{"$f":"IF('Kollega oplysninger'!L248=\"\",\"\",'Kollega oplysninger'!L248)","v":""},null,null,null,null,null,null,null,null,null,null,null,null,null,null,null,null,null,{"$f":"IF(Lokallønsprocenten!Z248=\"\",\"\",Lokallønsprocenten!Z248)","v":""},{"$f":"IF(Lokallønsprocenten!AA248=\"\",\"\",Lokallønsprocenten!AA248)","v":""},null,null,null,null,{"$f":"IF(Lokallønsprocenten!AF248=\"\",\"\",Lokallønsprocenten!AF248)","v":""},null,{"$f":"IF(Lokallønsprocenten!AH248=\"\",\"\",Lokallønsprocenten!AH248)","v":""},null,null,null,"",""]
[null,{"$f":"IF('Kollega oplysninger'!B249=\"\",\"\",'Kollega oplysninger'!B249)","v":""},{"$f":"IF('Kollega oplysninger'!C249=\"\",\"\",'Kollega oplysninger'!C249)","v":""},null,null,{"$f":"IF('Kollega oplysninger'!I249=\"\",\"\",'Kollega oplysninger'!I249)","v":""},{"$f":"IF('Kollega oplysninger'!J249=\"\",\"\",'Kollega oplysninger'!J249)","v":""},{"$f":"IF('Kollega oplysninger'!L249=\"\",\"\",'Kollega oplysninger'!L249)","v":""},null,null,null,null,null,null,null,null,null,null,null,null,null,null,null,null,null,{"$f":"IF(Lokallønsprocenten!Z249=\"\",\"\",Lokallønsprocenten!Z249)","v":""},{"$f":"IF(Lokallønsprocenten!AA249=\"\",\"\",Lokallønsprocenten!AA249)","v":""},null,null,null,null,{"$f":"IF(Lokallønsprocenten!AF249=\"\",\"\",Lokallønsprocenten!AF249)","v":""},null,{"$f":"IF(Lokallønsprocenten!AH249=\"\",\"\",Lokallønsprocenten!AH249)","v":""},null,null,null,"",""]
[null,{"$f":"IF('Kollega oplysninger'!B250=\"\",\"\",'Kollega oplysninger'!B250)","v":""},{"$f":"IF('Kollega oplysninger'!C250=\"\",\"\",'Kollega oplysninger'!C250)","v":""},null,null,{"$f":"IF('Kollega oplysninger'!I250=\"\",\"\",'Kollega oplysninger'!I250)","v":""},{"$f":"IF('Kollega oplysninger'!J250=\"\",\"\",'Kollega oplysninger'!J250)","v":""},{"$f":"IF('Kollega oplysninger'!L250=\"\",\"\",'Kollega oplysninger'!L250)","v":""},null,null,null,null,null,null,null,null,null,null,null,null,null,null,null,null,null,{"$f":"IF(Lokallønsprocenten!Z250=\"\",\"\",Lokallønsprocenten!Z250)","v":""},{"$f":"IF(Lokallønsprocenten!AA250=\"\",\"\",Lokallønsprocenten!AA250)","v":""},null,null,null,null,{"$f":"IF(Lokallønsprocenten!AF250=\"\",\"\",Lokallønsprocenten!AF250)","v":""},null,{"$f":"IF(Lokallønsprocenten!AH250=\"\",\"\",Lokallønsprocenten!AH250)","v":""},null,null,null,"",""]
[null,{"$f":"IF('Kollega oplysninger'!B251=\"\",\"\",'Kollega oplysninger'!B251)","v":""},{"$f":"IF('Kollega oplysninger'!C251=\"\",\"\",'Kollega oplysninger'!C251)","v":""},null,null,{"$f":"IF('Kollega oplysninger'!I251=\"\",\"\",'Kollega oplysninger'!I251)","v":""},{"$f":"IF('Kollega oplysninger'!J251=\"\",\"\",'Kollega oplysninger'!J251)","v":""},{"$f":"IF('Kollega oplysninger'!L251=\"\",\"\",'Kollega oplysninger'!L251)","v":""},null,null,null,null,null,null,null,null,null,null,null,null,null,null,null,null,null,{"$f":"IF(Lokallønsprocenten!Z251=\"\",\"\",Lokallønsprocenten!Z251)","v":""},{"$f":"IF(Lokallønsprocenten!AA251=\"\",\"\",Lokallønsprocenten!AA251)","v":""},null,null,null,null,{"$f":"IF(Lokallønsprocenten!AF251=\"\",\"\",Lokallønsprocenten!AF251)","v":""},null,{"$f":"IF(Lokallønsprocenten!AH251=\"\",\"\",Lokallønsprocenten!AH251)","v":""},null,null,null,"",""]
[null,{"$f":"IF('Kollega oplysninger'!B252=\"\",\"\",'Kollega oplysninger'!B252)","v":""},{"$f":"IF('Kollega oplysninger'!C252=\"\",\"\",'Kollega oplysninger'!C252)","v":""},null,null,{"$f":"IF('Kollega oplysninger'!I252=\"\",\"\",'Kollega oplysninger'!I252)","v":""},{"$f":"IF('Kollega oplysninger'!J252=\"\",\"\",'Kollega oplysninger'!J252)","v":""},{"$f":"IF('Kollega oplysninger'!L252=\"\",\"\",'Kollega oplysninger'!L252)","v":""},null,null,null,null,null,null,null,null,null,null,null,null,null,null,null,null,null,{"$f":"IF(Lokallønsprocenten!Z252=\"\",\"\",Lokallønsprocenten!Z252)","v":""},{"$f":"IF(Lokallønsprocenten!AA252=\"\",\"\",Lokallønsprocenten!AA252)","v":""},null,null,null,null,{"$f":"IF(Lokallønsprocenten!AF252=\"\",\"\",Lokallønsprocenten!AF252)","v":""},null,{"$f":"IF(Lokallønsprocenten!AH252=\"\",\"\",Lokallønsprocenten!AH252)","v":""},null,null,null,"",""]
[null,{"$f":"IF('Kollega oplysninger'!B253=\"\",\"\",'Kollega oplysninger'!B253)","v":""},{"$f":"IF('Kollega oplysninger'!C253=\"\",\"\",'Kollega oplysninger'!C253)","v":""},null,null,{"$f":"IF('Kollega oplysninger'!I253=\"\",\"\",'Kollega oplysninger'!I253)","v":""},{"$f":"IF('Kollega oplysninger'!J253=\"\",\"\",'Kollega oplysninger'!J253)","v":""},{"$f":"IF('Kollega oplysninger'!L253=\"\",\"\",'Kollega oplysninger'!L253)","v":""},null,null,null,null,null,null,null,null,null,null,null,null,null,null,null,null,null,{"$f":"IF(Lokallønsprocenten!Z253=\"\",\"\",Lokallønsprocenten!Z253)","v":""},{"$f":"IF(Lokallønsprocenten!AA253=\"\",\"\",Lokallønsprocenten!AA253)","v":""},null,null,null,null,{"$f":"IF(Lokallønsprocenten!AF253=\"\",\"\",Lokallønsprocenten!AF253)","v":""},null,{"$f":"IF(Lokallønsprocenten!AH253=\"\",\"\",Lokallønsprocenten!AH253)","v":""},null,null,null,"",""]
[null,{"$f":"IF('Kollega oplysninger'!B254=\"\",\"\",'Kollega oplysninger'!B254)","v":""},{"$f":"IF('Kollega oplysninger'!C254=\"\",\"\",'Kollega oplysninger'!C254)","v":""},null,null,{"$f":"IF('Kollega oplysninger'!I254=\"\",\"\",'Kollega oplysninger'!I254)","v":""},{"$f":"IF('Kollega oplysninger'!J254=\"\",\"\",'Kollega oplysninger'!J254)","v":""},{"$f":"IF('Kollega oplysninger'!L254=\"\",\"\",'Kollega oplysninger'!L254)","v":""},null,null,null,null,null,null,null,null,null,null,null,null,null,null,null,null,null,{"$f":"IF(Lokallønsprocenten!Z254=\"\",\"\",Lokallønsprocenten!Z254)","v":""},{"$f":"IF(Lokallønsprocenten!AA254=\"\",\"\",Lokallønsprocenten!AA254)","v":""},null,null,null,null,{"$f":"IF(Lokallønsprocenten!AF254=\"\",\"\",Lokallønsprocenten!AF254)","v":""},null,{"$f":"IF(Lokallønsprocenten!AH254=\"\",\"\",Lokallønsprocenten!AH254)","v":""},null,null,null,"",""]
[null,{"$f":"IF('Kollega oplysninger'!B255=\"\",\"\",'Kollega oplysninger'!B255)","v":""},{"$f":"IF('Kollega oplysninger'!C255=\"\",\"\",'Kollega oplysninger'!C255)","v":""},null,null,{"$f":"IF('Kollega oplysninger'!I255=\"\",\"\",'Kollega oplysninger'!I255)","v":""},{"$f":"IF('Kollega oplysninger'!J255=\"\",\"\",'Kollega oplysninger'!J255)","v":""},{"$f":"IF('Kollega oplysninger'!L255=\"\",\"\",'Kollega oplysninger'!L255)","v":""},null,null,null,null,null,null,null,null,null,null,null,null,null,null,null,null,null,{"$f":"IF(Lokallønsprocenten!Z255=\"\",\"\",Lokallønsprocenten!Z255)","v":""},{"$f":"IF(Lokallønsprocenten!AA255=\"\",\"\",Lokallønsprocenten!AA255)","v":""},null,null,null,null,{"$f":"IF(Lokallønsprocenten!AF255=\"\",\"\",Lokallønsprocenten!AF255)","v":""},null,{"$f":"IF(Lokallønsprocenten!AH255=\"\",\"\",Lokallønsprocenten!AH255)","v":""},null,null,null,"",""]
[null,{"$f":"IF('Kollega oplysninger'!B256=\"\",\"\",'Kollega oplysninger'!B256)","v":""},{"$f":"IF('Kollega oplysninger'!C256=\"\",\"\",'Kollega oplysninger'!C256)","v":""},null,null,{"$f":"IF('Kollega oplysninger'!I256=\"\",\"\",'Kollega oplysninger'!I256)","v":""},{"$f":"IF('Kollega oplysninger'!J256=\"\",\"\",'Kollega oplysninger'!J256)","v":""},{"$f":"IF('Kollega oplysninger'!L256=\"\",\"\",'Kollega oplysninger'!L256)","v":""},null,null,null,null,null,null,null,null,null,null,null,null,null,null,null,null,null,{"$f":"IF(Lokallønsprocenten!Z256=\"\",\"\",Lokallønsprocenten!Z256)","v":""},{"$f":"IF(Lokallønsprocenten!AA256=\"\",\"\",Lokallønsprocenten!AA256)","v":""},null,null,null,null,{"$f":"IF(Lokallønsprocenten!AF256=\"\",\"\",Lokallønsprocenten!AF256)","v":""},null,{"$f":"IF(Lokallønsprocenten!AH256=\"\",\"\",Lokallønsprocenten!AH256)","v":""},null,null,null,"",""]
[null,{"$f":"IF('Kollega oplysninger'!B257=\"\",\"\",'Kollega oplysninger'!B257)","v":""},{"$f":"IF('Kollega oplysninger'!C257=\"\",\"\",'Kollega oplysninger'!C257)","v":""},null,null,{"$f":"IF('Kollega oplysninger'!I257=\"\",\"\",'Kollega oplysninger'!I257)","v":""},{"$f":"IF('Kollega oplysninger'!J257=\"\",\"\",'Kollega oplysninger'!J257)","v":""},{"$f":"IF('Kollega oplysninger'!L257=\"\",\"\",'Kollega oplysninger'!L257)","v":""},null,null,null,null,null,null,null,null,null,null,null,null,null,null,null,null,null,{"$f":"IF(Lokallønsprocenten!Z257=\"\",\"\",Lokallønsprocenten!Z257)","v":""},{"$f":"IF(Lokallønsprocenten!AA257=\"\",\"\",Lokallønsprocenten!AA257)","v":""},null,null,null,null,{"$f":"IF(Lokallønsprocenten!AF257=\"\",\"\",Lokallønsprocenten!AF257)","v":""},null,{"$f":"IF(Lokallønsprocenten!AH257=\"\",\"\",Lokallønsprocenten!AH257)","v":""},null,null,null,"",""]
[null,{"$f":"IF('Kollega oplysninger'!B258=\"\",\"\",'Kollega oplysninger'!B258)","v":""},{"$f":"IF('Kollega oplysninger'!C258=\"\",\"\",'Kollega oplysninger'!C258)","v":""},null,null,{"$f":"IF('Kollega oplysninger'!I258=\"\",\"\",'Kollega oplysninger'!I258)","v":""},{"$f":"IF('Kollega oplysninger'!J258=\"\",\"\",'Kollega oplysninger'!J258)","v":""},{"$f":"IF('Kollega oplysninger'!L258=\"\",\"\",'Kollega oplysninger'!L258)","v":""},null,null,null,null,null,null,null,null,null,null,null,null,null,null,null,null,null,{"$f":"IF(Lokallønsprocenten!Z258=\"\",\"\",Lokallønsprocenten!Z258)","v":""},{"$f":"IF(Lokallønsprocenten!AA258=\"\",\"\",Lokallønsprocenten!AA258)","v":""},null,null,null,null,{"$f":"IF(Lokallønsprocenten!AF258=\"\",\"\",Lokallønsprocenten!AF258)","v":""},null,{"$f":"IF(Lokallønsprocenten!AH258=\"\",\"\",Lokallønsprocenten!AH258)","v":""},null,null,null,"",""]
[null,{"$f":"IF('Kollega oplysninger'!B259=\"\",\"\",'Kollega oplysninger'!B259)","v":""},{"$f":"IF('Kollega oplysninger'!C259=\"\",\"\",'Kollega oplysninger'!C259)","v":""},null,null,{"$f":"IF('Kollega oplysninger'!I259=\"\",\"\",'Kollega oplysninger'!I259)","v":""},{"$f":"IF('Kollega oplysninger'!J259=\"\",\"\",'Kollega oplysninger'!J259)","v":""},{"$f":"IF('Kollega oplysninger'!L259=\"\",\"\",'Kollega oplysninger'!L259)","v":""},null,null,null,null,null,null,null,null,null,null,null,null,null,null,null,null,null,{"$f":"IF(Lokallønsprocenten!Z259=\"\",\"\",Lokallønsprocenten!Z259)","v":""},{"$f":"IF(Lokallønsprocenten!AA259=\"\",\"\",Lokallønsprocenten!AA259)","v":""},null,null,null,null,{"$f":"IF(Lokallønsprocenten!AF259=\"\",\"\",Lokallønsprocenten!AF259)","v":""},null,{"$f":"IF(Lokallønsprocenten!AH259=\"\",\"\",Lokallønsprocenten!AH259)","v":""},null,null,null,"",""]
[null,{"$f":"IF('Kollega oplysninger'!B260=\"\",\"\",'Kollega oplysninger'!B260)","v":""},{"$f":"IF('Kollega oplysninger'!C260=\"\",\"\",'Kollega oplysninger'!C260)","v":""},null,null,{"$f":"IF('Kollega oplysninger'!I260=\"\",\"\",'Kollega oplysninger'!I260)","v":""},{"$f":"IF('Kollega oplysninger'!J260=\"\",\"\",'Kollega oplysninger'!J260)","v":""},{"$f":"IF('Kollega oplysninger'!L260=\"\",\"\",'Kollega oplysninger'!L260)","v":""},null,null,null,null,null,null,null,null,null,null,null,null,null,null,null,null,null,{"$f":"IF(Lokallønsprocenten!Z260=\"\",\"\",Lokallønsprocenten!Z260)","v":""},{"$f":"IF(Lokallønsprocenten!AA260=\"\",\"\",Lokallønsprocenten!AA260)","v":""},null,null,null,null,{"$f":"IF(Lokallønsprocenten!AF260=\"\",\"\",Lokallønsprocenten!AF260)","v":""},null,{"$f":"IF(Lokallønsprocenten!AH260=\"\",\"\",Lokallønsprocenten!AH260)","v":""},null,null,null,"",""]
[null,{"$f":"IF('Kollega oplysninger'!B261=\"\",\"\",'Kollega oplysninger'!B261)","v":""},{"$f":"IF('Kollega oplysninger'!C261=\"\",\"\",'Kollega oplysninger'!C261)","v":""},null,null,{"$f":"IF('Kollega oplysninger'!I261=\"\",\"\",'Kollega oplysninger'!I261)","v":""},{"$f":"IF('Kollega oplysninger'!J261=\"\",\"\",'Kollega oplysninger'!J261)","v":""},{"$f":"IF('Kollega oplysninger'!L261=\"\",\"\",'Kollega oplysninger'!L261)","v":""},null,null,null,null,null,null,null,null,null,null,null,null,null,null,null,null,null,{"$f":"IF(Lokallønsprocenten!Z261=\"\",\"\",Lokallønsprocenten!Z261)","v":""},{"$f":"IF(Lokallønsprocenten!AA261=\"\",\"\",Lokallønsprocenten!AA261)","v":""},null,null,null,null,{"$f":"IF(Lokallønsprocenten!AF261=\"\",\"\",Lokallønsprocenten!AF261)","v":""},null,{"$f":"IF(Lokallønsprocenten!AH261=\"\",\"\",Lokallønsprocenten!AH261)","v":""},null,null,null,"",""]
[null,{"$f":"IF('Kollega oplysninger'!B262=\"\",\"\",'Kollega oplysninger'!B262)","v":""},{"$f":"IF('Kollega oplysninger'!C262=\"\",\"\",'Kollega oplysninger'!C262)","v":""},null,null,{"$f":"IF('Kollega oplysninger'!I262=\"\",\"\",'Kollega oplysninger'!I262)","v":""},{"$f":"IF('Kollega oplysninger'!J262=\"\",\"\",'Kollega oplysninger'!J262)","v":""},{"$f":"IF('Kollega oplysninger'!L262=\"\",\"\",'Kollega oplysninger'!L262)","v":""},null,null,null,null,null,null,null,null,null,null,null,null,null,null,null,null,null,{"$f":"IF(Lokallønsprocenten!Z262=\"\",\"\",Lokallønsprocenten!Z262)","v":""},{"$f":"IF(Lokallønsprocenten!AA262=\"\",\"\",Lokallønsprocenten!AA262)","v":""},null,null,null,null,{"$f":"IF(Lokallønsprocenten!AF262=\"\",\"\",Lokallønsprocenten!AF262)","v":""},null,{"$f":"IF(Lokallønsprocenten!AH262=\"\",\"\",Lokallønsprocenten!AH262)","v":""},null,null,null,"",""]
[null,{"$f":"IF('Kollega oplysninger'!B263=\"\",\"\",'Kollega oplysninger'!B263)","v":""},{"$f":"IF('Kollega oplysninger'!C263=\"\",\"\",'Kollega oplysninger'!C263)","v":""},null,null,{"$f":"IF('Kollega oplysninger'!I263=\"\",\"\",'Kollega oplysninger'!I263)","v":""},{"$f":"IF('Kollega oplysninger'!J263=\"\",\"\",'Kollega oplysninger'!J263)","v":""},{"$f":"IF('Kollega oplysninger'!L263=\"\",\"\",'Kollega oplysninger'!L263)","v":""},null,null,null,null,null,null,null,null,null,null,null,null,null,null,null,null,null,{"$f":"IF(Lokallønsprocenten!Z263=\"\",\"\",Lokallønsprocenten!Z263)","v":""},{"$f":"IF(Lokallønsprocenten!AA263=\"\",\"\",Lokallønsprocenten!AA263)","v":""},null,null,null,null,{"$f":"IF(Lokallønsprocenten!AF263=\"\",\"\",Lokallønsprocenten!AF263)","v":""},null,{"$f":"IF(Lokallønsprocenten!AH263=\"\",\"\",Lokallønsprocenten!AH263)","v":""},null,null,null,{"$f":"IF(Z263=\"fejl\",X263,\"\")","v":""},{"$f":"IF(Z263=\"fejl\",Y263,\"\")","v":""}]
[null,{"$f":"IF('Kollega oplysninger'!B264=\"\",\"\",'Kollega oplysninger'!B264)","v":""},{"$f":"IF('Kollega oplysninger'!C264=\"\",\"\",'Kollega oplysninger'!C264)","v":""},null,null,{"$f":"IF('Kollega oplysninger'!I264=\"\",\"\",'Kollega oplysninger'!I264)","v":""},{"$f":"IF('Kollega oplysninger'!J264=\"\",\"\",'Kollega oplysninger'!J264)","v":""},{"$f":"IF('Kollega oplysninger'!L264=\"\",\"\",'Kollega oplysninger'!L264)","v":""},null,null,null,null,null,null,null,null,null,null,null,null,null,null,null,null,null,{"$f":"IF(Lokallønsprocenten!Z264=\"\",\"\",Lokallønsprocenten!Z264)","v":""},{"$f":"IF(Lokallønsprocenten!AA264=\"\",\"\",Lokallønsprocenten!AA264)","v":""},null,null,null,null,{"$f":"IF(Lokallønsprocenten!AF264=\"\",\"\",Lokallønsprocenten!AF264)","v":""},null,{"$f":"IF(Lokallønsprocenten!AH264=\"\",\"\",Lokallønsprocenten!AH264)","v":""},null,null,null,"",""]
[null,{"$f":"IF('Kollega oplysninger'!B265=\"\",\"\",'Kollega oplysninger'!B265)","v":""},{"$f":"IF('Kollega oplysninger'!C265=\"\",\"\",'Kollega oplysninger'!C265)","v":""},null,null,{"$f":"IF('Kollega oplysninger'!I265=\"\",\"\",'Kollega oplysninger'!I265)","v":""},{"$f":"IF('Kollega oplysninger'!J265=\"\",\"\",'Kollega oplysninger'!J265)","v":""},{"$f":"IF('Kollega oplysninger'!L265=\"\",\"\",'Kollega oplysninger'!L265)","v":""},null,null,null,null,null,null,null,null,null,null,null,null,null,null,null,null,null,{"$f":"IF(Lokallønsprocenten!Z265=\"\",\"\",Lokallønsprocenten!Z265)","v":""},{"$f":"IF(Lokallønsprocenten!AA265=\"\",\"\",Lokallønsprocenten!AA265)","v":""},null,null,null,null,{"$f":"IF(Lokallønsprocenten!AF265=\"\",\"\",Lokallønsprocenten!AF265)","v":""},null,{"$f":"IF(Lokallønsprocenten!AH265=\"\",\"\",Lokallønsprocenten!AH265)","v":""},null,null,null,"",""]
[null,{"$f":"IF('Kollega oplysninger'!B266=\"\",\"\",'Kollega oplysninger'!B266)","v":""},{"$f":"IF('Kollega oplysninger'!C266=\"\",\"\",'Kollega oplysninger'!C266)","v":""},null,null,{"$f":"IF('Kollega oplysninger'!I266=\"\",\"\",'Kollega oplysninger'!I266)","v":""},{"$f":"IF('Kollega oplysninger'!J266=\"\",\"\",'Kollega oplysninger'!J266)","v":""},{"$f":"IF('Kollega oplysninger'!L266=\"\",\"\",'Kollega oplysninger'!L266)","v":""},null,null,null,null,null,null,null,null,null,null,null,null,null,null,null,null,null,{"$f":"IF(Lokallønsprocenten!Z266=\"\",\"\",Lokallønsprocenten!Z266)","v":""},{"$f":"IF(Lokallønsprocenten!AA266=\"\",\"\",Lokallønsprocenten!AA266)","v":""},null,null,null,null,{"$f":"IF(Lokallønsprocenten!AF266=\"\",\"\",Lokallønsprocenten!AF266)","v":""},null,{"$f":"IF(Lokallønsprocenten!AH266=\"\",\"\",Lokallønsprocenten!AH266)","v":""},null,null,null,"",""]
[null,{"$f":"IF('Kollega oplysninger'!B267=\"\",\"\",'Kollega oplysninger'!B267)","v":""},{"$f":"IF('Kollega oplysninger'!C267=\"\",\"\",'Kollega oplysninger'!C267)","v":""},null,null,{"$f":"IF('Kollega oplysninger'!I267=\"\",\"\",'Kollega oplysninger'!I267)","v":""},{"$f":"IF('Kollega oplysninger'!J267=\"\",\"\",'Kollega oplysninger'!J267)","v":""},{"$f":"IF('Kollega oplysninger'!L267=\"\",\"\",'Kollega oplysninger'!L267)","v":""},null,null,null,null,null,null,null,null,null,null,null,null,null,null,null,null,null,{"$f":"IF(Lokallønsprocenten!Z267=\"\",\"\",Lokallønsprocenten!Z267)","v":""},{"$f":"IF(Lokallønsprocenten!AA267=\"\",\"\",Lokallønsprocenten!AA267)","v":""},null,null,null,null,{"$f":"IF(Lokallønsprocenten!AF267=\"\",\"\",Lokallønsprocenten!AF267)","v":""},null,{"$f":"IF(Lokallønsprocenten!AH267=\"\",\"\",Lokallønsprocenten!AH267)","v":""},null,null,null,"",""]
[null,{"$f":"IF('Kollega oplysninger'!B268=\"\",\"\",'Kollega oplysninger'!B268)","v":""},{"$f":"IF('Kollega oplysninger'!C268=\"\",\"\",'Kollega oplysninger'!C268)","v":""},null,null,{"$f":"IF('Kollega oplysninger'!I268=\"\",\"\",'Kollega oplysninger'!I268)","v":""},{"$f":"IF('Kollega oplysninger'!J268=\"\",\"\",'Kollega oplysninger'!J268)","v":""},{"$f":"IF('Kollega oplysninger'!L268=\"\",\"\",'Kollega oplysninger'!L268)","v":""},null,null,null,null,null,null,null,null,null,null,null,null,null,null,null,null,null,{"$f":"IF(Lokallønsprocenten!Z268=\"\",\"\",Lokallønsprocenten!Z268)","v":""},{"$f":"IF(Lokallønsprocenten!AA268=\"\",\"\",Lokallønsprocenten!AA268)","v":""},null,null,null,null,{"$f":"IF(Lokallønsprocenten!AF268=\"\",\"\",Lokallønsprocenten!AF268)","v":""},null,{"$f":"IF(Lokallønsprocenten!AH268=\"\",\"\",Lokallønsprocenten!AH268)","v":""},null,null,null,"",""]
[null,{"$f":"IF('Kollega oplysninger'!B269=\"\",\"\",'Kollega oplysninger'!B269)","v":""},{"$f":"IF('Kollega oplysninger'!C269=\"\",\"\",'Kollega oplysninger'!C269)","v":""},null,null,{"$f":"IF('Kollega oplysninger'!I269=\"\",\"\",'Kollega oplysninger'!I269)","v":""},{"$f":"IF('Kollega oplysninger'!J269=\"\",\"\",'Kollega oplysninger'!J269)","v":""},{"$f":"IF('Kollega oplysninger'!L269=\"\",\"\",'Kollega oplysninger'!L269)","v":""},null,null,null,null,null,null,null,null,null,null,null,null,null,null,null,null,null,{"$f":"IF(Lokallønsprocenten!Z269=\"\",\"\",Lokallønsprocenten!Z269)","v":""},{"$f":"IF(Lokallønsprocenten!AA269=\"\",\"\",Lokallønsprocenten!AA269)","v":""},null,null,null,null,{"$f":"IF(Lokallønsprocenten!AF269=\"\",\"\",Lokallønsprocenten!AF269)","v":""},null,{"$f":"IF(Lokallønsprocenten!AH269=\"\",\"\",Lokallønsprocenten!AH269)","v":""},null,null,null,"",""]
[null,{"$f":"IF('Kollega oplysninger'!B270=\"\",\"\",'Kollega oplysninger'!B270)","v":""},{"$f":"IF('Kollega oplysninger'!C270=\"\",\"\",'Kollega oplysninger'!C270)","v":""},null,null,{"$f":"IF('Kollega oplysninger'!I270=\"\",\"\",'Kollega oplysninger'!I270)","v":""},{"$f":"IF('Kollega oplysninger'!J270=\"\",\"\",'Kollega oplysninger'!J270)","v":""},{"$f":"IF('Kollega oplysninger'!L270=\"\",\"\",'Kollega oplysninger'!L270)","v":""},null,null,null,null,null,null,null,null,null,null,null,null,null,null,null,null,null,{"$f":"IF(Lokallønsprocenten!Z270=\"\",\"\",Lokallønsprocenten!Z270)","v":""},{"$f":"IF(Lokallønsprocenten!AA270=\"\",\"\",Lokallønsprocenten!AA270)","v":""},null,null,null,null,{"$f":"IF(Lokallønsprocenten!AF270=\"\",\"\",Lokallønsprocenten!AF270)","v":""},null,{"$f":"IF(Lokallønsprocenten!AH270=\"\",\"\",Lokallønsprocenten!AH270)","v":""},null,null,null,"",""]
[null,{"$f":"IF('Kollega oplysninger'!B271=\"\",\"\",'Kollega oplysninger'!B271)","v":""},{"$f":"IF('Kollega oplysninger'!C271=\"\",\"\",'Kollega oplysninger'!C271)","v":""},null,null,{"$f":"IF('Kollega oplysninger'!I271=\"\",\"\",'Kollega oplysninger'!I271)","v":""},{"$f":"IF('Kollega oplysninger'!J271=\"\",\"\",'Kollega oplysninger'!J271)","v":""},{"$f":"IF('Kollega oplysninger'!L271=\"\",\"\",'Kollega oplysninger'!L271)","v":""},null,null,null,null,null,null,null,null,null,null,null,null,null,null,null,null,null,{"$f":"IF(Lokallønsprocenten!Z271=\"\",\"\",Lokallønsprocenten!Z271)","v":""},{"$f":"IF(Lokallønsprocenten!AA271=\"\",\"\",Lokallønsprocenten!AA271)","v":""},null,null,null,null,{"$f":"IF(Lokallønsprocenten!AF271=\"\",\"\",Lokallønsprocenten!AF271)","v":""},null,{"$f":"IF(Lokallønsprocenten!AH271=\"\",\"\",Lokallønsprocenten!AH271)","v":""},null,null,null,"",""]
[null,{"$f":"IF('Kollega oplysninger'!B272=\"\",\"\",'Kollega oplysninger'!B272)","v":""},{"$f":"IF('Kollega oplysninger'!C272=\"\",\"\",'Kollega oplysninger'!C272)","v":""},null,null,{"$f":"IF('Kollega oplysninger'!I272=\"\",\"\",'Kollega oplysninger'!I272)","v":""},{"$f":"IF('Kollega oplysninger'!J272=\"\",\"\",'Kollega oplysninger'!J272)","v":""},{"$f":"IF('Kollega oplysninger'!L272=\"\",\"\",'Kollega oplysninger'!L272)","v":""},null,null,null,null,null,null,null,null,null,null,null,null,null,null,null,null,null,{"$f":"IF(Lokallønsprocenten!Z272=\"\",\"\",Lokallønsprocenten!Z272)","v":""},{"$f":"IF(Lokallønsprocenten!AA272=\"\",\"\",Lokallønsprocenten!AA272)","v":""},null,null,null,null,{"$f":"IF(Lokallønsprocenten!AF272=\"\",\"\",Lokallønsprocenten!AF272)","v":""},null,{"$f":"IF(Lokallønsprocenten!AH272=\"\",\"\",Lokallønsprocenten!AH272)","v":""},null,null,null,"",""]
[null,{"$f":"IF('Kollega oplysninger'!B273=\"\",\"\",'Kollega oplysninger'!B273)","v":""},{"$f":"IF('Kollega oplysninger'!C273=\"\",\"\",'Kollega oplysninger'!C273)","v":""},null,null,{"$f":"IF('Kollega oplysninger'!I273=\"\",\"\",'Kollega oplysninger'!I273)","v":""},{"$f":"IF('Kollega oplysninger'!J273=\"\",\"\",'Kollega oplysninger'!J273)","v":""},{"$f":"IF('Kollega oplysninger'!L273=\"\",\"\",'Kollega oplysninger'!L273)","v":""},null,null,null,null,null,null,null,null,null,null,null,null,null,null,null,null,null,{"$f":"IF(Lokallønsprocenten!Z273=\"\",\"\",Lokallønsprocenten!Z273)","v":""},{"$f":"IF(Lokallønsprocenten!AA273=\"\",\"\",Lokallønsprocenten!AA273)","v":""},null,null,null,null,{"$f":"IF(Lokallønsprocenten!AF273=\"\",\"\",Lokallønsprocenten!AF273)","v":""},null,{"$f":"IF(Lokallønsprocenten!AH273=\"\",\"\",Lokallønsprocenten!AH273)","v":""},null,null,null,"",""]
[null,{"$f":"IF('Kollega oplysninger'!B274=\"\",\"\",'Kollega oplysninger'!B274)","v":""},{"$f":"IF('Kollega oplysninger'!C274=\"\",\"\",'Kollega oplysninger'!C274)","v":""},null,null,{"$f":"IF('Kollega oplysninger'!I274=\"\",\"\",'Kollega oplysninger'!I274)","v":""},{"$f":"IF('Kollega oplysninger'!J274=\"\",\"\",'Kollega oplysninger'!J274)","v":""},{"$f":"IF('Kollega oplysninger'!L274=\"\",\"\",'Kollega oplysninger'!L274)","v":""},null,null,null,null,null,null,null,null,null,null,null,null,null,null,null,null,null,{"$f":"IF(Lokallønsprocenten!Z274=\"\",\"\",Lokallønsprocenten!Z274)","v":""},{"$f":"IF(Lokallønsprocenten!AA274=\"\",\"\",Lokallønsprocenten!AA274)","v":""},null,null,null,null,{"$f":"IF(Lokallønsprocenten!AF274=\"\",\"\",Lokallønsprocenten!AF274)","v":""},null,{"$f":"IF(Lokallønsprocenten!AH274=\"\",\"\",Lokallønsprocenten!AH274)","v":""},null,null,null,"",""]
[null,{"$f":"IF('Kollega oplysninger'!B275=\"\",\"\",'Kollega oplysninger'!B275)","v":""},{"$f":"IF('Kollega oplysninger'!C275=\"\",\"\",'Kollega oplysninger'!C275)","v":""},null,null,{"$f":"IF('Kollega oplysninger'!I275=\"\",\"\",'Kollega oplysninger'!I275)","v":""},{"$f":"IF('Kollega oplysninger'!J275=\"\",\"\",'Kollega oplysninger'!J275)","v":""},{"$f":"IF('Kollega oplysninger'!L275=\"\",\"\",'Kollega oplysninger'!L275)","v":""},null,null,null,null,null,null,null,null,null,null,null,null,null,null,null,null,null,{"$f":"IF(Lokallønsprocenten!Z275=\"\",\"\",Lokallønsprocenten!Z275)","v":""},{"$f":"IF(Lokallønsprocenten!AA275=\"\",\"\",Lokallønsprocenten!AA275)","v":""},null,null,null,null,{"$f":"IF(Lokallønsprocenten!AF275=\"\",\"\",Lokallønsprocenten!AF275)","v":""},null,{"$f":"IF(Lokallønsprocenten!AH275=\"\",\"\",Lokallønsprocenten!AH275)","v":""},null,null,null,"",""]
[null,{"$f":"IF('Kollega oplysninger'!B276=\"\",\"\",'Kollega oplysninger'!B276)","v":""},{"$f":"IF('Kollega oplysninger'!C276=\"\",\"\",'Kollega oplysninger'!C276)","v":""},null,null,{"$f":"IF('Kollega oplysninger'!I276=\"\",\"\",'Kollega oplysninger'!I276)","v":""},{"$f":"IF('Kollega oplysninger'!J276=\"\",\"\",'Kollega oplysninger'!J276)","v":""},{"$f":"IF('Kollega oplysninger'!L276=\"\",\"\",'Kollega oplysninger'!L276)","v":""},null,null,null,null,null,null,null,null,null,null,null,null,null,null,null,null,null,{"$f":"IF(Lokallønsprocenten!Z276=\"\",\"\",Lokallønsprocenten!Z276)","v":""},{"$f":"IF(Lokallønsprocenten!AA276=\"\",\"\",Lokallønsprocenten!AA276)","v":""},null,null,null,null,{"$f":"IF(Lokallønsprocenten!AF276=\"\",\"\",Lokallønsprocenten!AF276)","v":""},null,{"$f":"IF(Lokallønsprocenten!AH276=\"\",\"\",Lokallønsprocenten!AH276)","v":""},null,null,null,"",""]
[null,{"$f":"IF('Kollega oplysninger'!B277=\"\",\"\",'Kollega oplysninger'!B277)","v":""},{"$f":"IF('Kollega oplysninger'!C277=\"\",\"\",'Kollega oplysninger'!C277)","v":""},null,null,{"$f":"IF('Kollega oplysninger'!I277=\"\",\"\",'Kollega oplysninger'!I277)","v":""},{"$f":"IF('Kollega oplysninger'!J277=\"\",\"\",'Kollega oplysninger'!J277)","v":""},{"$f":"IF('Kollega oplysninger'!L277=\"\",\"\",'Kollega oplysninger'!L277)","v":""},null,null,null,null,null,null,null,null,null,null,null,null,null,null,null,null,null,{"$f":"IF(Lokallønsprocenten!Z277=\"\",\"\",Lokallønsprocenten!Z277)","v":""},{"$f":"IF(Lokallønsprocenten!AA277=\"\",\"\",Lokallønsprocenten!AA277)","v":""},null,null,null,null,{"$f":"IF(Lokallønsprocenten!AF277=\"\",\"\",Lokallønsprocenten!AF277)","v":""},null,{"$f":"IF(Lokallønsprocenten!AH277=\"\",\"\",Lokallønsprocenten!AH277)","v":""},null,null,null,"",""]
[null,{"$f":"IF('Kollega oplysninger'!B278=\"\",\"\",'Kollega oplysninger'!B278)","v":""},{"$f":"IF('Kollega oplysninger'!C278=\"\",\"\",'Kollega oplysninger'!C278)","v":""},null,null,{"$f":"IF('Kollega oplysninger'!I278=\"\",\"\",'Kollega oplysninger'!I278)","v":""},{"$f":"IF('Kollega oplysninger'!J278=\"\",\"\",'Kollega oplysninger'!J278)","v":""},{"$f":"IF('Kollega oplysninger'!L278=\"\",\"\",'Kollega oplysninger'!L278)","v":""},null,null,null,null,null,null,null,null,null,null,null,null,null,null,null,null,null,{"$f":"IF(Lokallønsprocenten!Z278=\"\",\"\",Lokallønsprocenten!Z278)","v":""},{"$f":"IF(Lokallønsprocenten!AA278=\"\",\"\",Lokallønsprocenten!AA278)","v":""},null,null,null,null,{"$f":"IF(Lokallønsprocenten!AF278=\"\",\"\",Lokallønsprocenten!AF278)","v":""},null,{"$f":"IF(Lokallønsprocenten!AH278=\"\",\"\",Lokallønsprocenten!AH278)","v":""},null,null,null,"",""]
[null,{"$f":"IF('Kollega oplysninger'!B279=\"\",\"\",'Kollega oplysninger'!B279)","v":""},{"$f":"IF('Kollega oplysninger'!C279=\"\",\"\",'Kollega oplysninger'!C279)","v":""},null,null,{"$f":"IF('Kollega oplysninger'!I279=\"\",\"\",'Kollega oplysninger'!I279)","v":""},{"$f":"IF('Kollega oplysninger'!J279=\"\",\"\",'Kollega oplysninger'!J279)","v":""},{"$f":"IF('Kollega oplysninger'!L279=\"\",\"\",'Kollega oplysninger'!L279)","v":""},null,null,null,null,null,null,null,null,null,null,null,null,null,null,null,null,null,{"$f":"IF(Lokallønsprocenten!Z279=\"\",\"\",Lokallønsprocenten!Z279)","v":""},{"$f":"IF(Lokallønsprocenten!AA279=\"\",\"\",Lokallønsprocenten!AA279)","v":""},null,null,null,null,{"$f":"IF(Lokallønsprocenten!AF279=\"\",\"\",Lokallønsprocenten!AF279)","v":""},null,{"$f":"IF(Lokallønsprocenten!AH279=\"\",\"\",Lokallønsprocenten!AH279)","v":""},null,null,null,"",""]
[null,{"$f":"IF('Kollega oplysninger'!B280=\"\",\"\",'Kollega oplysninger'!B280)","v":""},{"$f":"IF('Kollega oplysninger'!C280=\"\",\"\",'Kollega oplysninger'!C280)","v":""},null,null,{"$f":"IF('Kollega oplysninger'!I280=\"\",\"\",'Kollega oplysninger'!I280)","v":""},{"$f":"IF('Kollega oplysninger'!J280=\"\",\"\",'Kollega oplysninger'!J280)","v":""},{"$f":"IF('Kollega oplysninger'!L280=\"\",\"\",'Kollega oplysninger'!L280)","v":""},null,null,null,null,null,null,null,null,null,null,null,null,null,null,null,null,null,{"$f":"IF(Lokallønsprocenten!Z280=\"\",\"\",Lokallønsprocenten!Z280)","v":""},{"$f":"IF(Lokallønsprocenten!AA280=\"\",\"\",Lokallønsprocenten!AA280)","v":""},null,null,null,null,{"$f":"IF(Lokallønsprocenten!AF280=\"\",\"\",Lokallønsprocenten!AF280)","v":""},null,{"$f":"IF(Lokallønsprocenten!AH280=\"\",\"\",Lokallønsprocenten!AH280)","v":""},null,null,null,"",""]
[null,{"$f":"IF('Kollega oplysninger'!B281=\"\",\"\",'Kollega oplysninger'!B281)","v":""},{"$f":"IF('Kollega oplysninger'!C281=\"\",\"\",'Kollega oplysninger'!C281)","v":""},null,null,{"$f":"IF('Kollega oplysninger'!I281=\"\",\"\",'Kollega oplysninger'!I281)","v":""},{"$f":"IF('Kollega oplysninger'!J281=\"\",\"\",'Kollega oplysninger'!J281)","v":""},{"$f":"IF('Kollega oplysninger'!L281=\"\",\"\",'Kollega oplysninger'!L281)","v":""},null,null,null,null,null,null,null,null,null,null,null,null,null,null,null,null,null,{"$f":"IF(Lokallønsprocenten!Z281=\"\",\"\",Lokallønsprocenten!Z281)","v":""},{"$f":"IF(Lokallønsprocenten!AA281=\"\",\"\",Lokallønsprocenten!AA281)","v":""},null,null,null,null,{"$f":"IF(Lokallønsprocenten!AF281=\"\",\"\",Lokallønsprocenten!AF281)","v":""},null,{"$f":"IF(Lokallønsprocenten!AH281=\"\",\"\",Lokallønsprocenten!AH281)","v":""},null,null,null,"",""]
[null,{"$f":"IF('Kollega oplysninger'!B282=\"\",\"\",'Kollega oplysninger'!B282)","v":""},{"$f":"IF('Kollega oplysninger'!C282=\"\",\"\",'Kollega oplysninger'!C282)","v":""},null,null,{"$f":"IF('Kollega oplysninger'!I282=\"\",\"\",'Kollega oplysninger'!I282)","v":""},{"$f":"IF('Kollega oplysninger'!J282=\"\",\"\",'Kollega oplysninger'!J282)","v":""},{"$f":"IF('Kollega oplysninger'!L282=\"\",\"\",'Kollega oplysninger'!L282)","v":""},null,null,null,null,null,null,null,null,null,null,null,null,null,null,null,null,null,{"$f":"IF(Lokallønsprocenten!Z282=\"\",\"\",Lokallønsprocenten!Z282)","v":""},{"$f":"IF(Lokallønsprocenten!AA282=\"\",\"\",Lokallønsprocenten!AA282)","v":""},null,null,null,null,{"$f":"IF(Lokallønsprocenten!AF282=\"\",\"\",Lokallønsprocenten!AF282)","v":""},null,{"$f":"IF(Lokallønsprocenten!AH282=\"\",\"\",Lokallønsprocenten!AH282)","v":""},null,null,null,"",""]
[null,{"$f":"IF('Kollega oplysninger'!B283=\"\",\"\",'Kollega oplysninger'!B283)","v":""},{"$f":"IF('Kollega oplysninger'!C283=\"\",\"\",'Kollega oplysninger'!C283)","v":""},null,null,{"$f":"IF('Kollega oplysninger'!I283=\"\",\"\",'Kollega oplysninger'!I283)","v":""},{"$f":"IF('Kollega oplysninger'!J283=\"\",\"\",'Kollega oplysninger'!J283)","v":""},{"$f":"IF('Kollega oplysninger'!L283=\"\",\"\",'Kollega oplysninger'!L283)","v":""},null,null,null,null,null,null,null,null,null,null,null,null,null,null,null,null,null,{"$f":"IF(Lokallønsprocenten!Z283=\"\",\"\",Lokallønsprocenten!Z283)","v":""},{"$f":"IF(Lokallønsprocenten!AA283=\"\",\"\",Lokallønsprocenten!AA283)","v":""},null,null,null,null,{"$f":"IF(Lokallønsprocenten!AF283=\"\",\"\",Lokallønsprocenten!AF283)","v":""},null,{"$f":"IF(Lokallønsprocenten!AH283=\"\",\"\",Lokallønsprocenten!AH283)","v":""},null,null,null,"",""]
[null,{"$f":"IF('Kollega oplysninger'!B284=\"\",\"\",'Kollega oplysninger'!B284)","v":""},{"$f":"IF('Kollega oplysninger'!C284=\"\",\"\",'Kollega oplysninger'!C284)","v":""},null,null,{"$f":"IF('Kollega oplysninger'!I284=\"\",\"\",'Kollega oplysninger'!I284)","v":""},{"$f":"IF('Kollega oplysninger'!J284=\"\",\"\",'Kollega oplysninger'!J284)","v":""},{"$f":"IF('Kollega oplysninger'!L284=\"\",\"\",'Kollega oplysninger'!L284)","v":""},null,null,null,null,null,null,null,null,null,null,null,null,null,null,null,null,null,{"$f":"IF(Lokallønsprocenten!Z284=\"\",\"\",Lokallønsprocenten!Z284)","v":""},{"$f":"IF(Lokallønsprocenten!AA284=\"\",\"\",Lokallønsprocenten!AA284)","v":""},null,null,null,null,{"$f":"IF(Lokallønsprocenten!AF284=\"\",\"\",Lokallønsprocenten!AF284)","v":""},null,{"$f":"IF(Lokallønsprocenten!AH284=\"\",\"\",Lokallønsprocenten!AH284)","v":""},null,null,null,"",""]
[null,{"$f":"IF('Kollega oplysninger'!B285=\"\",\"\",'Kollega oplysninger'!B285)","v":""},{"$f":"IF('Kollega oplysninger'!C285=\"\",\"\",'Kollega oplysninger'!C285)","v":""},null,null,{"$f":"IF('Kollega oplysninger'!I285=\"\",\"\",'Kollega oplysninger'!I285)","v":""},{"$f":"IF('Kollega oplysninger'!J285=\"\",\"\",'Kollega oplysninger'!J285)","v":""},{"$f":"IF('Kollega oplysninger'!L285=\"\",\"\",'Kollega oplysninger'!L285)","v":""},null,null,null,null,null,null,null,null,null,null,null,null,null,null,null,null,null,{"$f":"IF(Lokallønsprocenten!Z285=\"\",\"\",Lokallønsprocenten!Z285)","v":""},{"$f":"IF(Lokallønsprocenten!AA285=\"\",\"\",Lokallønsprocenten!AA285)","v":""},null,null,null,null,{"$f":"IF(Lokallønsprocenten!AF285=\"\",\"\",Lokallønsprocenten!AF285)","v":""},null,{"$f":"IF(Lokallønsprocenten!AH285=\"\",\"\",Lokallønsprocenten!AH285)","v":""},null,null,null,"",""]
[null,{"$f":"IF('Kollega oplysninger'!B286=\"\",\"\",'Kollega oplysninger'!B286)","v":""},{"$f":"IF('Kollega oplysninger'!C286=\"\",\"\",'Kollega oplysninger'!C286)","v":""},null,null,{"$f":"IF('Kollega oplysninger'!I286=\"\",\"\",'Kollega oplysninger'!I286)","v":""},{"$f":"IF('Kollega oplysninger'!J286=\"\",\"\",'Kollega oplysninger'!J286)","v":""},{"$f":"IF('Kollega oplysninger'!L286=\"\",\"\",'Kollega oplysninger'!L286)","v":""},null,null,null,null,null,null,null,null,null,null,null,null,null,null,null,null,null,{"$f":"IF(Lokallønsprocenten!Z286=\"\",\"\",Lokallønsprocenten!Z286)","v":""},{"$f":"IF(Lokallønsprocenten!AA286=\"\",\"\",Lokallønsprocenten!AA286)","v":""},null,null,null,null,{"$f":"IF(Lokallønsprocenten!AF286=\"\",\"\",Lokallønsprocenten!AF286)","v":""},null,{"$f":"IF(Lokallønsprocenten!AH286=\"\",\"\",Lokallønsprocenten!AH286)","v":""},null,null,null,"",""]
[null,{"$f":"IF('Kollega oplysninger'!B287=\"\",\"\",'Kollega oplysninger'!B287)","v":""},{"$f":"IF('Kollega oplysninger'!C287=\"\",\"\",'Kollega oplysninger'!C287)","v":""},null,null,{"$f":"IF('Kollega oplysninger'!I287=\"\",\"\",'Kollega oplysninger'!I287)","v":""},{"$f":"IF('Kollega oplysninger'!J287=\"\",\"\",'Kollega oplysninger'!J287)","v":""},{"$f":"IF('Kollega oplysninger'!L287=\"\",\"\",'Kollega oplysninger'!L287)","v":""},null,null,null,null,null,null,null,null,null,null,null,null,null,null,null,null,null,{"$f":"IF(Lokallønsprocenten!Z287=\"\",\"\",Lokallønsprocenten!Z287)","v":""},{"$f":"IF(Lokallønsprocenten!AA287=\"\",\"\",Lokallønsprocenten!AA287)","v":""},null,null,null,null,{"$f":"IF(Lokallønsprocenten!AF287=\"\",\"\",Lokallønsprocenten!AF287)","v":""},null,{"$f":"IF(Lokallønsprocenten!AH287=\"\",\"\",Lokallønsprocenten!AH287)","v":""},null,null,null,"",""]
[null,{"$f":"IF('Kollega oplysninger'!B288=\"\",\"\",'Kollega oplysninger'!B288)","v":""},{"$f":"IF('Kollega oplysninger'!C288=\"\",\"\",'Kollega oplysninger'!C288)","v":""},null,null,{"$f":"IF('Kollega oplysninger'!I288=\"\",\"\",'Kollega oplysninger'!I288)","v":""},{"$f":"IF('Kollega oplysninger'!J288=\"\",\"\",'Kollega oplysninger'!J288)","v":""},{"$f":"IF('Kollega oplysninger'!L288=\"\",\"\",'Kollega oplysninger'!L288)","v":""},null,null,null,null,null,null,null,null,null,null,null,null,null,null,null,null,null,{"$f":"IF(Lokallønsprocenten!Z288=\"\",\"\",Lokallønsprocenten!Z288)","v":""},{"$f":"IF(Lokallønsprocenten!AA288=\"\",\"\",Lokallønsprocenten!AA288)","v":""},null,null,null,null,{"$f":"IF(Lokallønsprocenten!AF288=\"\",\"\",Lokallønsprocenten!AF288)","v":""},null,{"$f":"IF(Lokallønsprocenten!AH288=\"\",\"\",Lokallønsprocenten!AH288)","v":""},null,null,null,"",""]
[null,{"$f":"IF('Kollega oplysninger'!B289=\"\",\"\",'Kollega oplysninger'!B289)","v":""},{"$f":"IF('Kollega oplysninger'!C289=\"\",\"\",'Kollega oplysninger'!C289)","v":""},null,null,{"$f":"IF('Kollega oplysninger'!I289=\"\",\"\",'Kollega oplysninger'!I289)","v":""},{"$f":"IF('Kollega oplysninger'!J289=\"\",\"\",'Kollega oplysninger'!J289)","v":""},{"$f":"IF('Kollega oplysninger'!L289=\"\",\"\",'Kollega oplysninger'!L289)","v":""},null,null,null,null,null,null,null,null,null,null,null,null,null,null,null,null,null,{"$f":"IF(Lokallønsprocenten!Z289=\"\",\"\",Lokallønsprocenten!Z289)","v":""},{"$f":"IF(Lokallønsprocenten!AA289=\"\",\"\",Lokallønsprocenten!AA289)","v":""},null,null,null,null,{"$f":"IF(Lokallønsprocenten!AF289=\"\",\"\",Lokallønsprocenten!AF289)","v":""},null,{"$f":"IF(Lokallønsprocenten!AH289=\"\",\"\",Lokallønsprocenten!AH289)","v":""},null,null,null,"",""]
[null,{"$f":"IF('Kollega oplysninger'!B290=\"\",\"\",'Kollega oplysninger'!B290)","v":""},{"$f":"IF('Kollega oplysninger'!C290=\"\",\"\",'Kollega oplysninger'!C290)","v":""},null,null,{"$f":"IF('Kollega oplysninger'!I290=\"\",\"\",'Kollega oplysninger'!I290)","v":""},{"$f":"IF('Kollega oplysninger'!J290=\"\",\"\",'Kollega oplysninger'!J290)","v":""},{"$f":"IF('Kollega oplysninger'!L290=\"\",\"\",'Kollega oplysninger'!L290)","v":""},null,null,null,null,null,null,null,null,null,null,null,null,null,null,null,null,null,{"$f":"IF(Lokallønsprocenten!Z290=\"\",\"\",Lokallønsprocenten!Z290)","v":""},{"$f":"IF(Lokallønsprocenten!AA290=\"\",\"\",Lokallønsprocenten!AA290)","v":""},null,null,null,null,{"$f":"IF(Lokallønsprocenten!AF290=\"\",\"\",Lokallønsprocenten!AF290)","v":""},null,{"$f":"IF(Lokallønsprocenten!AH290=\"\",\"\",Lokallønsprocenten!AH290)","v":""},null,null,null,"",""]
[null,{"$f":"IF('Kollega oplysninger'!B291=\"\",\"\",'Kollega oplysninger'!B291)","v":""},{"$f":"IF('Kollega oplysninger'!C291=\"\",\"\",'Kollega oplysninger'!C291)","v":""},null,null,{"$f":"IF('Kollega oplysninger'!I291=\"\",\"\",'Kollega oplysninger'!I291)","v":""},{"$f":"IF('Kollega oplysninger'!J291=\"\",\"\",'Kollega oplysninger'!J291)","v":""},{"$f":"IF('Kollega oplysninger'!L291=\"\",\"\",'Kollega oplysninger'!L291)","v":""},null,null,null,null,null,null,null,null,null,null,null,null,null,null,null,null,null,{"$f":"IF(Lokallønsprocenten!Z291=\"\",\"\",Lokallønsprocenten!Z291)","v":""},{"$f":"IF(Lokallønsprocenten!AA291=\"\",\"\",Lokallønsprocenten!AA291)","v":""},null,null,null,null,{"$f":"IF(Lokallønsprocenten!AF291=\"\",\"\",Lokallønsprocenten!AF291)","v":""},null,{"$f":"IF(Lokallønsprocenten!AH291=\"\",\"\",Lokallønsprocenten!AH291)","v":""},null,null,null,"",""]
[null,{"$f":"IF('Kollega oplysninger'!B292=\"\",\"\",'Kollega oplysninger'!B292)","v":""},{"$f":"IF('Kollega oplysninger'!C292=\"\",\"\",'Kollega oplysninger'!C292)","v":""},null,null,{"$f":"IF('Kollega oplysninger'!I292=\"\",\"\",'Kollega oplysninger'!I292)","v":""},{"$f":"IF('Kollega oplysninger'!J292=\"\",\"\",'Kollega oplysninger'!J292)","v":""},{"$f":"IF('Kollega oplysninger'!L292=\"\",\"\",'Kollega oplysninger'!L292)","v":""},null,null,null,null,null,null,null,null,null,null,null,null,null,null,null,null,null,{"$f":"IF(Lokallønsprocenten!Z292=\"\",\"\",Lokallønsprocenten!Z292)","v":""},{"$f":"IF(Lokallønsprocenten!AA292=\"\",\"\",Lokallønsprocenten!AA292)","v":""},null,null,null,null,{"$f":"IF(Lokallønsprocenten!AF292=\"\",\"\",Lokallønsprocenten!AF292)","v":""},null,{"$f":"IF(Lokallønsprocenten!AH292=\"\",\"\",Lokallønsprocenten!AH292)","v":""},null,null,null,"",""]
[null,{"$f":"IF('Kollega oplysninger'!B293=\"\",\"\",'Kollega oplysninger'!B293)","v":""},{"$f":"IF('Kollega oplysninger'!C293=\"\",\"\",'Kollega oplysninger'!C293)","v":""},null,null,{"$f":"IF('Kollega oplysninger'!I293=\"\",\"\",'Kollega oplysninger'!I293)","v":""},{"$f":"IF('Kollega oplysninger'!J293=\"\",\"\",'Kollega oplysninger'!J293)","v":""},{"$f":"IF('Kollega oplysninger'!L293=\"\",\"\",'Kollega oplysninger'!L293)","v":""},null,null,null,null,null,null,null,null,null,null,null,null,null,null,null,null,null,{"$f":"IF(Lokallønsprocenten!Z293=\"\",\"\",Lokallønsprocenten!Z293)","v":""},{"$f":"IF(Lokallønsprocenten!AA293=\"\",\"\",Lokallønsprocenten!AA293)","v":""},null,null,null,null,{"$f":"IF(Lokallønsprocenten!AF293=\"\",\"\",Lokallønsprocenten!AF293)","v":""},null,{"$f":"IF(Lokallønsprocenten!AH293=\"\",\"\",Lokallønsprocenten!AH293)","v":""},null,null,null,"",""]
[null,{"$f":"IF('Kollega oplysninger'!B294=\"\",\"\",'Kollega oplysninger'!B294)","v":""},{"$f":"IF('Kollega oplysninger'!C294=\"\",\"\",'Kollega oplysninger'!C294)","v":""},null,null,{"$f":"IF('Kollega oplysninger'!I294=\"\",\"\",'Kollega oplysninger'!I294)","v":""},{"$f":"IF('Kollega oplysninger'!J294=\"\",\"\",'Kollega oplysninger'!J294)","v":""},{"$f":"IF('Kollega oplysninger'!L294=\"\",\"\",'Kollega oplysninger'!L294)","v":""},null,null,null,null,null,null,null,null,null,null,null,null,null,null,null,null,null,{"$f":"IF(Lokallønsprocenten!Z294=\"\",\"\",Lokallønsprocenten!Z294)","v":""},{"$f":"IF(Lokallønsprocenten!AA294=\"\",\"\",Lokallønsprocenten!AA294)","v":""},null,null,null,null,{"$f":"IF(Lokallønsprocenten!AF294=\"\",\"\",Lokallønsprocenten!AF294)","v":""},null,{"$f":"IF(Lokallønsprocenten!AH294=\"\",\"\",Lokallønsprocenten!AH294)","v":""},null,null,null,"",""]
[null,{"$f":"IF('Kollega oplysninger'!B295=\"\",\"\",'Kollega oplysninger'!B295)","v":""},{"$f":"IF('Kollega oplysninger'!C295=\"\",\"\",'Kollega oplysninger'!C295)","v":""},null,null,{"$f":"IF('Kollega oplysninger'!I295=\"\",\"\",'Kollega oplysninger'!I295)","v":""},{"$f":"IF('Kollega oplysninger'!J295=\"\",\"\",'Kollega oplysninger'!J295)","v":""},{"$f":"IF('Kollega oplysninger'!L295=\"\",\"\",'Kollega oplysninger'!L295)","v":""},null,null,null,null,null,null,null,null,null,null,null,null,null,null,null,null,null,{"$f":"IF(Lokallønsprocenten!Z295=\"\",\"\",Lokallønsprocenten!Z295)","v":""},{"$f":"IF(Lokallønsprocenten!AA295=\"\",\"\",Lokallønsprocenten!AA295)","v":""},null,null,null,null,{"$f":"IF(Lokallønsprocenten!AF295=\"\",\"\",Lokallønsprocenten!AF295)","v":""},null,{"$f":"IF(Lokallønsprocenten!AH295=\"\",\"\",Lokallønsprocenten!AH295)","v":""},null,null,null,"",""]
[null,{"$f":"IF('Kollega oplysninger'!B296=\"\",\"\",'Kollega oplysninger'!B296)","v":""},{"$f":"IF('Kollega oplysninger'!C296=\"\",\"\",'Kollega oplysninger'!C296)","v":""},null,null,{"$f":"IF('Kollega oplysninger'!I296=\"\",\"\",'Kollega oplysninger'!I296)","v":""},{"$f":"IF('Kollega oplysninger'!J296=\"\",\"\",'Kollega oplysninger'!J296)","v":""},{"$f":"IF('Kollega oplysninger'!L296=\"\",\"\",'Kollega oplysninger'!L296)","v":""},null,null,null,null,null,null,null,null,null,null,null,null,null,null,null,null,null,{"$f":"IF(Lokallønsprocenten!Z296=\"\",\"\",Lokallønsprocenten!Z296)","v":""},{"$f":"IF(Lokallønsprocenten!AA296=\"\",\"\",Lokallønsprocenten!AA296)","v":""},null,null,null,null,{"$f":"IF(Lokallønsprocenten!AF296=\"\",\"\",Lokallønsprocenten!AF296)","v":""},null,{"$f":"IF(Lokallønsprocenten!AH296=\"\",\"\",Lokallønsprocenten!AH296)","v":""},null,null,null,"",""]
[null,{"$f":"IF('Kollega oplysninger'!B297=\"\",\"\",'Kollega oplysninger'!B297)","v":""},{"$f":"IF('Kollega oplysninger'!C297=\"\",\"\",'Kollega oplysninger'!C297)","v":""},null,null,{"$f":"IF('Kollega oplysninger'!I297=\"\",\"\",'Kollega oplysninger'!I297)","v":""},{"$f":"IF('Kollega oplysninger'!J297=\"\",\"\",'Kollega oplysninger'!J297)","v":""},{"$f":"IF('Kollega oplysninger'!L297=\"\",\"\",'Kollega oplysninger'!L297)","v":""},null,null,null,null,null,null,null,null,null,null,null,null,null,null,null,null,null,{"$f":"IF(Lokallønsprocenten!Z297=\"\",\"\",Lokallønsprocenten!Z297)","v":""},{"$f":"IF(Lokallønsprocenten!AA297=\"\",\"\",Lokallønsprocenten!AA297)","v":""},null,null,null,null,{"$f":"IF(Lokallønsprocenten!AF297=\"\",\"\",Lokallønsprocenten!AF297)","v":""},null,{"$f":"IF(Lokallønsprocenten!AH297=\"\",\"\",Lokallønsprocenten!AH297)","v":""},null,null,null,"",""]
[null,{"$f":"IF('Kollega oplysninger'!B298=\"\",\"\",'Kollega oplysninger'!B298)","v":""},{"$f":"IF('Kollega oplysninger'!C298=\"\",\"\",'Kollega oplysninger'!C298)","v":""},null,null,{"$f":"IF('Kollega oplysninger'!I298=\"\",\"\",'Kollega oplysninger'!I298)","v":""},{"$f":"IF('Kollega oplysninger'!J298=\"\",\"\",'Kollega oplysninger'!J298)","v":""},{"$f":"IF('Kollega oplysninger'!L298=\"\",\"\",'Kollega oplysninger'!L298)","v":""},null,null,null,null,null,null,null,null,null,null,null,null,null,null,null,null,null,{"$f":"IF(Lokallønsprocenten!Z298=\"\",\"\",Lokallønsprocenten!Z298)","v":""},{"$f":"IF(Lokallønsprocenten!AA298=\"\",\"\",Lokallønsprocenten!AA298)","v":""},null,null,null,null,{"$f":"IF(Lokallønsprocenten!AF298=\"\",\"\",Lokallønsprocenten!AF298)","v":""},null,{"$f":"IF(Lokallønsprocenten!AH298=\"\",\"\",Lokallønsprocenten!AH298)","v":""},null,null,null,"",""]
[null,{"$f":"IF('Kollega oplysninger'!B299=\"\",\"\",'Kollega oplysninger'!B299)","v":""},{"$f":"IF('Kollega oplysninger'!C299=\"\",\"\",'Kollega oplysninger'!C299)","v":""},null,null,{"$f":"IF('Kollega oplysninger'!I299=\"\",\"\",'Kollega oplysninger'!I299)","v":""},{"$f":"IF('Kollega oplysninger'!J299=\"\",\"\",'Kollega oplysninger'!J299)","v":""},{"$f":"IF('Kollega oplysninger'!L299=\"\",\"\",'Kollega oplysninger'!L299)","v":""},null,null,null,null,null,null,null,null,null,null,null,null,null,null,null,null,null,{"$f":"IF(Lokallønsprocenten!Z299=\"\",\"\",Lokallønsprocenten!Z299)","v":""},{"$f":"IF(Lokallønsprocenten!AA299=\"\",\"\",Lokallønsprocenten!AA299)","v":""},null,null,null,null,{"$f":"IF(Lokallønsprocenten!AF299=\"\",\"\",Lokallønsprocenten!AF299)","v":""},null,{"$f":"IF(Lokallønsprocenten!AH299=\"\",\"\",Lokallønsprocenten!AH299)","v":""},null,null,null,"",""]
[null,{"$f":"IF('Kollega oplysninger'!B300=\"\",\"\",'Kollega oplysninger'!B300)","v":""},{"$f":"IF('Kollega oplysninger'!C300=\"\",\"\",'Kollega oplysninger'!C300)","v":""},null,null,{"$f":"IF('Kollega oplysninger'!I300=\"\",\"\",'Kollega oplysninger'!I300)","v":""},{"$f":"IF('Kollega oplysninger'!J300=\"\",\"\",'Kollega oplysninger'!J300)","v":""},{"$f":"IF('Kollega oplysninger'!L300=\"\",\"\",'Kollega oplysninger'!L300)","v":""},null,null,null,null,null,null,null,null,null,null,null,null,null,null,null,null,null,{"$f":"IF(Lokallønsprocenten!Z300=\"\",\"\",Lokallønsprocenten!Z300)","v":""},{"$f":"IF(Lokallønsprocenten!AA300=\"\",\"\",Lokallønsprocenten!AA300)","v":""},null,null,null,null,{"$f":"IF(Lokallønsprocenten!AF300=\"\",\"\",Lokallønsprocenten!AF300)","v":""},null,{"$f":"IF(Lokallønsprocenten!AH300=\"\",\"\",Lokallønsprocenten!AH300)","v":""},null,null,null,"",""]
[null,{"$f":"IF('Kollega oplysninger'!B301=\"\",\"\",'Kollega oplysninger'!B301)","v":""},{"$f":"IF('Kollega oplysninger'!C301=\"\",\"\",'Kollega oplysninger'!C301)","v":""},null,null,{"$f":"IF('Kollega oplysninger'!I301=\"\",\"\",'Kollega oplysninger'!I301)","v":""},{"$f":"IF('Kollega oplysninger'!J301=\"\",\"\",'Kollega oplysninger'!J301)","v":""},{"$f":"IF('Kollega oplysninger'!L301=\"\",\"\",'Kollega oplysninger'!L301)","v":""},null,null,null,null,null,null,null,null,null,null,null,null,null,null,null,null,null,{"$f":"IF(Lokallønsprocenten!Z301=\"\",\"\",Lokallønsprocenten!Z301)","v":""},{"$f":"IF(Lokallønsprocenten!AA301=\"\",\"\",Lokallønsprocenten!AA301)","v":""},null,null,null,null,{"$f":"IF(Lokallønsprocenten!AF301=\"\",\"\",Lokallønsprocenten!AF301)","v":""},null,{"$f":"IF(Lokallønsprocenten!AH301=\"\",\"\",Lokallønsprocenten!AH301)","v":""},null,null,null,"",""]
[null,{"$f":"IF('Kollega oplysninger'!B302=\"\",\"\",'Kollega oplysninger'!B302)","v":""},{"$f":"IF('Kollega oplysninger'!C302=\"\",\"\",'Kollega oplysninger'!C302)","v":""},null,null,{"$f":"IF('Kollega oplysninger'!I302=\"\",\"\",'Kollega oplysninger'!I302)","v":""},{"$f":"IF('Kollega oplysninger'!J302=\"\",\"\",'Kollega oplysninger'!J302)","v":""},{"$f":"IF('Kollega oplysninger'!L302=\"\",\"\",'Kollega oplysninger'!L302)","v":""},null,null,null,null,null,null,null,null,null,null,null,null,null,null,null,null,null,{"$f":"IF(Lokallønsprocenten!Z302=\"\",\"\",Lokallønsprocenten!Z302)","v":""},{"$f":"IF(Lokallønsprocenten!AA302=\"\",\"\",Lokallønsprocenten!AA302)","v":""},null,null,null,null,{"$f":"IF(Lokallønsprocenten!AF302=\"\",\"\",Lokallønsprocenten!AF302)","v":""},null,{"$f":"IF(Lokallønsprocenten!AH302=\"\",\"\",Lokallønsprocenten!AH302)","v":""},null,null,null,"",""]
[null,{"$f":"IF('Kollega oplysninger'!B303=\"\",\"\",'Kollega oplysninger'!B303)","v":""},{"$f":"IF('Kollega oplysninger'!C303=\"\",\"\",'Kollega oplysninger'!C303)","v":""},null,null,{"$f":"IF('Kollega oplysninger'!I303=\"\",\"\",'Kollega oplysninger'!I303)","v":""},{"$f":"IF('Kollega oplysninger'!J303=\"\",\"\",'Kollega oplysninger'!J303)","v":""},{"$f":"IF('Kollega oplysninger'!L303=\"\",\"\",'Kollega oplysninger'!L303)","v":""},null,null,null,null,null,null,null,null,null,null,null,null,null,null,null,null,null,{"$f":"IF(Lokallønsprocenten!Z303=\"\",\"\",Lokallønsprocenten!Z303)","v":""},{"$f":"IF(Lokallønsprocenten!AA303=\"\",\"\",Lokallønsprocenten!AA303)","v":""},null,null,null,null,{"$f":"IF(Lokallønsprocenten!AF303=\"\",\"\",Lokallønsprocenten!AF303)","v":""},null,{"$f":"IF(Lokallønsprocenten!AH303=\"\",\"\",Lokallønsprocenten!AH303)","v":""},null,null,null,"",""]
[null,{"$f":"IF('Kollega oplysninger'!B304=\"\",\"\",'Kollega oplysninger'!B304)","v":""},{"$f":"IF('Kollega oplysninger'!C304=\"\",\"\",'Kollega oplysninger'!C304)","v":""},null,null,{"$f":"IF('Kollega oplysninger'!I304=\"\",\"\",'Kollega oplysninger'!I304)","v":""},{"$f":"IF('Kollega oplysninger'!J304=\"\",\"\",'Kollega oplysninger'!J304)","v":""},{"$f":"IF('Kollega oplysninger'!L304=\"\",\"\",'Kollega oplysninger'!L304)","v":""},null,null,null,null,null,null,null,null,null,null,null,null,null,null,null,null,null,{"$f":"IF(Lokallønsprocenten!Z304=\"\",\"\",Lokallønsprocenten!Z304)","v":""},{"$f":"IF(Lokallønsprocenten!AA304=\"\",\"\",Lokallønsprocenten!AA304)","v":""},null,null,null,null,{"$f":"IF(Lokallønsprocenten!AF304=\"\",\"\",Lokallønsprocenten!AF304)","v":""},null,{"$f":"IF(Lokallønsprocenten!AH304=\"\",\"\",Lokallønsprocenten!AH304)","v":""},null,null,null,"",""]
[null,{"$f":"IF('Kollega oplysninger'!B305=\"\",\"\",'Kollega oplysninger'!B305)","v":""},{"$f":"IF('Kollega oplysninger'!C305=\"\",\"\",'Kollega oplysninger'!C305)","v":""},null,null,{"$f":"IF('Kollega oplysninger'!I305=\"\",\"\",'Kollega oplysninger'!I305)","v":""},{"$f":"IF('Kollega oplysninger'!J305=\"\",\"\",'Kollega oplysninger'!J305)","v":""},{"$f":"IF('Kollega oplysninger'!L305=\"\",\"\",'Kollega oplysninger'!L305)","v":""},null,null,null,null,null,null,null,null,null,null,null,null,null,null,null,null,null,{"$f":"IF(Lokallønsprocenten!Z305=\"\",\"\",Lokallønsprocenten!Z305)","v":""},{"$f":"IF(Lokallønsprocenten!AA305=\"\",\"\",Lokallønsprocenten!AA305)","v":""},null,null,null,null,{"$f":"IF(Lokallønsprocenten!AF305=\"\",\"\",Lokallønsprocenten!AF305)","v":""},null,{"$f":"IF(Lokallønsprocenten!AH305=\"\",\"\",Lokallønsprocenten!AH305)","v":""},null,null,null,"",""]
[null,{"$f":"IF('Kollega oplysninger'!B306=\"\",\"\",'Kollega oplysninger'!B306)","v":""},{"$f":"IF('Kollega oplysninger'!C306=\"\",\"\",'Kollega oplysninger'!C306)","v":""},null,null,{"$f":"IF('Kollega oplysninger'!I306=\"\",\"\",'Kollega oplysninger'!I306)","v":""},{"$f":"IF('Kollega oplysninger'!J306=\"\",\"\",'Kollega oplysninger'!J306)","v":""},{"$f":"IF('Kollega oplysninger'!L306=\"\",\"\",'Kollega oplysninger'!L306)","v":""},null,null,null,null,null,null,null,null,null,null,null,null,null,null,null,null,null,{"$f":"IF(Lokallønsprocenten!Z306=\"\",\"\",Lokallønsprocenten!Z306)","v":""},{"$f":"IF(Lokallønsprocenten!AA306=\"\",\"\",Lokallønsprocenten!AA306)","v":""},null,null,null,null,{"$f":"IF(Lokallønsprocenten!AF306=\"\",\"\",Lokallønsprocenten!AF306)","v":""},null,{"$f":"IF(Lokallønsprocenten!AH306=\"\",\"\",Lokallønsprocenten!AH306)","v":""},null,null,null,"",""]
[null,{"$f":"IF('Kollega oplysninger'!B307=\"\",\"\",'Kollega oplysninger'!B307)","v":""},{"$f":"IF('Kollega oplysninger'!C307=\"\",\"\",'Kollega oplysninger'!C307)","v":""},null,null,{"$f":"IF('Kollega oplysninger'!I307=\"\",\"\",'Kollega oplysninger'!I307)","v":""},{"$f":"IF('Kollega oplysninger'!J307=\"\",\"\",'Kollega oplysninger'!J307)","v":""},{"$f":"IF('Kollega oplysninger'!L307=\"\",\"\",'Kollega oplysninger'!L307)","v":""},null,null,null,null,null,null,null,null,null,null,null,null,null,null,null,null,null,{"$f":"IF(Lokallønsprocenten!Z307=\"\",\"\",Lokallønsprocenten!Z307)","v":""},{"$f":"IF(Lokallønsprocenten!AA307=\"\",\"\",Lokallønsprocenten!AA307)","v":""},null,null,null,null,{"$f":"IF(Lokallønsprocenten!AF307=\"\",\"\",Lokallønsprocenten!AF307)","v":""},null,{"$f":"IF(Lokallønsprocenten!AH307=\"\",\"\",Lokallønsprocenten!AH307)","v":""},null,null,null,"",""]
[null,{"$f":"IF('Kollega oplysninger'!B308=\"\",\"\",'Kollega oplysninger'!B308)","v":""},{"$f":"IF('Kollega oplysninger'!C308=\"\",\"\",'Kollega oplysninger'!C308)","v":""},null,null,{"$f":"IF('Kollega oplysninger'!I308=\"\",\"\",'Kollega oplysninger'!I308)","v":""},{"$f":"IF('Kollega oplysninger'!J308=\"\",\"\",'Kollega oplysninger'!J308)","v":""},{"$f":"IF('Kollega oplysninger'!L308=\"\",\"\",'Kollega oplysninger'!L308)","v":""},null,null,null,null,null,null,null,null,null,null,null,null,null,null,null,null,null,{"$f":"IF(Lokallønsprocenten!Z308=\"\",\"\",Lokallønsprocenten!Z308)","v":""},{"$f":"IF(Lokallønsprocenten!AA308=\"\",\"\",Lokallønsprocenten!AA308)","v":""},null,null,null,null,{"$f":"IF(Lokallønsprocenten!AF308=\"\",\"\",Lokallønsprocenten!AF308)","v":""},null,{"$f":"IF(Lokallønsprocenten!AH308=\"\",\"\",Lokallønsprocenten!AH308)","v":""},null,null,null,"",""]
[null,{"$f":"IF('Kollega oplysninger'!B309=\"\",\"\",'Kollega oplysninger'!B309)","v":""},{"$f":"IF('Kollega oplysninger'!C309=\"\",\"\",'Kollega oplysninger'!C309)","v":""},null,null,{"$f":"IF('Kollega oplysninger'!I309=\"\",\"\",'Kollega oplysninger'!I309)","v":""},{"$f":"IF('Kollega oplysninger'!J309=\"\",\"\",'Kollega oplysninger'!J309)","v":""},{"$f":"IF('Kollega oplysninger'!L309=\"\",\"\",'Kollega oplysninger'!L309)","v":""},null,null,null,null,null,null,null,null,null,null,null,null,null,null,null,null,null,{"$f":"IF(Lokallønsprocenten!Z309=\"\",\"\",Lokallønsprocenten!Z309)","v":""},{"$f":"IF(Lokallønsprocenten!AA309=\"\",\"\",Lokallønsprocenten!AA309)","v":""},null,null,null,null,{"$f":"IF(Lokallønsprocenten!AF309=\"\",\"\",Lokallønsprocenten!AF309)","v":""},null,{"$f":"IF(Lokallønsprocenten!AH309=\"\",\"\",Lokallønsprocenten!AH309)","v":""},null,null,null,"",""]
[null,{"$f":"IF('Kollega oplysninger'!B310=\"\",\"\",'Kollega oplysninger'!B310)","v":""},{"$f":"IF('Kollega oplysninger'!C310=\"\",\"\",'Kollega oplysninger'!C310)","v":""},null,null,{"$f":"IF('Kollega oplysninger'!I310=\"\",\"\",'Kollega oplysninger'!I310)","v":""},{"$f":"IF('Kollega oplysninger'!J310=\"\",\"\",'Kollega oplysninger'!J310)","v":""},{"$f":"IF('Kollega oplysninger'!L310=\"\",\"\",'Kollega oplysninger'!L310)","v":""},null,null,null,null,null,null,null,null,null,null,null,null,null,null,null,null,null,{"$f":"IF(Lokallønsprocenten!Z310=\"\",\"\",Lokallønsprocenten!Z310)","v":""},{"$f":"IF(Lokallønsprocenten!AA310=\"\",\"\",Lokallønsprocenten!AA310)","v":""},null,null,null,null,{"$f":"IF(Lokallønsprocenten!AF310=\"\",\"\",Lokallønsprocenten!AF310)","v":""},null,{"$f":"IF(Lokallønsprocenten!AH310=\"\",\"\",Lokallønsprocenten!AH310)","v":""},null,null,null,"",""]
[null,{"$f":"IF('Kollega oplysninger'!B311=\"\",\"\",'Kollega oplysninger'!B311)","v":""},{"$f":"IF('Kollega oplysninger'!C311=\"\",\"\",'Kollega oplysninger'!C311)","v":""},null,null,{"$f":"IF('Kollega oplysninger'!I311=\"\",\"\",'Kollega oplysninger'!I311)","v":""},{"$f":"IF('Kollega oplysninger'!J311=\"\",\"\",'Kollega oplysninger'!J311)","v":""},{"$f":"IF('Kollega oplysninger'!L311=\"\",\"\",'Kollega oplysninger'!L311)","v":""},null,null,null,null,null,null,null,null,null,null,null,null,null,null,null,null,null,{"$f":"IF(Lokallønsprocenten!Z311=\"\",\"\",Lokallønsprocenten!Z311)","v":""},{"$f":"IF(Lokallønsprocenten!AA311=\"\",\"\",Lokallønsprocenten!AA311)","v":""},null,null,null,null,{"$f":"IF(Lokallønsprocenten!AF311=\"\",\"\",Lokallønsprocenten!AF311)","v":""},null,{"$f":"IF(Lokallønsprocenten!AH311=\"\",\"\",Lokallønsprocenten!AH311)","v":""},null,null,null,"",""]
[null,{"$f":"IF('Kollega oplysninger'!B312=\"\",\"\",'Kollega oplysninger'!B312)","v":""},{"$f":"IF('Kollega oplysninger'!C312=\"\",\"\",'Kollega oplysninger'!C312)","v":""},null,null,{"$f":"IF('Kollega oplysninger'!I312=\"\",\"\",'Kollega oplysninger'!I312)","v":""},{"$f":"IF('Kollega oplysninger'!J312=\"\",\"\",'Kollega oplysninger'!J312)","v":""},{"$f":"IF('Kollega oplysninger'!L312=\"\",\"\",'Kollega oplysninger'!L312)","v":""},null,null,null,null,null,null,null,null,null,null,null,null,null,null,null,null,null,{"$f":"IF(Lokallønsprocenten!Z312=\"\",\"\",Lokallønsprocenten!Z312)","v":""},{"$f":"IF(Lokallønsprocenten!AA312=\"\",\"\",Lokallønsprocenten!AA312)","v":""},null,null,null,null,{"$f":"IF(Lokallønsprocenten!AF312=\"\",\"\",Lokallønsprocenten!AF312)","v":""},null,{"$f":"IF(Lokallønsprocenten!AH312=\"\",\"\",Lokallønsprocenten!AH312)","v":""},null,null,null,"",""]
[null,{"$f":"IF('Kollega oplysninger'!B313=\"\",\"\",'Kollega oplysninger'!B313)","v":""},{"$f":"IF('Kollega oplysninger'!C313=\"\",\"\",'Kollega oplysninger'!C313)","v":""},null,null,{"$f":"IF('Kollega oplysninger'!I313=\"\",\"\",'Kollega oplysninger'!I313)","v":""},{"$f":"IF('Kollega oplysninger'!J313=\"\",\"\",'Kollega oplysninger'!J313)","v":""},{"$f":"IF('Kollega oplysninger'!L313=\"\",\"\",'Kollega oplysninger'!L313)","v":""},null,null,null,null,null,null,null,null,null,null,null,null,null,null,null,null,null,{"$f":"IF(Lokallønsprocenten!Z313=\"\",\"\",Lokallønsprocenten!Z313)","v":""},{"$f":"IF(Lokallønsprocenten!AA313=\"\",\"\",Lokallønsprocenten!AA313)","v":""},null,null,null,null,{"$f":"IF(Lokallønsprocenten!AF313=\"\",\"\",Lokallønsprocenten!AF313)","v":""},null,{"$f":"IF(Lokallønsprocenten!AH313=\"\",\"\",Lokallønsprocenten!AH313)","v":""},null,null,null,"",""]
[null,{"$f":"IF('Kollega oplysninger'!B314=\"\",\"\",'Kollega oplysninger'!B314)","v":""},{"$f":"IF('Kollega oplysninger'!C314=\"\",\"\",'Kollega oplysninger'!C314)","v":""},null,null,{"$f":"IF('Kollega oplysninger'!I314=\"\",\"\",'Kollega oplysninger'!I314)","v":""},{"$f":"IF('Kollega oplysninger'!J314=\"\",\"\",'Kollega oplysninger'!J314)","v":""},{"$f":"IF('Kollega oplysninger'!L314=\"\",\"\",'Kollega oplysninger'!L314)","v":""},null,null,null,null,null,null,null,null,null,null,null,null,null,null,null,null,null,{"$f":"IF(Lokallønsprocenten!Z314=\"\",\"\",Lokallønsprocenten!Z314)","v":""},{"$f":"IF(Lokallønsprocenten!AA314=\"\",\"\",Lokallønsprocenten!AA314)","v":""},null,null,null,null,{"$f":"IF(Lokallønsprocenten!AF314=\"\",\"\",Lokallønsprocenten!AF314)","v":""},null,{"$f":"IF(Lokallønsprocenten!AH314=\"\",\"\",Lokallønsprocenten!AH314)","v":""},null,null,null,"",""]
[null,{"$f":"IF('Kollega oplysninger'!B315=\"\",\"\",'Kollega oplysninger'!B315)","v":""},{"$f":"IF('Kollega oplysninger'!C315=\"\",\"\",'Kollega oplysninger'!C315)","v":""},null,null,{"$f":"IF('Kollega oplysninger'!I315=\"\",\"\",'Kollega oplysninger'!I315)","v":""},{"$f":"IF('Kollega oplysninger'!J315=\"\",\"\",'Kollega oplysninger'!J315)","v":""},{"$f":"IF('Kollega oplysninger'!L315=\"\",\"\",'Kollega oplysninger'!L315)","v":""},null,null,null,null,null,null,null,null,null,null,null,null,null,null,null,null,null,{"$f":"IF(Lokallønsprocenten!Z315=\"\",\"\",Lokallønsprocenten!Z315)","v":""},{"$f":"IF(Lokallønsprocenten!AA315=\"\",\"\",Lokallønsprocenten!AA315)","v":""},null,null,null,null,{"$f":"IF(Lokallønsprocenten!AF315=\"\",\"\",Lokallønsprocenten!AF315)","v":""},null,{"$f":"IF(Lokallønsprocenten!AH315=\"\",\"\",Lokallønsprocenten!AH315)","v":""},null,null,null,"",""]
[null,{"$f":"IF('Kollega oplysninger'!B316=\"\",\"\",'Kollega oplysninger'!B316)","v":""},{"$f":"IF('Kollega oplysninger'!C316=\"\",\"\",'Kollega oplysninger'!C316)","v":""},null,null,{"$f":"IF('Kollega oplysninger'!I316=\"\",\"\",'Kollega oplysninger'!I316)","v":""},{"$f":"IF('Kollega oplysninger'!J316=\"\",\"\",'Kollega oplysninger'!J316)","v":""},{"$f":"IF('Kollega oplysninger'!L316=\"\",\"\",'Kollega oplysninger'!L316)","v":""},null,null,null,null,null,null,null,null,null,null,null,null,null,null,null,null,null,{"$f":"IF(Lokallønsprocenten!Z316=\"\",\"\",Lokallønsprocenten!Z316)","v":""},{"$f":"IF(Lokallønsprocenten!AA316=\"\",\"\",Lokallønsprocenten!AA316)","v":""},null,null,null,null,{"$f":"IF(Lokallønsprocenten!AF316=\"\",\"\",Lokallønsprocenten!AF316)","v":""},null,{"$f":"IF(Lokallønsprocenten!AH316=\"\",\"\",Lokallønsprocenten!AH316)","v":""},null,null,null,"",""]
[null,{"$f":"IF('Kollega oplysninger'!B317=\"\",\"\",'Kollega oplysninger'!B317)","v":""},{"$f":"IF('Kollega oplysninger'!C317=\"\",\"\",'Kollega oplysninger'!C317)","v":""},null,null,{"$f":"IF('Kollega oplysninger'!I317=\"\",\"\",'Kollega oplysninger'!I317)","v":""},{"$f":"IF('Kollega oplysninger'!J317=\"\",\"\",'Kollega oplysninger'!J317)","v":""},{"$f":"IF('Kollega oplysninger'!L317=\"\",\"\",'Kollega oplysninger'!L317)","v":""},null,null,null,null,null,null,null,null,null,null,null,null,null,null,null,null,null,{"$f":"IF(Lokallønsprocenten!Z317=\"\",\"\",Lokallønsprocenten!Z317)","v":""},{"$f":"IF(Lokallønsprocenten!AA317=\"\",\"\",Lokallønsprocenten!AA317)","v":""},null,null,null,null,{"$f":"IF(Lokallønsprocenten!AF317=\"\",\"\",Lokallønsprocenten!AF317)","v":""},null,{"$f":"IF(Lokallønsprocenten!AH317=\"\",\"\",Lokallønsprocenten!AH317)","v":""},null,null,null,"",""]
[null,{"$f":"IF('Kollega oplysninger'!B318=\"\",\"\",'Kollega oplysninger'!B318)","v":""},{"$f":"IF('Kollega oplysninger'!C318=\"\",\"\",'Kollega oplysninger'!C318)","v":""},null,null,{"$f":"IF('Kollega oplysninger'!I318=\"\",\"\",'Kollega oplysninger'!I318)","v":""},{"$f":"IF('Kollega oplysninger'!J318=\"\",\"\",'Kollega oplysninger'!J318)","v":""},{"$f":"IF('Kollega oplysninger'!L318=\"\",\"\",'Kollega oplysninger'!L318)","v":""},null,null,null,null,null,null,null,null,null,null,null,null,null,null,null,null,null,{"$f":"IF(Lokallønsprocenten!Z318=\"\",\"\",Lokallønsprocenten!Z318)","v":""},{"$f":"IF(Lokallønsprocenten!AA318=\"\",\"\",Lokallønsprocenten!AA318)","v":""},null,null,null,null,{"$f":"IF(Lokallønsprocenten!AF318=\"\",\"\",Lokallønsprocenten!AF318)","v":""},null,{"$f":"IF(Lokallønsprocenten!AH318=\"\",\"\",Lokallønsprocenten!AH318)","v":""},null,null,null,"",""]
[null,{"$f":"IF('Kollega oplysninger'!B319=\"\",\"\",'Kollega oplysninger'!B319)","v":""},{"$f":"IF('Kollega oplysninger'!C319=\"\",\"\",'Kollega oplysninger'!C319)","v":""},null,null,{"$f":"IF('Kollega oplysninger'!I319=\"\",\"\",'Kollega oplysninger'!I319)","v":""},{"$f":"IF('Kollega oplysninger'!J319=\"\",\"\",'Kollega oplysninger'!J319)","v":""},{"$f":"IF('Kollega oplysninger'!L319=\"\",\"\",'Kollega oplysninger'!L319)","v":""},null,null,null,null,null,null,null,null,null,null,null,null,null,null,null,null,null,{"$f":"IF(Lokallønsprocenten!Z319=\"\",\"\",Lokallønsprocenten!Z319)","v":""},{"$f":"IF(Lokallønsprocenten!AA319=\"\",\"\",Lokallønsprocenten!AA319)","v":""},null,null,null,null,{"$f":"IF(Lokallønsprocenten!AF319=\"\",\"\",Lokallønsprocenten!AF319)","v":""},null,{"$f":"IF(Lokallønsprocenten!AH319=\"\",\"\",Lokallønsprocenten!AH319)","v":""},null,null,null,"",""]
[null,{"$f":"IF('Kollega oplysninger'!B320=\"\",\"\",'Kollega oplysninger'!B320)","v":""},{"$f":"IF('Kollega oplysninger'!C320=\"\",\"\",'Kollega oplysninger'!C320)","v":""},null,null,{"$f":"IF('Kollega oplysninger'!I320=\"\",\"\",'Kollega oplysninger'!I320)","v":""},{"$f":"IF('Kollega oplysninger'!J320=\"\",\"\",'Kollega oplysninger'!J320)","v":""},{"$f":"IF('Kollega oplysninger'!L320=\"\",\"\",'Kollega oplysninger'!L320)","v":""},null,null,null,null,null,null,null,null,null,null,null,null,null,null,null,null,null,{"$f":"IF(Lokallønsprocenten!Z320=\"\",\"\",Lokallønsprocenten!Z320)","v":""},{"$f":"IF(Lokallønsprocenten!AA320=\"\",\"\",Lokallønsprocenten!AA320)","v":""},null,null,null,null,{"$f":"IF(Lokallønsprocenten!AF320=\"\",\"\",Lokallønsprocenten!AF320)","v":""},null,{"$f":"IF(Lokallønsprocenten!AH320=\"\",\"\",Lokallønsprocenten!AH320)","v":""},null,null,null,"",""]
[null,{"$f":"IF('Kollega oplysninger'!B321=\"\",\"\",'Kollega oplysninger'!B321)","v":""},{"$f":"IF('Kollega oplysninger'!C321=\"\",\"\",'Kollega oplysninger'!C321)","v":""},null,null,{"$f":"IF('Kollega oplysninger'!I321=\"\",\"\",'Kollega oplysninger'!I321)","v":""},{"$f":"IF('Kollega oplysninger'!J321=\"\",\"\",'Kollega oplysninger'!J321)","v":""},{"$f":"IF('Kollega oplysninger'!L321=\"\",\"\",'Kollega oplysninger'!L321)","v":""},null,null,null,null,null,null,null,null,null,null,null,null,null,null,null,null,null,{"$f":"IF(Lokallønsprocenten!Z321=\"\",\"\",Lokallønsprocenten!Z321)","v":""},{"$f":"IF(Lokallønsprocenten!AA321=\"\",\"\",Lokallønsprocenten!AA321)","v":""},null,null,null,null,{"$f":"IF(Lokallønsprocenten!AF321=\"\",\"\",Lokallønsprocenten!AF321)","v":""},null,{"$f":"IF(Lokallønsprocenten!AH321=\"\",\"\",Lokallønsprocenten!AH321)","v":""},null,null,null,"",""]
[null,{"$f":"IF('Kollega oplysninger'!B322=\"\",\"\",'Kollega oplysninger'!B322)","v":""},{"$f":"IF('Kollega oplysninger'!C322=\"\",\"\",'Kollega oplysninger'!C322)","v":""},null,null,{"$f":"IF('Kollega oplysninger'!I322=\"\",\"\",'Kollega oplysninger'!I322)","v":""},{"$f":"IF('Kollega oplysninger'!J322=\"\",\"\",'Kollega oplysninger'!J322)","v":""},{"$f":"IF('Kollega oplysninger'!L322=\"\",\"\",'Kollega oplysninger'!L322)","v":""},null,null,null,null,null,null,null,null,null,null,null,null,null,null,null,null,null,{"$f":"IF(Lokallønsprocenten!Z322=\"\",\"\",Lokallønsprocenten!Z322)","v":""},{"$f":"IF(Lokallønsprocenten!AA322=\"\",\"\",Lokallønsprocenten!AA322)","v":""},null,null,null,null,{"$f":"IF(Lokallønsprocenten!AF322=\"\",\"\",Lokallønsprocenten!AF322)","v":""},null,{"$f":"IF(Lokallønsprocenten!AH322=\"\",\"\",Lokallønsprocenten!AH322)","v":""},null,null,null,"",""]
[null,{"$f":"IF('Kollega oplysninger'!B323=\"\",\"\",'Kollega oplysninger'!B323)","v":""},{"$f":"IF('Kollega oplysninger'!C323=\"\",\"\",'Kollega oplysninger'!C323)","v":""},null,null,{"$f":"IF('Kollega oplysninger'!I323=\"\",\"\",'Kollega oplysninger'!I323)","v":""},{"$f":"IF('Kollega oplysninger'!J323=\"\",\"\",'Kollega oplysninger'!J323)","v":""},{"$f":"IF('Kollega oplysninger'!L323=\"\",\"\",'Kollega oplysninger'!L323)","v":""},null,null,null,null,null,null,null,null,null,null,null,null,null,null,null,null,null,{"$f":"IF(Lokallønsprocenten!Z323=\"\",\"\",Lokallønsprocenten!Z323)","v":""},{"$f":"IF(Lokallønsprocenten!AA323=\"\",\"\",Lokallønsprocenten!AA323)","v":""},null,null,null,null,{"$f":"IF(Lokallønsprocenten!AF323=\"\",\"\",Lokallønsprocenten!AF323)","v":""},null,{"$f":"IF(Lokallønsprocenten!AH323=\"\",\"\",Lokallønsprocenten!AH323)","v":""},null,null,null,"",""]
[null,{"$f":"IF('Kollega oplysninger'!B324=\"\",\"\",'Kollega oplysninger'!B324)","v":""},{"$f":"IF('Kollega oplysninger'!C324=\"\",\"\",'Kollega oplysninger'!C324)","v":""},null,null,{"$f":"IF('Kollega oplysninger'!I324=\"\",\"\",'Kollega oplysninger'!I324)","v":""},{"$f":"IF('Kollega oplysninger'!J324=\"\",\"\",'Kollega oplysninger'!J324)","v":""},{"$f":"IF('Kollega oplysninger'!L324=\"\",\"\",'Kollega oplysninger'!L324)","v":""},null,null,null,null,null,null,null,null,null,null,null,null,null,null,null,null,null,{"$f":"IF(Lokallønsprocenten!Z324=\"\",\"\",Lokallønsprocenten!Z324)","v":""},{"$f":"IF(Lokallønsprocenten!AA324=\"\",\"\",Lokallønsprocenten!AA324)","v":""},null,null,null,null,{"$f":"IF(Lokallønsprocenten!AF324=\"\",\"\",Lokallønsprocenten!AF324)","v":""},null,{"$f":"IF(Lokallønsprocenten!AH324=\"\",\"\",Lokallønsprocenten!AH324)","v":""},null,null,null,"",""]
[null,{"$f":"IF('Kollega oplysninger'!B325=\"\",\"\",'Kollega oplysninger'!B325)","v":""},{"$f":"IF('Kollega oplysninger'!C325=\"\",\"\",'Kollega oplysninger'!C325)","v":""},null,null,{"$f":"IF('Kollega oplysninger'!I325=\"\",\"\",'Kollega oplysninger'!I325)","v":""},{"$f":"IF('Kollega oplysninger'!J325=\"\",\"\",'Kollega oplysninger'!J325)","v":""},{"$f":"IF('Kollega oplysninger'!L325=\"\",\"\",'Kollega oplysninger'!L325)","v":""},null,null,null,null,null,null,null,null,null,null,null,null,null,null,null,null,null,{"$f":"IF(Lokallønsprocenten!Z325=\"\",\"\",Lokallønsprocenten!Z325)","v":""},{"$f":"IF(Lokallønsprocenten!AA325=\"\",\"\",Lokallønsprocenten!AA325)","v":""},null,null,null,null,{"$f":"IF(Lokallønsprocenten!AF325=\"\",\"\",Lokallønsprocenten!AF325)","v":""},null,{"$f":"IF(Lokallønsprocenten!AH325=\"\",\"\",Lokallønsprocenten!AH325)","v":""},null,null,null,"",""]
[null,{"$f":"IF('Kollega oplysninger'!B326=\"\",\"\",'Kollega oplysninger'!B326)","v":""},{"$f":"IF('Kollega oplysninger'!C326=\"\",\"\",'Kollega oplysninger'!C326)","v":""},null,null,{"$f":"IF('Kollega oplysninger'!I326=\"\",\"\",'Kollega oplysninger'!I326)","v":""},{"$f":"IF('Kollega oplysninger'!J326=\"\",\"\",'Kollega oplysninger'!J326)","v":""},{"$f":"IF('Kollega oplysninger'!L326=\"\",\"\",'Kollega oplysninger'!L326)","v":""},null,null,null,null,null,null,null,null,null,null,null,null,null,null,null,null,null,{"$f":"IF(Lokallønsprocenten!Z326=\"\",\"\",Lokallønsprocenten!Z326)","v":""},{"$f":"IF(Lokallønsprocenten!AA326=\"\",\"\",Lokallønsprocenten!AA326)","v":""},null,null,null,null,{"$f":"IF(Lokallønsprocenten!AF326=\"\",\"\",Lokallønsprocenten!AF326)","v":""},null,{"$f":"IF(Lokallønsprocenten!AH326=\"\",\"\",Lokallønsprocenten!AH326)","v":""},null,null,null,"",""]
[null,{"$f":"IF('Kollega oplysninger'!B327=\"\",\"\",'Kollega oplysninger'!B327)","v":""},{"$f":"IF('Kollega oplysninger'!C327=\"\",\"\",'Kollega oplysninger'!C327)","v":""},null,null,{"$f":"IF('Kollega oplysninger'!I327=\"\",\"\",'Kollega oplysninger'!I327)","v":""},{"$f":"IF('Kollega oplysninger'!J327=\"\",\"\",'Kollega oplysninger'!J327)","v":""},{"$f":"IF('Kollega oplysninger'!L327=\"\",\"\",'Kollega oplysninger'!L327)","v":""},null,null,null,null,null,null,null,null,null,null,null,null,null,null,null,null,null,{"$f":"IF(Lokallønsprocenten!Z327=\"\",\"\",Lokallønsprocenten!Z327)","v":""},{"$f":"IF(Lokallønsprocenten!AA327=\"\",\"\",Lokallønsprocenten!AA327)","v":""},null,null,null,null,{"$f":"IF(Lokallønsprocenten!AF327=\"\",\"\",Lokallønsprocenten!AF327)","v":""},null,{"$f":"IF(Lokallønsprocenten!AH327=\"\",\"\",Lokallønsprocenten!AH327)","v":""},null,null,null,{"$f":"IF(Z327=\"fejl\",X327,\"\")","v":""},{"$f":"IF(Z327=\"fejl\",Y327,\"\")","v":""}]
[null,{"$f":"IF('Kollega oplysninger'!B328=\"\",\"\",'Kollega oplysninger'!B328)","v":""},{"$f":"IF('Kollega oplysninger'!C328=\"\",\"\",'Kollega oplysninger'!C328)","v":""},null,null,{"$f":"IF('Kollega oplysninger'!I328=\"\",\"\",'Kollega oplysninger'!I328)","v":""},{"$f":"IF('Kollega oplysninger'!J328=\"\",\"\",'Kollega oplysninger'!J328)","v":""},{"$f":"IF('Kollega oplysninger'!L328=\"\",\"\",'Kollega oplysninger'!L328)","v":""},null,null,null,null,null,null,null,null,null,null,null,null,null,null,null,null,null,{"$f":"IF(Lokallønsprocenten!Z328=\"\",\"\",Lokallønsprocenten!Z328)","v":""},{"$f":"IF(Lokallønsprocenten!AA328=\"\",\"\",Lokallønsprocenten!AA328)","v":""},null,null,null,null,{"$f":"IF(Lokallønsprocenten!AF328=\"\",\"\",Lokallønsprocenten!AF328)","v":""},null,{"$f":"IF(Lokallønsprocenten!AH328=\"\",\"\",Lokallønsprocenten!AH328)","v":""},null,null,null,"",""]
[null,{"$f":"IF('Kollega oplysninger'!B329=\"\",\"\",'Kollega oplysninger'!B329)","v":""},{"$f":"IF('Kollega oplysninger'!C329=\"\",\"\",'Kollega oplysninger'!C329)","v":""},null,null,{"$f":"IF('Kollega oplysninger'!I329=\"\",\"\",'Kollega oplysninger'!I329)","v":""},{"$f":"IF('Kollega oplysninger'!J329=\"\",\"\",'Kollega oplysninger'!J329)","v":""},{"$f":"IF('Kollega oplysninger'!L329=\"\",\"\",'Kollega oplysninger'!L329)","v":""},null,null,null,null,null,null,null,null,null,null,null,null,null,null,null,null,null,{"$f":"IF(Lokallønsprocenten!Z329=\"\",\"\",Lokallønsprocenten!Z329)","v":""},{"$f":"IF(Lokallønsprocenten!AA329=\"\",\"\",Lokallønsprocenten!AA329)","v":""},null,null,null,null,{"$f":"IF(Lokallønsprocenten!AF329=\"\",\"\",Lokallønsprocenten!AF329)","v":""},null,{"$f":"IF(Lokallønsprocenten!AH329=\"\",\"\",Lokallønsprocenten!AH329)","v":""},null,null,null,"",""]
[null,{"$f":"IF('Kollega oplysninger'!B330=\"\",\"\",'Kollega oplysninger'!B330)","v":""},{"$f":"IF('Kollega oplysninger'!C330=\"\",\"\",'Kollega oplysninger'!C330)","v":""},null,null,{"$f":"IF('Kollega oplysninger'!I330=\"\",\"\",'Kollega oplysninger'!I330)","v":""},{"$f":"IF('Kollega oplysninger'!J330=\"\",\"\",'Kollega oplysninger'!J330)","v":""},{"$f":"IF('Kollega oplysninger'!L330=\"\",\"\",'Kollega oplysninger'!L330)","v":""},null,null,null,null,null,null,null,null,null,null,null,null,null,null,null,null,null,{"$f":"IF(Lokallønsprocenten!Z330=\"\",\"\",Lokallønsprocenten!Z330)","v":""},{"$f":"IF(Lokallønsprocenten!AA330=\"\",\"\",Lokallønsprocenten!AA330)","v":""},null,null,null,null,{"$f":"IF(Lokallønsprocenten!AF330=\"\",\"\",Lokallønsprocenten!AF330)","v":""},null,{"$f":"IF(Lokallønsprocenten!AH330=\"\",\"\",Lokallønsprocenten!AH330)","v":""},null,null,null,"",""]
[null,{"$f":"IF('Kollega oplysninger'!B331=\"\",\"\",'Kollega oplysninger'!B331)","v":""},{"$f":"IF('Kollega oplysninger'!C331=\"\",\"\",'Kollega oplysninger'!C331)","v":""},null,null,{"$f":"IF('Kollega oplysninger'!I331=\"\",\"\",'Kollega oplysninger'!I331)","v":""},{"$f":"IF('Kollega oplysninger'!J331=\"\",\"\",'Kollega oplysninger'!J331)","v":""},{"$f":"IF('Kollega oplysninger'!L331=\"\",\"\",'Kollega oplysninger'!L331)","v":""},null,null,null,null,null,null,null,null,null,null,null,null,null,null,null,null,null,{"$f":"IF(Lokallønsprocenten!Z331=\"\",\"\",Lokallønsprocenten!Z331)","v":""},{"$f":"IF(Lokallønsprocenten!AA331=\"\",\"\",Lokallønsprocenten!AA331)","v":""},null,null,null,null,{"$f":"IF(Lokallønsprocenten!AF331=\"\",\"\",Lokallønsprocenten!AF331)","v":""},null,{"$f":"IF(Lokallønsprocenten!AH331=\"\",\"\",Lokallønsprocenten!AH331)","v":""},null,null,null,"",""]
[null,{"$f":"IF('Kollega oplysninger'!B332=\"\",\"\",'Kollega oplysninger'!B332)","v":""},{"$f":"IF('Kollega oplysninger'!C332=\"\",\"\",'Kollega oplysninger'!C332)","v":""},null,null,{"$f":"IF('Kollega oplysninger'!I332=\"\",\"\",'Kollega oplysninger'!I332)","v":""},{"$f":"IF('Kollega oplysninger'!J332=\"\",\"\",'Kollega oplysninger'!J332)","v":""},{"$f":"IF('Kollega oplysninger'!L332=\"\",\"\",'Kollega oplysninger'!L332)","v":""},null,null,null,null,null,null,null,null,null,null,null,null,null,null,null,null,null,{"$f":"IF(Lokallønsprocenten!Z332=\"\",\"\",Lokallønsprocenten!Z332)","v":""},{"$f":"IF(Lokallønsprocenten!AA332=\"\",\"\",Lokallønsprocenten!AA332)","v":""},null,null,null,null,{"$f":"IF(Lokallønsprocenten!AF332=\"\",\"\",Lokallønsprocenten!AF332)","v":""},null,{"$f":"IF(Lokallønsprocenten!AH332=\"\",\"\",Lokallønsprocenten!AH332)","v":""},null,null,null,"",""]
[null,{"$f":"IF('Kollega oplysninger'!B333=\"\",\"\",'Kollega oplysninger'!B333)","v":""},{"$f":"IF('Kollega oplysninger'!C333=\"\",\"\",'Kollega oplysninger'!C333)","v":""},null,null,{"$f":"IF('Kollega oplysninger'!I333=\"\",\"\",'Kollega oplysninger'!I333)","v":""},{"$f":"IF('Kollega oplysninger'!J333=\"\",\"\",'Kollega oplysninger'!J333)","v":""},{"$f":"IF('Kollega oplysninger'!L333=\"\",\"\",'Kollega oplysninger'!L333)","v":""},null,null,null,null,null,null,null,null,null,null,null,null,null,null,null,null,null,{"$f":"IF(Lokallønsprocenten!Z333=\"\",\"\",Lokallønsprocenten!Z333)","v":""},{"$f":"IF(Lokallønsprocenten!AA333=\"\",\"\",Lokallønsprocenten!AA333)","v":""},null,null,null,null,{"$f":"IF(Lokallønsprocenten!AF333=\"\",\"\",Lokallønsprocenten!AF333)","v":""},null,{"$f":"IF(Lokallønsprocenten!AH333=\"\",\"\",Lokallønsprocenten!AH333)","v":""},null,null,null,"",""]
[null,{"$f":"IF('Kollega oplysninger'!B334=\"\",\"\",'Kollega oplysninger'!B334)","v":""},{"$f":"IF('Kollega oplysninger'!C334=\"\",\"\",'Kollega oplysninger'!C334)","v":""},null,null,{"$f":"IF('Kollega oplysninger'!I334=\"\",\"\",'Kollega oplysninger'!I334)","v":""},{"$f":"IF('Kollega oplysninger'!J334=\"\",\"\",'Kollega oplysninger'!J334)","v":""},{"$f":"IF('Kollega oplysninger'!L334=\"\",\"\",'Kollega oplysninger'!L334)","v":""},null,null,null,null,null,null,null,null,null,null,null,null,null,null,null,null,null,{"$f":"IF(Lokallønsprocenten!Z334=\"\",\"\",Lokallønsprocenten!Z334)","v":""},{"$f":"IF(Lokallønsprocenten!AA334=\"\",\"\",Lokallønsprocenten!AA334)","v":""},null,null,null,null,{"$f":"IF(Lokallønsprocenten!AF334=\"\",\"\",Lokallønsprocenten!AF334)","v":""},null,{"$f":"IF(Lokallønsprocenten!AH334=\"\",\"\",Lokallønsprocenten!AH334)","v":""},null,null,null,"",""]
[null,{"$f":"IF('Kollega oplysninger'!B335=\"\",\"\",'Kollega oplysninger'!B335)","v":""},{"$f":"IF('Kollega oplysninger'!C335=\"\",\"\",'Kollega oplysninger'!C335)","v":""},null,null,{"$f":"IF('Kollega oplysninger'!I335=\"\",\"\",'Kollega oplysninger'!I335)","v":""},{"$f":"IF('Kollega oplysninger'!J335=\"\",\"\",'Kollega oplysninger'!J335)","v":""},{"$f":"IF('Kollega oplysninger'!L335=\"\",\"\",'Kollega oplysninger'!L335)","v":""},null,null,null,null,null,null,null,null,null,null,null,null,null,null,null,null,null,{"$f":"IF(Lokallønsprocenten!Z335=\"\",\"\",Lokallønsprocenten!Z335)","v":""},{"$f":"IF(Lokallønsprocenten!AA335=\"\",\"\",Lokallønsprocenten!AA335)","v":""},null,null,null,null,{"$f":"IF(Lokallønsprocenten!AF335=\"\",\"\",Lokallønsprocenten!AF335)","v":""},null,{"$f":"IF(Lokallønsprocenten!AH335=\"\",\"\",Lokallønsprocenten!AH335)","v":""},null,null,null,"",""]
[null,{"$f":"IF('Kollega oplysninger'!B336=\"\",\"\",'Kollega oplysninger'!B336)","v":""},{"$f":"IF('Kollega oplysninger'!C336=\"\",\"\",'Kollega oplysninger'!C336)","v":""},null,null,{"$f":"IF('Kollega oplysninger'!I336=\"\",\"\",'Kollega oplysninger'!I336)","v":""},{"$f":"IF('Kollega oplysninger'!J336=\"\",\"\",'Kollega oplysninger'!J336)","v":""},{"$f":"IF('Kollega oplysninger'!L336=\"\",\"\",'Kollega oplysninger'!L336)","v":""},null,null,null,null,null,null,null,null,null,null,null,null,null,null,null,null,null,{"$f":"IF(Lokallønsprocenten!Z336=\"\",\"\",Lokallønsprocenten!Z336)","v":""},{"$f":"IF(Lokallønsprocenten!AA336=\"\",\"\",Lokallønsprocenten!AA336)","v":""},null,null,null,null,{"$f":"IF(Lokallønsprocenten!AF336=\"\",\"\",Lokallønsprocenten!AF336)","v":""},null,{"$f":"IF(Lokallønsprocenten!AH336=\"\",\"\",Lokallønsprocenten!AH336)","v":""},null,null,null,"",""]
[null,{"$f":"IF('Kollega oplysninger'!B337=\"\",\"\",'Kollega oplysninger'!B337)","v":""},{"$f":"IF('Kollega oplysninger'!C337=\"\",\"\",'Kollega oplysninger'!C337)","v":""},null,null,{"$f":"IF('Kollega oplysninger'!I337=\"\",\"\",'Kollega oplysninger'!I337)","v":""},{"$f":"IF('Kollega oplysninger'!J337=\"\",\"\",'Kollega oplysninger'!J337)","v":""},{"$f":"IF('Kollega oplysninger'!L337=\"\",\"\",'Kollega oplysninger'!L337)","v":""},null,null,null,null,null,null,null,null,null,null,null,null,null,null,null,null,null,{"$f":"IF(Lokallønsprocenten!Z337=\"\",\"\",Lokallønsprocenten!Z337)","v":""},{"$f":"IF(Lokallønsprocenten!AA337=\"\",\"\",Lokallønsprocenten!AA337)","v":""},null,null,null,null,{"$f":"IF(Lokallønsprocenten!AF337=\"\",\"\",Lokallønsprocenten!AF337)","v":""},null,{"$f":"IF(Lokallønsprocenten!AH337=\"\",\"\",Lokallønsprocenten!AH337)","v":""},null,null,null,"",""]
[null,{"$f":"IF('Kollega oplysninger'!B338=\"\",\"\",'Kollega oplysninger'!B338)","v":""},{"$f":"IF('Kollega oplysninger'!C338=\"\",\"\",'Kollega oplysninger'!C338)","v":""},null,null,{"$f":"IF('Kollega oplysninger'!I338=\"\",\"\",'Kollega oplysninger'!I338)","v":""},{"$f":"IF('Kollega oplysninger'!J338=\"\",\"\",'Kollega oplysninger'!J338)","v":""},{"$f":"IF('Kollega oplysninger'!L338=\"\",\"\",'Kollega oplysninger'!L338)","v":""},null,null,null,null,null,null,null,null,null,null,null,null,null,null,null,null,null,{"$f":"IF(Lokallønsprocenten!Z338=\"\",\"\",Lokallønsprocenten!Z338)","v":""},{"$f":"IF(Lokallønsprocenten!AA338=\"\",\"\",Lokallønsprocenten!AA338)","v":""},null,null,null,null,{"$f":"IF(Lokallønsprocenten!AF338=\"\",\"\",Lokallønsprocenten!AF338)","v":""},null,{"$f":"IF(Lokallønsprocenten!AH338=\"\",\"\",Lokallønsprocenten!AH338)","v":""},null,null,null,"",""]
[null,{"$f":"IF('Kollega oplysninger'!B339=\"\",\"\",'Kollega oplysninger'!B339)","v":""},{"$f":"IF('Kollega oplysninger'!C339=\"\",\"\",'Kollega oplysninger'!C339)","v":""},null,null,{"$f":"IF('Kollega oplysninger'!I339=\"\",\"\",'Kollega oplysninger'!I339)","v":""},{"$f":"IF('Kollega oplysninger'!J339=\"\",\"\",'Kollega oplysninger'!J339)","v":""},{"$f":"IF('Kollega oplysninger'!L339=\"\",\"\",'Kollega oplysninger'!L339)","v":""},null,null,null,null,null,null,null,null,null,null,null,null,null,null,null,null,null,{"$f":"IF(Lokallønsprocenten!Z339=\"\",\"\",Lokallønsprocenten!Z339)","v":""},{"$f":"IF(Lokallønsprocenten!AA339=\"\",\"\",Lokallønsprocenten!AA339)","v":""},null,null,null,null,{"$f":"IF(Lokallønsprocenten!AF339=\"\",\"\",Lokallønsprocenten!AF339)","v":""},null,{"$f":"IF(Lokallønsprocenten!AH339=\"\",\"\",Lokallønsprocenten!AH339)","v":""},null,null,null,"",""]
[null,{"$f":"IF('Kollega oplysninger'!B340=\"\",\"\",'Kollega oplysninger'!B340)","v":""},{"$f":"IF('Kollega oplysninger'!C340=\"\",\"\",'Kollega oplysninger'!C340)","v":""},null,null,{"$f":"IF('Kollega oplysninger'!I340=\"\",\"\",'Kollega oplysninger'!I340)","v":""},{"$f":"IF('Kollega oplysninger'!J340=\"\",\"\",'Kollega oplysninger'!J340)","v":""},{"$f":"IF('Kollega oplysninger'!L340=\"\",\"\",'Kollega oplysninger'!L340)","v":""},null,null,null,null,null,null,null,null,null,null,null,null,null,null,null,null,null,{"$f":"IF(Lokallønsprocenten!Z340=\"\",\"\",Lokallønsprocenten!Z340)","v":""},{"$f":"IF(Lokallønsprocenten!AA340=\"\",\"\",Lokallønsprocenten!AA340)","v":""},null,null,null,null,{"$f":"IF(Lokallønsprocenten!AF340=\"\",\"\",Lokallønsprocenten!AF340)","v":""},null,{"$f":"IF(Lokallønsprocenten!AH340=\"\",\"\",Lokallønsprocenten!AH340)","v":""},null,null,null,"",""]
[null,{"$f":"IF('Kollega oplysninger'!B341=\"\",\"\",'Kollega oplysninger'!B341)","v":""},{"$f":"IF('Kollega oplysninger'!C341=\"\",\"\",'Kollega oplysninger'!C341)","v":""},null,null,{"$f":"IF('Kollega oplysninger'!I341=\"\",\"\",'Kollega oplysninger'!I341)","v":""},{"$f":"IF('Kollega oplysninger'!J341=\"\",\"\",'Kollega oplysninger'!J341)","v":""},{"$f":"IF('Kollega oplysninger'!L341=\"\",\"\",'Kollega oplysninger'!L341)","v":""},null,null,null,null,null,null,null,null,null,null,null,null,null,null,null,null,null,{"$f":"IF(Lokallønsprocenten!Z341=\"\",\"\",Lokallønsprocenten!Z341)","v":""},{"$f":"IF(Lokallønsprocenten!AA341=\"\",\"\",Lokallønsprocenten!AA341)","v":""},null,null,null,null,{"$f":"IF(Lokallønsprocenten!AF341=\"\",\"\",Lokallønsprocenten!AF341)","v":""},null,{"$f":"IF(Lokallønsprocenten!AH341=\"\",\"\",Lokallønsprocenten!AH341)","v":""},null,null,null,"",""]
[null,{"$f":"IF('Kollega oplysninger'!B342=\"\",\"\",'Kollega oplysninger'!B342)","v":""},{"$f":"IF('Kollega oplysninger'!C342=\"\",\"\",'Kollega oplysninger'!C342)","v":""},null,null,{"$f":"IF('Kollega oplysninger'!I342=\"\",\"\",'Kollega oplysninger'!I342)","v":""},{"$f":"IF('Kollega oplysninger'!J342=\"\",\"\",'Kollega oplysninger'!J342)","v":""},{"$f":"IF('Kollega oplysninger'!L342=\"\",\"\",'Kollega oplysninger'!L342)","v":""},null,null,null,null,null,null,null,null,null,null,null,null,null,null,null,null,null,{"$f":"IF(Lokallønsprocenten!Z342=\"\",\"\",Lokallønsprocenten!Z342)","v":""},{"$f":"IF(Lokallønsprocenten!AA342=\"\",\"\",Lokallønsprocenten!AA342)","v":""},null,null,null,null,{"$f":"IF(Lokallønsprocenten!AF342=\"\",\"\",Lokallønsprocenten!AF342)","v":""},null,{"$f":"IF(Lokallønsprocenten!AH342=\"\",\"\",Lokallønsprocenten!AH342)","v":""},null,null,null,"",""]
[null,{"$f":"IF('Kollega oplysninger'!B343=\"\",\"\",'Kollega oplysninger'!B343)","v":""},{"$f":"IF('Kollega oplysninger'!C343=\"\",\"\",'Kollega oplysninger'!C343)","v":""},null,null,{"$f":"IF('Kollega oplysninger'!I343=\"\",\"\",'Kollega oplysninger'!I343)","v":""},{"$f":"IF('Kollega oplysninger'!J343=\"\",\"\",'Kollega oplysninger'!J343)","v":""},{"$f":"IF('Kollega oplysninger'!L343=\"\",\"\",'Kollega oplysninger'!L343)","v":""},null,null,null,null,null,null,null,null,null,null,null,null,null,null,null,null,null,{"$f":"IF(Lokallønsprocenten!Z343=\"\",\"\",Lokallønsprocenten!Z343)","v":""},{"$f":"IF(Lokallønsprocenten!AA343=\"\",\"\",Lokallønsprocenten!AA343)","v":""},null,null,null,null,{"$f":"IF(Lokallønsprocenten!AF343=\"\",\"\",Lokallønsprocenten!AF343)","v":""},null,{"$f":"IF(Lokallønsprocenten!AH343=\"\",\"\",Lokallønsprocenten!AH343)","v":""},null,null,null,"",""]
[null,{"$f":"IF('Kollega oplysninger'!B344=\"\",\"\",'Kollega oplysninger'!B344)","v":""},{"$f":"IF('Kollega oplysninger'!C344=\"\",\"\",'Kollega oplysninger'!C344)","v":""},null,null,{"$f":"IF('Kollega oplysninger'!I344=\"\",\"\",'Kollega oplysninger'!I344)","v":""},{"$f":"IF('Kollega oplysninger'!J344=\"\",\"\",'Kollega oplysninger'!J344)","v":""},{"$f":"IF('Kollega oplysninger'!L344=\"\",\"\",'Kollega oplysninger'!L344)","v":""},null,null,null,null,null,null,null,null,null,null,null,null,null,null,null,null,null,{"$f":"IF(Lokallønsprocenten!Z344=\"\",\"\",Lokallønsprocenten!Z344)","v":""},{"$f":"IF(Lokallønsprocenten!AA344=\"\",\"\",Lokallønsprocenten!AA344)","v":""},null,null,null,null,{"$f":"IF(Lokallønsprocenten!AF344=\"\",\"\",Lokallønsprocenten!AF344)","v":""},null,{"$f":"IF(Lokallønsprocenten!AH344=\"\",\"\",Lokallønsprocenten!AH344)","v":""},null,null,null,"",""]
[null,{"$f":"IF('Kollega oplysninger'!B345=\"\",\"\",'Kollega oplysninger'!B345)","v":""},{"$f":"IF('Kollega oplysninger'!C345=\"\",\"\",'Kollega oplysninger'!C345)","v":""},null,null,{"$f":"IF('Kollega oplysninger'!I345=\"\",\"\",'Kollega oplysninger'!I345)","v":""},{"$f":"IF('Kollega oplysninger'!J345=\"\",\"\",'Kollega oplysninger'!J345)","v":""},{"$f":"IF('Kollega oplysninger'!L345=\"\",\"\",'Kollega oplysninger'!L345)","v":""},null,null,null,null,null,null,null,null,null,null,null,null,null,null,null,null,null,{"$f":"IF(Lokallønsprocenten!Z345=\"\",\"\",Lokallønsprocenten!Z345)","v":""},{"$f":"IF(Lokallønsprocenten!AA345=\"\",\"\",Lokallønsprocenten!AA345)","v":""},null,null,null,null,{"$f":"IF(Lokallønsprocenten!AF345=\"\",\"\",Lokallønsprocenten!AF345)","v":""},null,{"$f":"IF(Lokallønsprocenten!AH345=\"\",\"\",Lokallønsprocenten!AH345)","v":""},null,null,null,"",""]
[null,{"$f":"IF('Kollega oplysninger'!B346=\"\",\"\",'Kollega oplysninger'!B346)","v":""},{"$f":"IF('Kollega oplysninger'!C346=\"\",\"\",'Kollega oplysninger'!C346)","v":""},null,null,{"$f":"IF('Kollega oplysninger'!I346=\"\",\"\",'Kollega oplysninger'!I346)","v":""},{"$f":"IF('Kollega oplysninger'!J346=\"\",\"\",'Kollega oplysninger'!J346)","v":""},{"$f":"IF('Kollega oplysninger'!L346=\"\",\"\",'Kollega oplysninger'!L346)","v":""},null,null,null,null,null,null,null,null,null,null,null,null,null,null,null,null,null,{"$f":"IF(Lokallønsprocenten!Z346=\"\",\"\",Lokallønsprocenten!Z346)","v":""},{"$f":"IF(Lokallønsprocenten!AA346=\"\",\"\",Lokallønsprocenten!AA346)","v":""},null,null,null,null,{"$f":"IF(Lokallønsprocenten!AF346=\"\",\"\",Lokallønsprocenten!AF346)","v":""},null,{"$f":"IF(Lokallønsprocenten!AH346=\"\",\"\",Lokallønsprocenten!AH346)","v":""},null,null,null,"",""]
[null,{"$f":"IF('Kollega oplysninger'!B347=\"\",\"\",'Kollega oplysninger'!B347)","v":""},{"$f":"IF('Kollega oplysninger'!C347=\"\",\"\",'Kollega oplysninger'!C347)","v":""},null,null,{"$f":"IF('Kollega oplysninger'!I347=\"\",\"\",'Kollega oplysninger'!I347)","v":""},{"$f":"IF('Kollega oplysninger'!J347=\"\",\"\",'Kollega oplysninger'!J347)","v":""},{"$f":"IF('Kollega oplysninger'!L347=\"\",\"\",'Kollega oplysninger'!L347)","v":""},null,null,null,null,null,null,null,null,null,null,null,null,null,null,null,null,null,{"$f":"IF(Lokallønsprocenten!Z347=\"\",\"\",Lokallønsprocenten!Z347)","v":""},{"$f":"IF(Lokallønsprocenten!AA347=\"\",\"\",Lokallønsprocenten!AA347)","v":""},null,null,null,null,{"$f":"IF(Lokallønsprocenten!AF347=\"\",\"\",Lokallønsprocenten!AF347)","v":""},null,{"$f":"IF(Lokallønsprocenten!AH347=\"\",\"\",Lokallønsprocenten!AH347)","v":""},null,null,null,"",""]
[null,{"$f":"IF('Kollega oplysninger'!B348=\"\",\"\",'Kollega oplysninger'!B348)","v":""},{"$f":"IF('Kollega oplysninger'!C348=\"\",\"\",'Kollega oplysninger'!C348)","v":""},null,null,{"$f":"IF('Kollega oplysninger'!I348=\"\",\"\",'Kollega oplysninger'!I348)","v":""},{"$f":"IF('Kollega oplysninger'!J348=\"\",\"\",'Kollega oplysninger'!J348)","v":""},{"$f":"IF('Kollega oplysninger'!L348=\"\",\"\",'Kollega oplysninger'!L348)","v":""},null,null,null,null,null,null,null,null,null,null,null,null,null,null,null,null,null,{"$f":"IF(Lokallønsprocenten!Z348=\"\",\"\",Lokallønsprocenten!Z348)","v":""},{"$f":"IF(Lokallønsprocenten!AA348=\"\",\"\",Lokallønsprocenten!AA348)","v":""},null,null,null,null,{"$f":"IF(Lokallønsprocenten!AF348=\"\",\"\",Lokallønsprocenten!AF348)","v":""},null,{"$f":"IF(Lokallønsprocenten!AH348=\"\",\"\",Lokallønsprocenten!AH348)","v":""},null,null,null,"",""]
[null,{"$f":"IF('Kollega oplysninger'!B349=\"\",\"\",'Kollega oplysninger'!B349)","v":""},{"$f":"IF('Kollega oplysninger'!C349=\"\",\"\",'Kollega oplysninger'!C349)","v":""},null,null,{"$f":"IF('Kollega oplysninger'!I349=\"\",\"\",'Kollega oplysninger'!I349)","v":""},{"$f":"IF('Kollega oplysninger'!J349=\"\",\"\",'Kollega oplysninger'!J349)","v":""},{"$f":"IF('Kollega oplysninger'!L349=\"\",\"\",'Kollega oplysninger'!L349)","v":""},null,null,null,null,null,null,null,null,null,null,null,null,null,null,null,null,null,{"$f":"IF(Lokallønsprocenten!Z349=\"\",\"\",Lokallønsprocenten!Z349)","v":""},{"$f":"IF(Lokallønsprocenten!AA349=\"\",\"\",Lokallønsprocenten!AA349)","v":""},null,null,null,null,{"$f":"IF(Lokallønsprocenten!AF349=\"\",\"\",Lokallønsprocenten!AF349)","v":""},null,{"$f":"IF(Lokallønsprocenten!AH349=\"\",\"\",Lokallønsprocenten!AH349)","v":""},null,null,null,"",""]
[null,{"$f":"IF('Kollega oplysninger'!B350=\"\",\"\",'Kollega oplysninger'!B350)","v":""},{"$f":"IF('Kollega oplysninger'!C350=\"\",\"\",'Kollega oplysninger'!C350)","v":""},null,null,{"$f":"IF('Kollega oplysninger'!I350=\"\",\"\",'Kollega oplysninger'!I350)","v":""},{"$f":"IF('Kollega oplysninger'!J350=\"\",\"\",'Kollega oplysninger'!J350)","v":""},{"$f":"IF('Kollega oplysninger'!L350=\"\",\"\",'Kollega oplysninger'!L350)","v":""},null,null,null,null,null,null,null,null,null,null,null,null,null,null,null,null,null,{"$f":"IF(Lokallønsprocenten!Z350=\"\",\"\",Lokallønsprocenten!Z350)","v":""},{"$f":"IF(Lokallønsprocenten!AA350=\"\",\"\",Lokallønsprocenten!AA350)","v":""},null,null,null,null,{"$f":"IF(Lokallønsprocenten!AF350=\"\",\"\",Lokallønsprocenten!AF350)","v":""},null,{"$f":"IF(Lokallønsprocenten!AH350=\"\",\"\",Lokallønsprocenten!AH350)","v":""},null,null,null,"",""]
[null,{"$f":"IF('Kollega oplysninger'!B351=\"\",\"\",'Kollega oplysninger'!B351)","v":""},{"$f":"IF('Kollega oplysninger'!C351=\"\",\"\",'Kollega oplysninger'!C351)","v":""},null,null,{"$f":"IF('Kollega oplysninger'!I351=\"\",\"\",'Kollega oplysninger'!I351)","v":""},{"$f":"IF('Kollega oplysninger'!J351=\"\",\"\",'Kollega oplysninger'!J351)","v":""},{"$f":"IF('Kollega oplysninger'!L351=\"\",\"\",'Kollega oplysninger'!L351)","v":""},null,null,null,null,null,null,null,null,null,null,null,null,null,null,null,null,null,{"$f":"IF(Lokallønsprocenten!Z351=\"\",\"\",Lokallønsprocenten!Z351)","v":""},{"$f":"IF(Lokallønsprocenten!AA351=\"\",\"\",Lokallønsprocenten!AA351)","v":""},null,null,null,null,{"$f":"IF(Lokallønsprocenten!AF351=\"\",\"\",Lokallønsprocenten!AF351)","v":""},null,{"$f":"IF(Lokallønsprocenten!AH351=\"\",\"\",Lokallønsprocenten!AH351)","v":""},null,null,null,"",""]
[null,{"$f":"IF('Kollega oplysninger'!B352=\"\",\"\",'Kollega oplysninger'!B352)","v":""},{"$f":"IF('Kollega oplysninger'!C352=\"\",\"\",'Kollega oplysninger'!C352)","v":""},null,null,{"$f":"IF('Kollega oplysninger'!I352=\"\",\"\",'Kollega oplysninger'!I352)","v":""},{"$f":"IF('Kollega oplysninger'!J352=\"\",\"\",'Kollega oplysninger'!J352)","v":""},{"$f":"IF('Kollega oplysninger'!L352=\"\",\"\",'Kollega oplysninger'!L352)","v":""},null,null,null,null,null,null,null,null,null,null,null,null,null,null,null,null,null,{"$f":"IF(Lokallønsprocenten!Z352=\"\",\"\",Lokallønsprocenten!Z352)","v":""},{"$f":"IF(Lokallønsprocenten!AA352=\"\",\"\",Lokallønsprocenten!AA352)","v":""},null,null,null,null,{"$f":"IF(Lokallønsprocenten!AF352=\"\",\"\",Lokallønsprocenten!AF352)","v":""},null,{"$f":"IF(Lokallønsprocenten!AH352=\"\",\"\",Lokallønsprocenten!AH352)","v":""},null,null,null,"",""]
[null,{"$f":"IF('Kollega oplysninger'!B353=\"\",\"\",'Kollega oplysninger'!B353)","v":""},{"$f":"IF('Kollega oplysninger'!C353=\"\",\"\",'Kollega oplysninger'!C353)","v":""},null,null,{"$f":"IF('Kollega oplysninger'!I353=\"\",\"\",'Kollega oplysninger'!I353)","v":""},{"$f":"IF('Kollega oplysninger'!J353=\"\",\"\",'Kollega oplysninger'!J353)","v":""},{"$f":"IF('Kollega oplysninger'!L353=\"\",\"\",'Kollega oplysninger'!L353)","v":""},null,null,null,null,null,null,null,null,null,null,null,null,null,null,null,null,null,{"$f":"IF(Lokallønsprocenten!Z353=\"\",\"\",Lokallønsprocenten!Z353)","v":""},{"$f":"IF(Lokallønsprocenten!AA353=\"\",\"\",Lokallønsprocenten!AA353)","v":""},null,null,null,null,{"$f":"IF(Lokallønsprocenten!AF353=\"\",\"\",Lokallønsprocenten!AF353)","v":""},null,{"$f":"IF(Lokallønsprocenten!AH353=\"\",\"\",Lokallønsprocenten!AH353)","v":""},null,null,null,"",""]
[null,{"$f":"IF('Kollega oplysninger'!B354=\"\",\"\",'Kollega oplysninger'!B354)","v":""},{"$f":"IF('Kollega oplysninger'!C354=\"\",\"\",'Kollega oplysninger'!C354)","v":""},null,null,{"$f":"IF('Kollega oplysninger'!I354=\"\",\"\",'Kollega oplysninger'!I354)","v":""},{"$f":"IF('Kollega oplysninger'!J354=\"\",\"\",'Kollega oplysninger'!J354)","v":""},{"$f":"IF('Kollega oplysninger'!L354=\"\",\"\",'Kollega oplysninger'!L354)","v":""},null,null,null,null,null,null,null,null,null,null,null,null,null,null,null,null,null,{"$f":"IF(Lokallønsprocenten!Z354=\"\",\"\",Lokallønsprocenten!Z354)","v":""},{"$f":"IF(Lokallønsprocenten!AA354=\"\",\"\",Lokallønsprocenten!AA354)","v":""},null,null,null,null,{"$f":"IF(Lokallønsprocenten!AF354=\"\",\"\",Lokallønsprocenten!AF354)","v":""},null,{"$f":"IF(Lokallønsprocenten!AH354=\"\",\"\",Lokallønsprocenten!AH354)","v":""},null,null,null,"",""]
[null,{"$f":"IF('Kollega oplysninger'!B355=\"\",\"\",'Kollega oplysninger'!B355)","v":""},{"$f":"IF('Kollega oplysninger'!C355=\"\",\"\",'Kollega oplysninger'!C355)","v":""},null,null,{"$f":"IF('Kollega oplysninger'!I355=\"\",\"\",'Kollega oplysninger'!I355)","v":""},{"$f":"IF('Kollega oplysninger'!J355=\"\",\"\",'Kollega oplysninger'!J355)","v":""},{"$f":"IF('Kollega oplysninger'!L355=\"\",\"\",'Kollega oplysninger'!L355)","v":""},null,null,null,null,null,null,null,null,null,null,null,null,null,null,null,null,null,{"$f":"IF(Lokallønsprocenten!Z355=\"\",\"\",Lokallønsprocenten!Z355)","v":""},{"$f":"IF(Lokallønsprocenten!AA355=\"\",\"\",Lokallønsprocenten!AA355)","v":""},null,null,null,null,{"$f":"IF(Lokallønsprocenten!AF355=\"\",\"\",Lokallønsprocenten!AF355)","v":""},null,{"$f":"IF(Lokallønsprocenten!AH355=\"\",\"\",Lokallønsprocenten!AH355)","v":""},null,null,null,"",""]
[null,{"$f":"IF('Kollega oplysninger'!B356=\"\",\"\",'Kollega oplysninger'!B356)","v":""},{"$f":"IF('Kollega oplysninger'!C356=\"\",\"\",'Kollega oplysninger'!C356)","v":""},null,null,{"$f":"IF('Kollega oplysninger'!I356=\"\",\"\",'Kollega oplysninger'!I356)","v":""},{"$f":"IF('Kollega oplysninger'!J356=\"\",\"\",'Kollega oplysninger'!J356)","v":""},{"$f":"IF('Kollega oplysninger'!L356=\"\",\"\",'Kollega oplysninger'!L356)","v":""},null,null,null,null,null,null,null,null,null,null,null,null,null,null,null,null,null,{"$f":"IF(Lokallønsprocenten!Z356=\"\",\"\",Lokallønsprocenten!Z356)","v":""},{"$f":"IF(Lokallønsprocenten!AA356=\"\",\"\",Lokallønsprocenten!AA356)","v":""},null,null,null,null,{"$f":"IF(Lokallønsprocenten!AF356=\"\",\"\",Lokallønsprocenten!AF356)","v":""},null,{"$f":"IF(Lokallønsprocenten!AH356=\"\",\"\",Lokallønsprocenten!AH356)","v":""},null,null,null,"",""]
[null,{"$f":"IF('Kollega oplysninger'!B357=\"\",\"\",'Kollega oplysninger'!B357)","v":""},{"$f":"IF('Kollega oplysninger'!C357=\"\",\"\",'Kollega oplysninger'!C357)","v":""},null,null,{"$f":"IF('Kollega oplysninger'!I357=\"\",\"\",'Kollega oplysninger'!I357)","v":""},{"$f":"IF('Kollega oplysninger'!J357=\"\",\"\",'Kollega oplysninger'!J357)","v":""},{"$f":"IF('Kollega oplysninger'!L357=\"\",\"\",'Kollega oplysninger'!L357)","v":""},null,null,null,null,null,null,null,null,null,null,null,null,null,null,null,null,null,{"$f":"IF(Lokallønsprocenten!Z357=\"\",\"\",Lokallønsprocenten!Z357)","v":""},{"$f":"IF(Lokallønsprocenten!AA357=\"\",\"\",Lokallønsprocenten!AA357)","v":""},null,null,null,null,{"$f":"IF(Lokallønsprocenten!AF357=\"\",\"\",Lokallønsprocenten!AF357)","v":""},null,{"$f":"IF(Lokallønsprocenten!AH357=\"\",\"\",Lokallønsprocenten!AH357)","v":""},null,null,null,"",""]
[null,{"$f":"IF('Kollega oplysninger'!B358=\"\",\"\",'Kollega oplysninger'!B358)","v":""},{"$f":"IF('Kollega oplysninger'!C358=\"\",\"\",'Kollega oplysninger'!C358)","v":""},null,null,{"$f":"IF('Kollega oplysninger'!I358=\"\",\"\",'Kollega oplysninger'!I358)","v":""},{"$f":"IF('Kollega oplysninger'!J358=\"\",\"\",'Kollega oplysninger'!J358)","v":""},{"$f":"IF('Kollega oplysninger'!L358=\"\",\"\",'Kollega oplysninger'!L358)","v":""},null,null,null,null,null,null,null,null,null,null,null,null,null,null,null,null,null,{"$f":"IF(Lokallønsprocenten!Z358=\"\",\"\",Lokallønsprocenten!Z358)","v":""},{"$f":"IF(Lokallønsprocenten!AA358=\"\",\"\",Lokallønsprocenten!AA358)","v":""},null,null,null,null,{"$f":"IF(Lokallønsprocenten!AF358=\"\",\"\",Lokallønsprocenten!AF358)","v":""},null,{"$f":"IF(Lokallønsprocenten!AH358=\"\",\"\",Lokallønsprocenten!AH358)","v":""},null,null,null,"",""]
[null,{"$f":"IF('Kollega oplysninger'!B359=\"\",\"\",'Kollega oplysninger'!B359)","v":""},{"$f":"IF('Kollega oplysninger'!C359=\"\",\"\",'Kollega oplysninger'!C359)","v":""},null,null,{"$f":"IF('Kollega oplysninger'!I359=\"\",\"\",'Kollega oplysninger'!I359)","v":""},{"$f":"IF('Kollega oplysninger'!J359=\"\",\"\",'Kollega oplysninger'!J359)","v":""},{"$f":"IF('Kollega oplysninger'!L359=\"\",\"\",'Kollega oplysninger'!L359)","v":""},null,null,null,null,null,null,null,null,null,null,null,null,null,null,null,null,null,{"$f":"IF(Lokallønsprocenten!Z359=\"\",\"\",Lokallønsprocenten!Z359)","v":""},{"$f":"IF(Lokallønsprocenten!AA359=\"\",\"\",Lokallønsprocenten!AA359)","v":""},null,null,null,null,{"$f":"IF(Lokallønsprocenten!AF359=\"\",\"\",Lokallønsprocenten!AF359)","v":""},null,{"$f":"IF(Lokallønsprocenten!AH359=\"\",\"\",Lokallønsprocenten!AH359)","v":""},null,null,null,"",""]
[null,{"$f":"IF('Kollega oplysninger'!B360=\"\",\"\",'Kollega oplysninger'!B360)","v":""},{"$f":"IF('Kollega oplysninger'!C360=\"\",\"\",'Kollega oplysninger'!C360)","v":""},null,null,{"$f":"IF('Kollega oplysninger'!I360=\"\",\"\",'Kollega oplysninger'!I360)","v":""},{"$f":"IF('Kollega oplysninger'!J360=\"\",\"\",'Kollega oplysninger'!J360)","v":""},{"$f":"IF('Kollega oplysninger'!L360=\"\",\"\",'Kollega oplysninger'!L360)","v":""},null,null,null,null,null,null,null,null,null,null,null,null,null,null,null,null,null,{"$f":"IF(Lokallønsprocenten!Z360=\"\",\"\",Lokallønsprocenten!Z360)","v":""},{"$f":"IF(Lokallønsprocenten!AA360=\"\",\"\",Lokallønsprocenten!AA360)","v":""},null,null,null,null,{"$f":"IF(Lokallønsprocenten!AF360=\"\",\"\",Lokallønsprocenten!AF360)","v":""},null,{"$f":"IF(Lokallønsprocenten!AH360=\"\",\"\",Lokallønsprocenten!AH360)","v":""},null,null,null,"",""]
[null,{"$f":"IF('Kollega oplysninger'!B361=\"\",\"\",'Kollega oplysninger'!B361)","v":""},{"$f":"IF('Kollega oplysninger'!C361=\"\",\"\",'Kollega oplysninger'!C361)","v":""},null,null,{"$f":"IF('Kollega oplysninger'!I361=\"\",\"\",'Kollega oplysninger'!I361)","v":""},{"$f":"IF('Kollega oplysninger'!J361=\"\",\"\",'Kollega oplysninger'!J361)","v":""},{"$f":"IF('Kollega oplysninger'!L361=\"\",\"\",'Kollega oplysninger'!L361)","v":""},null,null,null,null,null,null,null,null,null,null,null,null,null,null,null,null,null,{"$f":"IF(Lokallønsprocenten!Z361=\"\",\"\",Lokallønsprocenten!Z361)","v":""},{"$f":"IF(Lokallønsprocenten!AA361=\"\",\"\",Lokallønsprocenten!AA361)","v":""},null,null,null,null,{"$f":"IF(Lokallønsprocenten!AF361=\"\",\"\",Lokallønsprocenten!AF361)","v":""},null,{"$f":"IF(Lokallønsprocenten!AH361=\"\",\"\",Lokallønsprocenten!AH361)","v":""},null,null,null,"",""]
[null,{"$f":"IF('Kollega oplysninger'!B362=\"\",\"\",'Kollega oplysninger'!B362)","v":""},{"$f":"IF('Kollega oplysninger'!C362=\"\",\"\",'Kollega oplysninger'!C362)","v":""},null,null,{"$f":"IF('Kollega oplysninger'!I362=\"\",\"\",'Kollega oplysninger'!I362)","v":""},{"$f":"IF('Kollega oplysninger'!J362=\"\",\"\",'Kollega oplysninger'!J362)","v":""},{"$f":"IF('Kollega oplysninger'!L362=\"\",\"\",'Kollega oplysninger'!L362)","v":""},null,null,null,null,null,null,null,null,null,null,null,null,null,null,null,null,null,{"$f":"IF(Lokallønsprocenten!Z362=\"\",\"\",Lokallønsprocenten!Z362)","v":""},{"$f":"IF(Lokallønsprocenten!AA362=\"\",\"\",Lokallønsprocenten!AA362)","v":""},null,null,null,null,{"$f":"IF(Lokallønsprocenten!AF362=\"\",\"\",Lokallønsprocenten!AF362)","v":""},null,{"$f":"IF(Lokallønsprocenten!AH362=\"\",\"\",Lokallønsprocenten!AH362)","v":""},null,null,null,"",""]
[null,{"$f":"IF('Kollega oplysninger'!B363=\"\",\"\",'Kollega oplysninger'!B363)","v":""},{"$f":"IF('Kollega oplysninger'!C363=\"\",\"\",'Kollega oplysninger'!C363)","v":""},null,null,{"$f":"IF('Kollega oplysninger'!I363=\"\",\"\",'Kollega oplysninger'!I363)","v":""},{"$f":"IF('Kollega oplysninger'!J363=\"\",\"\",'Kollega oplysninger'!J363)","v":""},{"$f":"IF('Kollega oplysninger'!L363=\"\",\"\",'Kollega oplysninger'!L363)","v":""},null,null,null,null,null,null,null,null,null,null,null,null,null,null,null,null,null,{"$f":"IF(Lokallønsprocenten!Z363=\"\",\"\",Lokallønsprocenten!Z363)","v":""},{"$f":"IF(Lokallønsprocenten!AA363=\"\",\"\",Lokallønsprocenten!AA363)","v":""},null,null,null,null,{"$f":"IF(Lokallønsprocenten!AF363=\"\",\"\",Lokallønsprocenten!AF363)","v":""},null,{"$f":"IF(Lokallønsprocenten!AH363=\"\",\"\",Lokallønsprocenten!AH363)","v":""},null,null,null,"",""]
[null,{"$f":"IF('Kollega oplysninger'!B364=\"\",\"\",'Kollega oplysninger'!B364)","v":""},{"$f":"IF('Kollega oplysninger'!C364=\"\",\"\",'Kollega oplysninger'!C364)","v":""},null,null,{"$f":"IF('Kollega oplysninger'!I364=\"\",\"\",'Kollega oplysninger'!I364)","v":""},{"$f":"IF('Kollega oplysninger'!J364=\"\",\"\",'Kollega oplysninger'!J364)","v":""},{"$f":"IF('Kollega oplysninger'!L364=\"\",\"\",'Kollega oplysninger'!L364)","v":""},null,null,null,null,null,null,null,null,null,null,null,null,null,null,null,null,null,{"$f":"IF(Lokallønsprocenten!Z364=\"\",\"\",Lokallønsprocenten!Z364)","v":""},{"$f":"IF(Lokallønsprocenten!AA364=\"\",\"\",Lokallønsprocenten!AA364)","v":""},null,null,null,null,{"$f":"IF(Lokallønsprocenten!AF364=\"\",\"\",Lokallønsprocenten!AF364)","v":""},null,{"$f":"IF(Lokallønsprocenten!AH364=\"\",\"\",Lokallønsprocenten!AH364)","v":""},null,null,null,"",""]
[null,{"$f":"IF('Kollega oplysninger'!B365=\"\",\"\",'Kollega oplysninger'!B365)","v":""},{"$f":"IF('Kollega oplysninger'!C365=\"\",\"\",'Kollega oplysninger'!C365)","v":""},null,null,{"$f":"IF('Kollega oplysninger'!I365=\"\",\"\",'Kollega oplysninger'!I365)","v":""},{"$f":"IF('Kollega oplysninger'!J365=\"\",\"\",'Kollega oplysninger'!J365)","v":""},{"$f":"IF('Kollega oplysninger'!L365=\"\",\"\",'Kollega oplysninger'!L365)","v":""},null,null,null,null,null,null,null,null,null,null,null,null,null,null,null,null,null,{"$f":"IF(Lokallønsprocenten!Z365=\"\",\"\",Lokallønsprocenten!Z365)","v":""},{"$f":"IF(Lokallønsprocenten!AA365=\"\",\"\",Lokallønsprocenten!AA365)","v":""},null,null,null,null,{"$f":"IF(Lokallønsprocenten!AF365=\"\",\"\",Lokallønsprocenten!AF365)","v":""},null,{"$f":"IF(Lokallønsprocenten!AH365=\"\",\"\",Lokallønsprocenten!AH365)","v":""},null,null,null,"",""]
[null,{"$f":"IF('Kollega oplysninger'!B366=\"\",\"\",'Kollega oplysninger'!B366)","v":""},{"$f":"IF('Kollega oplysninger'!C366=\"\",\"\",'Kollega oplysninger'!C366)","v":""},null,null,{"$f":"IF('Kollega oplysninger'!I366=\"\",\"\",'Kollega oplysninger'!I366)","v":""},{"$f":"IF('Kollega oplysninger'!J366=\"\",\"\",'Kollega oplysninger'!J366)","v":""},{"$f":"IF('Kollega oplysninger'!L366=\"\",\"\",'Kollega oplysninger'!L366)","v":""},null,null,null,null,null,null,null,null,null,null,null,null,null,null,null,null,null,{"$f":"IF(Lokallønsprocenten!Z366=\"\",\"\",Lokallønsprocenten!Z366)","v":""},{"$f":"IF(Lokallønsprocenten!AA366=\"\",\"\",Lokallønsprocenten!AA366)","v":""},null,null,null,null,{"$f":"IF(Lokallønsprocenten!AF366=\"\",\"\",Lokallønsprocenten!AF366)","v":""},null,{"$f":"IF(Lokallønsprocenten!AH366=\"\",\"\",Lokallønsprocenten!AH366)","v":""},null,null,null,"",""]
[null,{"$f":"IF('Kollega oplysninger'!B367=\"\",\"\",'Kollega oplysninger'!B367)","v":""},{"$f":"IF('Kollega oplysninger'!C367=\"\",\"\",'Kollega oplysninger'!C367)","v":""},null,null,{"$f":"IF('Kollega oplysninger'!I367=\"\",\"\",'Kollega oplysninger'!I367)","v":""},{"$f":"IF('Kollega oplysninger'!J367=\"\",\"\",'Kollega oplysninger'!J367)","v":""},{"$f":"IF('Kollega oplysninger'!L367=\"\",\"\",'Kollega oplysninger'!L367)","v":""},null,null,null,null,null,null,null,null,null,null,null,null,null,null,null,null,null,{"$f":"IF(Lokallønsprocenten!Z367=\"\",\"\",Lokallønsprocenten!Z367)","v":""},{"$f":"IF(Lokallønsprocenten!AA367=\"\",\"\",Lokallønsprocenten!AA367)","v":""},null,null,null,null,{"$f":"IF(Lokallønsprocenten!AF367=\"\",\"\",Lokallønsprocenten!AF367)","v":""},null,{"$f":"IF(Lokallønsprocenten!AH367=\"\",\"\",Lokallønsprocenten!AH367)","v":""},null,null,null,"",""]
[null,{"$f":"IF('Kollega oplysninger'!B368=\"\",\"\",'Kollega oplysninger'!B368)","v":""},{"$f":"IF('Kollega oplysninger'!C368=\"\",\"\",'Kollega oplysninger'!C368)","v":""},null,null,{"$f":"IF('Kollega oplysninger'!I368=\"\",\"\",'Kollega oplysninger'!I368)","v":""},{"$f":"IF('Kollega oplysninger'!J368=\"\",\"\",'Kollega oplysninger'!J368)","v":""},{"$f":"IF('Kollega oplysninger'!L368=\"\",\"\",'Kollega oplysninger'!L368)","v":""},null,null,null,null,null,null,null,null,null,null,null,null,null,null,null,null,null,{"$f":"IF(Lokallønsprocenten!Z368=\"\",\"\",Lokallønsprocenten!Z368)","v":""},{"$f":"IF(Lokallønsprocenten!AA368=\"\",\"\",Lokallønsprocenten!AA368)","v":""},null,null,null,null,{"$f":"IF(Lokallønsprocenten!AF368=\"\",\"\",Lokallønsprocenten!AF368)","v":""},null,{"$f":"IF(Lokallønsprocenten!AH368=\"\",\"\",Lokallønsprocenten!AH368)","v":""},null,null,null,"",""]
[null,{"$f":"IF('Kollega oplysninger'!B369=\"\",\"\",'Kollega oplysninger'!B369)","v":""},{"$f":"IF('Kollega oplysninger'!C369=\"\",\"\",'Kollega oplysninger'!C369)","v":""},null,null,{"$f":"IF('Kollega oplysninger'!I369=\"\",\"\",'Kollega oplysninger'!I369)","v":""},{"$f":"IF('Kollega oplysninger'!J369=\"\",\"\",'Kollega oplysninger'!J369)","v":""},{"$f":"IF('Kollega oplysninger'!L369=\"\",\"\",'Kollega oplysninger'!L369)","v":""},null,null,null,null,null,null,null,null,null,null,null,null,null,null,null,null,null,{"$f":"IF(Lokallønsprocenten!Z369=\"\",\"\",Lokallønsprocenten!Z369)","v":""},{"$f":"IF(Lokallønsprocenten!AA369=\"\",\"\",Lokallønsprocenten!AA369)","v":""},null,null,null,null,{"$f":"IF(Lokallønsprocenten!AF369=\"\",\"\",Lokallønsprocenten!AF369)","v":""},null,{"$f":"IF(Lokallønsprocenten!AH369=\"\",\"\",Lokallønsprocenten!AH369)","v":""},null,null,null,"",""]
[null,{"$f":"IF('Kollega oplysninger'!B370=\"\",\"\",'Kollega oplysninger'!B370)","v":""},{"$f":"IF('Kollega oplysninger'!C370=\"\",\"\",'Kollega oplysninger'!C370)","v":""},null,null,{"$f":"IF('Kollega oplysninger'!I370=\"\",\"\",'Kollega oplysninger'!I370)","v":""},{"$f":"IF('Kollega oplysninger'!J370=\"\",\"\",'Kollega oplysninger'!J370)","v":""},{"$f":"IF('Kollega oplysninger'!L370=\"\",\"\",'Kollega oplysninger'!L370)","v":""},null,null,null,null,null,null,null,null,null,null,null,null,null,null,null,null,null,{"$f":"IF(Lokallønsprocenten!Z370=\"\",\"\",Lokallønsprocenten!Z370)","v":""},{"$f":"IF(Lokallønsprocenten!AA370=\"\",\"\",Lokallønsprocenten!AA370)","v":""},null,null,null,null,{"$f":"IF(Lokallønsprocenten!AF370=\"\",\"\",Lokallønsprocenten!AF370)","v":""},null,{"$f":"IF(Lokallønsprocenten!AH370=\"\",\"\",Lokallønsprocenten!AH370)","v":""},null,null,null,"",""]
[null,{"$f":"IF('Kollega oplysninger'!B371=\"\",\"\",'Kollega oplysninger'!B371)","v":""},{"$f":"IF('Kollega oplysninger'!C371=\"\",\"\",'Kollega oplysninger'!C371)","v":""},null,null,{"$f":"IF('Kollega oplysninger'!I371=\"\",\"\",'Kollega oplysninger'!I371)","v":""},{"$f":"IF('Kollega oplysninger'!J371=\"\",\"\",'Kollega oplysninger'!J371)","v":""},{"$f":"IF('Kollega oplysninger'!L371=\"\",\"\",'Kollega oplysninger'!L371)","v":""},null,null,null,null,null,null,null,null,null,null,null,null,null,null,null,null,null,{"$f":"IF(Lokallønsprocenten!Z371=\"\",\"\",Lokallønsprocenten!Z371)","v":""},{"$f":"IF(Lokallønsprocenten!AA371=\"\",\"\",Lokallønsprocenten!AA371)","v":""},null,null,null,null,{"$f":"IF(Lokallønsprocenten!AF371=\"\",\"\",Lokallønsprocenten!AF371)","v":""},null,{"$f":"IF(Lokallønsprocenten!AH371=\"\",\"\",Lokallønsprocenten!AH371)","v":""},null,null,null,"",""]
[null,{"$f":"IF('Kollega oplysninger'!B372=\"\",\"\",'Kollega oplysninger'!B372)","v":""},{"$f":"IF('Kollega oplysninger'!C372=\"\",\"\",'Kollega oplysninger'!C372)","v":""},null,null,{"$f":"IF('Kollega oplysninger'!I372=\"\",\"\",'Kollega oplysninger'!I372)","v":""},{"$f":"IF('Kollega oplysninger'!J372=\"\",\"\",'Kollega oplysninger'!J372)","v":""},{"$f":"IF('Kollega oplysninger'!L372=\"\",\"\",'Kollega oplysninger'!L372)","v":""},null,null,null,null,null,null,null,null,null,null,null,null,null,null,null,null,null,{"$f":"IF(Lokallønsprocenten!Z372=\"\",\"\",Lokallønsprocenten!Z372)","v":""},{"$f":"IF(Lokallønsprocenten!AA372=\"\",\"\",Lokallønsprocenten!AA372)","v":""},null,null,null,null,{"$f":"IF(Lokallønsprocenten!AF372=\"\",\"\",Lokallønsprocenten!AF372)","v":""},null,{"$f":"IF(Lokallønsprocenten!AH372=\"\",\"\",Lokallønsprocenten!AH372)","v":""},null,null,null,"",""]
[null,{"$f":"IF('Kollega oplysninger'!B373=\"\",\"\",'Kollega oplysninger'!B373)","v":""},{"$f":"IF('Kollega oplysninger'!C373=\"\",\"\",'Kollega oplysninger'!C373)","v":""},null,null,{"$f":"IF('Kollega oplysninger'!I373=\"\",\"\",'Kollega oplysninger'!I373)","v":""},{"$f":"IF('Kollega oplysninger'!J373=\"\",\"\",'Kollega oplysninger'!J373)","v":""},{"$f":"IF('Kollega oplysninger'!L373=\"\",\"\",'Kollega oplysninger'!L373)","v":""},null,null,null,null,null,null,null,null,null,null,null,null,null,null,null,null,null,{"$f":"IF(Lokallønsprocenten!Z373=\"\",\"\",Lokallønsprocenten!Z373)","v":""},{"$f":"IF(Lokallønsprocenten!AA373=\"\",\"\",Lokallønsprocenten!AA373)","v":""},null,null,null,null,{"$f":"IF(Lokallønsprocenten!AF373=\"\",\"\",Lokallønsprocenten!AF373)","v":""},null,{"$f":"IF(Lokallønsprocenten!AH373=\"\",\"\",Lokallønsprocenten!AH373)","v":""},null,null,null,"",""]
[null,{"$f":"IF('Kollega oplysninger'!B374=\"\",\"\",'Kollega oplysninger'!B374)","v":""},{"$f":"IF('Kollega oplysninger'!C374=\"\",\"\",'Kollega oplysninger'!C374)","v":""},null,null,{"$f":"IF('Kollega oplysninger'!I374=\"\",\"\",'Kollega oplysninger'!I374)","v":""},{"$f":"IF('Kollega oplysninger'!J374=\"\",\"\",'Kollega oplysninger'!J374)","v":""},{"$f":"IF('Kollega oplysninger'!L374=\"\",\"\",'Kollega oplysninger'!L374)","v":""},null,null,null,null,null,null,null,null,null,null,null,null,null,null,null,null,null,{"$f":"IF(Lokallønsprocenten!Z374=\"\",\"\",Lokallønsprocenten!Z374)","v":""},{"$f":"IF(Lokallønsprocenten!AA374=\"\",\"\",Lokallønsprocenten!AA374)","v":""},null,null,null,null,{"$f":"IF(Lokallønsprocenten!AF374=\"\",\"\",Lokallønsprocenten!AF374)","v":""},null,{"$f":"IF(Lokallønsprocenten!AH374=\"\",\"\",Lokallønsprocenten!AH374)","v":""},null,null,null,"",""]
[null,{"$f":"IF('Kollega oplysninger'!B375=\"\",\"\",'Kollega oplysninger'!B375)","v":""},{"$f":"IF('Kollega oplysninger'!C375=\"\",\"\",'Kollega oplysninger'!C375)","v":""},null,null,{"$f":"IF('Kollega oplysninger'!I375=\"\",\"\",'Kollega oplysninger'!I375)","v":""},{"$f":"IF('Kollega oplysninger'!J375=\"\",\"\",'Kollega oplysninger'!J375)","v":""},{"$f":"IF('Kollega oplysninger'!L375=\"\",\"\",'Kollega oplysninger'!L375)","v":""},null,null,null,null,null,null,null,null,null,null,null,null,null,null,null,null,null,{"$f":"IF(Lokallønsprocenten!Z375=\"\",\"\",Lokallønsprocenten!Z375)","v":""},{"$f":"IF(Lokallønsprocenten!AA375=\"\",\"\",Lokallønsprocenten!AA375)","v":""},null,null,null,null,{"$f":"IF(Lokallønsprocenten!AF375=\"\",\"\",Lokallønsprocenten!AF375)","v":""},null,{"$f":"IF(Lokallønsprocenten!AH375=\"\",\"\",Lokallønsprocenten!AH375)","v":""},null,null,null,"",""]
[null,{"$f":"IF('Kollega oplysninger'!B376=\"\",\"\",'Kollega oplysninger'!B376)","v":""},{"$f":"IF('Kollega oplysninger'!C376=\"\",\"\",'Kollega oplysninger'!C376)","v":""},null,null,{"$f":"IF('Kollega oplysninger'!I376=\"\",\"\",'Kollega oplysninger'!I376)","v":""},{"$f":"IF('Kollega oplysninger'!J376=\"\",\"\",'Kollega oplysninger'!J376)","v":""},{"$f":"IF('Kollega oplysninger'!L376=\"\",\"\",'Kollega oplysninger'!L376)","v":""},null,null,null,null,null,null,null,null,null,null,null,null,null,null,null,null,null,{"$f":"IF(Lokallønsprocenten!Z376=\"\",\"\",Lokallønsprocenten!Z376)","v":""},{"$f":"IF(Lokallønsprocenten!AA376=\"\",\"\",Lokallønsprocenten!AA376)","v":""},null,null,null,null,{"$f":"IF(Lokallønsprocenten!AF376=\"\",\"\",Lokallønsprocenten!AF376)","v":""},null,{"$f":"IF(Lokallønsprocenten!AH376=\"\",\"\",Lokallønsprocenten!AH376)","v":""},null,null,null,"",""]
[null,{"$f":"IF('Kollega oplysninger'!B377=\"\",\"\",'Kollega oplysninger'!B377)","v":""},{"$f":"IF('Kollega oplysninger'!C377=\"\",\"\",'Kollega oplysninger'!C377)","v":""},null,null,{"$f":"IF('Kollega oplysninger'!I377=\"\",\"\",'Kollega oplysninger'!I377)","v":""},{"$f":"IF('Kollega oplysninger'!J377=\"\",\"\",'Kollega oplysninger'!J377)","v":""},{"$f":"IF('Kollega oplysninger'!L377=\"\",\"\",'Kollega oplysninger'!L377)","v":""},null,null,null,null,null,null,null,null,null,null,null,null,null,null,null,null,null,{"$f":"IF(Lokallønsprocenten!Z377=\"\",\"\",Lokallønsprocenten!Z377)","v":""},{"$f":"IF(Lokallønsprocenten!AA377=\"\",\"\",Lokallønsprocenten!AA377)","v":""},null,null,null,null,{"$f":"IF(Lokallønsprocenten!AF377=\"\",\"\",Lokallønsprocenten!AF377)","v":""},null,{"$f":"IF(Lokallønsprocenten!AH377=\"\",\"\",Lokallønsprocenten!AH377)","v":""},null,null,null,"",""]
[null,{"$f":"IF('Kollega oplysninger'!B378=\"\",\"\",'Kollega oplysninger'!B378)","v":""},{"$f":"IF('Kollega oplysninger'!C378=\"\",\"\",'Kollega oplysninger'!C378)","v":""},null,null,{"$f":"IF('Kollega oplysninger'!I378=\"\",\"\",'Kollega oplysninger'!I378)","v":""},{"$f":"IF('Kollega oplysninger'!J378=\"\",\"\",'Kollega oplysninger'!J378)","v":""},{"$f":"IF('Kollega oplysninger'!L378=\"\",\"\",'Kollega oplysninger'!L378)","v":""},null,null,null,null,null,null,null,null,null,null,null,null,null,null,null,null,null,{"$f":"IF(Lokallønsprocenten!Z378=\"\",\"\",Lokallønsprocenten!Z378)","v":""},{"$f":"IF(Lokallønsprocenten!AA378=\"\",\"\",Lokallønsprocenten!AA378)","v":""},null,null,null,null,{"$f":"IF(Lokallønsprocenten!AF378=\"\",\"\",Lokallønsprocenten!AF378)","v":""},null,{"$f":"IF(Lokallønsprocenten!AH378=\"\",\"\",Lokallønsprocenten!AH378)","v":""},null,null,null,"",""]
[null,{"$f":"IF('Kollega oplysninger'!B379=\"\",\"\",'Kollega oplysninger'!B379)","v":""},{"$f":"IF('Kollega oplysninger'!C379=\"\",\"\",'Kollega oplysninger'!C379)","v":""},null,null,{"$f":"IF('Kollega oplysninger'!I379=\"\",\"\",'Kollega oplysninger'!I379)","v":""},{"$f":"IF('Kollega oplysninger'!J379=\"\",\"\",'Kollega oplysninger'!J379)","v":""},{"$f":"IF('Kollega oplysninger'!L379=\"\",\"\",'Kollega oplysninger'!L379)","v":""},null,null,null,null,null,null,null,null,null,null,null,null,null,null,null,null,null,{"$f":"IF(Lokallønsprocenten!Z379=\"\",\"\",Lokallønsprocenten!Z379)","v":""},{"$f":"IF(Lokallønsprocenten!AA379=\"\",\"\",Lokallønsprocenten!AA379)","v":""},null,null,null,null,{"$f":"IF(Lokallønsprocenten!AF379=\"\",\"\",Lokallønsprocenten!AF379)","v":""},null,{"$f":"IF(Lokallønsprocenten!AH379=\"\",\"\",Lokallønsprocenten!AH379)","v":""},null,null,null,"",""]
[null,{"$f":"IF('Kollega oplysninger'!B380=\"\",\"\",'Kollega oplysninger'!B380)","v":""},{"$f":"IF('Kollega oplysninger'!C380=\"\",\"\",'Kollega oplysninger'!C380)","v":""},null,null,{"$f":"IF('Kollega oplysninger'!I380=\"\",\"\",'Kollega oplysninger'!I380)","v":""},{"$f":"IF('Kollega oplysninger'!J380=\"\",\"\",'Kollega oplysninger'!J380)","v":""},{"$f":"IF('Kollega oplysninger'!L380=\"\",\"\",'Kollega oplysninger'!L380)","v":""},null,null,null,null,null,null,null,null,null,null,null,null,null,null,null,null,null,{"$f":"IF(Lokallønsprocenten!Z380=\"\",\"\",Lokallønsprocenten!Z380)","v":""},{"$f":"IF(Lokallønsprocenten!AA380=\"\",\"\",Lokallønsprocenten!AA380)","v":""},null,null,null,null,{"$f":"IF(Lokallønsprocenten!AF380=\"\",\"\",Lokallønsprocenten!AF380)","v":""},null,{"$f":"IF(Lokallønsprocenten!AH380=\"\",\"\",Lokallønsprocenten!AH380)","v":""},null,null,null,"",""]
[null,{"$f":"IF('Kollega oplysninger'!B381=\"\",\"\",'Kollega oplysninger'!B381)","v":""},{"$f":"IF('Kollega oplysninger'!C381=\"\",\"\",'Kollega oplysninger'!C381)","v":""},null,null,{"$f":"IF('Kollega oplysninger'!I381=\"\",\"\",'Kollega oplysninger'!I381)","v":""},{"$f":"IF('Kollega oplysninger'!J381=\"\",\"\",'Kollega oplysninger'!J381)","v":""},{"$f":"IF('Kollega oplysninger'!L381=\"\",\"\",'Kollega oplysninger'!L381)","v":""},null,null,null,null,null,null,null,null,null,null,null,null,null,null,null,null,null,{"$f":"IF(Lokallønsprocenten!Z381=\"\",\"\",Lokallønsprocenten!Z381)","v":""},{"$f":"IF(Lokallønsprocenten!AA381=\"\",\"\",Lokallønsprocenten!AA381)","v":""},null,null,null,null,{"$f":"IF(Lokallønsprocenten!AF381=\"\",\"\",Lokallønsprocenten!AF381)","v":""},null,{"$f":"IF(Lokallønsprocenten!AH381=\"\",\"\",Lokallønsprocenten!AH381)","v":""},null,null,null,"",""]
[null,{"$f":"IF('Kollega oplysninger'!B382=\"\",\"\",'Kollega oplysninger'!B382)","v":""},{"$f":"IF('Kollega oplysninger'!C382=\"\",\"\",'Kollega oplysninger'!C382)","v":""},null,null,{"$f":"IF('Kollega oplysninger'!I382=\"\",\"\",'Kollega oplysninger'!I382)","v":""},{"$f":"IF('Kollega oplysninger'!J382=\"\",\"\",'Kollega oplysninger'!J382)","v":""},{"$f":"IF('Kollega oplysninger'!L382=\"\",\"\",'Kollega oplysninger'!L382)","v":""},null,null,null,null,null,null,null,null,null,null,null,null,null,null,null,null,null,{"$f":"IF(Lokallønsprocenten!Z382=\"\",\"\",Lokallønsprocenten!Z382)","v":""},{"$f":"IF(Lokallønsprocenten!AA382=\"\",\"\",Lokallønsprocenten!AA382)","v":""},null,null,null,null,{"$f":"IF(Lokallønsprocenten!AF382=\"\",\"\",Lokallønsprocenten!AF382)","v":""},null,{"$f":"IF(Lokallønsprocenten!AH382=\"\",\"\",Lokallønsprocenten!AH382)","v":""},null,null,null,"",""]
[null,{"$f":"IF('Kollega oplysninger'!B383=\"\",\"\",'Kollega oplysninger'!B383)","v":""},{"$f":"IF('Kollega oplysninger'!C383=\"\",\"\",'Kollega oplysninger'!C383)","v":""},null,null,{"$f":"IF('Kollega oplysninger'!I383=\"\",\"\",'Kollega oplysninger'!I383)","v":""},{"$f":"IF('Kollega oplysninger'!J383=\"\",\"\",'Kollega oplysninger'!J383)","v":""},{"$f":"IF('Kollega oplysninger'!L383=\"\",\"\",'Kollega oplysninger'!L383)","v":""},null,null,null,null,null,null,null,null,null,null,null,null,null,null,null,null,null,{"$f":"IF(Lokallønsprocenten!Z383=\"\",\"\",Lokallønsprocenten!Z383)","v":""},{"$f":"IF(Lokallønsprocenten!AA383=\"\",\"\",Lokallønsprocenten!AA383)","v":""},null,null,null,null,{"$f":"IF(Lokallønsprocenten!AF383=\"\",\"\",Lokallønsprocenten!AF383)","v":""},null,{"$f":"IF(Lokallønsprocenten!AH383=\"\",\"\",Lokallønsprocenten!AH383)","v":""},null,null,null,"",""]
[null,{"$f":"IF('Kollega oplysninger'!B384=\"\",\"\",'Kollega oplysninger'!B384)","v":""},{"$f":"IF('Kollega oplysninger'!C384=\"\",\"\",'Kollega oplysninger'!C384)","v":""},null,null,{"$f":"IF('Kollega oplysninger'!I384=\"\",\"\",'Kollega oplysninger'!I384)","v":""},{"$f":"IF('Kollega oplysninger'!J384=\"\",\"\",'Kollega oplysninger'!J384)","v":""},{"$f":"IF('Kollega oplysninger'!L384=\"\",\"\",'Kollega oplysninger'!L384)","v":""},null,null,null,null,null,null,null,null,null,null,null,null,null,null,null,null,null,{"$f":"IF(Lokallønsprocenten!Z384=\"\",\"\",Lokallønsprocenten!Z384)","v":""},{"$f":"IF(Lokallønsprocenten!AA384=\"\",\"\",Lokallønsprocenten!AA384)","v":""},null,null,null,null,{"$f":"IF(Lokallønsprocenten!AF384=\"\",\"\",Lokallønsprocenten!AF384)","v":""},null,{"$f":"IF(Lokallønsprocenten!AH384=\"\",\"\",Lokallønsprocenten!AH384)","v":""},null,null,null,"",""]
[null,{"$f":"IF('Kollega oplysninger'!B385=\"\",\"\",'Kollega oplysninger'!B385)","v":""},{"$f":"IF('Kollega oplysninger'!C385=\"\",\"\",'Kollega oplysninger'!C385)","v":""},null,null,{"$f":"IF('Kollega oplysninger'!I385=\"\",\"\",'Kollega oplysninger'!I385)","v":""},{"$f":"IF('Kollega oplysninger'!J385=\"\",\"\",'Kollega oplysninger'!J385)","v":""},{"$f":"IF('Kollega oplysninger'!L385=\"\",\"\",'Kollega oplysninger'!L385)","v":""},null,null,null,null,null,null,null,null,null,null,null,null,null,null,null,null,null,{"$f":"IF(Lokallønsprocenten!Z385=\"\",\"\",Lokallønsprocenten!Z385)","v":""},{"$f":"IF(Lokallønsprocenten!AA385=\"\",\"\",Lokallønsprocenten!AA385)","v":""},null,null,null,null,{"$f":"IF(Lokallønsprocenten!AF385=\"\",\"\",Lokallønsprocenten!AF385)","v":""},null,{"$f":"IF(Lokallønsprocenten!AH385=\"\",\"\",Lokallønsprocenten!AH385)","v":""},null,null,null,"",""]
[null,{"$f":"IF('Kollega oplysninger'!B386=\"\",\"\",'Kollega oplysninger'!B386)","v":""},{"$f":"IF('Kollega oplysninger'!C386=\"\",\"\",'Kollega oplysninger'!C386)","v":""},null,null,{"$f":"IF('Kollega oplysninger'!I386=\"\",\"\",'Kollega oplysninger'!I386)","v":""},{"$f":"IF('Kollega oplysninger'!J386=\"\",\"\",'Kollega oplysninger'!J386)","v":""},{"$f":"IF('Kollega oplysninger'!L386=\"\",\"\",'Kollega oplysninger'!L386)","v":""},null,null,null,null,null,null,null,null,null,null,null,null,null,null,null,null,null,{"$f":"IF(Lokallønsprocenten!Z386=\"\",\"\",Lokallønsprocenten!Z386)","v":""},{"$f":"IF(Lokallønsprocenten!AA386=\"\",\"\",Lokallønsprocenten!AA386)","v":""},null,null,null,null,{"$f":"IF(Lokallønsprocenten!AF386=\"\",\"\",Lokallønsprocenten!AF386)","v":""},null,{"$f":"IF(Lokallønsprocenten!AH386=\"\",\"\",Lokallønsprocenten!AH386)","v":""},null,null,null,"",""]
[null,{"$f":"IF('Kollega oplysninger'!B387=\"\",\"\",'Kollega oplysninger'!B387)","v":""},{"$f":"IF('Kollega oplysninger'!C387=\"\",\"\",'Kollega oplysninger'!C387)","v":""},null,null,{"$f":"IF('Kollega oplysninger'!I387=\"\",\"\",'Kollega oplysninger'!I387)","v":""},{"$f":"IF('Kollega oplysninger'!J387=\"\",\"\",'Kollega oplysninger'!J387)","v":""},{"$f":"IF('Kollega oplysninger'!L387=\"\",\"\",'Kollega oplysninger'!L387)","v":""},null,null,null,null,null,null,null,null,null,null,null,null,null,null,null,null,null,{"$f":"IF(Lokallønsprocenten!Z387=\"\",\"\",Lokallønsprocenten!Z387)","v":""},{"$f":"IF(Lokallønsprocenten!AA387=\"\",\"\",Lokallønsprocenten!AA387)","v":""},null,null,null,null,{"$f":"IF(Lokallønsprocenten!AF387=\"\",\"\",Lokallønsprocenten!AF387)","v":""},null,{"$f":"IF(Lokallønsprocenten!AH387=\"\",\"\",Lokallønsprocenten!AH387)","v":""},null,null,null,"",""]
[null,{"$f":"IF('Kollega oplysninger'!B388=\"\",\"\",'Kollega oplysninger'!B388)","v":""},{"$f":"IF('Kollega oplysninger'!C388=\"\",\"\",'Kollega oplysninger'!C388)","v":""},null,null,{"$f":"IF('Kollega oplysninger'!I388=\"\",\"\",'Kollega oplysninger'!I388)","v":""},{"$f":"IF('Kollega oplysninger'!J388=\"\",\"\",'Kollega oplysninger'!J388)","v":""},{"$f":"IF('Kollega oplysninger'!L388=\"\",\"\",'Kollega oplysninger'!L388)","v":""},null,null,null,null,null,null,null,null,null,null,null,null,null,null,null,null,null,{"$f":"IF(Lokallønsprocenten!Z388=\"\",\"\",Lokallønsprocenten!Z388)","v":""},{"$f":"IF(Lokallønsprocenten!AA388=\"\",\"\",Lokallønsprocenten!AA388)","v":""},null,null,null,null,{"$f":"IF(Lokallønsprocenten!AF388=\"\",\"\",Lokallønsprocenten!AF388)","v":""},null,{"$f":"IF(Lokallønsprocenten!AH388=\"\",\"\",Lokallønsprocenten!AH388)","v":""},null,null,null,"",""]
[null,{"$f":"IF('Kollega oplysninger'!B389=\"\",\"\",'Kollega oplysninger'!B389)","v":""},{"$f":"IF('Kollega oplysninger'!C389=\"\",\"\",'Kollega oplysninger'!C389)","v":""},null,null,{"$f":"IF('Kollega oplysninger'!I389=\"\",\"\",'Kollega oplysninger'!I389)","v":""},{"$f":"IF('Kollega oplysninger'!J389=\"\",\"\",'Kollega oplysninger'!J389)","v":""},{"$f":"IF('Kollega oplysninger'!L389=\"\",\"\",'Kollega oplysninger'!L389)","v":""},null,null,null,null,null,null,null,null,null,null,null,null,null,null,null,null,null,{"$f":"IF(Lokallønsprocenten!Z389=\"\",\"\",Lokallønsprocenten!Z389)","v":""},{"$f":"IF(Lokallønsprocenten!AA389=\"\",\"\",Lokallønsprocenten!AA389)","v":""},null,null,null,null,{"$f":"IF(Lokallønsprocenten!AF389=\"\",\"\",Lokallønsprocenten!AF389)","v":""},null,{"$f":"IF(Lokallønsprocenten!AH389=\"\",\"\",Lokallønsprocenten!AH389)","v":""},null,null,null,"",""]
[null,{"$f":"IF('Kollega oplysninger'!B390=\"\",\"\",'Kollega oplysninger'!B390)","v":""},{"$f":"IF('Kollega oplysninger'!C390=\"\",\"\",'Kollega oplysninger'!C390)","v":""},null,null,{"$f":"IF('Kollega oplysninger'!I390=\"\",\"\",'Kollega oplysninger'!I390)","v":""},{"$f":"IF('Kollega oplysninger'!J390=\"\",\"\",'Kollega oplysninger'!J390)","v":""},{"$f":"IF('Kollega oplysninger'!L390=\"\",\"\",'Kollega oplysninger'!L390)","v":""},null,null,null,null,null,null,null,null,null,null,null,null,null,null,null,null,null,{"$f":"IF(Lokallønsprocenten!Z390=\"\",\"\",Lokallønsprocenten!Z390)","v":""},{"$f":"IF(Lokallønsprocenten!AA390=\"\",\"\",Lokallønsprocenten!AA390)","v":""},null,null,null,null,{"$f":"IF(Lokallønsprocenten!AF390=\"\",\"\",Lokallønsprocenten!AF390)","v":""},null,{"$f":"IF(Lokallønsprocenten!AH390=\"\",\"\",Lokallønsprocenten!AH390)","v":""},null,null,null,"",""]
[null,{"$f":"IF('Kollega oplysninger'!B391=\"\",\"\",'Kollega oplysninger'!B391)","v":""},{"$f":"IF('Kollega oplysninger'!C391=\"\",\"\",'Kollega oplysninger'!C391)","v":""},null,null,{"$f":"IF('Kollega oplysninger'!I391=\"\",\"\",'Kollega oplysninger'!I391)","v":""},{"$f":"IF('Kollega oplysninger'!J391=\"\",\"\",'Kollega oplysninger'!J391)","v":""},{"$f":"IF('Kollega oplysninger'!L391=\"\",\"\",'Kollega oplysninger'!L391)","v":""},null,null,null,null,null,null,null,null,null,null,null,null,null,null,null,null,null,{"$f":"IF(Lokallønsprocenten!Z391=\"\",\"\",Lokallønsprocenten!Z391)","v":""},{"$f":"IF(Lokallønsprocenten!AA391=\"\",\"\",Lokallønsprocenten!AA391)","v":""},null,null,null,null,{"$f":"IF(Lokallønsprocenten!AF391=\"\",\"\",Lokallønsprocenten!AF391)","v":""},null,{"$f":"IF(Lokallønsprocenten!AH391=\"\",\"\",Lokallønsprocenten!AH391)","v":""},null,null,null,{"$f":"IF(Z391=\"fejl\",X391,\"\")","v":""},{"$f":"IF(Z391=\"fejl\",Y391,\"\")","v":""}]
[null,{"$f":"IF('Kollega oplysninger'!B392=\"\",\"\",'Kollega oplysninger'!B392)","v":""},{"$f":"IF('Kollega oplysninger'!C392=\"\",\"\",'Kollega oplysninger'!C392)","v":""},null,null,{"$f":"IF('Kollega oplysninger'!I392=\"\",\"\",'Kollega oplysninger'!I392)","v":""},{"$f":"IF('Kollega oplysninger'!J392=\"\",\"\",'Kollega oplysninger'!J392)","v":""},{"$f":"IF('Kollega oplysninger'!L392=\"\",\"\",'Kollega oplysninger'!L392)","v":""},null,null,null,null,null,null,null,null,null,null,null,null,null,null,null,null,null,{"$f":"IF(Lokallønsprocenten!Z392=\"\",\"\",Lokallønsprocenten!Z392)","v":""},{"$f":"IF(Lokallønsprocenten!AA392=\"\",\"\",Lokallønsprocenten!AA392)","v":""},null,null,null,null,{"$f":"IF(Lokallønsprocenten!AF392=\"\",\"\",Lokallønsprocenten!AF392)","v":""},null,{"$f":"IF(Lokallønsprocenten!AH392=\"\",\"\",Lokallønsprocenten!AH392)","v":""},null,null,null,"",""]
[null,{"$f":"IF('Kollega oplysninger'!B393=\"\",\"\",'Kollega oplysninger'!B393)","v":""},{"$f":"IF('Kollega oplysninger'!C393=\"\",\"\",'Kollega oplysninger'!C393)","v":""},null,null,{"$f":"IF('Kollega oplysninger'!I393=\"\",\"\",'Kollega oplysninger'!I393)","v":""},{"$f":"IF('Kollega oplysninger'!J393=\"\",\"\",'Kollega oplysninger'!J393)","v":""},{"$f":"IF('Kollega oplysninger'!L393=\"\",\"\",'Kollega oplysninger'!L393)","v":""},null,null,null,null,null,null,null,null,null,null,null,null,null,null,null,null,null,{"$f":"IF(Lokallønsprocenten!Z393=\"\",\"\",Lokallønsprocenten!Z393)","v":""},{"$f":"IF(Lokallønsprocenten!AA393=\"\",\"\",Lokallønsprocenten!AA393)","v":""},null,null,null,null,{"$f":"IF(Lokallønsprocenten!AF393=\"\",\"\",Lokallønsprocenten!AF393)","v":""},null,{"$f":"IF(Lokallønsprocenten!AH393=\"\",\"\",Lokallønsprocenten!AH393)","v":""},null,null,null,"",""]
[null,{"$f":"IF('Kollega oplysninger'!B394=\"\",\"\",'Kollega oplysninger'!B394)","v":""},{"$f":"IF('Kollega oplysninger'!C394=\"\",\"\",'Kollega oplysninger'!C394)","v":""},null,null,{"$f":"IF('Kollega oplysninger'!I394=\"\",\"\",'Kollega oplysninger'!I394)","v":""},{"$f":"IF('Kollega oplysninger'!J394=\"\",\"\",'Kollega oplysninger'!J394)","v":""},{"$f":"IF('Kollega oplysninger'!L394=\"\",\"\",'Kollega oplysninger'!L394)","v":""},null,null,null,null,null,null,null,null,null,null,null,null,null,null,null,null,null,{"$f":"IF(Lokallønsprocenten!Z394=\"\",\"\",Lokallønsprocenten!Z394)","v":""},{"$f":"IF(Lokallønsprocenten!AA394=\"\",\"\",Lokallønsprocenten!AA394)","v":""},null,null,null,null,{"$f":"IF(Lokallønsprocenten!AF394=\"\",\"\",Lokallønsprocenten!AF394)","v":""},null,{"$f":"IF(Lokallønsprocenten!AH394=\"\",\"\",Lokallønsprocenten!AH394)","v":""},null,null,null,"",""]
[null,{"$f":"IF('Kollega oplysninger'!B395=\"\",\"\",'Kollega oplysninger'!B395)","v":""},{"$f":"IF('Kollega oplysninger'!C395=\"\",\"\",'Kollega oplysninger'!C395)","v":""},null,null,{"$f":"IF('Kollega oplysninger'!I395=\"\",\"\",'Kollega oplysninger'!I395)","v":""},{"$f":"IF('Kollega oplysninger'!J395=\"\",\"\",'Kollega oplysninger'!J395)","v":""},{"$f":"IF('Kollega oplysninger'!L395=\"\",\"\",'Kollega oplysninger'!L395)","v":""},null,null,null,null,null,null,null,null,null,null,null,null,null,null,null,null,null,{"$f":"IF(Lokallønsprocenten!Z395=\"\",\"\",Lokallønsprocenten!Z395)","v":""},{"$f":"IF(Lokallønsprocenten!AA395=\"\",\"\",Lokallønsprocenten!AA395)","v":""},null,null,null,null,{"$f":"IF(Lokallønsprocenten!AF395=\"\",\"\",Lokallønsprocenten!AF395)","v":""},null,{"$f":"IF(Lokallønsprocenten!AH395=\"\",\"\",Lokallønsprocenten!AH395)","v":""},null,null,null,"",""]
[null,{"$f":"IF('Kollega oplysninger'!B396=\"\",\"\",'Kollega oplysninger'!B396)","v":""},{"$f":"IF('Kollega oplysninger'!C396=\"\",\"\",'Kollega oplysninger'!C396)","v":""},null,null,{"$f":"IF('Kollega oplysninger'!I396=\"\",\"\",'Kollega oplysninger'!I396)","v":""},{"$f":"IF('Kollega oplysninger'!J396=\"\",\"\",'Kollega oplysninger'!J396)","v":""},{"$f":"IF('Kollega oplysninger'!L396=\"\",\"\",'Kollega oplysninger'!L396)","v":""},null,null,null,null,null,null,null,null,null,null,null,null,null,null,null,null,null,{"$f":"IF(Lokallønsprocenten!Z396=\"\",\"\",Lokallønsprocenten!Z396)","v":""},{"$f":"IF(Lokallønsprocenten!AA396=\"\",\"\",Lokallønsprocenten!AA396)","v":""},null,null,null,null,{"$f":"IF(Lokallønsprocenten!AF396=\"\",\"\",Lokallønsprocenten!AF396)","v":""},null,{"$f":"IF(Lokallønsprocenten!AH396=\"\",\"\",Lokallønsprocenten!AH396)","v":""},null,null,null,"",""]
[null,{"$f":"IF('Kollega oplysninger'!B397=\"\",\"\",'Kollega oplysninger'!B397)","v":""},{"$f":"IF('Kollega oplysninger'!C397=\"\",\"\",'Kollega oplysninger'!C397)","v":""},null,null,{"$f":"IF('Kollega oplysninger'!I397=\"\",\"\",'Kollega oplysninger'!I397)","v":""},{"$f":"IF('Kollega oplysninger'!J397=\"\",\"\",'Kollega oplysninger'!J397)","v":""},{"$f":"IF('Kollega oplysninger'!L397=\"\",\"\",'Kollega oplysninger'!L397)","v":""},null,null,null,null,null,null,null,null,null,null,null,null,null,null,null,null,null,{"$f":"IF(Lokallønsprocenten!Z397=\"\",\"\",Lokallønsprocenten!Z397)","v":""},{"$f":"IF(Lokallønsprocenten!AA397=\"\",\"\",Lokallønsprocenten!AA397)","v":""},null,null,null,null,{"$f":"IF(Lokallønsprocenten!AF397=\"\",\"\",Lokallønsprocenten!AF397)","v":""},null,{"$f":"IF(Lokallønsprocenten!AH397=\"\",\"\",Lokallønsprocenten!AH397)","v":""},null,null,null,"",""]
[null,{"$f":"IF('Kollega oplysninger'!B398=\"\",\"\",'Kollega oplysninger'!B398)","v":""},{"$f":"IF('Kollega oplysninger'!C398=\"\",\"\",'Kollega oplysninger'!C398)","v":""},null,null,{"$f":"IF('Kollega oplysninger'!I398=\"\",\"\",'Kollega oplysninger'!I398)","v":""},{"$f":"IF('Kollega oplysninger'!J398=\"\",\"\",'Kollega oplysninger'!J398)","v":""},{"$f":"IF('Kollega oplysninger'!L398=\"\",\"\",'Kollega oplysninger'!L398)","v":""},null,null,null,null,null,null,null,null,null,null,null,null,null,null,null,null,null,{"$f":"IF(Lokallønsprocenten!Z398=\"\",\"\",Lokallønsprocenten!Z398)","v":""},{"$f":"IF(Lokallønsprocenten!AA398=\"\",\"\",Lokallønsprocenten!AA398)","v":""},null,null,null,null,{"$f":"IF(Lokallønsprocenten!AF398=\"\",\"\",Lokallønsprocenten!AF398)","v":""},null,{"$f":"IF(Lokallønsprocenten!AH398=\"\",\"\",Lokallønsprocenten!AH398)","v":""},null,null,null,"",""]
[null,{"$f":"IF('Kollega oplysninger'!B399=\"\",\"\",'Kollega oplysninger'!B399)","v":""},{"$f":"IF('Kollega oplysninger'!C399=\"\",\"\",'Kollega oplysninger'!C399)","v":""},null,null,{"$f":"IF('Kollega oplysninger'!I399=\"\",\"\",'Kollega oplysninger'!I399)","v":""},{"$f":"IF('Kollega oplysninger'!J399=\"\",\"\",'Kollega oplysninger'!J399)","v":""},{"$f":"IF('Kollega oplysninger'!L399=\"\",\"\",'Kollega oplysninger'!L399)","v":""},null,null,null,null,null,null,null,null,null,null,null,null,null,null,null,null,null,{"$f":"IF(Lokallønsprocenten!Z399=\"\",\"\",Lokallønsprocenten!Z399)","v":""},{"$f":"IF(Lokallønsprocenten!AA399=\"\",\"\",Lokallønsprocenten!AA399)","v":""},null,null,null,null,{"$f":"IF(Lokallønsprocenten!AF399=\"\",\"\",Lokallønsprocenten!AF399)","v":""},null,{"$f":"IF(Lokallønsprocenten!AH399=\"\",\"\",Lokallønsprocenten!AH399)","v":""},null,null,null,"",""]
[null,{"$f":"IF('Kollega oplysninger'!B400=\"\",\"\",'Kollega oplysninger'!B400)","v":""},{"$f":"IF('Kollega oplysninger'!C400=\"\",\"\",'Kollega oplysninger'!C400)","v":""},null,null,{"$f":"IF('Kollega oplysninger'!I400=\"\",\"\",'Kollega oplysninger'!I400)","v":""},{"$f":"IF('Kollega oplysninger'!J400=\"\",\"\",'Kollega oplysninger'!J400)","v":""},{"$f":"IF('Kollega oplysninger'!L400=\"\",\"\",'Kollega oplysninger'!L400)","v":""},null,null,null,null,null,null,null,null,null,null,null,null,null,null,null,null,null,{"$f":"IF(Lokallønsprocenten!Z400=\"\",\"\",Lokallønsprocenten!Z400)","v":""},{"$f":"IF(Lokallønsprocenten!AA400=\"\",\"\",Lokallønsprocenten!AA400)","v":""},null,null,null,null,{"$f":"IF(Lokallønsprocenten!AF400=\"\",\"\",Lokallønsprocenten!AF400)","v":""},null,{"$f":"IF(Lokallønsprocenten!AH400=\"\",\"\",Lokallønsprocenten!AH400)","v":""},null,null,null,"",""]
[null,{"$f":"IF('Kollega oplysninger'!B401=\"\",\"\",'Kollega oplysninger'!B401)","v":""},{"$f":"IF('Kollega oplysninger'!C401=\"\",\"\",'Kollega oplysninger'!C401)","v":""},null,null,{"$f":"IF('Kollega oplysninger'!I401=\"\",\"\",'Kollega oplysninger'!I401)","v":""},{"$f":"IF('Kollega oplysninger'!J401=\"\",\"\",'Kollega oplysninger'!J401)","v":""},{"$f":"IF('Kollega oplysninger'!L401=\"\",\"\",'Kollega oplysninger'!L401)","v":""},null,null,null,null,null,null,null,null,null,null,null,null,null,null,null,null,null,{"$f":"IF(Lokallønsprocenten!Z401=\"\",\"\",Lokallønsprocenten!Z401)","v":""},{"$f":"IF(Lokallønsprocenten!AA401=\"\",\"\",Lokallønsprocenten!AA401)","v":""},null,null,null,null,{"$f":"IF(Lokallønsprocenten!AF401=\"\",\"\",Lokallønsprocenten!AF401)","v":""},null,{"$f":"IF(Lokallønsprocenten!AH401=\"\",\"\",Lokallønsprocenten!AH401)","v":""},null,null,null,"",""]
[null,{"$f":"IF('Kollega oplysninger'!B402=\"\",\"\",'Kollega oplysninger'!B402)","v":""},{"$f":"IF('Kollega oplysninger'!C402=\"\",\"\",'Kollega oplysninger'!C402)","v":""},null,null,{"$f":"IF('Kollega oplysninger'!I402=\"\",\"\",'Kollega oplysninger'!I402)","v":""},{"$f":"IF('Kollega oplysninger'!J402=\"\",\"\",'Kollega oplysninger'!J402)","v":""},{"$f":"IF('Kollega oplysninger'!L402=\"\",\"\",'Kollega oplysninger'!L402)","v":""},null,null,null,null,null,null,null,null,null,null,null,null,null,null,null,null,null,{"$f":"IF(Lokallønsprocenten!Z402=\"\",\"\",Lokallønsprocenten!Z402)","v":""},{"$f":"IF(Lokallønsprocenten!AA402=\"\",\"\",Lokallønsprocenten!AA402)","v":""},null,null,null,null,{"$f":"IF(Lokallønsprocenten!AF402=\"\",\"\",Lokallønsprocenten!AF402)","v":""},null,{"$f":"IF(Lokallønsprocenten!AH402=\"\",\"\",Lokallønsprocenten!AH402)","v":""},null,null,null,"",""]
[null,{"$f":"IF('Kollega oplysninger'!B403=\"\",\"\",'Kollega oplysninger'!B403)","v":""},{"$f":"IF('Kollega oplysninger'!C403=\"\",\"\",'Kollega oplysninger'!C403)","v":""},null,null,{"$f":"IF('Kollega oplysninger'!I403=\"\",\"\",'Kollega oplysninger'!I403)","v":""},{"$f":"IF('Kollega oplysninger'!J403=\"\",\"\",'Kollega oplysninger'!J403)","v":""},{"$f":"IF('Kollega oplysninger'!L403=\"\",\"\",'Kollega oplysninger'!L403)","v":""},null,null,null,null,null,null,null,null,null,null,null,null,null,null,null,null,null,{"$f":"IF(Lokallønsprocenten!Z403=\"\",\"\",Lokallønsprocenten!Z403)","v":""},{"$f":"IF(Lokallønsprocenten!AA403=\"\",\"\",Lokallønsprocenten!AA403)","v":""},null,null,null,null,{"$f":"IF(Lokallønsprocenten!AF403=\"\",\"\",Lokallønsprocenten!AF403)","v":""},null,{"$f":"IF(Lokallønsprocenten!AH403=\"\",\"\",Lokallønsprocenten!AH403)","v":""},null,null,null,"",""]
[null,{"$f":"IF('Kollega oplysninger'!B404=\"\",\"\",'Kollega oplysninger'!B404)","v":""},{"$f":"IF('Kollega oplysninger'!C404=\"\",\"\",'Kollega oplysninger'!C404)","v":""},null,null,{"$f":"IF('Kollega oplysninger'!I404=\"\",\"\",'Kollega oplysninger'!I404)","v":""},{"$f":"IF('Kollega oplysninger'!J404=\"\",\"\",'Kollega oplysninger'!J404)","v":""},{"$f":"IF('Kollega oplysninger'!L404=\"\",\"\",'Kollega oplysninger'!L404)","v":""},null,null,null,null,null,null,null,null,null,null,null,null,null,null,null,null,null,{"$f":"IF(Lokallønsprocenten!Z404=\"\",\"\",Lokallønsprocenten!Z404)","v":""},{"$f":"IF(Lokallønsprocenten!AA404=\"\",\"\",Lokallønsprocenten!AA404)","v":""},null,null,null,null,{"$f":"IF(Lokallønsprocenten!AF404=\"\",\"\",Lokallønsprocenten!AF404)","v":""},null,{"$f":"IF(Lokallønsprocenten!AH404=\"\",\"\",Lokallønsprocenten!AH404)","v":""},null,null,null,"",""]
[null,{"$f":"IF('Kollega oplysninger'!B405=\"\",\"\",'Kollega oplysninger'!B405)","v":""},{"$f":"IF('Kollega oplysninger'!C405=\"\",\"\",'Kollega oplysninger'!C405)","v":""},null,null,{"$f":"IF('Kollega oplysninger'!I405=\"\",\"\",'Kollega oplysninger'!I405)","v":""},{"$f":"IF('Kollega oplysninger'!J405=\"\",\"\",'Kollega oplysninger'!J405)","v":""},{"$f":"IF('Kollega oplysninger'!L405=\"\",\"\",'Kollega oplysninger'!L405)","v":""},null,null,null,null,null,null,null,null,null,null,null,null,null,null,null,null,null,{"$f":"IF(Lokallønsprocenten!Z405=\"\",\"\",Lokallønsprocenten!Z405)","v":""},{"$f":"IF(Lokallønsprocenten!AA405=\"\",\"\",Lokallønsprocenten!AA405)","v":""},null,null,null,null,{"$f":"IF(Lokallønsprocenten!AF405=\"\",\"\",Lokallønsprocenten!AF405)","v":""},null,{"$f":"IF(Lokallønsprocenten!AH405=\"\",\"\",Lokallønsprocenten!AH405)","v":""},null,null,null,"",""]
[null,{"$f":"IF('Kollega oplysninger'!B406=\"\",\"\",'Kollega oplysninger'!B406)","v":""},{"$f":"IF('Kollega oplysninger'!C406=\"\",\"\",'Kollega oplysninger'!C406)","v":""},null,null,{"$f":"IF('Kollega oplysninger'!I406=\"\",\"\",'Kollega oplysninger'!I406)","v":""},{"$f":"IF('Kollega oplysninger'!J406=\"\",\"\",'Kollega oplysninger'!J406)","v":""},{"$f":"IF('Kollega oplysninger'!L406=\"\",\"\",'Kollega oplysninger'!L406)","v":""},null,null,null,null,null,null,null,null,null,null,null,null,null,null,null,null,null,{"$f":"IF(Lokallønsprocenten!Z406=\"\",\"\",Lokallønsprocenten!Z406)","v":""},{"$f":"IF(Lokallønsprocenten!AA406=\"\",\"\",Lokallønsprocenten!AA406)","v":""},null,null,null,null,{"$f":"IF(Lokallønsprocenten!AF406=\"\",\"\",Lokallønsprocenten!AF406)","v":""},null,{"$f":"IF(Lokallønsprocenten!AH406=\"\",\"\",Lokallønsprocenten!AH406)","v":""},null,null,null,"",""]
[null,{"$f":"IF('Kollega oplysninger'!B407=\"\",\"\",'Kollega oplysninger'!B407)","v":""},{"$f":"IF('Kollega oplysninger'!C407=\"\",\"\",'Kollega oplysninger'!C407)","v":""},null,null,{"$f":"IF('Kollega oplysninger'!I407=\"\",\"\",'Kollega oplysninger'!I407)","v":""},{"$f":"IF('Kollega oplysninger'!J407=\"\",\"\",'Kollega oplysninger'!J407)","v":""},{"$f":"IF('Kollega oplysninger'!L407=\"\",\"\",'Kollega oplysninger'!L407)","v":""},null,null,null,null,null,null,null,null,null,null,null,null,null,null,null,null,null,{"$f":"IF(Lokallønsprocenten!Z407=\"\",\"\",Lokallønsprocenten!Z407)","v":""},{"$f":"IF(Lokallønsprocenten!AA407=\"\",\"\",Lokallønsprocenten!AA407)","v":""},null,null,null,null,{"$f":"IF(Lokallønsprocenten!AF407=\"\",\"\",Lokallønsprocenten!AF407)","v":""},null,{"$f":"IF(Lokallønsprocenten!AH407=\"\",\"\",Lokallønsprocenten!AH407)","v":""},null,null,null,"",""]
[null,{"$f":"IF('Kollega oplysninger'!B408=\"\",\"\",'Kollega oplysninger'!B408)","v":""},{"$f":"IF('Kollega oplysninger'!C408=\"\",\"\",'Kollega oplysninger'!C408)","v":""},null,null,{"$f":"IF('Kollega oplysninger'!I408=\"\",\"\",'Kollega oplysninger'!I408)","v":""},{"$f":"IF('Kollega oplysninger'!J408=\"\",\"\",'Kollega oplysninger'!J408)","v":""},{"$f":"IF('Kollega oplysninger'!L408=\"\",\"\",'Kollega oplysninger'!L408)","v":""},null,null,null,null,null,null,null,null,null,null,null,null,null,null,null,null,null,{"$f":"IF(Lokallønsprocenten!Z408=\"\",\"\",Lokallønsprocenten!Z408)","v":""},{"$f":"IF(Lokallønsprocenten!AA408=\"\",\"\",Lokallønsprocenten!AA408)","v":""},null,null,null,null,{"$f":"IF(Lokallønsprocenten!AF408=\"\",\"\",Lokallønsprocenten!AF408)","v":""},null,{"$f":"IF(Lokallønsprocenten!AH408=\"\",\"\",Lokallønsprocenten!AH408)","v":""},null,null,null,"",""]
[null,{"$f":"IF('Kollega oplysninger'!B409=\"\",\"\",'Kollega oplysninger'!B409)","v":""},{"$f":"IF('Kollega oplysninger'!C409=\"\",\"\",'Kollega oplysninger'!C409)","v":""},null,null,{"$f":"IF('Kollega oplysninger'!I409=\"\",\"\",'Kollega oplysninger'!I409)","v":""},{"$f":"IF('Kollega oplysninger'!J409=\"\",\"\",'Kollega oplysninger'!J409)","v":""},{"$f":"IF('Kollega oplysninger'!L409=\"\",\"\",'Kollega oplysninger'!L409)","v":""},null,null,null,null,null,null,null,null,null,null,null,null,null,null,null,null,null,{"$f":"IF(Lokallønsprocenten!Z409=\"\",\"\",Lokallønsprocenten!Z409)","v":""},{"$f":"IF(Lokallønsprocenten!AA409=\"\",\"\",Lokallønsprocenten!AA409)","v":""},null,null,null,null,{"$f":"IF(Lokallønsprocenten!AF409=\"\",\"\",Lokallønsprocenten!AF409)","v":""},null,{"$f":"IF(Lokallønsprocenten!AH409=\"\",\"\",Lokallønsprocenten!AH409)","v":""},null,null,null,"",""]
[null,{"$f":"IF('Kollega oplysninger'!B410=\"\",\"\",'Kollega oplysninger'!B410)","v":""},{"$f":"IF('Kollega oplysninger'!C410=\"\",\"\",'Kollega oplysninger'!C410)","v":""},null,null,{"$f":"IF('Kollega oplysninger'!I410=\"\",\"\",'Kollega oplysninger'!I410)","v":""},{"$f":"IF('Kollega oplysninger'!J410=\"\",\"\",'Kollega oplysninger'!J410)","v":""},{"$f":"IF('Kollega oplysninger'!L410=\"\",\"\",'Kollega oplysninger'!L410)","v":""},null,null,null,null,null,null,null,null,null,null,null,null,null,null,null,null,null,{"$f":"IF(Lokallønsprocenten!Z410=\"\",\"\",Lokallønsprocenten!Z410)","v":""},{"$f":"IF(Lokallønsprocenten!AA410=\"\",\"\",Lokallønsprocenten!AA410)","v":""},null,null,null,null,{"$f":"IF(Lokallønsprocenten!AF410=\"\",\"\",Lokallønsprocenten!AF410)","v":""},null,{"$f":"IF(Lokallønsprocenten!AH410=\"\",\"\",Lokallønsprocenten!AH410)","v":""},null,null,null,"",""]
[null,{"$f":"IF('Kollega oplysninger'!B411=\"\",\"\",'Kollega oplysninger'!B411)","v":""},{"$f":"IF('Kollega oplysninger'!C411=\"\",\"\",'Kollega oplysninger'!C411)","v":""},null,null,{"$f":"IF('Kollega oplysninger'!I411=\"\",\"\",'Kollega oplysninger'!I411)","v":""},{"$f":"IF('Kollega oplysninger'!J411=\"\",\"\",'Kollega oplysninger'!J411)","v":""},{"$f":"IF('Kollega oplysninger'!L411=\"\",\"\",'Kollega oplysninger'!L411)","v":""},null,null,null,null,null,null,null,null,null,null,null,null,null,null,null,null,null,{"$f":"IF(Lokallønsprocenten!Z411=\"\",\"\",Lokallønsprocenten!Z411)","v":""},{"$f":"IF(Lokallønsprocenten!AA411=\"\",\"\",Lokallønsprocenten!AA411)","v":""},null,null,null,null,{"$f":"IF(Lokallønsprocenten!AF411=\"\",\"\",Lokallønsprocenten!AF411)","v":""},null,{"$f":"IF(Lokallønsprocenten!AH411=\"\",\"\",Lokallønsprocenten!AH411)","v":""},null,null,null,"",""]
[null,{"$f":"IF('Kollega oplysninger'!B412=\"\",\"\",'Kollega oplysninger'!B412)","v":""},{"$f":"IF('Kollega oplysninger'!C412=\"\",\"\",'Kollega oplysninger'!C412)","v":""},null,null,{"$f":"IF('Kollega oplysninger'!I412=\"\",\"\",'Kollega oplysninger'!I412)","v":""},{"$f":"IF('Kollega oplysninger'!J412=\"\",\"\",'Kollega oplysninger'!J412)","v":""},{"$f":"IF('Kollega oplysninger'!L412=\"\",\"\",'Kollega oplysninger'!L412)","v":""},null,null,null,null,null,null,null,null,null,null,null,null,null,null,null,null,null,{"$f":"IF(Lokallønsprocenten!Z412=\"\",\"\",Lokallønsprocenten!Z412)","v":""},{"$f":"IF(Lokallønsprocenten!AA412=\"\",\"\",Lokallønsprocenten!AA412)","v":""},null,null,null,null,{"$f":"IF(Lokallønsprocenten!AF412=\"\",\"\",Lokallønsprocenten!AF412)","v":""},null,{"$f":"IF(Lokallønsprocenten!AH412=\"\",\"\",Lokallønsprocenten!AH412)","v":""},null,null,null,"",""]
[null,{"$f":"IF('Kollega oplysninger'!B413=\"\",\"\",'Kollega oplysninger'!B413)","v":""},{"$f":"IF('Kollega oplysninger'!C413=\"\",\"\",'Kollega oplysninger'!C413)","v":""},null,null,{"$f":"IF('Kollega oplysninger'!I413=\"\",\"\",'Kollega oplysninger'!I413)","v":""},{"$f":"IF('Kollega oplysninger'!J413=\"\",\"\",'Kollega oplysninger'!J413)","v":""},{"$f":"IF('Kollega oplysninger'!L413=\"\",\"\",'Kollega oplysninger'!L413)","v":""},null,null,null,null,null,null,null,null,null,null,null,null,null,null,null,null,null,{"$f":"IF(Lokallønsprocenten!Z413=\"\",\"\",Lokallønsprocenten!Z413)","v":""},{"$f":"IF(Lokallønsprocenten!AA413=\"\",\"\",Lokallønsprocenten!AA413)","v":""},null,null,null,null,{"$f":"IF(Lokallønsprocenten!AF413=\"\",\"\",Lokallønsprocenten!AF413)","v":""},null,{"$f":"IF(Lokallønsprocenten!AH413=\"\",\"\",Lokallønsprocenten!AH413)","v":""},null,null,null,"",""]
[null,{"$f":"IF('Kollega oplysninger'!B414=\"\",\"\",'Kollega oplysninger'!B414)","v":""},{"$f":"IF('Kollega oplysninger'!C414=\"\",\"\",'Kollega oplysninger'!C414)","v":""},null,null,{"$f":"IF('Kollega oplysninger'!I414=\"\",\"\",'Kollega oplysninger'!I414)","v":""},{"$f":"IF('Kollega oplysninger'!J414=\"\",\"\",'Kollega oplysninger'!J414)","v":""},{"$f":"IF('Kollega oplysninger'!L414=\"\",\"\",'Kollega oplysninger'!L414)","v":""},null,null,null,null,null,null,null,null,null,null,null,null,null,null,null,null,null,{"$f":"IF(Lokallønsprocenten!Z414=\"\",\"\",Lokallønsprocenten!Z414)","v":""},{"$f":"IF(Lokallønsprocenten!AA414=\"\",\"\",Lokallønsprocenten!AA414)","v":""},null,null,null,null,{"$f":"IF(Lokallønsprocenten!AF414=\"\",\"\",Lokallønsprocenten!AF414)","v":""},null,{"$f":"IF(Lokallønsprocenten!AH414=\"\",\"\",Lokallønsprocenten!AH414)","v":""},null,null,null,"",""]
[null,{"$f":"IF('Kollega oplysninger'!B415=\"\",\"\",'Kollega oplysninger'!B415)","v":""},{"$f":"IF('Kollega oplysninger'!C415=\"\",\"\",'Kollega oplysninger'!C415)","v":""},null,null,{"$f":"IF('Kollega oplysninger'!I415=\"\",\"\",'Kollega oplysninger'!I415)","v":""},{"$f":"IF('Kollega oplysninger'!J415=\"\",\"\",'Kollega oplysninger'!J415)","v":""},{"$f":"IF('Kollega oplysninger'!L415=\"\",\"\",'Kollega oplysninger'!L415)","v":""},null,null,null,null,null,null,null,null,null,null,null,null,null,null,null,null,null,{"$f":"IF(Lokallønsprocenten!Z415=\"\",\"\",Lokallønsprocenten!Z415)","v":""},{"$f":"IF(Lokallønsprocenten!AA415=\"\",\"\",Lokallønsprocenten!AA415)","v":""},null,null,null,null,{"$f":"IF(Lokallønsprocenten!AF415=\"\",\"\",Lokallønsprocenten!AF415)","v":""},null,{"$f":"IF(Lokallønsprocenten!AH415=\"\",\"\",Lokallønsprocenten!AH415)","v":""},null,null,null,"",""]
[null,{"$f":"IF('Kollega oplysninger'!B416=\"\",\"\",'Kollega oplysninger'!B416)","v":""},{"$f":"IF('Kollega oplysninger'!C416=\"\",\"\",'Kollega oplysninger'!C416)","v":""},null,null,{"$f":"IF('Kollega oplysninger'!I416=\"\",\"\",'Kollega oplysninger'!I416)","v":""},{"$f":"IF('Kollega oplysninger'!J416=\"\",\"\",'Kollega oplysninger'!J416)","v":""},{"$f":"IF('Kollega oplysninger'!L416=\"\",\"\",'Kollega oplysninger'!L416)","v":""},null,null,null,null,null,null,null,null,null,null,null,null,null,null,null,null,null,{"$f":"IF(Lokallønsprocenten!Z416=\"\",\"\",Lokallønsprocenten!Z416)","v":""},{"$f":"IF(Lokallønsprocenten!AA416=\"\",\"\",Lokallønsprocenten!AA416)","v":""},null,null,null,null,{"$f":"IF(Lokallønsprocenten!AF416=\"\",\"\",Lokallønsprocenten!AF416)","v":""},null,{"$f":"IF(Lokallønsprocenten!AH416=\"\",\"\",Lokallønsprocenten!AH416)","v":""},null,null,null,"",""]
[null,{"$f":"IF('Kollega oplysninger'!B417=\"\",\"\",'Kollega oplysninger'!B417)","v":""},{"$f":"IF('Kollega oplysninger'!C417=\"\",\"\",'Kollega oplysninger'!C417)","v":""},null,null,{"$f":"IF('Kollega oplysninger'!I417=\"\",\"\",'Kollega oplysninger'!I417)","v":""},{"$f":"IF('Kollega oplysninger'!J417=\"\",\"\",'Kollega oplysninger'!J417)","v":""},{"$f":"IF('Kollega oplysninger'!L417=\"\",\"\",'Kollega oplysninger'!L417)","v":""},null,null,null,null,null,null,null,null,null,null,null,null,null,null,null,null,null,{"$f":"IF(Lokallønsprocenten!Z417=\"\",\"\",Lokallønsprocenten!Z417)","v":""},{"$f":"IF(Lokallønsprocenten!AA417=\"\",\"\",Lokallønsprocenten!AA417)","v":""},null,null,null,null,{"$f":"IF(Lokallønsprocenten!AF417=\"\",\"\",Lokallønsprocenten!AF417)","v":""},null,{"$f":"IF(Lokallønsprocenten!AH417=\"\",\"\",Lokallønsprocenten!AH417)","v":""},null,null,null,"",""]
[null,{"$f":"IF('Kollega oplysninger'!B418=\"\",\"\",'Kollega oplysninger'!B418)","v":""},{"$f":"IF('Kollega oplysninger'!C418=\"\",\"\",'Kollega oplysninger'!C418)","v":""},null,null,{"$f":"IF('Kollega oplysninger'!I418=\"\",\"\",'Kollega oplysninger'!I418)","v":""},{"$f":"IF('Kollega oplysninger'!J418=\"\",\"\",'Kollega oplysninger'!J418)","v":""},{"$f":"IF('Kollega oplysninger'!L418=\"\",\"\",'Kollega oplysninger'!L418)","v":""},null,null,null,null,null,null,null,null,null,null,null,null,null,null,null,null,null,{"$f":"IF(Lokallønsprocenten!Z418=\"\",\"\",Lokallønsprocenten!Z418)","v":""},{"$f":"IF(Lokallønsprocenten!AA418=\"\",\"\",Lokallønsprocenten!AA418)","v":""},null,null,null,null,{"$f":"IF(Lokallønsprocenten!AF418=\"\",\"\",Lokallønsprocenten!AF418)","v":""},null,{"$f":"IF(Lokallønsprocenten!AH418=\"\",\"\",Lokallønsprocenten!AH418)","v":""},null,null,null,"",""]
[null,{"$f":"IF('Kollega oplysninger'!B419=\"\",\"\",'Kollega oplysninger'!B419)","v":""},{"$f":"IF('Kollega oplysninger'!C419=\"\",\"\",'Kollega oplysninger'!C419)","v":""},null,null,{"$f":"IF('Kollega oplysninger'!I419=\"\",\"\",'Kollega oplysninger'!I419)","v":""},{"$f":"IF('Kollega oplysninger'!J419=\"\",\"\",'Kollega oplysninger'!J419)","v":""},{"$f":"IF('Kollega oplysninger'!L419=\"\",\"\",'Kollega oplysninger'!L419)","v":""},null,null,null,null,null,null,null,null,null,null,null,null,null,null,null,null,null,{"$f":"IF(Lokallønsprocenten!Z419=\"\",\"\",Lokallønsprocenten!Z419)","v":""},{"$f":"IF(Lokallønsprocenten!AA419=\"\",\"\",Lokallønsprocenten!AA419)","v":""},null,null,null,null,{"$f":"IF(Lokallønsprocenten!AF419=\"\",\"\",Lokallønsprocenten!AF419)","v":""},null,{"$f":"IF(Lokallønsprocenten!AH419=\"\",\"\",Lokallønsprocenten!AH419)","v":""},null,null,null,"",""]
[null,{"$f":"IF('Kollega oplysninger'!B420=\"\",\"\",'Kollega oplysninger'!B420)","v":""},{"$f":"IF('Kollega oplysninger'!C420=\"\",\"\",'Kollega oplysninger'!C420)","v":""},null,null,{"$f":"IF('Kollega oplysninger'!I420=\"\",\"\",'Kollega oplysninger'!I420)","v":""},{"$f":"IF('Kollega oplysninger'!J420=\"\",\"\",'Kollega oplysninger'!J420)","v":""},{"$f":"IF('Kollega oplysninger'!L420=\"\",\"\",'Kollega oplysninger'!L420)","v":""},null,null,null,null,null,null,null,null,null,null,null,null,null,null,null,null,null,{"$f":"IF(Lokallønsprocenten!Z420=\"\",\"\",Lokallønsprocenten!Z420)","v":""},{"$f":"IF(Lokallønsprocenten!AA420=\"\",\"\",Lokallønsprocenten!AA420)","v":""},null,null,null,null,{"$f":"IF(Lokallønsprocenten!AF420=\"\",\"\",Lokallønsprocenten!AF420)","v":""},null,{"$f":"IF(Lokallønsprocenten!AH420=\"\",\"\",Lokallønsprocenten!AH420)","v":""},null,null,null,"",""]
[null,{"$f":"IF('Kollega oplysninger'!B421=\"\",\"\",'Kollega oplysninger'!B421)","v":""},{"$f":"IF('Kollega oplysninger'!C421=\"\",\"\",'Kollega oplysninger'!C421)","v":""},null,null,{"$f":"IF('Kollega oplysninger'!I421=\"\",\"\",'Kollega oplysninger'!I421)","v":""},{"$f":"IF('Kollega oplysninger'!J421=\"\",\"\",'Kollega oplysninger'!J421)","v":""},{"$f":"IF('Kollega oplysninger'!L421=\"\",\"\",'Kollega oplysninger'!L421)","v":""},null,null,null,null,null,null,null,null,null,null,null,null,null,null,null,null,null,{"$f":"IF(Lokallønsprocenten!Z421=\"\",\"\",Lokallønsprocenten!Z421)","v":""},{"$f":"IF(Lokallønsprocenten!AA421=\"\",\"\",Lokallønsprocenten!AA421)","v":""},null,null,null,null,{"$f":"IF(Lokallønsprocenten!AF421=\"\",\"\",Lokallønsprocenten!AF421)","v":""},null,{"$f":"IF(Lokallønsprocenten!AH421=\"\",\"\",Lokallønsprocenten!AH421)","v":""},null,null,null,"",""]
[null,{"$f":"IF('Kollega oplysninger'!B422=\"\",\"\",'Kollega oplysninger'!B422)","v":""},{"$f":"IF('Kollega oplysninger'!C422=\"\",\"\",'Kollega oplysninger'!C422)","v":""},null,null,{"$f":"IF('Kollega oplysninger'!I422=\"\",\"\",'Kollega oplysninger'!I422)","v":""},{"$f":"IF('Kollega oplysninger'!J422=\"\",\"\",'Kollega oplysninger'!J422)","v":""},{"$f":"IF('Kollega oplysninger'!L422=\"\",\"\",'Kollega oplysninger'!L422)","v":""},null,null,null,null,null,null,null,null,null,null,null,null,null,null,null,null,null,{"$f":"IF(Lokallønsprocenten!Z422=\"\",\"\",Lokallønsprocenten!Z422)","v":""},{"$f":"IF(Lokallønsprocenten!AA422=\"\",\"\",Lokallønsprocenten!AA422)","v":""},null,null,null,null,{"$f":"IF(Lokallønsprocenten!AF422=\"\",\"\",Lokallønsprocenten!AF422)","v":""},null,{"$f":"IF(Lokallønsprocenten!AH422=\"\",\"\",Lokallønsprocenten!AH422)","v":""},null,null,null,"",""]
[null,{"$f":"IF('Kollega oplysninger'!B423=\"\",\"\",'Kollega oplysninger'!B423)","v":""},{"$f":"IF('Kollega oplysninger'!C423=\"\",\"\",'Kollega oplysninger'!C423)","v":""},null,null,{"$f":"IF('Kollega oplysninger'!I423=\"\",\"\",'Kollega oplysninger'!I423)","v":""},{"$f":"IF('Kollega oplysninger'!J423=\"\",\"\",'Kollega oplysninger'!J423)","v":""},{"$f":"IF('Kollega oplysninger'!L423=\"\",\"\",'Kollega oplysninger'!L423)","v":""},null,null,null,null,null,null,null,null,null,null,null,null,null,null,null,null,null,{"$f":"IF(Lokallønsprocenten!Z423=\"\",\"\",Lokallønsprocenten!Z423)","v":""},{"$f":"IF(Lokallønsprocenten!AA423=\"\",\"\",Lokallønsprocenten!AA423)","v":""},null,null,null,null,{"$f":"IF(Lokallønsprocenten!AF423=\"\",\"\",Lokallønsprocenten!AF423)","v":""},null,{"$f":"IF(Lokallønsprocenten!AH423=\"\",\"\",Lokallønsprocenten!AH423)","v":""},null,null,null,"",""]
[null,{"$f":"IF('Kollega oplysninger'!B424=\"\",\"\",'Kollega oplysninger'!B424)","v":""},{"$f":"IF('Kollega oplysninger'!C424=\"\",\"\",'Kollega oplysninger'!C424)","v":""},null,null,{"$f":"IF('Kollega oplysninger'!I424=\"\",\"\",'Kollega oplysninger'!I424)","v":""},{"$f":"IF('Kollega oplysninger'!J424=\"\",\"\",'Kollega oplysninger'!J424)","v":""},{"$f":"IF('Kollega oplysninger'!L424=\"\",\"\",'Kollega oplysninger'!L424)","v":""},null,null,null,null,null,null,null,null,null,null,null,null,null,null,null,null,null,{"$f":"IF(Lokallønsprocenten!Z424=\"\",\"\",Lokallønsprocenten!Z424)","v":""},{"$f":"IF(Lokallønsprocenten!AA424=\"\",\"\",Lokallønsprocenten!AA424)","v":""},null,null,null,null,{"$f":"IF(Lokallønsprocenten!AF424=\"\",\"\",Lokallønsprocenten!AF424)","v":""},null,{"$f":"IF(Lokallønsprocenten!AH424=\"\",\"\",Lokallønsprocenten!AH424)","v":""},null,null,null,"",""]
[null,{"$f":"IF('Kollega oplysninger'!B425=\"\",\"\",'Kollega oplysninger'!B425)","v":""},{"$f":"IF('Kollega oplysninger'!C425=\"\",\"\",'Kollega oplysninger'!C425)","v":""},null,null,{"$f":"IF('Kollega oplysninger'!I425=\"\",\"\",'Kollega oplysninger'!I425)","v":""},{"$f":"IF('Kollega oplysninger'!J425=\"\",\"\",'Kollega oplysninger'!J425)","v":""},{"$f":"IF('Kollega oplysninger'!L425=\"\",\"\",'Kollega oplysninger'!L425)","v":""},null,null,null,null,null,null,null,null,null,null,null,null,null,null,null,null,null,{"$f":"IF(Lokallønsprocenten!Z425=\"\",\"\",Lokallønsprocenten!Z425)","v":""},{"$f":"IF(Lokallønsprocenten!AA425=\"\",\"\",Lokallønsprocenten!AA425)","v":""},null,null,null,null,{"$f":"IF(Lokallønsprocenten!AF425=\"\",\"\",Lokallønsprocenten!AF425)","v":""},null,{"$f":"IF(Lokallønsprocenten!AH425=\"\",\"\",Lokallønsprocenten!AH425)","v":""},null,null,null,"",""]
[null,{"$f":"IF('Kollega oplysninger'!B426=\"\",\"\",'Kollega oplysninger'!B426)","v":""},{"$f":"IF('Kollega oplysninger'!C426=\"\",\"\",'Kollega oplysninger'!C426)","v":""},null,null,{"$f":"IF('Kollega oplysninger'!I426=\"\",\"\",'Kollega oplysninger'!I426)","v":""},{"$f":"IF('Kollega oplysninger'!J426=\"\",\"\",'Kollega oplysninger'!J426)","v":""},{"$f":"IF('Kollega oplysninger'!L426=\"\",\"\",'Kollega oplysninger'!L426)","v":""},null,null,null,null,null,null,null,null,null,null,null,null,null,null,null,null,null,{"$f":"IF(Lokallønsprocenten!Z426=\"\",\"\",Lokallønsprocenten!Z426)","v":""},{"$f":"IF(Lokallønsprocenten!AA426=\"\",\"\",Lokallønsprocenten!AA426)","v":""},null,null,null,null,{"$f":"IF(Lokallønsprocenten!AF426=\"\",\"\",Lokallønsprocenten!AF426)","v":""},null,{"$f":"IF(Lokallønsprocenten!AH426=\"\",\"\",Lokallønsprocenten!AH426)","v":""},null,null,null,"",""]
[null,{"$f":"IF('Kollega oplysninger'!B427=\"\",\"\",'Kollega oplysninger'!B427)","v":""},{"$f":"IF('Kollega oplysninger'!C427=\"\",\"\",'Kollega oplysninger'!C427)","v":""},null,null,{"$f":"IF('Kollega oplysninger'!I427=\"\",\"\",'Kollega oplysninger'!I427)","v":""},{"$f":"IF('Kollega oplysninger'!J427=\"\",\"\",'Kollega oplysninger'!J427)","v":""},{"$f":"IF('Kollega oplysninger'!L427=\"\",\"\",'Kollega oplysninger'!L427)","v":""},null,null,null,null,null,null,null,null,null,null,null,null,null,null,null,null,null,{"$f":"IF(Lokallønsprocenten!Z427=\"\",\"\",Lokallønsprocenten!Z427)","v":""},{"$f":"IF(Lokallønsprocenten!AA427=\"\",\"\",Lokallønsprocenten!AA427)","v":""},null,null,null,null,{"$f":"IF(Lokallønsprocenten!AF427=\"\",\"\",Lokallønsprocenten!AF427)","v":""},null,{"$f":"IF(Lokallønsprocenten!AH427=\"\",\"\",Lokallønsprocenten!AH427)","v":""},null,null,null,"",""]
[null,{"$f":"IF('Kollega oplysninger'!B428=\"\",\"\",'Kollega oplysninger'!B428)","v":""},{"$f":"IF('Kollega oplysninger'!C428=\"\",\"\",'Kollega oplysninger'!C428)","v":""},null,null,{"$f":"IF('Kollega oplysninger'!I428=\"\",\"\",'Kollega oplysninger'!I428)","v":""},{"$f":"IF('Kollega oplysninger'!J428=\"\",\"\",'Kollega oplysninger'!J428)","v":""},{"$f":"IF('Kollega oplysninger'!L428=\"\",\"\",'Kollega oplysninger'!L428)","v":""},null,null,null,null,null,null,null,null,null,null,null,null,null,null,null,null,null,{"$f":"IF(Lokallønsprocenten!Z428=\"\",\"\",Lokallønsprocenten!Z428)","v":""},{"$f":"IF(Lokallønsprocenten!AA428=\"\",\"\",Lokallønsprocenten!AA428)","v":""},null,null,null,null,{"$f":"IF(Lokallønsprocenten!AF428=\"\",\"\",Lokallønsprocenten!AF428)","v":""},null,{"$f":"IF(Lokallønsprocenten!AH428=\"\",\"\",Lokallønsprocenten!AH428)","v":""},null,null,null,"",""]
[null,{"$f":"IF('Kollega oplysninger'!B429=\"\",\"\",'Kollega oplysninger'!B429)","v":""},{"$f":"IF('Kollega oplysninger'!C429=\"\",\"\",'Kollega oplysninger'!C429)","v":""},null,null,{"$f":"IF('Kollega oplysninger'!I429=\"\",\"\",'Kollega oplysninger'!I429)","v":""},{"$f":"IF('Kollega oplysninger'!J429=\"\",\"\",'Kollega oplysninger'!J429)","v":""},{"$f":"IF('Kollega oplysninger'!L429=\"\",\"\",'Kollega oplysninger'!L429)","v":""},null,null,null,null,null,null,null,null,null,null,null,null,null,null,null,null,null,{"$f":"IF(Lokallønsprocenten!Z429=\"\",\"\",Lokallønsprocenten!Z429)","v":""},{"$f":"IF(Lokallønsprocenten!AA429=\"\",\"\",Lokallønsprocenten!AA429)","v":""},null,null,null,null,{"$f":"IF(Lokallønsprocenten!AF429=\"\",\"\",Lokallønsprocenten!AF429)","v":""},null,{"$f":"IF(Lokallønsprocenten!AH429=\"\",\"\",Lokallønsprocenten!AH429)","v":""},null,null,null,"",""]
[null,{"$f":"IF('Kollega oplysninger'!B430=\"\",\"\",'Kollega oplysninger'!B430)","v":""},{"$f":"IF('Kollega oplysninger'!C430=\"\",\"\",'Kollega oplysninger'!C430)","v":""},null,null,{"$f":"IF('Kollega oplysninger'!I430=\"\",\"\",'Kollega oplysninger'!I430)","v":""},{"$f":"IF('Kollega oplysninger'!J430=\"\",\"\",'Kollega oplysninger'!J430)","v":""},{"$f":"IF('Kollega oplysninger'!L430=\"\",\"\",'Kollega oplysninger'!L430)","v":""},null,null,null,null,null,null,null,null,null,null,null,null,null,null,null,null,null,{"$f":"IF(Lokallønsprocenten!Z430=\"\",\"\",Lokallønsprocenten!Z430)","v":""},{"$f":"IF(Lokallønsprocenten!AA430=\"\",\"\",Lokallønsprocenten!AA430)","v":""},null,null,null,null,{"$f":"IF(Lokallønsprocenten!AF430=\"\",\"\",Lokallønsprocenten!AF430)","v":""},null,{"$f":"IF(Lokallønsprocenten!AH430=\"\",\"\",Lokallønsprocenten!AH430)","v":""},null,null,null,"",""]
[null,{"$f":"IF('Kollega oplysninger'!B431=\"\",\"\",'Kollega oplysninger'!B431)","v":""},{"$f":"IF('Kollega oplysninger'!C431=\"\",\"\",'Kollega oplysninger'!C431)","v":""},null,null,{"$f":"IF('Kollega oplysninger'!I431=\"\",\"\",'Kollega oplysninger'!I431)","v":""},{"$f":"IF('Kollega oplysninger'!J431=\"\",\"\",'Kollega oplysninger'!J431)","v":""},{"$f":"IF('Kollega oplysninger'!L431=\"\",\"\",'Kollega oplysninger'!L431)","v":""},null,null,null,null,null,null,null,null,null,null,null,null,null,null,null,null,null,{"$f":"IF(Lokallønsprocenten!Z431=\"\",\"\",Lokallønsprocenten!Z431)","v":""},{"$f":"IF(Lokallønsprocenten!AA431=\"\",\"\",Lokallønsprocenten!AA431)","v":""},null,null,null,null,{"$f":"IF(Lokallønsprocenten!AF431=\"\",\"\",Lokallønsprocenten!AF431)","v":""},null,{"$f":"IF(Lokallønsprocenten!AH431=\"\",\"\",Lokallønsprocenten!AH431)","v":""},null,null,null,"",""]
[null,{"$f":"IF('Kollega oplysninger'!B432=\"\",\"\",'Kollega oplysninger'!B432)","v":""},{"$f":"IF('Kollega oplysninger'!C432=\"\",\"\",'Kollega oplysninger'!C432)","v":""},null,null,{"$f":"IF('Kollega oplysninger'!I432=\"\",\"\",'Kollega oplysninger'!I432)","v":""},{"$f":"IF('Kollega oplysninger'!J432=\"\",\"\",'Kollega oplysninger'!J432)","v":""},{"$f":"IF('Kollega oplysninger'!L432=\"\",\"\",'Kollega oplysninger'!L432)","v":""},null,null,null,null,null,null,null,null,null,null,null,null,null,null,null,null,null,{"$f":"IF(Lokallønsprocenten!Z432=\"\",\"\",Lokallønsprocenten!Z432)","v":""},{"$f":"IF(Lokallønsprocenten!AA432=\"\",\"\",Lokallønsprocenten!AA432)","v":""},null,null,null,null,{"$f":"IF(Lokallønsprocenten!AF432=\"\",\"\",Lokallønsprocenten!AF432)","v":""},null,{"$f":"IF(Lokallønsprocenten!AH432=\"\",\"\",Lokallønsprocenten!AH432)","v":""},null,null,null,"",""]
[null,{"$f":"IF('Kollega oplysninger'!B433=\"\",\"\",'Kollega oplysninger'!B433)","v":""},{"$f":"IF('Kollega oplysninger'!C433=\"\",\"\",'Kollega oplysninger'!C433)","v":""},null,null,{"$f":"IF('Kollega oplysninger'!I433=\"\",\"\",'Kollega oplysninger'!I433)","v":""},{"$f":"IF('Kollega oplysninger'!J433=\"\",\"\",'Kollega oplysninger'!J433)","v":""},{"$f":"IF('Kollega oplysninger'!L433=\"\",\"\",'Kollega oplysninger'!L433)","v":""},null,null,null,null,null,null,null,null,null,null,null,null,null,null,null,null,null,{"$f":"IF(Lokallønsprocenten!Z433=\"\",\"\",Lokallønsprocenten!Z433)","v":""},{"$f":"IF(Lokallønsprocenten!AA433=\"\",\"\",Lokallønsprocenten!AA433)","v":""},null,null,null,null,{"$f":"IF(Lokallønsprocenten!AF433=\"\",\"\",Lokallønsprocenten!AF433)","v":""},null,{"$f":"IF(Lokallønsprocenten!AH433=\"\",\"\",Lokallønsprocenten!AH433)","v":""},null,null,null,"",""]
[null,{"$f":"IF('Kollega oplysninger'!B434=\"\",\"\",'Kollega oplysninger'!B434)","v":""},{"$f":"IF('Kollega oplysninger'!C434=\"\",\"\",'Kollega oplysninger'!C434)","v":""},null,null,{"$f":"IF('Kollega oplysninger'!I434=\"\",\"\",'Kollega oplysninger'!I434)","v":""},{"$f":"IF('Kollega oplysninger'!J434=\"\",\"\",'Kollega oplysninger'!J434)","v":""},{"$f":"IF('Kollega oplysninger'!L434=\"\",\"\",'Kollega oplysninger'!L434)","v":""},null,null,null,null,null,null,null,null,null,null,null,null,null,null,null,null,null,{"$f":"IF(Lokallønsprocenten!Z434=\"\",\"\",Lokallønsprocenten!Z434)","v":""},{"$f":"IF(Lokallønsprocenten!AA434=\"\",\"\",Lokallønsprocenten!AA434)","v":""},null,null,null,null,{"$f":"IF(Lokallønsprocenten!AF434=\"\",\"\",Lokallønsprocenten!AF434)","v":""},null,{"$f":"IF(Lokallønsprocenten!AH434=\"\",\"\",Lokallønsprocenten!AH434)","v":""},null,null,null,"",""]
[null,{"$f":"IF('Kollega oplysninger'!B435=\"\",\"\",'Kollega oplysninger'!B435)","v":""},{"$f":"IF('Kollega oplysninger'!C435=\"\",\"\",'Kollega oplysninger'!C435)","v":""},null,null,{"$f":"IF('Kollega oplysninger'!I435=\"\",\"\",'Kollega oplysninger'!I435)","v":""},{"$f":"IF('Kollega oplysninger'!J435=\"\",\"\",'Kollega oplysninger'!J435)","v":""},{"$f":"IF('Kollega oplysninger'!L435=\"\",\"\",'Kollega oplysninger'!L435)","v":""},null,null,null,null,null,null,null,null,null,null,null,null,null,null,null,null,null,{"$f":"IF(Lokallønsprocenten!Z435=\"\",\"\",Lokallønsprocenten!Z435)","v":""},{"$f":"IF(Lokallønsprocenten!AA435=\"\",\"\",Lokallønsprocenten!AA435)","v":""},null,null,null,null,{"$f":"IF(Lokallønsprocenten!AF435=\"\",\"\",Lokallønsprocenten!AF435)","v":""},null,{"$f":"IF(Lokallønsprocenten!AH435=\"\",\"\",Lokallønsprocenten!AH435)","v":""},null,null,null,"",""]
[null,{"$f":"IF('Kollega oplysninger'!B436=\"\",\"\",'Kollega oplysninger'!B436)","v":""},{"$f":"IF('Kollega oplysninger'!C436=\"\",\"\",'Kollega oplysninger'!C436)","v":""},null,null,{"$f":"IF('Kollega oplysninger'!I436=\"\",\"\",'Kollega oplysninger'!I436)","v":""},{"$f":"IF('Kollega oplysninger'!J436=\"\",\"\",'Kollega oplysninger'!J436)","v":""},{"$f":"IF('Kollega oplysninger'!L436=\"\",\"\",'Kollega oplysninger'!L436)","v":""},null,null,null,null,null,null,null,null,null,null,null,null,null,null,null,null,null,{"$f":"IF(Lokallønsprocenten!Z436=\"\",\"\",Lokallønsprocenten!Z436)","v":""},{"$f":"IF(Lokallønsprocenten!AA436=\"\",\"\",Lokallønsprocenten!AA436)","v":""},null,null,null,null,{"$f":"IF(Lokallønsprocenten!AF436=\"\",\"\",Lokallønsprocenten!AF436)","v":""},null,{"$f":"IF(Lokallønsprocenten!AH436=\"\",\"\",Lokallønsprocenten!AH436)","v":""},null,null,null,"",""]
[null,{"$f":"IF('Kollega oplysninger'!B437=\"\",\"\",'Kollega oplysninger'!B437)","v":""},{"$f":"IF('Kollega oplysninger'!C437=\"\",\"\",'Kollega oplysninger'!C437)","v":""},null,null,{"$f":"IF('Kollega oplysninger'!I437=\"\",\"\",'Kollega oplysninger'!I437)","v":""},{"$f":"IF('Kollega oplysninger'!J437=\"\",\"\",'Kollega oplysninger'!J437)","v":""},{"$f":"IF('Kollega oplysninger'!L437=\"\",\"\",'Kollega oplysninger'!L437)","v":""},null,null,null,null,null,null,null,null,null,null,null,null,null,null,null,null,null,{"$f":"IF(Lokallønsprocenten!Z437=\"\",\"\",Lokallønsprocenten!Z437)","v":""},{"$f":"IF(Lokallønsprocenten!AA437=\"\",\"\",Lokallønsprocenten!AA437)","v":""},null,null,null,null,{"$f":"IF(Lokallønsprocenten!AF437=\"\",\"\",Lokallønsprocenten!AF437)","v":""},null,{"$f":"IF(Lokallønsprocenten!AH437=\"\",\"\",Lokallønsprocenten!AH437)","v":""},null,null,null,"",""]
[null,{"$f":"IF('Kollega oplysninger'!B438=\"\",\"\",'Kollega oplysninger'!B438)","v":""},{"$f":"IF('Kollega oplysninger'!C438=\"\",\"\",'Kollega oplysninger'!C438)","v":""},null,null,{"$f":"IF('Kollega oplysninger'!I438=\"\",\"\",'Kollega oplysninger'!I438)","v":""},{"$f":"IF('Kollega oplysninger'!J438=\"\",\"\",'Kollega oplysninger'!J438)","v":""},{"$f":"IF('Kollega oplysninger'!L438=\"\",\"\",'Kollega oplysninger'!L438)","v":""},null,null,null,null,null,null,null,null,null,null,null,null,null,null,null,null,null,{"$f":"IF(Lokallønsprocenten!Z438=\"\",\"\",Lokallønsprocenten!Z438)","v":""},{"$f":"IF(Lokallønsprocenten!AA438=\"\",\"\",Lokallønsprocenten!AA438)","v":""},null,null,null,null,{"$f":"IF(Lokallønsprocenten!AF438=\"\",\"\",Lokallønsprocenten!AF438)","v":""},null,{"$f":"IF(Lokallønsprocenten!AH438=\"\",\"\",Lokallønsprocenten!AH438)","v":""},null,null,null,"",""]
[null,{"$f":"IF('Kollega oplysninger'!B439=\"\",\"\",'Kollega oplysninger'!B439)","v":""},{"$f":"IF('Kollega oplysninger'!C439=\"\",\"\",'Kollega oplysninger'!C439)","v":""},null,null,{"$f":"IF('Kollega oplysninger'!I439=\"\",\"\",'Kollega oplysninger'!I439)","v":""},{"$f":"IF('Kollega oplysninger'!J439=\"\",\"\",'Kollega oplysninger'!J439)","v":""},{"$f":"IF('Kollega oplysninger'!L439=\"\",\"\",'Kollega oplysninger'!L439)","v":""},null,null,null,null,null,null,null,null,null,null,null,null,null,null,null,null,null,{"$f":"IF(Lokallønsprocenten!Z439=\"\",\"\",Lokallønsprocenten!Z439)","v":""},{"$f":"IF(Lokallønsprocenten!AA439=\"\",\"\",Lokallønsprocenten!AA439)","v":""},null,null,null,null,{"$f":"IF(Lokallønsprocenten!AF439=\"\",\"\",Lokallønsprocenten!AF439)","v":""},null,{"$f":"IF(Lokallønsprocenten!AH439=\"\",\"\",Lokallønsprocenten!AH439)","v":""},null,null,null,"",""]
[null,{"$f":"IF('Kollega oplysninger'!B440=\"\",\"\",'Kollega oplysninger'!B440)","v":""},{"$f":"IF('Kollega oplysninger'!C440=\"\",\"\",'Kollega oplysninger'!C440)","v":""},null,null,{"$f":"IF('Kollega oplysninger'!I440=\"\",\"\",'Kollega oplysninger'!I440)","v":""},{"$f":"IF('Kollega oplysninger'!J440=\"\",\"\",'Kollega oplysninger'!J440)","v":""},{"$f":"IF('Kollega oplysninger'!L440=\"\",\"\",'Kollega oplysninger'!L440)","v":""},null,null,null,null,null,null,null,null,null,null,null,null,null,null,null,null,null,{"$f":"IF(Lokallønsprocenten!Z440=\"\",\"\",Lokallønsprocenten!Z440)","v":""},{"$f":"IF(Lokallønsprocenten!AA440=\"\",\"\",Lokallønsprocenten!AA440)","v":""},null,null,null,null,{"$f":"IF(Lokallønsprocenten!AF440=\"\",\"\",Lokallønsprocenten!AF440)","v":""},null,{"$f":"IF(Lokallønsprocenten!AH440=\"\",\"\",Lokallønsprocenten!AH440)","v":""},null,null,null,"",""]
[null,{"$f":"IF('Kollega oplysninger'!B441=\"\",\"\",'Kollega oplysninger'!B441)","v":""},{"$f":"IF('Kollega oplysninger'!C441=\"\",\"\",'Kollega oplysninger'!C441)","v":""},null,null,{"$f":"IF('Kollega oplysninger'!I441=\"\",\"\",'Kollega oplysninger'!I441)","v":""},{"$f":"IF('Kollega oplysninger'!J441=\"\",\"\",'Kollega oplysninger'!J441)","v":""},{"$f":"IF('Kollega oplysninger'!L441=\"\",\"\",'Kollega oplysninger'!L441)","v":""},null,null,null,null,null,null,null,null,null,null,null,null,null,null,null,null,null,{"$f":"IF(Lokallønsprocenten!Z441=\"\",\"\",Lokallønsprocenten!Z441)","v":""},{"$f":"IF(Lokallønsprocenten!AA441=\"\",\"\",Lokallønsprocenten!AA441)","v":""},null,null,null,null,{"$f":"IF(Lokallønsprocenten!AF441=\"\",\"\",Lokallønsprocenten!AF441)","v":""},null,{"$f":"IF(Lokallønsprocenten!AH441=\"\",\"\",Lokallønsprocenten!AH441)","v":""},null,null,null,"",""]
[null,{"$f":"IF('Kollega oplysninger'!B442=\"\",\"\",'Kollega oplysninger'!B442)","v":""},{"$f":"IF('Kollega oplysninger'!C442=\"\",\"\",'Kollega oplysninger'!C442)","v":""},null,null,{"$f":"IF('Kollega oplysninger'!I442=\"\",\"\",'Kollega oplysninger'!I442)","v":""},{"$f":"IF('Kollega oplysninger'!J442=\"\",\"\",'Kollega oplysninger'!J442)","v":""},{"$f":"IF('Kollega oplysninger'!L442=\"\",\"\",'Kollega oplysninger'!L442)","v":""},null,null,null,null,null,null,null,null,null,null,null,null,null,null,null,null,null,{"$f":"IF(Lokallønsprocenten!Z442=\"\",\"\",Lokallønsprocenten!Z442)","v":""},{"$f":"IF(Lokallønsprocenten!AA442=\"\",\"\",Lokallønsprocenten!AA442)","v":""},null,null,null,null,{"$f":"IF(Lokallønsprocenten!AF442=\"\",\"\",Lokallønsprocenten!AF442)","v":""},null,{"$f":"IF(Lokallønsprocenten!AH442=\"\",\"\",Lokallønsprocenten!AH442)","v":""},null,null,null,"",""]
[null,{"$f":"IF('Kollega oplysninger'!B443=\"\",\"\",'Kollega oplysninger'!B443)","v":""},{"$f":"IF('Kollega oplysninger'!C443=\"\",\"\",'Kollega oplysninger'!C443)","v":""},null,null,{"$f":"IF('Kollega oplysninger'!I443=\"\",\"\",'Kollega oplysninger'!I443)","v":""},{"$f":"IF('Kollega oplysninger'!J443=\"\",\"\",'Kollega oplysninger'!J443)","v":""},{"$f":"IF('Kollega oplysninger'!L443=\"\",\"\",'Kollega oplysninger'!L443)","v":""},null,null,null,null,null,null,null,null,null,null,null,null,null,null,null,null,null,{"$f":"IF(Lokallønsprocenten!Z443=\"\",\"\",Lokallønsprocenten!Z443)","v":""},{"$f":"IF(Lokallønsprocenten!AA443=\"\",\"\",Lokallønsprocenten!AA443)","v":""},null,null,null,null,{"$f":"IF(Lokallønsprocenten!AF443=\"\",\"\",Lokallønsprocenten!AF443)","v":""},null,{"$f":"IF(Lokallønsprocenten!AH443=\"\",\"\",Lokallønsprocenten!AH443)","v":""},null,null,null,"",""]
[null,{"$f":"IF('Kollega oplysninger'!B444=\"\",\"\",'Kollega oplysninger'!B444)","v":""},{"$f":"IF('Kollega oplysninger'!C444=\"\",\"\",'Kollega oplysninger'!C444)","v":""},null,null,{"$f":"IF('Kollega oplysninger'!I444=\"\",\"\",'Kollega oplysninger'!I444)","v":""},{"$f":"IF('Kollega oplysninger'!J444=\"\",\"\",'Kollega oplysninger'!J444)","v":""},{"$f":"IF('Kollega oplysninger'!L444=\"\",\"\",'Kollega oplysninger'!L444)","v":""},null,null,null,null,null,null,null,null,null,null,null,null,null,null,null,null,null,{"$f":"IF(Lokallønsprocenten!Z444=\"\",\"\",Lokallønsprocenten!Z444)","v":""},{"$f":"IF(Lokallønsprocenten!AA444=\"\",\"\",Lokallønsprocenten!AA444)","v":""},null,null,null,null,{"$f":"IF(Lokallønsprocenten!AF444=\"\",\"\",Lokallønsprocenten!AF444)","v":""},null,{"$f":"IF(Lokallønsprocenten!AH444=\"\",\"\",Lokallønsprocenten!AH444)","v":""},null,null,null,"",""]
[null,{"$f":"IF('Kollega oplysninger'!B445=\"\",\"\",'Kollega oplysninger'!B445)","v":""},{"$f":"IF('Kollega oplysninger'!C445=\"\",\"\",'Kollega oplysninger'!C445)","v":""},null,null,{"$f":"IF('Kollega oplysninger'!I445=\"\",\"\",'Kollega oplysninger'!I445)","v":""},{"$f":"IF('Kollega oplysninger'!J445=\"\",\"\",'Kollega oplysninger'!J445)","v":""},{"$f":"IF('Kollega oplysninger'!L445=\"\",\"\",'Kollega oplysninger'!L445)","v":""},null,null,null,null,null,null,null,null,null,null,null,null,null,null,null,null,null,{"$f":"IF(Lokallønsprocenten!Z445=\"\",\"\",Lokallønsprocenten!Z445)","v":""},{"$f":"IF(Lokallønsprocenten!AA445=\"\",\"\",Lokallønsprocenten!AA445)","v":""},null,null,null,null,{"$f":"IF(Lokallønsprocenten!AF445=\"\",\"\",Lokallønsprocenten!AF445)","v":""},null,{"$f":"IF(Lokallønsprocenten!AH445=\"\",\"\",Lokallønsprocenten!AH445)","v":""},null,null,null,"",""]
[null,{"$f":"IF('Kollega oplysninger'!B446=\"\",\"\",'Kollega oplysninger'!B446)","v":""},{"$f":"IF('Kollega oplysninger'!C446=\"\",\"\",'Kollega oplysninger'!C446)","v":""},null,null,{"$f":"IF('Kollega oplysninger'!I446=\"\",\"\",'Kollega oplysninger'!I446)","v":""},{"$f":"IF('Kollega oplysninger'!J446=\"\",\"\",'Kollega oplysninger'!J446)","v":""},{"$f":"IF('Kollega oplysninger'!L446=\"\",\"\",'Kollega oplysninger'!L446)","v":""},null,null,null,null,null,null,null,null,null,null,null,null,null,null,null,null,null,{"$f":"IF(Lokallønsprocenten!Z446=\"\",\"\",Lokallønsprocenten!Z446)","v":""},{"$f":"IF(Lokallønsprocenten!AA446=\"\",\"\",Lokallønsprocenten!AA446)","v":""},null,null,null,null,{"$f":"IF(Lokallønsprocenten!AF446=\"\",\"\",Lokallønsprocenten!AF446)","v":""},null,{"$f":"IF(Lokallønsprocenten!AH446=\"\",\"\",Lokallønsprocenten!AH446)","v":""},null,null,null,"",""]
[null,{"$f":"IF('Kollega oplysninger'!B447=\"\",\"\",'Kollega oplysninger'!B447)","v":""},{"$f":"IF('Kollega oplysninger'!C447=\"\",\"\",'Kollega oplysninger'!C447)","v":""},null,null,{"$f":"IF('Kollega oplysninger'!I447=\"\",\"\",'Kollega oplysninger'!I447)","v":""},{"$f":"IF('Kollega oplysninger'!J447=\"\",\"\",'Kollega oplysninger'!J447)","v":""},{"$f":"IF('Kollega oplysninger'!L447=\"\",\"\",'Kollega oplysninger'!L447)","v":""},null,null,null,null,null,null,null,null,null,null,null,null,null,null,null,null,null,{"$f":"IF(Lokallønsprocenten!Z447=\"\",\"\",Lokallønsprocenten!Z447)","v":""},{"$f":"IF(Lokallønsprocenten!AA447=\"\",\"\",Lokallønsprocenten!AA447)","v":""},null,null,null,null,{"$f":"IF(Lokallønsprocenten!AF447=\"\",\"\",Lokallønsprocenten!AF447)","v":""},null,{"$f":"IF(Lokallønsprocenten!AH447=\"\",\"\",Lokallønsprocenten!AH447)","v":""},null,null,null,"",""]
[null,{"$f":"IF('Kollega oplysninger'!B448=\"\",\"\",'Kollega oplysninger'!B448)","v":""},{"$f":"IF('Kollega oplysninger'!C448=\"\",\"\",'Kollega oplysninger'!C448)","v":""},null,null,{"$f":"IF('Kollega oplysninger'!I448=\"\",\"\",'Kollega oplysninger'!I448)","v":""},{"$f":"IF('Kollega oplysninger'!J448=\"\",\"\",'Kollega oplysninger'!J448)","v":""},{"$f":"IF('Kollega oplysninger'!L448=\"\",\"\",'Kollega oplysninger'!L448)","v":""},null,null,null,null,null,null,null,null,null,null,null,null,null,null,null,null,null,{"$f":"IF(Lokallønsprocenten!Z448=\"\",\"\",Lokallønsprocenten!Z448)","v":""},{"$f":"IF(Lokallønsprocenten!AA448=\"\",\"\",Lokallønsprocenten!AA448)","v":""},null,null,null,null,{"$f":"IF(Lokallønsprocenten!AF448=\"\",\"\",Lokallønsprocenten!AF448)","v":""},null,{"$f":"IF(Lokallønsprocenten!AH448=\"\",\"\",Lokallønsprocenten!AH448)","v":""},null,null,null,"",""]
[null,{"$f":"IF('Kollega oplysninger'!B449=\"\",\"\",'Kollega oplysninger'!B449)","v":""},{"$f":"IF('Kollega oplysninger'!C449=\"\",\"\",'Kollega oplysninger'!C449)","v":""},null,null,{"$f":"IF('Kollega oplysninger'!I449=\"\",\"\",'Kollega oplysninger'!I449)","v":""},{"$f":"IF('Kollega oplysninger'!J449=\"\",\"\",'Kollega oplysninger'!J449)","v":""},{"$f":"IF('Kollega oplysninger'!L449=\"\",\"\",'Kollega oplysninger'!L449)","v":""},null,null,null,null,null,null,null,null,null,null,null,null,null,null,null,null,null,{"$f":"IF(Lokallønsprocenten!Z449=\"\",\"\",Lokallønsprocenten!Z449)","v":""},{"$f":"IF(Lokallønsprocenten!AA449=\"\",\"\",Lokallønsprocenten!AA449)","v":""},null,null,null,null,{"$f":"IF(Lokallønsprocenten!AF449=\"\",\"\",Lokallønsprocenten!AF449)","v":""},null,{"$f":"IF(Lokallønsprocenten!AH449=\"\",\"\",Lokallønsprocenten!AH449)","v":""},null,null,null,"",""]
[null,{"$f":"IF('Kollega oplysninger'!B450=\"\",\"\",'Kollega oplysninger'!B450)","v":""},{"$f":"IF('Kollega oplysninger'!C450=\"\",\"\",'Kollega oplysninger'!C450)","v":""},null,null,{"$f":"IF('Kollega oplysninger'!I450=\"\",\"\",'Kollega oplysninger'!I450)","v":""},{"$f":"IF('Kollega oplysninger'!J450=\"\",\"\",'Kollega oplysninger'!J450)","v":""},{"$f":"IF('Kollega oplysninger'!L450=\"\",\"\",'Kollega oplysninger'!L450)","v":""},null,null,null,null,null,null,null,null,null,null,null,null,null,null,null,null,null,{"$f":"IF(Lokallønsprocenten!Z450=\"\",\"\",Lokallønsprocenten!Z450)","v":""},{"$f":"IF(Lokallønsprocenten!AA450=\"\",\"\",Lokallønsprocenten!AA450)","v":""},null,null,null,null,{"$f":"IF(Lokallønsprocenten!AF450=\"\",\"\",Lokallønsprocenten!AF450)","v":""},null,{"$f":"IF(Lokallønsprocenten!AH450=\"\",\"\",Lokallønsprocenten!AH450)","v":""},null,null,null,"",""]
[null,{"$f":"IF('Kollega oplysninger'!B451=\"\",\"\",'Kollega oplysninger'!B451)","v":""},{"$f":"IF('Kollega oplysninger'!C451=\"\",\"\",'Kollega oplysninger'!C451)","v":""},null,null,{"$f":"IF('Kollega oplysninger'!I451=\"\",\"\",'Kollega oplysninger'!I451)","v":""},{"$f":"IF('Kollega oplysninger'!J451=\"\",\"\",'Kollega oplysninger'!J451)","v":""},{"$f":"IF('Kollega oplysninger'!L451=\"\",\"\",'Kollega oplysninger'!L451)","v":""},null,null,null,null,null,null,null,null,null,null,null,null,null,null,null,null,null,{"$f":"IF(Lokallønsprocenten!Z451=\"\",\"\",Lokallønsprocenten!Z451)","v":""},{"$f":"IF(Lokallønsprocenten!AA451=\"\",\"\",Lokallønsprocenten!AA451)","v":""},null,null,null,null,{"$f":"IF(Lokallønsprocenten!AF451=\"\",\"\",Lokallønsprocenten!AF451)","v":""},null,{"$f":"IF(Lokallønsprocenten!AH451=\"\",\"\",Lokallønsprocenten!AH451)","v":""},null,null,null,"",""]
[null,{"$f":"IF('Kollega oplysninger'!B452=\"\",\"\",'Kollega oplysninger'!B452)","v":""},{"$f":"IF('Kollega oplysninger'!C452=\"\",\"\",'Kollega oplysninger'!C452)","v":""},null,null,{"$f":"IF('Kollega oplysninger'!I452=\"\",\"\",'Kollega oplysninger'!I452)","v":""},{"$f":"IF('Kollega oplysninger'!J452=\"\",\"\",'Kollega oplysninger'!J452)","v":""},{"$f":"IF('Kollega oplysninger'!L452=\"\",\"\",'Kollega oplysninger'!L452)","v":""},null,null,null,null,null,null,null,null,null,null,null,null,null,null,null,null,null,{"$f":"IF(Lokallønsprocenten!Z452=\"\",\"\",Lokallønsprocenten!Z452)","v":""},{"$f":"IF(Lokallønsprocenten!AA452=\"\",\"\",Lokallønsprocenten!AA452)","v":""},null,null,null,null,{"$f":"IF(Lokallønsprocenten!AF452=\"\",\"\",Lokallønsprocenten!AF452)","v":""},null,{"$f":"IF(Lokallønsprocenten!AH452=\"\",\"\",Lokallønsprocenten!AH452)","v":""},null,null,null,"",""]
[null,{"$f":"IF('Kollega oplysninger'!B453=\"\",\"\",'Kollega oplysninger'!B453)","v":""},{"$f":"IF('Kollega oplysninger'!C453=\"\",\"\",'Kollega oplysninger'!C453)","v":""},null,null,{"$f":"IF('Kollega oplysninger'!I453=\"\",\"\",'Kollega oplysninger'!I453)","v":""},{"$f":"IF('Kollega oplysninger'!J453=\"\",\"\",'Kollega oplysninger'!J453)","v":""},{"$f":"IF('Kollega oplysninger'!L453=\"\",\"\",'Kollega oplysninger'!L453)","v":""},null,null,null,null,null,null,null,null,null,null,null,null,null,null,null,null,null,{"$f":"IF(Lokallønsprocenten!Z453=\"\",\"\",Lokallønsprocenten!Z453)","v":""},{"$f":"IF(Lokallønsprocenten!AA453=\"\",\"\",Lokallønsprocenten!AA453)","v":""},null,null,null,null,{"$f":"IF(Lokallønsprocenten!AF453=\"\",\"\",Lokallønsprocenten!AF453)","v":""},null,{"$f":"IF(Lokallønsprocenten!AH453=\"\",\"\",Lokallønsprocenten!AH453)","v":""},null,null,null,"",""]
[null,{"$f":"IF('Kollega oplysninger'!B454=\"\",\"\",'Kollega oplysninger'!B454)","v":""},{"$f":"IF('Kollega oplysninger'!C454=\"\",\"\",'Kollega oplysninger'!C454)","v":""},null,null,{"$f":"IF('Kollega oplysninger'!I454=\"\",\"\",'Kollega oplysninger'!I454)","v":""},{"$f":"IF('Kollega oplysninger'!J454=\"\",\"\",'Kollega oplysninger'!J454)","v":""},{"$f":"IF('Kollega oplysninger'!L454=\"\",\"\",'Kollega oplysninger'!L454)","v":""},null,null,null,null,null,null,null,null,null,null,null,null,null,null,null,null,null,{"$f":"IF(Lokallønsprocenten!Z454=\"\",\"\",Lokallønsprocenten!Z454)","v":""},{"$f":"IF(Lokallønsprocenten!AA454=\"\",\"\",Lokallønsprocenten!AA454)","v":""},null,null,null,null,{"$f":"IF(Lokallønsprocenten!AF454=\"\",\"\",Lokallønsprocenten!AF454)","v":""},null,{"$f":"IF(Lokallønsprocenten!AH454=\"\",\"\",Lokallønsprocenten!AH454)","v":""},null,null,null,"",""]
[null,{"$f":"IF('Kollega oplysninger'!B455=\"\",\"\",'Kollega oplysninger'!B455)","v":""},{"$f":"IF('Kollega oplysninger'!C455=\"\",\"\",'Kollega oplysninger'!C455)","v":""},null,null,{"$f":"IF('Kollega oplysninger'!I455=\"\",\"\",'Kollega oplysninger'!I455)","v":""},{"$f":"IF('Kollega oplysninger'!J455=\"\",\"\",'Kollega oplysninger'!J455)","v":""},{"$f":"IF('Kollega oplysninger'!L455=\"\",\"\",'Kollega oplysninger'!L455)","v":""},null,null,null,null,null,null,null,null,null,null,null,null,null,null,null,null,null,{"$f":"IF(Lokallønsprocenten!Z455=\"\",\"\",Lokallønsprocenten!Z455)","v":""},{"$f":"IF(Lokallønsprocenten!AA455=\"\",\"\",Lokallønsprocenten!AA455)","v":""},null,null,null,null,{"$f":"IF(Lokallønsprocenten!AF455=\"\",\"\",Lokallønsprocenten!AF455)","v":""},null,{"$f":"IF(Lokallønsprocenten!AH455=\"\",\"\",Lokallønsprocenten!AH455)","v":""},null,null,null,{"$f":"IF(Z455=\"fejl\",X455,\"\")","v":""},{"$f":"IF(Z455=\"fejl\",Y455,\"\")","v":""}]
[null,{"$f":"IF('Kollega oplysninger'!B456=\"\",\"\",'Kollega oplysninger'!B456)","v":""},{"$f":"IF('Kollega oplysninger'!C456=\"\",\"\",'Kollega oplysninger'!C456)","v":""},null,null,{"$f":"IF('Kollega oplysninger'!I456=\"\",\"\",'Kollega oplysninger'!I456)","v":""},{"$f":"IF('Kollega oplysninger'!J456=\"\",\"\",'Kollega oplysninger'!J456)","v":""},{"$f":"IF('Kollega oplysninger'!L456=\"\",\"\",'Kollega oplysninger'!L456)","v":""},null,null,null,null,null,null,null,null,null,null,null,null,null,null,null,null,null,{"$f":"IF(Lokallønsprocenten!Z456=\"\",\"\",Lokallønsprocenten!Z456)","v":""},{"$f":"IF(Lokallønsprocenten!AA456=\"\",\"\",Lokallønsprocenten!AA456)","v":""},null,null,null,null,{"$f":"IF(Lokallønsprocenten!AF456=\"\",\"\",Lokallønsprocenten!AF456)","v":""},null,{"$f":"IF(Lokallønsprocenten!AH456=\"\",\"\",Lokallønsprocenten!AH456)","v":""},null,null,null,"",""]
[null,{"$f":"IF('Kollega oplysninger'!B457=\"\",\"\",'Kollega oplysninger'!B457)","v":""},{"$f":"IF('Kollega oplysninger'!C457=\"\",\"\",'Kollega oplysninger'!C457)","v":""},null,null,{"$f":"IF('Kollega oplysninger'!I457=\"\",\"\",'Kollega oplysninger'!I457)","v":""},{"$f":"IF('Kollega oplysninger'!J457=\"\",\"\",'Kollega oplysninger'!J457)","v":""},{"$f":"IF('Kollega oplysninger'!L457=\"\",\"\",'Kollega oplysninger'!L457)","v":""},null,null,null,null,null,null,null,null,null,null,null,null,null,null,null,null,null,{"$f":"IF(Lokallønsprocenten!Z457=\"\",\"\",Lokallønsprocenten!Z457)","v":""},{"$f":"IF(Lokallønsprocenten!AA457=\"\",\"\",Lokallønsprocenten!AA457)","v":""},null,null,null,null,{"$f":"IF(Lokallønsprocenten!AF457=\"\",\"\",Lokallønsprocenten!AF457)","v":""},null,{"$f":"IF(Lokallønsprocenten!AH457=\"\",\"\",Lokallønsprocenten!AH457)","v":""},null,null,null,"",""]
[null,{"$f":"IF('Kollega oplysninger'!B458=\"\",\"\",'Kollega oplysninger'!B458)","v":""},{"$f":"IF('Kollega oplysninger'!C458=\"\",\"\",'Kollega oplysninger'!C458)","v":""},null,null,{"$f":"IF('Kollega oplysninger'!I458=\"\",\"\",'Kollega oplysninger'!I458)","v":""},{"$f":"IF('Kollega oplysninger'!J458=\"\",\"\",'Kollega oplysninger'!J458)","v":""},{"$f":"IF('Kollega oplysninger'!L458=\"\",\"\",'Kollega oplysninger'!L458)","v":""},null,null,null,null,null,null,null,null,null,null,null,null,null,null,null,null,null,{"$f":"IF(Lokallønsprocenten!Z458=\"\",\"\",Lokallønsprocenten!Z458)","v":""},{"$f":"IF(Lokallønsprocenten!AA458=\"\",\"\",Lokallønsprocenten!AA458)","v":""},null,null,null,null,{"$f":"IF(Lokallønsprocenten!AF458=\"\",\"\",Lokallønsprocenten!AF458)","v":""},null,{"$f":"IF(Lokallønsprocenten!AH458=\"\",\"\",Lokallønsprocenten!AH458)","v":""},null,null,null,"",""]
[null,{"$f":"IF('Kollega oplysninger'!B459=\"\",\"\",'Kollega oplysninger'!B459)","v":""},{"$f":"IF('Kollega oplysninger'!C459=\"\",\"\",'Kollega oplysninger'!C459)","v":""},null,null,{"$f":"IF('Kollega oplysninger'!I459=\"\",\"\",'Kollega oplysninger'!I459)","v":""},{"$f":"IF('Kollega oplysninger'!J459=\"\",\"\",'Kollega oplysninger'!J459)","v":""},{"$f":"IF('Kollega oplysninger'!L459=\"\",\"\",'Kollega oplysninger'!L459)","v":""},null,null,null,null,null,null,null,null,null,null,null,null,null,null,null,null,null,{"$f":"IF(Lokallønsprocenten!Z459=\"\",\"\",Lokallønsprocenten!Z459)","v":""},{"$f":"IF(Lokallønsprocenten!AA459=\"\",\"\",Lokallønsprocenten!AA459)","v":""},null,null,null,null,{"$f":"IF(Lokallønsprocenten!AF459=\"\",\"\",Lokallønsprocenten!AF459)","v":""},null,{"$f":"IF(Lokallønsprocenten!AH459=\"\",\"\",Lokallønsprocenten!AH459)","v":""},null,null,null,"",""]
[null,{"$f":"IF('Kollega oplysninger'!B460=\"\",\"\",'Kollega oplysninger'!B460)","v":""},{"$f":"IF('Kollega oplysninger'!C460=\"\",\"\",'Kollega oplysninger'!C460)","v":""},null,null,{"$f":"IF('Kollega oplysninger'!I460=\"\",\"\",'Kollega oplysninger'!I460)","v":""},{"$f":"IF('Kollega oplysninger'!J460=\"\",\"\",'Kollega oplysninger'!J460)","v":""},{"$f":"IF('Kollega oplysninger'!L460=\"\",\"\",'Kollega oplysninger'!L460)","v":""},null,null,null,null,null,null,null,null,null,null,null,null,null,null,null,null,null,{"$f":"IF(Lokallønsprocenten!Z460=\"\",\"\",Lokallønsprocenten!Z460)","v":""},{"$f":"IF(Lokallønsprocenten!AA460=\"\",\"\",Lokallønsprocenten!AA460)","v":""},null,null,null,null,{"$f":"IF(Lokallønsprocenten!AF460=\"\",\"\",Lokallønsprocenten!AF460)","v":""},null,{"$f":"IF(Lokallønsprocenten!AH460=\"\",\"\",Lokallønsprocenten!AH460)","v":""},null,null,null,"",""]
[null,{"$f":"IF('Kollega oplysninger'!B461=\"\",\"\",'Kollega oplysninger'!B461)","v":""},{"$f":"IF('Kollega oplysninger'!C461=\"\",\"\",'Kollega oplysninger'!C461)","v":""},null,null,{"$f":"IF('Kollega oplysninger'!I461=\"\",\"\",'Kollega oplysninger'!I461)","v":""},{"$f":"IF('Kollega oplysninger'!J461=\"\",\"\",'Kollega oplysninger'!J461)","v":""},{"$f":"IF('Kollega oplysninger'!L461=\"\",\"\",'Kollega oplysninger'!L461)","v":""},null,null,null,null,null,null,null,null,null,null,null,null,null,null,null,null,null,{"$f":"IF(Lokallønsprocenten!Z461=\"\",\"\",Lokallønsprocenten!Z461)","v":""},{"$f":"IF(Lokallønsprocenten!AA461=\"\",\"\",Lokallønsprocenten!AA461)","v":""},null,null,null,null,{"$f":"IF(Lokallønsprocenten!AF461=\"\",\"\",Lokallønsprocenten!AF461)","v":""},null,{"$f":"IF(Lokallønsprocenten!AH461=\"\",\"\",Lokallønsprocenten!AH461)","v":""},null,null,null,"",""]
[null,{"$f":"IF('Kollega oplysninger'!B462=\"\",\"\",'Kollega oplysninger'!B462)","v":""},{"$f":"IF('Kollega oplysninger'!C462=\"\",\"\",'Kollega oplysninger'!C462)","v":""},null,null,{"$f":"IF('Kollega oplysninger'!I462=\"\",\"\",'Kollega oplysninger'!I462)","v":""},{"$f":"IF('Kollega oplysninger'!J462=\"\",\"\",'Kollega oplysninger'!J462)","v":""},{"$f":"IF('Kollega oplysninger'!L462=\"\",\"\",'Kollega oplysninger'!L462)","v":""},null,null,null,null,null,null,null,null,null,null,null,null,null,null,null,null,null,{"$f":"IF(Lokallønsprocenten!Z462=\"\",\"\",Lokallønsprocenten!Z462)","v":""},{"$f":"IF(Lokallønsprocenten!AA462=\"\",\"\",Lokallønsprocenten!AA462)","v":""},null,null,null,null,{"$f":"IF(Lokallønsprocenten!AF462=\"\",\"\",Lokallønsprocenten!AF462)","v":""},null,{"$f":"IF(Lokallønsprocenten!AH462=\"\",\"\",Lokallønsprocenten!AH462)","v":""},null,null,null,"",""]
[null,{"$f":"IF('Kollega oplysninger'!B463=\"\",\"\",'Kollega oplysninger'!B463)","v":""},{"$f":"IF('Kollega oplysninger'!C463=\"\",\"\",'Kollega oplysninger'!C463)","v":""},null,null,{"$f":"IF('Kollega oplysninger'!I463=\"\",\"\",'Kollega oplysninger'!I463)","v":""},{"$f":"IF('Kollega oplysninger'!J463=\"\",\"\",'Kollega oplysninger'!J463)","v":""},{"$f":"IF('Kollega oplysninger'!L463=\"\",\"\",'Kollega oplysninger'!L463)","v":""},null,null,null,null,null,null,null,null,null,null,null,null,null,null,null,null,null,{"$f":"IF(Lokallønsprocenten!Z463=\"\",\"\",Lokallønsprocenten!Z463)","v":""},{"$f":"IF(Lokallønsprocenten!AA463=\"\",\"\",Lokallønsprocenten!AA463)","v":""},null,null,null,null,{"$f":"IF(Lokallønsprocenten!AF463=\"\",\"\",Lokallønsprocenten!AF463)","v":""},null,{"$f":"IF(Lokallønsprocenten!AH463=\"\",\"\",Lokallønsprocenten!AH463)","v":""},null,null,null,"",""]
[null,{"$f":"IF('Kollega oplysninger'!B464=\"\",\"\",'Kollega oplysninger'!B464)","v":""},{"$f":"IF('Kollega oplysninger'!C464=\"\",\"\",'Kollega oplysninger'!C464)","v":""},null,null,{"$f":"IF('Kollega oplysninger'!I464=\"\",\"\",'Kollega oplysninger'!I464)","v":""},{"$f":"IF('Kollega oplysninger'!J464=\"\",\"\",'Kollega oplysninger'!J464)","v":""},{"$f":"IF('Kollega oplysninger'!L464=\"\",\"\",'Kollega oplysninger'!L464)","v":""},null,null,null,null,null,null,null,null,null,null,null,null,null,null,null,null,null,{"$f":"IF(Lokallønsprocenten!Z464=\"\",\"\",Lokallønsprocenten!Z464)","v":""},{"$f":"IF(Lokallønsprocenten!AA464=\"\",\"\",Lokallønsprocenten!AA464)","v":""},null,null,null,null,{"$f":"IF(Lokallønsprocenten!AF464=\"\",\"\",Lokallønsprocenten!AF464)","v":""},null,{"$f":"IF(Lokallønsprocenten!AH464=\"\",\"\",Lokallønsprocenten!AH464)","v":""},null,null,null,"",""]
[null,{"$f":"IF('Kollega oplysninger'!B465=\"\",\"\",'Kollega oplysninger'!B465)","v":""},{"$f":"IF('Kollega oplysninger'!C465=\"\",\"\",'Kollega oplysninger'!C465)","v":""},null,null,{"$f":"IF('Kollega oplysninger'!I465=\"\",\"\",'Kollega oplysninger'!I465)","v":""},{"$f":"IF('Kollega oplysninger'!J465=\"\",\"\",'Kollega oplysninger'!J465)","v":""},{"$f":"IF('Kollega oplysninger'!L465=\"\",\"\",'Kollega oplysninger'!L465)","v":""},null,null,null,null,null,null,null,null,null,null,null,null,null,null,null,null,null,{"$f":"IF(Lokallønsprocenten!Z465=\"\",\"\",Lokallønsprocenten!Z465)","v":""},{"$f":"IF(Lokallønsprocenten!AA465=\"\",\"\",Lokallønsprocenten!AA465)","v":""},null,null,null,null,{"$f":"IF(Lokallønsprocenten!AF465=\"\",\"\",Lokallønsprocenten!AF465)","v":""},null,{"$f":"IF(Lokallønsprocenten!AH465=\"\",\"\",Lokallønsprocenten!AH465)","v":""},null,null,null,"",""]
[null,{"$f":"IF('Kollega oplysninger'!B466=\"\",\"\",'Kollega oplysninger'!B466)","v":""},{"$f":"IF('Kollega oplysninger'!C466=\"\",\"\",'Kollega oplysninger'!C466)","v":""},null,null,{"$f":"IF('Kollega oplysninger'!I466=\"\",\"\",'Kollega oplysninger'!I466)","v":""},{"$f":"IF('Kollega oplysninger'!J466=\"\",\"\",'Kollega oplysninger'!J466)","v":""},{"$f":"IF('Kollega oplysninger'!L466=\"\",\"\",'Kollega oplysninger'!L466)","v":""},null,null,null,null,null,null,null,null,null,null,null,null,null,null,null,null,null,{"$f":"IF(Lokallønsprocenten!Z466=\"\",\"\",Lokallønsprocenten!Z466)","v":""},{"$f":"IF(Lokallønsprocenten!AA466=\"\",\"\",Lokallønsprocenten!AA466)","v":""},null,null,null,null,{"$f":"IF(Lokallønsprocenten!AF466=\"\",\"\",Lokallønsprocenten!AF466)","v":""},null,{"$f":"IF(Lokallønsprocenten!AH466=\"\",\"\",Lokallønsprocenten!AH466)","v":""},null,null,null,"",""]
[null,{"$f":"IF('Kollega oplysninger'!B467=\"\",\"\",'Kollega oplysninger'!B467)","v":""},{"$f":"IF('Kollega oplysninger'!C467=\"\",\"\",'Kollega oplysninger'!C467)","v":""},null,null,{"$f":"IF('Kollega oplysninger'!I467=\"\",\"\",'Kollega oplysninger'!I467)","v":""},{"$f":"IF('Kollega oplysninger'!J467=\"\",\"\",'Kollega oplysninger'!J467)","v":""},{"$f":"IF('Kollega oplysninger'!L467=\"\",\"\",'Kollega oplysninger'!L467)","v":""},null,null,null,null,null,null,null,null,null,null,null,null,null,null,null,null,null,{"$f":"IF(Lokallønsprocenten!Z467=\"\",\"\",Lokallønsprocenten!Z467)","v":""},{"$f":"IF(Lokallønsprocenten!AA467=\"\",\"\",Lokallønsprocenten!AA467)","v":""},null,null,null,null,{"$f":"IF(Lokallønsprocenten!AF467=\"\",\"\",Lokallønsprocenten!AF467)","v":""},null,{"$f":"IF(Lokallønsprocenten!AH467=\"\",\"\",Lokallønsprocenten!AH467)","v":""},null,null,null,"",""]
[null,{"$f":"IF('Kollega oplysninger'!B468=\"\",\"\",'Kollega oplysninger'!B468)","v":""},{"$f":"IF('Kollega oplysninger'!C468=\"\",\"\",'Kollega oplysninger'!C468)","v":""},null,null,{"$f":"IF('Kollega oplysninger'!I468=\"\",\"\",'Kollega oplysninger'!I468)","v":""},{"$f":"IF('Kollega oplysninger'!J468=\"\",\"\",'Kollega oplysninger'!J468)","v":""},{"$f":"IF('Kollega oplysninger'!L468=\"\",\"\",'Kollega oplysninger'!L468)","v":""},null,null,null,null,null,null,null,null,null,null,null,null,null,null,null,null,null,{"$f":"IF(Lokallønsprocenten!Z468=\"\",\"\",Lokallønsprocenten!Z468)","v":""},{"$f":"IF(Lokallønsprocenten!AA468=\"\",\"\",Lokallønsprocenten!AA468)","v":""},null,null,null,null,{"$f":"IF(Lokallønsprocenten!AF468=\"\",\"\",Lokallønsprocenten!AF468)","v":""},null,{"$f":"IF(Lokallønsprocenten!AH468=\"\",\"\",Lokallønsprocenten!AH468)","v":""},null,null,null,"",""]
[null,{"$f":"IF('Kollega oplysninger'!B469=\"\",\"\",'Kollega oplysninger'!B469)","v":""},{"$f":"IF('Kollega oplysninger'!C469=\"\",\"\",'Kollega oplysninger'!C469)","v":""},null,null,{"$f":"IF('Kollega oplysninger'!I469=\"\",\"\",'Kollega oplysninger'!I469)","v":""},{"$f":"IF('Kollega oplysninger'!J469=\"\",\"\",'Kollega oplysninger'!J469)","v":""},{"$f":"IF('Kollega oplysninger'!L469=\"\",\"\",'Kollega oplysninger'!L469)","v":""},null,null,null,null,null,null,null,null,null,null,null,null,null,null,null,null,null,{"$f":"IF(Lokallønsprocenten!Z469=\"\",\"\",Lokallønsprocenten!Z469)","v":""},{"$f":"IF(Lokallønsprocenten!AA469=\"\",\"\",Lokallønsprocenten!AA469)","v":""},null,null,null,null,{"$f":"IF(Lokallønsprocenten!AF469=\"\",\"\",Lokallønsprocenten!AF469)","v":""},null,{"$f":"IF(Lokallønsprocenten!AH469=\"\",\"\",Lokallønsprocenten!AH469)","v":""},null,null,null,"",""]
[null,{"$f":"IF('Kollega oplysninger'!B470=\"\",\"\",'Kollega oplysninger'!B470)","v":""},{"$f":"IF('Kollega oplysninger'!C470=\"\",\"\",'Kollega oplysninger'!C470)","v":""},null,null,{"$f":"IF('Kollega oplysninger'!I470=\"\",\"\",'Kollega oplysninger'!I470)","v":""},{"$f":"IF('Kollega oplysninger'!J470=\"\",\"\",'Kollega oplysninger'!J470)","v":""},{"$f":"IF('Kollega oplysninger'!L470=\"\",\"\",'Kollega oplysninger'!L470)","v":""},null,null,null,null,null,null,null,null,null,null,null,null,null,null,null,null,null,{"$f":"IF(Lokallønsprocenten!Z470=\"\",\"\",Lokallønsprocenten!Z470)","v":""},{"$f":"IF(Lokallønsprocenten!AA470=\"\",\"\",Lokallønsprocenten!AA470)","v":""},null,null,null,null,{"$f":"IF(Lokallønsprocenten!AF470=\"\",\"\",Lokallønsprocenten!AF470)","v":""},null,{"$f":"IF(Lokallønsprocenten!AH470=\"\",\"\",Lokallønsprocenten!AH470)","v":""},null,null,null,"",""]
[null,{"$f":"IF('Kollega oplysninger'!B471=\"\",\"\",'Kollega oplysninger'!B471)","v":""},{"$f":"IF('Kollega oplysninger'!C471=\"\",\"\",'Kollega oplysninger'!C471)","v":""},null,null,{"$f":"IF('Kollega oplysninger'!I471=\"\",\"\",'Kollega oplysninger'!I471)","v":""},{"$f":"IF('Kollega oplysninger'!J471=\"\",\"\",'Kollega oplysninger'!J471)","v":""},{"$f":"IF('Kollega oplysninger'!L471=\"\",\"\",'Kollega oplysninger'!L471)","v":""},null,null,null,null,null,null,null,null,null,null,null,null,null,null,null,null,null,{"$f":"IF(Lokallønsprocenten!Z471=\"\",\"\",Lokallønsprocenten!Z471)","v":""},{"$f":"IF(Lokallønsprocenten!AA471=\"\",\"\",Lokallønsprocenten!AA471)","v":""},null,null,null,null,{"$f":"IF(Lokallønsprocenten!AF471=\"\",\"\",Lokallønsprocenten!AF471)","v":""},null,{"$f":"IF(Lokallønsprocenten!AH471=\"\",\"\",Lokallønsprocenten!AH471)","v":""},null,null,null,"",""]
[null,{"$f":"IF('Kollega oplysninger'!B472=\"\",\"\",'Kollega oplysninger'!B472)","v":""},{"$f":"IF('Kollega oplysninger'!C472=\"\",\"\",'Kollega oplysninger'!C472)","v":""},null,null,{"$f":"IF('Kollega oplysninger'!I472=\"\",\"\",'Kollega oplysninger'!I472)","v":""},{"$f":"IF('Kollega oplysninger'!J472=\"\",\"\",'Kollega oplysninger'!J472)","v":""},{"$f":"IF('Kollega oplysninger'!L472=\"\",\"\",'Kollega oplysninger'!L472)","v":""},null,null,null,null,null,null,null,null,null,null,null,null,null,null,null,null,null,{"$f":"IF(Lokallønsprocenten!Z472=\"\",\"\",Lokallønsprocenten!Z472)","v":""},{"$f":"IF(Lokallønsprocenten!AA472=\"\",\"\",Lokallønsprocenten!AA472)","v":""},null,null,null,null,{"$f":"IF(Lokallønsprocenten!AF472=\"\",\"\",Lokallønsprocenten!AF472)","v":""},null,{"$f":"IF(Lokallønsprocenten!AH472=\"\",\"\",Lokallønsprocenten!AH472)","v":""},null,null,null,"",""]
[null,{"$f":"IF('Kollega oplysninger'!B473=\"\",\"\",'Kollega oplysninger'!B473)","v":""},{"$f":"IF('Kollega oplysninger'!C473=\"\",\"\",'Kollega oplysninger'!C473)","v":""},null,null,{"$f":"IF('Kollega oplysninger'!I473=\"\",\"\",'Kollega oplysninger'!I473)","v":""},{"$f":"IF('Kollega oplysninger'!J473=\"\",\"\",'Kollega oplysninger'!J473)","v":""},{"$f":"IF('Kollega oplysninger'!L473=\"\",\"\",'Kollega oplysninger'!L473)","v":""},null,null,null,null,null,null,null,null,null,null,null,null,null,null,null,null,null,{"$f":"IF(Lokallønsprocenten!Z473=\"\",\"\",Lokallønsprocenten!Z473)","v":""},{"$f":"IF(Lokallønsprocenten!AA473=\"\",\"\",Lokallønsprocenten!AA473)","v":""},null,null,null,null,{"$f":"IF(Lokallønsprocenten!AF473=\"\",\"\",Lokallønsprocenten!AF473)","v":""},null,{"$f":"IF(Lokallønsprocenten!AH473=\"\",\"\",Lokallønsprocenten!AH473)","v":""},null,null,null,"",""]
[null,{"$f":"IF('Kollega oplysninger'!B474=\"\",\"\",'Kollega oplysninger'!B474)","v":""},{"$f":"IF('Kollega oplysninger'!C474=\"\",\"\",'Kollega oplysninger'!C474)","v":""},null,null,{"$f":"IF('Kollega oplysninger'!I474=\"\",\"\",'Kollega oplysninger'!I474)","v":""},{"$f":"IF('Kollega oplysninger'!J474=\"\",\"\",'Kollega oplysninger'!J474)","v":""},{"$f":"IF('Kollega oplysninger'!L474=\"\",\"\",'Kollega oplysninger'!L474)","v":""},null,null,null,null,null,null,null,null,null,null,null,null,null,null,null,null,null,{"$f":"IF(Lokallønsprocenten!Z474=\"\",\"\",Lokallønsprocenten!Z474)","v":""},{"$f":"IF(Lokallønsprocenten!AA474=\"\",\"\",Lokallønsprocenten!AA474)","v":""},null,null,null,null,{"$f":"IF(Lokallønsprocenten!AF474=\"\",\"\",Lokallønsprocenten!AF474)","v":""},null,{"$f":"IF(Lokallønsprocenten!AH474=\"\",\"\",Lokallønsprocenten!AH474)","v":""},null,null,null,"",""]
[null,{"$f":"IF('Kollega oplysninger'!B475=\"\",\"\",'Kollega oplysninger'!B475)","v":""},{"$f":"IF('Kollega oplysninger'!C475=\"\",\"\",'Kollega oplysninger'!C475)","v":""},null,null,{"$f":"IF('Kollega oplysninger'!I475=\"\",\"\",'Kollega oplysninger'!I475)","v":""},{"$f":"IF('Kollega oplysninger'!J475=\"\",\"\",'Kollega oplysninger'!J475)","v":""},{"$f":"IF('Kollega oplysninger'!L475=\"\",\"\",'Kollega oplysninger'!L475)","v":""},null,null,null,null,null,null,null,null,null,null,null,null,null,null,null,null,null,{"$f":"IF(Lokallønsprocenten!Z475=\"\",\"\",Lokallønsprocenten!Z475)","v":""},{"$f":"IF(Lokallønsprocenten!AA475=\"\",\"\",Lokallønsprocenten!AA475)","v":""},null,null,null,null,{"$f":"IF(Lokallønsprocenten!AF475=\"\",\"\",Lokallønsprocenten!AF475)","v":""},null,{"$f":"IF(Lokallønsprocenten!AH475=\"\",\"\",Lokallønsprocenten!AH475)","v":""},null,null,null,"",""]
[null,{"$f":"IF('Kollega oplysninger'!B476=\"\",\"\",'Kollega oplysninger'!B476)","v":""},{"$f":"IF('Kollega oplysninger'!C476=\"\",\"\",'Kollega oplysninger'!C476)","v":""},null,null,{"$f":"IF('Kollega oplysninger'!I476=\"\",\"\",'Kollega oplysninger'!I476)","v":""},{"$f":"IF('Kollega oplysninger'!J476=\"\",\"\",'Kollega oplysninger'!J476)","v":""},{"$f":"IF('Kollega oplysninger'!L476=\"\",\"\",'Kollega oplysninger'!L476)","v":""},null,null,null,null,null,null,null,null,null,null,null,null,null,null,null,null,null,{"$f":"IF(Lokallønsprocenten!Z476=\"\",\"\",Lokallønsprocenten!Z476)","v":""},{"$f":"IF(Lokallønsprocenten!AA476=\"\",\"\",Lokallønsprocenten!AA476)","v":""},null,null,null,null,{"$f":"IF(Lokallønsprocenten!AF476=\"\",\"\",Lokallønsprocenten!AF476)","v":""},null,{"$f":"IF(Lokallønsprocenten!AH476=\"\",\"\",Lokallønsprocenten!AH476)","v":""},null,null,null,"",""]
[null,{"$f":"IF('Kollega oplysninger'!B477=\"\",\"\",'Kollega oplysninger'!B477)","v":""},{"$f":"IF('Kollega oplysninger'!C477=\"\",\"\",'Kollega oplysninger'!C477)","v":""},null,null,{"$f":"IF('Kollega oplysninger'!I477=\"\",\"\",'Kollega oplysninger'!I477)","v":""},{"$f":"IF('Kollega oplysninger'!J477=\"\",\"\",'Kollega oplysninger'!J477)","v":""},{"$f":"IF('Kollega oplysninger'!L477=\"\",\"\",'Kollega oplysninger'!L477)","v":""},null,null,null,null,null,null,null,null,null,null,null,null,null,null,null,null,null,{"$f":"IF(Lokallønsprocenten!Z477=\"\",\"\",Lokallønsprocenten!Z477)","v":""},{"$f":"IF(Lokallønsprocenten!AA477=\"\",\"\",Lokallønsprocenten!AA477)","v":""},null,null,null,null,{"$f":"IF(Lokallønsprocenten!AF477=\"\",\"\",Lokallønsprocenten!AF477)","v":""},null,{"$f":"IF(Lokallønsprocenten!AH477=\"\",\"\",Lokallønsprocenten!AH477)","v":""},null,null,null,"",""]
[null,{"$f":"IF('Kollega oplysninger'!B478=\"\",\"\",'Kollega oplysninger'!B478)","v":""},{"$f":"IF('Kollega oplysninger'!C478=\"\",\"\",'Kollega oplysninger'!C478)","v":""},null,null,{"$f":"IF('Kollega oplysninger'!I478=\"\",\"\",'Kollega oplysninger'!I478)","v":""},{"$f":"IF('Kollega oplysninger'!J478=\"\",\"\",'Kollega oplysninger'!J478)","v":""},{"$f":"IF('Kollega oplysninger'!L478=\"\",\"\",'Kollega oplysninger'!L478)","v":""},null,null,null,null,null,null,null,null,null,null,null,null,null,null,null,null,null,{"$f":"IF(Lokallønsprocenten!Z478=\"\",\"\",Lokallønsprocenten!Z478)","v":""},{"$f":"IF(Lokallønsprocenten!AA478=\"\",\"\",Lokallønsprocenten!AA478)","v":""},null,null,null,null,{"$f":"IF(Lokallønsprocenten!AF478=\"\",\"\",Lokallønsprocenten!AF478)","v":""},null,{"$f":"IF(Lokallønsprocenten!AH478=\"\",\"\",Lokallønsprocenten!AH478)","v":""},null,null,null,"",""]
[null,{"$f":"IF('Kollega oplysninger'!B479=\"\",\"\",'Kollega oplysninger'!B479)","v":""},{"$f":"IF('Kollega oplysninger'!C479=\"\",\"\",'Kollega oplysninger'!C479)","v":""},null,null,{"$f":"IF('Kollega oplysninger'!I479=\"\",\"\",'Kollega oplysninger'!I479)","v":""},{"$f":"IF('Kollega oplysninger'!J479=\"\",\"\",'Kollega oplysninger'!J479)","v":""},{"$f":"IF('Kollega oplysninger'!L479=\"\",\"\",'Kollega oplysninger'!L479)","v":""},null,null,null,null,null,null,null,null,null,null,null,null,null,null,null,null,null,{"$f":"IF(Lokallønsprocenten!Z479=\"\",\"\",Lokallønsprocenten!Z479)","v":""},{"$f":"IF(Lokallønsprocenten!AA479=\"\",\"\",Lokallønsprocenten!AA479)","v":""},null,null,null,null,{"$f":"IF(Lokallønsprocenten!AF479=\"\",\"\",Lokallønsprocenten!AF479)","v":""},null,{"$f":"IF(Lokallønsprocenten!AH479=\"\",\"\",Lokallønsprocenten!AH479)","v":""},null,null,null,"",""]
[null,{"$f":"IF('Kollega oplysninger'!B480=\"\",\"\",'Kollega oplysninger'!B480)","v":""},{"$f":"IF('Kollega oplysninger'!C480=\"\",\"\",'Kollega oplysninger'!C480)","v":""},null,null,{"$f":"IF('Kollega oplysninger'!I480=\"\",\"\",'Kollega oplysninger'!I480)","v":""},{"$f":"IF('Kollega oplysninger'!J480=\"\",\"\",'Kollega oplysninger'!J480)","v":""},{"$f":"IF('Kollega oplysninger'!L480=\"\",\"\",'Kollega oplysninger'!L480)","v":""},null,null,null,null,null,null,null,null,null,null,null,null,null,null,null,null,null,{"$f":"IF(Lokallønsprocenten!Z480=\"\",\"\",Lokallønsprocenten!Z480)","v":""},{"$f":"IF(Lokallønsprocenten!AA480=\"\",\"\",Lokallønsprocenten!AA480)","v":""},null,null,null,null,{"$f":"IF(Lokallønsprocenten!AF480=\"\",\"\",Lokallønsprocenten!AF480)","v":""},null,{"$f":"IF(Lokallønsprocenten!AH480=\"\",\"\",Lokallønsprocenten!AH480)","v":""},null,null,null,"",""]
[null,{"$f":"IF('Kollega oplysninger'!B481=\"\",\"\",'Kollega oplysninger'!B481)","v":""},{"$f":"IF('Kollega oplysninger'!C481=\"\",\"\",'Kollega oplysninger'!C481)","v":""},null,null,{"$f":"IF('Kollega oplysninger'!I481=\"\",\"\",'Kollega oplysninger'!I481)","v":""},{"$f":"IF('Kollega oplysninger'!J481=\"\",\"\",'Kollega oplysninger'!J481)","v":""},{"$f":"IF('Kollega oplysninger'!L481=\"\",\"\",'Kollega oplysninger'!L481)","v":""},null,null,null,null,null,null,null,null,null,null,null,null,null,null,null,null,null,{"$f":"IF(Lokallønsprocenten!Z481=\"\",\"\",Lokallønsprocenten!Z481)","v":""},{"$f":"IF(Lokallønsprocenten!AA481=\"\",\"\",Lokallønsprocenten!AA481)","v":""},null,null,null,null,{"$f":"IF(Lokallønsprocenten!AF481=\"\",\"\",Lokallønsprocenten!AF481)","v":""},null,{"$f":"IF(Lokallønsprocenten!AH481=\"\",\"\",Lokallønsprocenten!AH481)","v":""},null,null,null,"",""]
[null,{"$f":"IF('Kollega oplysninger'!B482=\"\",\"\",'Kollega oplysninger'!B482)","v":""},{"$f":"IF('Kollega oplysninger'!C482=\"\",\"\",'Kollega oplysninger'!C482)","v":""},null,null,{"$f":"IF('Kollega oplysninger'!I482=\"\",\"\",'Kollega oplysninger'!I482)","v":""},{"$f":"IF('Kollega oplysninger'!J482=\"\",\"\",'Kollega oplysninger'!J482)","v":""},{"$f":"IF('Kollega oplysninger'!L482=\"\",\"\",'Kollega oplysninger'!L482)","v":""},null,null,null,null,null,null,null,null,null,null,null,null,null,null,null,null,null,{"$f":"IF(Lokallønsprocenten!Z482=\"\",\"\",Lokallønsprocenten!Z482)","v":""},{"$f":"IF(Lokallønsprocenten!AA482=\"\",\"\",Lokallønsprocenten!AA482)","v":""},null,null,null,null,{"$f":"IF(Lokallønsprocenten!AF482=\"\",\"\",Lokallønsprocenten!AF482)","v":""},null,{"$f":"IF(Lokallønsprocenten!AH482=\"\",\"\",Lokallønsprocenten!AH482)","v":""},null,null,null,"",""]
[null,{"$f":"IF('Kollega oplysninger'!B483=\"\",\"\",'Kollega oplysninger'!B483)","v":""},{"$f":"IF('Kollega oplysninger'!C483=\"\",\"\",'Kollega oplysninger'!C483)","v":""},null,null,{"$f":"IF('Kollega oplysninger'!I483=\"\",\"\",'Kollega oplysninger'!I483)","v":""},{"$f":"IF('Kollega oplysninger'!J483=\"\",\"\",'Kollega oplysninger'!J483)","v":""},{"$f":"IF('Kollega oplysninger'!L483=\"\",\"\",'Kollega oplysninger'!L483)","v":""},null,null,null,null,null,null,null,null,null,null,null,null,null,null,null,null,null,{"$f":"IF(Lokallønsprocenten!Z483=\"\",\"\",Lokallønsprocenten!Z483)","v":""},{"$f":"IF(Lokallønsprocenten!AA483=\"\",\"\",Lokallønsprocenten!AA483)","v":""},null,null,null,null,{"$f":"IF(Lokallønsprocenten!AF483=\"\",\"\",Lokallønsprocenten!AF483)","v":""},null,{"$f":"IF(Lokallønsprocenten!AH483=\"\",\"\",Lokallønsprocenten!AH483)","v":""},null,null,null,"",""]
[null,{"$f":"IF('Kollega oplysninger'!B484=\"\",\"\",'Kollega oplysninger'!B484)","v":""},{"$f":"IF('Kollega oplysninger'!C484=\"\",\"\",'Kollega oplysninger'!C484)","v":""},null,null,{"$f":"IF('Kollega oplysninger'!I484=\"\",\"\",'Kollega oplysninger'!I484)","v":""},{"$f":"IF('Kollega oplysninger'!J484=\"\",\"\",'Kollega oplysninger'!J484)","v":""},{"$f":"IF('Kollega oplysninger'!L484=\"\",\"\",'Kollega oplysninger'!L484)","v":""},null,null,null,null,null,null,null,null,null,null,null,null,null,null,null,null,null,{"$f":"IF(Lokallønsprocenten!Z484=\"\",\"\",Lokallønsprocenten!Z484)","v":""},{"$f":"IF(Lokallønsprocenten!AA484=\"\",\"\",Lokallønsprocenten!AA484)","v":""},null,null,null,null,{"$f":"IF(Lokallønsprocenten!AF484=\"\",\"\",Lokallønsprocenten!AF484)","v":""},null,{"$f":"IF(Lokallønsprocenten!AH484=\"\",\"\",Lokallønsprocenten!AH484)","v":""},null,null,null,"",""]
[null,{"$f":"IF('Kollega oplysninger'!B485=\"\",\"\",'Kollega oplysninger'!B485)","v":""},{"$f":"IF('Kollega oplysninger'!C485=\"\",\"\",'Kollega oplysninger'!C485)","v":""},null,null,{"$f":"IF('Kollega oplysninger'!I485=\"\",\"\",'Kollega oplysninger'!I485)","v":""},{"$f":"IF('Kollega oplysninger'!J485=\"\",\"\",'Kollega oplysninger'!J485)","v":""},{"$f":"IF('Kollega oplysninger'!L485=\"\",\"\",'Kollega oplysninger'!L485)","v":""},null,null,null,null,null,null,null,null,null,null,null,null,null,null,null,null,null,{"$f":"IF(Lokallønsprocenten!Z485=\"\",\"\",Lokallønsprocenten!Z485)","v":""},{"$f":"IF(Lokallønsprocenten!AA485=\"\",\"\",Lokallønsprocenten!AA485)","v":""},null,null,null,null,{"$f":"IF(Lokallønsprocenten!AF485=\"\",\"\",Lokallønsprocenten!AF485)","v":""},null,{"$f":"IF(Lokallønsprocenten!AH485=\"\",\"\",Lokallønsprocenten!AH485)","v":""},null,null,null,"",""]
[null,{"$f":"IF('Kollega oplysninger'!B486=\"\",\"\",'Kollega oplysninger'!B486)","v":""},{"$f":"IF('Kollega oplysninger'!C486=\"\",\"\",'Kollega oplysninger'!C486)","v":""},null,null,{"$f":"IF('Kollega oplysninger'!I486=\"\",\"\",'Kollega oplysninger'!I486)","v":""},{"$f":"IF('Kollega oplysninger'!J486=\"\",\"\",'Kollega oplysninger'!J486)","v":""},{"$f":"IF('Kollega oplysninger'!L486=\"\",\"\",'Kollega oplysninger'!L486)","v":""},null,null,null,null,null,null,null,null,null,null,null,null,null,null,null,null,null,{"$f":"IF(Lokallønsprocenten!Z486=\"\",\"\",Lokallønsprocenten!Z486)","v":""},{"$f":"IF(Lokallønsprocenten!AA486=\"\",\"\",Lokallønsprocenten!AA486)","v":""},null,null,null,null,{"$f":"IF(Lokallønsprocenten!AF486=\"\",\"\",Lokallønsprocenten!AF486)","v":""},null,{"$f":"IF(Lokallønsprocenten!AH486=\"\",\"\",Lokallønsprocenten!AH486)","v":""},null,null,null,"",""]
[null,{"$f":"IF('Kollega oplysninger'!B487=\"\",\"\",'Kollega oplysninger'!B487)","v":""},{"$f":"IF('Kollega oplysninger'!C487=\"\",\"\",'Kollega oplysninger'!C487)","v":""},null,null,{"$f":"IF('Kollega oplysninger'!I487=\"\",\"\",'Kollega oplysninger'!I487)","v":""},{"$f":"IF('Kollega oplysninger'!J487=\"\",\"\",'Kollega oplysninger'!J487)","v":""},{"$f":"IF('Kollega oplysninger'!L487=\"\",\"\",'Kollega oplysninger'!L487)","v":""},null,null,null,null,null,null,null,null,null,null,null,null,null,null,null,null,null,{"$f":"IF(Lokallønsprocenten!Z487=\"\",\"\",Lokallønsprocenten!Z487)","v":""},{"$f":"IF(Lokallønsprocenten!AA487=\"\",\"\",Lokallønsprocenten!AA487)","v":""},null,null,null,null,{"$f":"IF(Lokallønsprocenten!AF487=\"\",\"\",Lokallønsprocenten!AF487)","v":""},null,{"$f":"IF(Lokallønsprocenten!AH487=\"\",\"\",Lokallønsprocenten!AH487)","v":""},null,null,null,"",""]
[null,{"$f":"IF('Kollega oplysninger'!B488=\"\",\"\",'Kollega oplysninger'!B488)","v":""},{"$f":"IF('Kollega oplysninger'!C488=\"\",\"\",'Kollega oplysninger'!C488)","v":""},null,null,{"$f":"IF('Kollega oplysninger'!I488=\"\",\"\",'Kollega oplysninger'!I488)","v":""},{"$f":"IF('Kollega oplysninger'!J488=\"\",\"\",'Kollega oplysninger'!J488)","v":""},{"$f":"IF('Kollega oplysninger'!L488=\"\",\"\",'Kollega oplysninger'!L488)","v":""},null,null,null,null,null,null,null,null,null,null,null,null,null,null,null,null,null,{"$f":"IF(Lokallønsprocenten!Z488=\"\",\"\",Lokallønsprocenten!Z488)","v":""},{"$f":"IF(Lokallønsprocenten!AA488=\"\",\"\",Lokallønsprocenten!AA488)","v":""},null,null,null,null,{"$f":"IF(Lokallønsprocenten!AF488=\"\",\"\",Lokallønsprocenten!AF488)","v":""},null,{"$f":"IF(Lokallønsprocenten!AH488=\"\",\"\",Lokallønsprocenten!AH488)","v":""},null,null,null,"",""]
[null,{"$f":"IF('Kollega oplysninger'!B489=\"\",\"\",'Kollega oplysninger'!B489)","v":""},{"$f":"IF('Kollega oplysninger'!C489=\"\",\"\",'Kollega oplysninger'!C489)","v":""},null,null,{"$f":"IF('Kollega oplysninger'!I489=\"\",\"\",'Kollega oplysninger'!I489)","v":""},{"$f":"IF('Kollega oplysninger'!J489=\"\",\"\",'Kollega oplysninger'!J489)","v":""},{"$f":"IF('Kollega oplysninger'!L489=\"\",\"\",'Kollega oplysninger'!L489)","v":""},null,null,null,null,null,null,null,null,null,null,null,null,null,null,null,null,null,{"$f":"IF(Lokallønsprocenten!Z489=\"\",\"\",Lokallønsprocenten!Z489)","v":""},{"$f":"IF(Lokallønsprocenten!AA489=\"\",\"\",Lokallønsprocenten!AA489)","v":""},null,null,null,null,{"$f":"IF(Lokallønsprocenten!AF489=\"\",\"\",Lokallønsprocenten!AF489)","v":""},null,{"$f":"IF(Lokallønsprocenten!AH489=\"\",\"\",Lokallønsprocenten!AH489)","v":""},null,null,null,"",""]
[null,{"$f":"IF('Kollega oplysninger'!B490=\"\",\"\",'Kollega oplysninger'!B490)","v":""},{"$f":"IF('Kollega oplysninger'!C490=\"\",\"\",'Kollega oplysninger'!C490)","v":""},null,null,{"$f":"IF('Kollega oplysninger'!I490=\"\",\"\",'Kollega oplysninger'!I490)","v":""},{"$f":"IF('Kollega oplysninger'!J490=\"\",\"\",'Kollega oplysninger'!J490)","v":""},{"$f":"IF('Kollega oplysninger'!L490=\"\",\"\",'Kollega oplysninger'!L490)","v":""},null,null,null,null,null,null,null,null,null,null,null,null,null,null,null,null,null,{"$f":"IF(Lokallønsprocenten!Z490=\"\",\"\",Lokallønsprocenten!Z490)","v":""},{"$f":"IF(Lokallønsprocenten!AA490=\"\",\"\",Lokallønsprocenten!AA490)","v":""},null,null,null,null,{"$f":"IF(Lokallønsprocenten!AF490=\"\",\"\",Lokallønsprocenten!AF490)","v":""},null,{"$f":"IF(Lokallønsprocenten!AH490=\"\",\"\",Lokallønsprocenten!AH490)","v":""},null,null,null,"",""]
[null,{"$f":"IF('Kollega oplysninger'!B491=\"\",\"\",'Kollega oplysninger'!B491)","v":""},{"$f":"IF('Kollega oplysninger'!C491=\"\",\"\",'Kollega oplysninger'!C491)","v":""},null,null,{"$f":"IF('Kollega oplysninger'!I491=\"\",\"\",'Kollega oplysninger'!I491)","v":""},{"$f":"IF('Kollega oplysninger'!J491=\"\",\"\",'Kollega oplysninger'!J491)","v":""},{"$f":"IF('Kollega oplysninger'!L491=\"\",\"\",'Kollega oplysninger'!L491)","v":""},null,null,null,null,null,null,null,null,null,null,null,null,null,null,null,null,null,{"$f":"IF(Lokallønsprocenten!Z491=\"\",\"\",Lokallønsprocenten!Z491)","v":""},{"$f":"IF(Lokallønsprocenten!AA491=\"\",\"\",Lokallønsprocenten!AA491)","v":""},null,null,null,null,{"$f":"IF(Lokallønsprocenten!AF491=\"\",\"\",Lokallønsprocenten!AF491)","v":""},null,{"$f":"IF(Lokallønsprocenten!AH491=\"\",\"\",Lokallønsprocenten!AH491)","v":""},null,null,null,"",""]
[null,{"$f":"IF('Kollega oplysninger'!B492=\"\",\"\",'Kollega oplysninger'!B492)","v":""},{"$f":"IF('Kollega oplysninger'!C492=\"\",\"\",'Kollega oplysninger'!C492)","v":""},null,null,{"$f":"IF('Kollega oplysninger'!I492=\"\",\"\",'Kollega oplysninger'!I492)","v":""},{"$f":"IF('Kollega oplysninger'!J492=\"\",\"\",'Kollega oplysninger'!J492)","v":""},{"$f":"IF('Kollega oplysninger'!L492=\"\",\"\",'Kollega oplysninger'!L492)","v":""},null,null,null,null,null,null,null,null,null,null,null,null,null,null,null,null,null,{"$f":"IF(Lokallønsprocenten!Z492=\"\",\"\",Lokallønsprocenten!Z492)","v":""},{"$f":"IF(Lokallønsprocenten!AA492=\"\",\"\",Lokallønsprocenten!AA492)","v":""},null,null,null,null,{"$f":"IF(Lokallønsprocenten!AF492=\"\",\"\",Lokallønsprocenten!AF492)","v":""},null,{"$f":"IF(Lokallønsprocenten!AH492=\"\",\"\",Lokallønsprocenten!AH492)","v":""},null,null,null,"",""]
[null,{"$f":"IF('Kollega oplysninger'!B493=\"\",\"\",'Kollega oplysninger'!B493)","v":""},{"$f":"IF('Kollega oplysninger'!C493=\"\",\"\",'Kollega oplysninger'!C493)","v":""},null,null,{"$f":"IF('Kollega oplysninger'!I493=\"\",\"\",'Kollega oplysninger'!I493)","v":""},{"$f":"IF('Kollega oplysninger'!J493=\"\",\"\",'Kollega oplysninger'!J493)","v":""},{"$f":"IF('Kollega oplysninger'!L493=\"\",\"\",'Kollega oplysninger'!L493)","v":""},null,null,null,null,null,null,null,null,null,null,null,null,null,null,null,null,null,{"$f":"IF(Lokallønsprocenten!Z493=\"\",\"\",Lokallønsprocenten!Z493)","v":""},{"$f":"IF(Lokallønsprocenten!AA493=\"\",\"\",Lokallønsprocenten!AA493)","v":""},null,null,null,null,{"$f":"IF(Lokallønsprocenten!AF493=\"\",\"\",Lokallønsprocenten!AF493)","v":""},null,{"$f":"IF(Lokallønsprocenten!AH493=\"\",\"\",Lokallønsprocenten!AH493)","v":""},null,null,null,"",""]
[null,{"$f":"IF('Kollega oplysninger'!B494=\"\",\"\",'Kollega oplysninger'!B494)","v":""},{"$f":"IF('Kollega oplysninger'!C494=\"\",\"\",'Kollega oplysninger'!C494)","v":""},null,null,{"$f":"IF('Kollega oplysninger'!I494=\"\",\"\",'Kollega oplysninger'!I494)","v":""},{"$f":"IF('Kollega oplysninger'!J494=\"\",\"\",'Kollega oplysninger'!J494)","v":""},{"$f":"IF('Kollega oplysninger'!L494=\"\",\"\",'Kollega oplysninger'!L494)","v":""},null,null,null,null,null,null,null,null,null,null,null,null,null,null,null,null,null,{"$f":"IF(Lokallønsprocenten!Z494=\"\",\"\",Lokallønsprocenten!Z494)","v":""},{"$f":"IF(Lokallønsprocenten!AA494=\"\",\"\",Lokallønsprocenten!AA494)","v":""},null,null,null,null,{"$f":"IF(Lokallønsprocenten!AF494=\"\",\"\",Lokallønsprocenten!AF494)","v":""},null,{"$f":"IF(Lokallønsprocenten!AH494=\"\",\"\",Lokallønsprocenten!AH494)","v":""},null,null,null,"",""]
[null,{"$f":"IF('Kollega oplysninger'!B495=\"\",\"\",'Kollega oplysninger'!B495)","v":""},{"$f":"IF('Kollega oplysninger'!C495=\"\",\"\",'Kollega oplysninger'!C495)","v":""},null,null,{"$f":"IF('Kollega oplysninger'!I495=\"\",\"\",'Kollega oplysninger'!I495)","v":""},{"$f":"IF('Kollega oplysninger'!J495=\"\",\"\",'Kollega oplysninger'!J495)","v":""},{"$f":"IF('Kollega oplysninger'!L495=\"\",\"\",'Kollega oplysninger'!L495)","v":""},null,null,null,null,null,null,null,null,null,null,null,null,null,null,null,null,null,{"$f":"IF(Lokallønsprocenten!Z495=\"\",\"\",Lokallønsprocenten!Z495)","v":""},{"$f":"IF(Lokallønsprocenten!AA495=\"\",\"\",Lokallønsprocenten!AA495)","v":""},null,null,null,null,{"$f":"IF(Lokallønsprocenten!AF495=\"\",\"\",Lokallønsprocenten!AF495)","v":""},null,{"$f":"IF(Lokallønsprocenten!AH495=\"\",\"\",Lokallønsprocenten!AH495)","v":""},null,null,null,"",""]
[null,{"$f":"IF('Kollega oplysninger'!B496=\"\",\"\",'Kollega oplysninger'!B496)","v":""},{"$f":"IF('Kollega oplysninger'!C496=\"\",\"\",'Kollega oplysninger'!C496)","v":""},null,null,{"$f":"IF('Kollega oplysninger'!I496=\"\",\"\",'Kollega oplysninger'!I496)","v":""},{"$f":"IF('Kollega oplysninger'!J496=\"\",\"\",'Kollega oplysninger'!J496)","v":""},{"$f":"IF('Kollega oplysninger'!L496=\"\",\"\",'Kollega oplysninger'!L496)","v":""},null,null,null,null,null,null,null,null,null,null,null,null,null,null,null,null,null,{"$f":"IF(Lokallønsprocenten!Z496=\"\",\"\",Lokallønsprocenten!Z496)","v":""},{"$f":"IF(Lokallønsprocenten!AA496=\"\",\"\",Lokallønsprocenten!AA496)","v":""},null,null,null,null,{"$f":"IF(Lokallønsprocenten!AF496=\"\",\"\",Lokallønsprocenten!AF496)","v":""},null,{"$f":"IF(Lokallønsprocenten!AH496=\"\",\"\",Lokallønsprocenten!AH496)","v":""},null,null,null,"",""]
[null,{"$f":"IF('Kollega oplysninger'!B497=\"\",\"\",'Kollega oplysninger'!B497)","v":""},{"$f":"IF('Kollega oplysninger'!C497=\"\",\"\",'Kollega oplysninger'!C497)","v":""},null,null,{"$f":"IF('Kollega oplysninger'!I497=\"\",\"\",'Kollega oplysninger'!I497)","v":""},{"$f":"IF('Kollega oplysninger'!J497=\"\",\"\",'Kollega oplysninger'!J497)","v":""},{"$f":"IF('Kollega oplysninger'!L497=\"\",\"\",'Kollega oplysninger'!L497)","v":""},null,null,null,null,null,null,null,null,null,null,null,null,null,null,null,null,null,{"$f":"IF(Lokallønsprocenten!Z497=\"\",\"\",Lokallønsprocenten!Z497)","v":""},{"$f":"IF(Lokallønsprocenten!AA497=\"\",\"\",Lokallønsprocenten!AA497)","v":""},null,null,null,null,{"$f":"IF(Lokallønsprocenten!AF497=\"\",\"\",Lokallønsprocenten!AF497)","v":""},null,{"$f":"IF(Lokallønsprocenten!AH497=\"\",\"\",Lokallønsprocenten!AH497)","v":""},null,null,null,"",""]
[null,{"$f":"IF('Kollega oplysninger'!B498=\"\",\"\",'Kollega oplysninger'!B498)","v":""},{"$f":"IF('Kollega oplysninger'!C498=\"\",\"\",'Kollega oplysninger'!C498)","v":""},null,null,{"$f":"IF('Kollega oplysninger'!I498=\"\",\"\",'Kollega oplysninger'!I498)","v":""},{"$f":"IF('Kollega oplysninger'!J498=\"\",\"\",'Kollega oplysninger'!J498)","v":""},{"$f":"IF('Kollega oplysninger'!L498=\"\",\"\",'Kollega oplysninger'!L498)","v":""},null,null,null,null,null,null,null,null,null,null,null,null,null,null,null,null,null,{"$f":"IF(Lokallønsprocenten!Z498=\"\",\"\",Lokallønsprocenten!Z498)","v":""},{"$f":"IF(Lokallønsprocenten!AA498=\"\",\"\",Lokallønsprocenten!AA498)","v":""},null,null,null,null,{"$f":"IF(Lokallønsprocenten!AF498=\"\",\"\",Lokallønsprocenten!AF498)","v":""},null,{"$f":"IF(Lokallønsprocenten!AH498=\"\",\"\",Lokallønsprocenten!AH498)","v":""},null,null,null,"",""]
[null,{"$f":"IF('Kollega oplysninger'!B499=\"\",\"\",'Kollega oplysninger'!B499)","v":""},{"$f":"IF('Kollega oplysninger'!C499=\"\",\"\",'Kollega oplysninger'!C499)","v":""},null,null,{"$f":"IF('Kollega oplysninger'!I499=\"\",\"\",'Kollega oplysninger'!I499)","v":""},{"$f":"IF('Kollega oplysninger'!J499=\"\",\"\",'Kollega oplysninger'!J499)","v":""},{"$f":"IF('Kollega oplysninger'!L499=\"\",\"\",'Kollega oplysninger'!L499)","v":""},null,null,null,null,null,null,null,null,null,null,null,null,null,null,null,null,null,{"$f":"IF(Lokallønsprocenten!Z499=\"\",\"\",Lokallønsprocenten!Z499)","v":""},{"$f":"IF(Lokallønsprocenten!AA499=\"\",\"\",Lokallønsprocenten!AA499)","v":""},null,null,null,null,{"$f":"IF(Lokallønsprocenten!AF499=\"\",\"\",Lokallønsprocenten!AF499)","v":""},null,{"$f":"IF(Lokallønsprocenten!AH499=\"\",\"\",Lokallønsprocenten!AH499)","v":""},null,null,null,"",""]
[null,{"$f":"IF('Kollega oplysninger'!B500=\"\",\"\",'Kollega oplysninger'!B500)","v":""},{"$f":"IF('Kollega oplysninger'!C500=\"\",\"\",'Kollega oplysninger'!C500)","v":""},null,null,{"$f":"IF('Kollega oplysninger'!I500=\"\",\"\",'Kollega oplysninger'!I500)","v":""},{"$f":"IF('Kollega oplysninger'!J500=\"\",\"\",'Kollega oplysninger'!J500)","v":""},{"$f":"IF('Kollega oplysninger'!L500=\"\",\"\",'Kollega oplysninger'!L500)","v":""},null,null,null,null,null,null,null,null,null,null,null,null,null,null,null,null,null,{"$f":"IF(Lokallønsprocenten!Z500=\"\",\"\",Lokallønsprocenten!Z500)","v":""},{"$f":"IF(Lokallønsprocenten!AA500=\"\",\"\",Lokallønsprocenten!AA500)","v":""},null,null,null,null,{"$f":"IF(Lokallønsprocenten!AF500=\"\",\"\",Lokallønsprocenten!AF500)","v":""},null,{"$f":"IF(Lokallønsprocenten!AH500=\"\",\"\",Lokallønsprocenten!AH500)","v":""},null,null,null,"",""]
[null,{"$f":"IF('Kollega oplysninger'!B501=\"\",\"\",'Kollega oplysninger'!B501)","v":""},{"$f":"IF('Kollega oplysninger'!C501=\"\",\"\",'Kollega oplysninger'!C501)","v":""},null,null,{"$f":"IF('Kollega oplysninger'!I501=\"\",\"\",'Kollega oplysninger'!I501)","v":""},{"$f":"IF('Kollega oplysninger'!J501=\"\",\"\",'Kollega oplysninger'!J501)","v":""},{"$f":"IF('Kollega oplysninger'!L501=\"\",\"\",'Kollega oplysninger'!L501)","v":""},null,null,null,null,null,null,null,null,null,null,null,null,null,null,null,null,null,{"$f":"IF(Lokallønsprocenten!Z501=\"\",\"\",Lokallønsprocenten!Z501)","v":""},{"$f":"IF(Lokallønsprocenten!AA501=\"\",\"\",Lokallønsprocenten!AA501)","v":""},null,null,null,null,{"$f":"IF(Lokallønsprocenten!AF501=\"\",\"\",Lokallønsprocenten!AF501)","v":""},null,{"$f":"IF(Lokallønsprocenten!AH501=\"\",\"\",Lokallønsprocenten!AH501)","v":""},null,null,null,{"$f":"IF(Z501=\"fejl\",X501,\"\")","v":""},""]
[null,{"$f":"IF('Kollega oplysninger'!B502=\"\",\"\",'Kollega oplysninger'!B502)","v":""},{"$f":"IF('Kollega oplysninger'!C502=\"\",\"\",'Kollega oplysninger'!C502)","v":""},null,null,{"$f":"IF('Kollega oplysninger'!I502=\"\",\"\",'Kollega oplysninger'!I502)","v":""},{"$f":"IF('Kollega oplysninger'!J502=\"\",\"\",'Kollega oplysninger'!J502)","v":""},{"$f":"IF('Kollega oplysninger'!L502=\"\",\"\",'Kollega oplysninger'!L502)","v":""},null,null,null,null,null,null,null,null,null,null,null,null,null,null,null,null,null,{"$f":"IF(Lokallønsprocenten!Z502=\"\",\"\",Lokallønsprocenten!Z502)","v":""},{"$f":"IF(Lokallønsprocenten!AA502=\"\",\"\",Lokallønsprocenten!AA502)","v":""},null,null,null,null,{"$f":"IF(Lokallønsprocenten!AF502=\"\",\"\",Lokallønsprocenten!AF502)","v":""},null,{"$f":"IF(Lokallønsprocenten!AH502=\"\",\"\",Lokallønsprocenten!AH502)","v":""},null,null,null,"",""]
[null,{"$f":"IF('Kollega oplysninger'!B503=\"\",\"\",'Kollega oplysninger'!B503)","v":""},{"$f":"IF('Kollega oplysninger'!C503=\"\",\"\",'Kollega oplysninger'!C503)","v":""},null,null,{"$f":"IF('Kollega oplysninger'!I503=\"\",\"\",'Kollega oplysninger'!I503)","v":""},{"$f":"IF('Kollega oplysninger'!J503=\"\",\"\",'Kollega oplysninger'!J503)","v":""},{"$f":"IF('Kollega oplysninger'!L503=\"\",\"\",'Kollega oplysninger'!L503)","v":""},null,null,null,null,null,null,null,null,null,null,null,null,null,null,null,null,null,{"$f":"IF(Lokallønsprocenten!Z503=\"\",\"\",Lokallønsprocenten!Z503)","v":""},{"$f":"IF(Lokallønsprocenten!AA503=\"\",\"\",Lokallønsprocenten!AA503)","v":""},null,null,null,null,{"$f":"IF(Lokallønsprocenten!AF503=\"\",\"\",Lokallønsprocenten!AF503)","v":""},null,{"$f":"IF(Lokallønsprocenten!AH503=\"\",\"\",Lokallønsprocenten!AH503)","v":""},null,null,null,"",""]
[null,{"$f":"IF('Kollega oplysninger'!B504=\"\",\"\",'Kollega oplysninger'!B504)","v":""},{"$f":"IF('Kollega oplysninger'!C504=\"\",\"\",'Kollega oplysninger'!C504)","v":""},null,null,{"$f":"IF('Kollega oplysninger'!I504=\"\",\"\",'Kollega oplysninger'!I504)","v":""},{"$f":"IF('Kollega oplysninger'!J504=\"\",\"\",'Kollega oplysninger'!J504)","v":""},{"$f":"IF('Kollega oplysninger'!L504=\"\",\"\",'Kollega oplysninger'!L504)","v":""},null,null,null,null,null,null,null,null,null,null,null,null,null,null,null,null,null,{"$f":"IF(Lokallønsprocenten!Z504=\"\",\"\",Lokallønsprocenten!Z504)","v":""},{"$f":"IF(Lokallønsprocenten!AA504=\"\",\"\",Lokallønsprocenten!AA504)","v":""},null,null,null,null,{"$f":"IF(Lokallønsprocenten!AF504=\"\",\"\",Lokallønsprocenten!AF504)","v":""},null,{"$f":"IF(Lokallønsprocenten!AH504=\"\",\"\",Lokallønsprocenten!AH504)","v":""},null,null,null,"",""]
[null,{"$f":"IF('Kollega oplysninger'!B505=\"\",\"\",'Kollega oplysninger'!B505)","v":""},{"$f":"IF('Kollega oplysninger'!C505=\"\",\"\",'Kollega oplysninger'!C505)","v":""},null,null,{"$f":"IF('Kollega oplysninger'!I505=\"\",\"\",'Kollega oplysninger'!I505)","v":""},{"$f":"IF('Kollega oplysninger'!J505=\"\",\"\",'Kollega oplysninger'!J505)","v":""},{"$f":"IF('Kollega oplysninger'!L505=\"\",\"\",'Kollega oplysninger'!L505)","v":""},null,null,null,null,null,null,null,null,null,null,null,null,null,null,null,null,null,{"$f":"IF(Lokallønsprocenten!Z505=\"\",\"\",Lokallønsprocenten!Z505)","v":""},{"$f":"IF(Lokallønsprocenten!AA505=\"\",\"\",Lokallønsprocenten!AA505)","v":""},null,null,null,null,{"$f":"IF(Lokallønsprocenten!AF505=\"\",\"\",Lokallønsprocenten!AF505)","v":""},null,{"$f":"IF(Lokallønsprocenten!AH505=\"\",\"\",Lokallønsprocenten!AH505)","v":""},null,null,null,"",""]
[null,"I alt",null,null,null,null,null,null,null,null,null,null,null,null,null,null,null,null,null,null,null,null,null,{"$f":"SUM(X6:X505)","v":500},22343.74,null,null,null,null,null,{"$f":"SUM(AE6:AE505)","v":200},null,300,null,null,null,null,0,0]

{"sheet":"Baglandsarbejdet","index":3,"n_rows":505,"n_cols":13,"rows_kept":505,"cut":false,"hidden":false,"merged":[[2,4,2,5],[2,6,2,7],[3,12,4,12]]}
[]
[null,null,null,null,"Listen opdateret:","xx.xx.xxxx"]
[]
[null,"Navn","Fødsels-",null,null,null,null,"Positiv","Negativ  ",null,"Opfølgning","Opfølgnings-","FOA"]
[null,null,"Dato","Arbejdsopgaver","CV","1-1-møde","Interesser","historie om FOA","historie om FOA","Sag","af","møde"]
[null,{"$f":"IF('Kollega oplysninger'!B6=\"\",\"\",'Kollega oplysninger'!B6)","v":"Jane Doe"},{"$f":"IF('Kollega oplysninger'!C6=\"\",\"\",'Kollega oplysninger'!C6)","v":"1985-01-12"},"indsæt note","indsæt note","2.8.2019","indsæt note","indsæt note","indsæt note","løntjek","FOA-afd.","29.8.2019",{"$f":"IF('Kollega oplysninger'!M6=\"\",\"\",'Kollega oplysninger'!M6)","v":"ja"}]
[null,{"$f":"IF('Kollega oplysninger'!B7=\"\",\"\",'Kollega oplysninger'!B7)","v":""},{"$f":"IF('Kollega oplysninger'!C7=\"\",\"\",'Kollega oplysninger'!C7)","v":""},null,null,null,null,null,null,null,null,null,{"$f":"IF('Kollega oplysninger'!M7=\"\",\"\",'Kollega oplysninger'!M7)","v":""}]
[null,{"$f":"IF('Kollega oplysninger'!B8=\"\",\"\",'Kollega oplysninger'!B8)","v":""},{"$f":"IF('Kollega oplysninger'!C8=\"\",\"\",'Kollega oplysninger'!C8)","v":""},null,null,null,null,null,null,null,null,null,{"$f":"IF('Kollega oplysninger'!M8=\"\",\"\",'Kollega oplysninger'!M8)","v":""}]
[null,{"$f":"IF('Kollega oplysninger'!B9=\"\",\"\",'Kollega oplysninger'!B9)","v":""},{"$f":"IF('Kollega oplysninger'!C9=\"\",\"\",'Kollega oplysninger'!C9)","v":""},null,null,null,null,null,null,null,null,null,{"$f":"IF('Kollega oplysninger'!M9=\"\",\"\",'Kollega oplysninger'!M9)","v":""}]
[null,{"$f":"IF('Kollega oplysninger'!B10=\"\",\"\",'Kollega oplysninger'!B10)","v":""},{"$f":"IF('Kollega oplysninger'!C10=\"\",\"\",'Kollega oplysninger'!C10)","v":""},null,null,null,null,null,null,null,null,null,{"$f":"IF('Kollega oplysninger'!M10=\"\",\"\",'Kollega oplysninger'!M10)","v":""}]
[null,{"$f":"IF('Kollega oplysninger'!B11=\"\",\"\",'Kollega oplysninger'!B11)","v":""},{"$f":"IF('Kollega oplysninger'!C11=\"\",\"\",'Kollega oplysninger'!C11)","v":""},null,null,null,null,null,null,null,null,null,{"$f":"IF('Kollega oplysninger'!M11=\"\",\"\",'Kollega oplysninger'!M11)","v":""}]
[null,{"$f":"IF('Kollega oplysninger'!B12=\"\",\"\",'Kollega oplysninger'!B12)","v":""},{"$f":"IF('Kollega oplysninger'!C12=\"\",\"\",'Kollega oplysninger'!C12)","v":""},null,null,null,null,null,null,null,null,null,{"$f":"IF('Kollega oplysninger'!M12=\"\",\"\",'Kollega oplysninger'!M12)","v":""}]
[null,{"$f":"IF('Kollega oplysninger'!B13=\"\",\"\",'Kollega oplysninger'!B13)","v":""},{"$f":"IF('Kollega oplysninger'!C13=\"\",\"\",'Kollega oplysninger'!C13)","v":""},null,null,null,null,null,null,null,null,null,{"$f":"IF('Kollega oplysninger'!M13=\"\",\"\",'Kollega oplysninger'!M13)","v":""}]
[null,{"$f":"IF('Kollega oplysninger'!B14=\"\",\"\",'Kollega oplysninger'!B14)","v":""},{"$f":"IF('Kollega oplysninger'!C14=\"\",\"\",'Kollega oplysninger'!C14)","v":""},null,null,null,null,null,null,null,null,null,{"$f":"IF('Kollega oplysninger'!M14=\"\",\"\",'Kollega oplysninger'!M14)","v":""}]
[null,{"$f":"IF('Kollega oplysninger'!B15=\"\",\"\",'Kollega oplysninger'!B15)","v":""},{"$f":"IF('Kollega oplysninger'!C15=\"\",\"\",'Kollega oplysninger'!C15)","v":""},null,null,null,null,null,null,null,null,null,{"$f":"IF('Kollega oplysninger'!M15=\"\",\"\",'Kollega oplysninger'!M15)","v":""}]
[null,{"$f":"IF('Kollega oplysninger'!B16=\"\",\"\",'Kollega oplysninger'!B16)","v":""},{"$f":"IF('Kollega oplysninger'!C16=\"\",\"\",'Kollega oplysninger'!C16)","v":""},null,null,null,null,null,null,null,null,null,{"$f":"IF('Kollega oplysninger'!M16=\"\",\"\",'Kollega oplysninger'!M16)","v":""}]
[null,{"$f":"IF('Kollega oplysninger'!B17=\"\",\"\",'Kollega oplysninger'!B17)","v":""},{"$f":"IF('Kollega oplysninger'!C17=\"\",\"\",'Kollega oplysninger'!C17)","v":""},null,null,null,null,null,null,null,null,null,{"$f":"IF('Kollega oplysninger'!M17=\"\",\"\",'Kollega oplysninger'!M17)","v":""}]
[null,{"$f":"IF('Kollega oplysninger'!B18=\"\",\"\",'Kollega oplysninger'!B18)","v":""},{"$f":"IF('Kollega oplysninger'!C18=\"\",\"\",'Kollega oplysninger'!C18)","v":""},null,null,null,null,null,null,null,null,null,{"$f":"IF('Kollega oplysninger'!M18=\"\",\"\",'Kollega oplysninger'!M18)","v":""}]
[null,{"$f":"IF('Kollega oplysninger'!B19=\"\",\"\",'Kollega oplysninger'!B19)","v":""},{"$f":"IF('Kollega oplysninger'!C19=\"\",\"\",'Kollega oplysninger'!C19)","v":""},null,null,null,null,null,null,null,null,null,{"$f":"IF('Kollega oplysninger'!M19=\"\",\"\",'Kollega oplysninger'!M19)","v":""}]
[null,{"$f":"IF('Kollega oplysninger'!B20=\"\",\"\",'Kollega oplysninger'!B20)","v":""},{"$f":"IF('Kollega oplysninger'!C20=\"\",\"\",'Kollega oplysninger'!C20)","v":""},null,null,null,null,null,null,null,null,null,{"$f":"IF('Kollega oplysninger'!M20=\"\",\"\",'Kollega oplysninger'!M20)","v":""}]
[null,{"$f":"IF('Kollega oplysninger'!B21=\"\",\"\",'Kollega oplysninger'!B21)","v":""},{"$f":"IF('Kollega oplysninger'!C21=\"\",\"\",'Kollega oplysninger'!C21)","v":""},null,null,null,null,null,null,null,null,null,{"$f":"IF('Kollega oplysninger'!M21=\"\",\"\",'Kollega oplysninger'!M21)","v":""}]
[null,{"$f":"IF('Kollega oplysninger'!B22=\"\",\"\",'Kollega oplysninger'!B22)","v":""},{"$f":"IF('Kollega oplysninger'!C22=\"\",\"\",'Kollega oplysninger'!C22)","v":""},null,null,null,null,null,null,null,null,null,{"$f":"IF('Kollega oplysninger'!M22=\"\",\"\",'Kollega oplysninger'!M22)","v":""}]
[null,{"$f":"IF('Kollega oplysninger'!B23=\"\",\"\",'Kollega oplysninger'!B23)","v":""},{"$f":"IF('Kollega oplysninger'!C23=\"\",\"\",'Kollega oplysninger'!C23)","v":""},null,null,null,null,null,null,null,null,null,{"$f":"IF('Kollega oplysninger'!M23=\"\",\"\",'Kollega oplysninger'!M23)","v":""}]
[null,{"$f":"IF('Kollega oplysninger'!B24=\"\",\"\",'Kollega oplysninger'!B24)","v":""},{"$f":"IF('Kollega oplysninger'!C24=\"\",\"\",'Kollega oplysninger'!C24)","v":""},null,null,null,null,null,null,null,null,null,{"$f":"IF('Kollega oplysninger'!M24=\"\",\"\",'Kollega oplysninger'!M24)","v":""}]
[null,{"$f":"IF('Kollega oplysninger'!B25=\"\",\"\",'Kollega oplysninger'!B25)","v":""},{"$f":"IF('Kollega oplysninger'!C25=\"\",\"\",'Kollega oplysninger'!C25)","v":""},null,null,null,null,null,null,null,null,null,{"$f":"IF('Kollega oplysninger'!M25=\"\",\"\",'Kollega oplysninger'!M25)","v":""}]
[null,{"$f":"IF('Kollega oplysninger'!B26=\"\",\"\",'Kollega oplysninger'!B26)","v":""},{"$f":"IF('Kollega oplysninger'!C26=\"\",\"\",'Kollega oplysninger'!C26)","v":""},null,null,null,null,null,null,null,null,null,{"$f":"IF('Kollega oplysninger'!M26=\"\",\"\",'Kollega oplysninger'!M26)","v":""}]
[null,{"$f":"IF('Kollega oplysninger'!B27=\"\",\"\",'Kollega oplysninger'!B27)","v":""},{"$f":"IF('Kollega oplysninger'!C27=\"\",\"\",'Kollega oplysninger'!C27)","v":""},null,null,null,null,null,null,null,null,null,{"$f":"IF('Kollega oplysninger'!M27=\"\",\"\",'Kollega oplysninger'!M27)","v":""}]
[null,{"$f":"IF('Kollega oplysninger'!B28=\"\",\"\",'Kollega oplysninger'!B28)","v":""},{"$f":"IF('Kollega oplysninger'!C28=\"\",\"\",'Kollega oplysninger'!C28)","v":""},null,null,null,null,null,null,null,null,null,{"$f":"IF('Kollega oplysninger'!M28=\"\",\"\",'Kollega oplysninger'!M28)","v":""}]
[null,{"$f":"IF('Kollega oplysninger'!B29=\"\",\"\",'Kollega oplysninger'!B29)","v":""},{"$f":"IF('Kollega oplysninger'!C29=\"\",\"\",'Kollega oplysninger'!C29)","v":""},null,null,null,null,null,null,null,null,null,{"$f":"IF('Kollega oplysninger'!M29=\"\",\"\",'Kollega oplysninger'!M29)","v":""}]
[null,{"$f":"IF('Kollega oplysninger'!B30=\"\",\"\",'Kollega oplysninger'!B30)","v":""},{"$f":"IF('Kollega oplysninger'!C30=\"\",\"\",'Kollega oplysninger'!C30)","v":""},null,null,null,null,null,null,null,null,null,{"$f":"IF('Kollega oplysninger'!M30=\"\",\"\",'Kollega oplysninger'!M30)","v":""}]
[null,{"$f":"IF('Kollega oplysninger'!B31=\"\",\"\",'Kollega oplysninger'!B31)","v":""},{"$f":"IF('Kollega oplysninger'!C31=\"\",\"\",'Kollega oplysninger'!C31)","v":""},null,null,null,null,null,null,null,null,null,{"$f":"IF('Kollega oplysninger'!M31=\"\",\"\",'Kollega oplysninger'!M31)","v":""}]
[null,{"$f":"IF('Kollega oplysninger'!B32=\"\",\"\",'Kollega oplysninger'!B32)","v":""},{"$f":"IF('Kollega oplysninger'!C32=\"\",\"\",'Kollega oplysninger'!C32)","v":""},null,null,null,null,null,null,null,null,null,{"$f":"IF('Kollega oplysninger'!M32=\"\",\"\",'Kollega oplysninger'!M32)","v":""}]
[null,{"$f":"IF('Kollega oplysninger'!B33=\"\",\"\",'Kollega oplysninger'!B33)","v":""},{"$f":"IF('Kollega oplysninger'!C33=\"\",\"\",'Kollega oplysninger'!C33)","v":""},null,null,null,null,null,null,null,null,null,{"$f":"IF('Kollega oplysninger'!M33=\"\",\"\",'Kollega oplysninger'!M33)","v":""}]
[null,{"$f":"IF('Kollega oplysninger'!B34=\"\",\"\",'Kollega oplysninger'!B34)","v":""},{"$f":"IF('Kollega oplysninger'!C34=\"\",\"\",'Kollega oplysninger'!C34)","v":""},null,null,null,null,null,null,null,null,null,{"$f":"IF('Kollega oplysninger'!M34=\"\",\"\",'Kollega oplysninger'!M34)","v":""}]
[null,{"$f":"IF('Kollega oplysninger'!B35=\"\",\"\",'Kollega oplysninger'!B35)","v":""},{"$f":"IF('Kollega oplysninger'!C35=\"\",\"\",'Kollega oplysninger'!C35)","v":""},null,null,null,null,null,null,null,null,null,{"$f":"IF('Kollega oplysninger'!M35=\"\",\"\",'Kollega oplysninger'!M35)","v":""}]
[null,{"$f":"IF('Kollega oplysninger'!B36=\"\",\"\",'Kollega oplysninger'!B36)","v":""},{"$f":"IF('Kollega oplysninger'!C36=\"\",\"\",'Kollega oplysninger'!C36)","v":""},null,null,null,null,null,null,null,null,null,{"$f":"IF('Kollega oplysninger'!M36=\"\",\"\",'Kollega oplysninger'!M36)","v":""}]
[null,{"$f":"IF('Kollega oplysninger'!B37=\"\",\"\",'Kollega oplysninger'!B37)","v":""},{"$f":"IF('Kollega oplysninger'!C37=\"\",\"\",'Kollega oplysninger'!C37)","v":""},null,null,null,null,null,null,null,null,null,{"$f":"IF('Kollega oplysninger'!M37=\"\",\"\",'Kollega oplysninger'!M37)","v":""}]
[null,{"$f":"IF('Kollega oplysninger'!B38=\"\",\"\",'Kollega oplysninger'!B38)","v":""},{"$f":"IF('Kollega oplysninger'!C38=\"\",\"\",'Kollega oplysninger'!C38)","v":""},null,null,null,null,null,null,null,null,null,{"$f":"IF('Kollega oplysninger'!M38=\"\",\"\",'Kollega oplysninger'!M38)","v":""}]
[null,{"$f":"IF('Kollega oplysninger'!B39=\"\",\"\",'Kollega oplysninger'!B39)","v":""},{"$f":"IF('Kollega oplysninger'!C39=\"\",\"\",'Kollega oplysninger'!C39)","v":""},null,null,null,null,null,null,null,null,null,{"$f":"IF('Kollega oplysninger'!M39=\"\",\"\",'Kollega oplysninger'!M39)","v":""}]
[null,{"$f":"IF('Kollega oplysninger'!B40=\"\",\"\",'Kollega oplysninger'!B40)","v":""},{"$f":"IF('Kollega oplysninger'!C40=\"\",\"\",'Kollega oplysninger'!C40)","v":""},null,null,null,null,null,null,null,null,null,{"$f":"IF('Kollega oplysninger'!M40=\"\",\"\",'Kollega oplysninger'!M40)","v":""}]
[null,{"$f":"IF('Kollega oplysninger'!B41=\"\",\"\",'Kollega oplysninger'!B41)","v":""},{"$f":"IF('Kollega oplysninger'!C41=\"\",\"\",'Kollega oplysninger'!C41)","v":""},null,null,null,null,null,null,null,null,null,{"$f":"IF('Kollega oplysninger'!M41=\"\",\"\",'Kollega oplysninger'!M41)","v":""}]
[null,{"$f":"IF('Kollega oplysninger'!B42=\"\",\"\",'Kollega oplysninger'!B42)","v":""},{"$f":"IF('Kollega oplysninger'!C42=\"\",\"\",'Kollega oplysninger'!C42)","v":""},null,null,null,null,null,null,null,null,null,{"$f":"IF('Kollega oplysninger'!M42=\"\",\"\",'Kollega oplysninger'!M42)","v":""}]
[null,{"$f":"IF('Kollega oplysninger'!B43=\"\",\"\",'Kollega oplysninger'!B43)","v":""},{"$f":"IF('Kollega oplysninger'!C43=\"\",\"\",'Kollega oplysninger'!C43)","v":""},null,null,null,null,null,null,null,null,null,{"$f":"IF('Kollega oplysninger'!M43=\"\",\"\",'Kollega oplysninger'!M43)","v":""}]
[null,{"$f":"IF('Kollega oplysninger'!B44=\"\",\"\",'Kollega oplysninger'!B44)","v":""},{"$f":"IF('Kollega oplysninger'!C44=\"\",\"\",'Kollega oplysninger'!C44)","v":""},null,null,null,null,null,null,null,null,null,{"$f":"IF('Kollega oplysninger'!M44=\"\",\"\",'Kollega oplysninger'!M44)","v":""}]
[null,{"$f":"IF('Kollega oplysninger'!B45=\"\",\"\",'Kollega oplysninger'!B45)","v":""},{"$f":"IF('Kollega oplysninger'!C45=\"\",\"\",'Kollega oplysninger'!C45)","v":""},null,null,null,null,null,null,null,null,null,{"$f":"IF('Kollega oplysninger'!M45=\"\",\"\",'Kollega oplysninger'!M45)","v":""}]
[null,{"$f":"IF('Kollega oplysninger'!B46=\"\",\"\",'Kollega oplysninger'!B46)","v":""},{"$f":"IF('Kollega oplysninger'!C46=\"\",\"\",'Kollega oplysninger'!C46)","v":""},null,null,null,null,null,null,null,null,null,{"$f":"IF('Kollega oplysninger'!M46=\"\",\"\",'Kollega oplysninger'!M46)","v":""}]
[null,{"$f":"IF('Kollega oplysninger'!B47=\"\",\"\",'Kollega oplysninger'!B47)","v":""},{"$f":"IF('Kollega oplysninger'!C47=\"\",\"\",'Kollega oplysninger'!C47)","v":""},null,null,null,null,null,null,null,null,null,{"$f":"IF('Kollega oplysninger'!M47=\"\",\"\",'Kollega oplysninger'!M47)","v":""}]
[null,{"$f":"IF('Kollega oplysninger'!B48=\"\",\"\",'Kollega oplysninger'!B48)","v":""},{"$f":"IF('Kollega oplysninger'!C48=\"\",\"\",'Kollega oplysninger'!C48)","v":""},null,null,null,null,null,null,null,null,null,{"$f":"IF('Kollega oplysninger'!M48=\"\",\"\",'Kollega oplysninger'!M48)","v":""}]
[null,{"$f":"IF('Kollega oplysninger'!B49=\"\",\"\",'Kollega oplysninger'!B49)","v":""},{"$f":"IF('Kollega oplysninger'!C49=\"\",\"\",'Kollega oplysninger'!C49)","v":""},null,null,null,null,null,null,null,null,null,{"$f":"IF('Kollega oplysninger'!M49=\"\",\"\",'Kollega oplysninger'!M49)","v":""}]
[null,{"$f":"IF('Kollega oplysninger'!B50=\"\",\"\",'Kollega oplysninger'!B50)","v":""},{"$f":"IF('Kollega oplysninger'!C50=\"\",\"\",'Kollega oplysninger'!C50)","v":""},null,null,null,null,null,null,null,null,null,{"$f":"IF('Kollega oplysninger'!M50=\"\",\"\",'Kollega oplysninger'!M50)","v":""}]
[null,{"$f":"IF('Kollega oplysninger'!B51=\"\",\"\",'Kollega oplysninger'!B51)","v":""},{"$f":"IF('Kollega oplysninger'!C51=\"\",\"\",'Kollega oplysninger'!C51)","v":""},null,null,null,null,null,null,null,null,null,{"$f":"IF('Kollega oplysninger'!M51=\"\",\"\",'Kollega oplysninger'!M51)","v":""}]
[null,{"$f":"IF('Kollega oplysninger'!B52=\"\",\"\",'Kollega oplysninger'!B52)","v":""},{"$f":"IF('Kollega oplysninger'!C52=\"\",\"\",'Kollega oplysninger'!C52)","v":""},null,null,null,null,null,null,null,null,null,{"$f":"IF('Kollega oplysninger'!M52=\"\",\"\",'Kollega oplysninger'!M52)","v":""}]
[null,{"$f":"IF('Kollega oplysninger'!B53=\"\",\"\",'Kollega oplysninger'!B53)","v":""},{"$f":"IF('Kollega oplysninger'!C53=\"\",\"\",'Kollega oplysninger'!C53)","v":""},null,null,null,null,null,null,null,null,null,{"$f":"IF('Kollega oplysninger'!M53=\"\",\"\",'Kollega oplysninger'!M53)","v":""}]
[null,{"$f":"IF('Kollega oplysninger'!B54=\"\",\"\",'Kollega oplysninger'!B54)","v":""},{"$f":"IF('Kollega oplysninger'!C54=\"\",\"\",'Kollega oplysninger'!C54)","v":""},null,null,null,null,null,null,null,null,null,{"$f":"IF('Kollega oplysninger'!M54=\"\",\"\",'Kollega oplysninger'!M54)","v":""}]
[null,{"$f":"IF('Kollega oplysninger'!B55=\"\",\"\",'Kollega oplysninger'!B55)","v":""},{"$f":"IF('Kollega oplysninger'!C55=\"\",\"\",'Kollega oplysninger'!C55)","v":""},null,null,null,null,null,null,null,null,null,{"$f":"IF('Kollega oplysninger'!M55=\"\",\"\",'Kollega oplysninger'!M55)","v":""}]
[null,{"$f":"IF('Kollega oplysninger'!B56=\"\",\"\",'Kollega oplysninger'!B56)","v":""},{"$f":"IF('Kollega oplysninger'!C56=\"\",\"\",'Kollega oplysninger'!C56)","v":""},null,null,null,null,null,null,null,null,null,{"$f":"IF('Kollega oplysninger'!M56=\"\",\"\",'Kollega oplysninger'!M56)","v":""}]
[null,{"$f":"IF('Kollega oplysninger'!B57=\"\",\"\",'Kollega oplysninger'!B57)","v":""},{"$f":"IF('Kollega oplysninger'!C57=\"\",\"\",'Kollega oplysninger'!C57)","v":""},null,null,null,null,null,null,null,null,null,{"$f":"IF('Kollega oplysninger'!M57=\"\",\"\",'Kollega oplysninger'!M57)","v":""}]
[null,{"$f":"IF('Kollega oplysninger'!B58=\"\",\"\",'Kollega oplysninger'!B58)","v":""},{"$f":"IF('Kollega oplysninger'!C58=\"\",\"\",'Kollega oplysninger'!C58)","v":""},null,null,null,null,null,null,null,null,null,{"$f":"IF('Kollega oplysninger'!M58=\"\",\"\",'Kollega oplysninger'!M58)","v":""}]
[null,{"$f":"IF('Kollega oplysninger'!B59=\"\",\"\",'Kollega oplysninger'!B59)","v":""},{"$f":"IF('Kollega oplysninger'!C59=\"\",\"\",'Kollega oplysninger'!C59)","v":""},null,null,null,null,null,null,null,null,null,{"$f":"IF('Kollega oplysninger'!M59=\"\",\"\",'Kollega oplysninger'!M59)","v":""}]
[null,{"$f":"IF('Kollega oplysninger'!B60=\"\",\"\",'Kollega oplysninger'!B60)","v":""},{"$f":"IF('Kollega oplysninger'!C60=\"\",\"\",'Kollega oplysninger'!C60)","v":""},null,null,null,null,null,null,null,null,null,{"$f":"IF('Kollega oplysninger'!M60=\"\",\"\",'Kollega oplysninger'!M60)","v":""}]
[null,{"$f":"IF('Kollega oplysninger'!B61=\"\",\"\",'Kollega oplysninger'!B61)","v":""},{"$f":"IF('Kollega oplysninger'!C61=\"\",\"\",'Kollega oplysninger'!C61)","v":""},null,null,null,null,null,null,null,null,null,{"$f":"IF('Kollega oplysninger'!M61=\"\",\"\",'Kollega oplysninger'!M61)","v":""}]
[null,{"$f":"IF('Kollega oplysninger'!B62=\"\",\"\",'Kollega oplysninger'!B62)","v":""},{"$f":"IF('Kollega oplysninger'!C62=\"\",\"\",'Kollega oplysninger'!C62)","v":""},null,null,null,null,null,null,null,null,null,{"$f":"IF('Kollega oplysninger'!M62=\"\",\"\",'Kollega oplysninger'!M62)","v":""}]
[null,{"$f":"IF('Kollega oplysninger'!B63=\"\",\"\",'Kollega oplysninger'!B63)","v":""},{"$f":"IF('Kollega oplysninger'!C63=\"\",\"\",'Kollega oplysninger'!C63)","v":""},null,null,null,null,null,null,null,null,null,{"$f":"IF('Kollega oplysninger'!M63=\"\",\"\",'Kollega oplysninger'!M63)","v":""}]
[null,{"$f":"IF('Kollega oplysninger'!B64=\"\",\"\",'Kollega oplysninger'!B64)","v":""},{"$f":"IF('Kollega oplysninger'!C64=\"\",\"\",'Kollega oplysninger'!C64)","v":""},null,null,null,null,null,null,null,null,null,{"$f":"IF('Kollega oplysninger'!M64=\"\",\"\",'Kollega oplysninger'!M64)","v":""}]
[null,{"$f":"IF('Kollega oplysninger'!B65=\"\",\"\",'Kollega oplysninger'!B65)","v":""},{"$f":"IF('Kollega oplysninger'!C65=\"\",\"\",'Kollega oplysninger'!C65)","v":""},null,null,null,null,null,null,null,null,null,{"$f":"IF('Kollega oplysninger'!M65=\"\",\"\",'Kollega oplysninger'!M65)","v":""}]
[null,{"$f":"IF('Kollega oplysninger'!B66=\"\",\"\",'Kollega oplysninger'!B66)","v":""},{"$f":"IF('Kollega oplysninger'!C66=\"\",\"\",'Kollega oplysninger'!C66)","v":""},null,null,null,null,null,null,null,null,null,{"$f":"IF('Kollega oplysninger'!M66=\"\",\"\",'Kollega oplysninger'!M66)","v":""}]
[null,{"$f":"IF('Kollega oplysninger'!B67=\"\",\"\",'Kollega oplysninger'!B67)","v":""},{"$f":"IF('Kollega oplysninger'!C67=\"\",\"\",'Kollega oplysninger'!C67)","v":""},null,null,null,null,null,null,null,null,null,{"$f":"IF('Kollega oplysninger'!M67=\"\",\"\",'Kollega oplysninger'!M67)","v":""}]
[null,{"$f":"IF('Kollega oplysninger'!B68=\"\",\"\",'Kollega oplysninger'!B68)","v":""},{"$f":"IF('Kollega oplysninger'!C68=\"\",\"\",'Kollega oplysninger'!C68)","v":""},null,null,null,null,null,null,null,null,null,{"$f":"IF('Kollega oplysninger'!M68=\"\",\"\",'Kollega oplysninger'!M68)","v":""}]
[null,{"$f":"IF('Kollega oplysninger'!B69=\"\",\"\",'Kollega oplysninger'!B69)","v":""},{"$f":"IF('Kollega oplysninger'!C69=\"\",\"\",'Kollega oplysninger'!C69)","v":""},null,null,null,null,null,null,null,null,null,{"$f":"IF('Kollega oplysninger'!M69=\"\",\"\",'Kollega oplysninger'!M69)","v":""}]
[null,{"$f":"IF('Kollega oplysninger'!B70=\"\",\"\",'Kollega oplysninger'!B70)","v":""},{"$f":"IF('Kollega oplysninger'!C70=\"\",\"\",'Kollega oplysninger'!C70)","v":""},null,null,null,null,null,null,null,null,null,{"$f":"IF('Kollega oplysninger'!M70=\"\",\"\",'Kollega oplysninger'!M70)","v":""}]
[null,{"$f":"IF('Kollega oplysninger'!B71=\"\",\"\",'Kollega oplysninger'!B71)","v":""},{"$f":"IF('Kollega oplysninger'!C71=\"\",\"\",'Kollega oplysninger'!C71)","v":""},null,null,null,null,null,null,null,null,null,{"$f":"IF('Kollega oplysninger'!M71=\"\",\"\",'Kollega oplysninger'!M71)","v":""}]
[null,{"$f":"IF('Kollega oplysninger'!B72=\"\",\"\",'Kollega oplysninger'!B72)","v":""},{"$f":"IF('Kollega oplysninger'!C72=\"\",\"\",'Kollega oplysninger'!C72)","v":""},null,null,null,null,null,null,null,null,null,{"$f":"IF('Kollega oplysninger'!M72=\"\",\"\",'Kollega oplysninger'!M72)","v":""}]
[null,{"$f":"IF('Kollega oplysninger'!B73=\"\",\"\",'Kollega oplysninger'!B73)","v":""},{"$f":"IF('Kollega oplysninger'!C73=\"\",\"\",'Kollega oplysninger'!C73)","v":""},null,null,null,null,null,null,null,null,null,{"$f":"IF('Kollega oplysninger'!M73=\"\",\"\",'Kollega oplysninger'!M73)","v":""}]
[null,{"$f":"IF('Kollega oplysninger'!B74=\"\",\"\",'Kollega oplysninger'!B74)","v":""},{"$f":"IF('Kollega oplysninger'!C74=\"\",\"\",'Kollega oplysninger'!C74)","v":""},null,null,null,null,null,null,null,null,null,{"$f":"IF('Kollega oplysninger'!M74=\"\",\"\",'Kollega oplysninger'!M74)","v":""}]
[null,{"$f":"IF('Kollega oplysninger'!B75=\"\",\"\",'Kollega oplysninger'!B75)","v":""},{"$f":"IF('Kollega oplysninger'!C75=\"\",\"\",'Kollega oplysninger'!C75)","v":""},null,null,null,null,null,null,null,null,null,{"$f":"IF('Kollega oplysninger'!M75=\"\",\"\",'Kollega oplysninger'!M75)","v":""}]
[null,{"$f":"IF('Kollega oplysninger'!B76=\"\",\"\",'Kollega oplysninger'!B76)","v":""},{"$f":"IF('Kollega oplysninger'!C76=\"\",\"\",'Kollega oplysninger'!C76)","v":""},null,null,null,null,null,null,null,null,null,{"$f":"IF('Kollega oplysninger'!M76=\"\",\"\",'Kollega oplysninger'!M76)","v":""}]
[null,{"$f":"IF('Kollega oplysninger'!B77=\"\",\"\",'Kollega oplysninger'!B77)","v":""},{"$f":"IF('Kollega oplysninger'!C77=\"\",\"\",'Kollega oplysninger'!C77)","v":""},null,null,null,null,null,null,null,null,null,{"$f":"IF('Kollega oplysninger'!M77=\"\",\"\",'Kollega oplysninger'!M77)","v":""}]
[null,{"$f":"IF('Kollega oplysninger'!B78=\"\",\"\",'Kollega oplysninger'!B78)","v":""},{"$f":"IF('Kollega oplysninger'!C78=\"\",\"\",'Kollega oplysninger'!C78)","v":""},null,null,null,null,null,null,null,null,null,{"$f":"IF('Kollega oplysninger'!M78=\"\",\"\",'Kollega oplysninger'!M78)","v":""}]
[null,{"$f":"IF('Kollega oplysninger'!B79=\"\",\"\",'Kollega oplysninger'!B79)","v":""},{"$f":"IF('Kollega oplysninger'!C79=\"\",\"\",'Kollega oplysninger'!C79)","v":""},null,null,null,null,null,null,null,null,null,{"$f":"IF('Kollega oplysninger'!M79=\"\",\"\",'Kollega oplysninger'!M79)","v":""}]
[null,{"$f":"IF('Kollega oplysninger'!B80=\"\",\"\",'Kollega oplysninger'!B80)","v":""},{"$f":"IF('Kollega oplysninger'!C80=\"\",\"\",'Kollega oplysninger'!C80)","v":""},null,null,null,null,null,null,null,null,null,{"$f":"IF('Kollega oplysninger'!M80=\"\",\"\",'Kollega oplysninger'!M80)","v":""}]
[null,{"$f":"IF('Kollega oplysninger'!B81=\"\",\"\",'Kollega oplysninger'!B81)","v":""},{"$f":"IF('Kollega oplysninger'!C81=\"\",\"\",'Kollega oplysninger'!C81)","v":""},null,null,null,null,null,null,null,null,null,{"$f":"IF('Kollega oplysninger'!M81=\"\",\"\",'Kollega oplysninger'!M81)","v":""}]
[null,{"$f":"IF('Kollega oplysninger'!B82=\"\",\"\",'Kollega oplysninger'!B82)","v":""},{"$f":"IF('Kollega oplysninger'!C82=\"\",\"\",'Kollega oplysninger'!C82)","v":""},null,null,null,null,null,null,null,null,null,{"$f":"IF('Kollega oplysninger'!M82=\"\",\"\",'Kollega oplysninger'!M82)","v":""}]
[null,{"$f":"IF('Kollega oplysninger'!B83=\"\",\"\",'Kollega oplysninger'!B83)","v":""},{"$f":"IF('Kollega oplysninger'!C83=\"\",\"\",'Kollega oplysninger'!C83)","v":""},null,null,null,null,null,null,null,null,null,{"$f":"IF('Kollega oplysninger'!M83=\"\",\"\",'Kollega oplysninger'!M83)","v":""}]
[null,{"$f":"IF('Kollega oplysninger'!B84=\"\",\"\",'Kollega oplysninger'!B84)","v":""},{"$f":"IF('Kollega oplysninger'!C84=\"\",\"\",'Kollega oplysninger'!C84)","v":""},null,null,null,null,null,null,null,null,null,{"$f":"IF('Kollega oplysninger'!M84=\"\",\"\",'Kollega oplysninger'!M84)","v":""}]
[null,{"$f":"IF('Kollega oplysninger'!B85=\"\",\"\",'Kollega oplysninger'!B85)","v":""},{"$f":"IF('Kollega oplysninger'!C85=\"\",\"\",'Kollega oplysninger'!C85)","v":""},null,null,null,null,null,null,null,null,null,{"$f":"IF('Kollega oplysninger'!M85=\"\",\"\",'Kollega oplysninger'!M85)","v":""}]
[null,{"$f":"IF('Kollega oplysninger'!B86=\"\",\"\",'Kollega oplysninger'!B86)","v":""},{"$f":"IF('Kollega oplysninger'!C86=\"\",\"\",'Kollega oplysninger'!C86)","v":""},null,null,null,null,null,null,null,null,null,{"$f":"IF('Kollega oplysninger'!M86=\"\",\"\",'Kollega oplysninger'!M86)","v":""}]
[null,{"$f":"IF('Kollega oplysninger'!B87=\"\",\"\",'Kollega oplysninger'!B87)","v":""},{"$f":"IF('Kollega oplysninger'!C87=\"\",\"\",'Kollega oplysninger'!C87)","v":""},null,null,null,null,null,null,null,null,null,{"$f":"IF('Kollega oplysninger'!M87=\"\",\"\",'Kollega oplysninger'!M87)","v":""}]
[null,{"$f":"IF('Kollega oplysninger'!B88=\"\",\"\",'Kollega oplysninger'!B88)","v":""},{"$f":"IF('Kollega oplysninger'!C88=\"\",\"\",'Kollega oplysninger'!C88)","v":""},null,null,null,null,null,null,null,null,null,{"$f":"IF('Kollega oplysninger'!M88=\"\",\"\",'Kollega oplysninger'!M88)","v":""}]
[null,{"$f":"IF('Kollega oplysninger'!B89=\"\",\"\",'Kollega oplysninger'!B89)","v":""},{"$f":"IF('Kollega oplysninger'!C89=\"\",\"\",'Kollega oplysninger'!C89)","v":""},null,null,null,null,null,null,null,null,null,{"$f":"IF('Kollega oplysninger'!M89=\"\",\"\",'Kollega oplysninger'!M89)","v":""}]
[null,{"$f":"IF('Kollega oplysninger'!B90=\"\",\"\",'Kollega oplysninger'!B90)","v":""},{"$f":"IF('Kollega oplysninger'!C90=\"\",\"\",'Kollega oplysninger'!C90)","v":""},null,null,null,null,null,null,null,null,null,{"$f":"IF('Kollega oplysninger'!M90=\"\",\"\",'Kollega oplysninger'!M90)","v":""}]
[null,{"$f":"IF('Kollega oplysninger'!B91=\"\",\"\",'Kollega oplysninger'!B91)","v":""},{"$f":"IF('Kollega oplysninger'!C91=\"\",\"\",'Kollega oplysninger'!C91)","v":""},null,null,null,null,null,null,null,null,null,{"$f":"IF('Kollega oplysninger'!M91=\"\",\"\",'Kollega oplysninger'!M91)","v":""}]
[null,{"$f":"IF('Kollega oplysninger'!B92=\"\",\"\",'Kollega oplysninger'!B92)","v":""},{"$f":"IF('Kollega oplysninger'!C92=\"\",\"\",'Kollega oplysninger'!C92)","v":""},null,null,null,null,null,null,null,null,null,{"$f":"IF('Kollega oplysninger'!M92=\"\",\"\",'Kollega oplysninger'!M92)","v":""}]
[null,{"$f":"IF('Kollega oplysninger'!B93=\"\",\"\",'Kollega oplysninger'!B93)","v":""},{"$f":"IF('Kollega oplysninger'!C93=\"\",\"\",'Kollega oplysninger'!C93)","v":""},null,null,null,null,null,null,null,null,null,{"$f":"IF('Kollega oplysninger'!M93=\"\",\"\",'Kollega oplysninger'!M93)","v":""}]
[null,{"$f":"IF('Kollega oplysninger'!B94=\"\",\"\",'Kollega oplysninger'!B94)","v":""},{"$f":"IF('Kollega oplysninger'!C94=\"\",\"\",'Kollega oplysninger'!C94)","v":""},null,null,null,null,null,null,null,null,null,{"$f":"IF('Kollega oplysninger'!M94=\"\",\"\",'Kollega oplysninger'!M94)","v":""}]
[null,{"$f":"IF('Kollega oplysninger'!B95=\"\",\"\",'Kollega oplysninger'!B95)","v":""},{"$f":"IF('Kollega oplysninger'!C95=\"\",\"\",'Kollega oplysninger'!C95)","v":""},null,null,null,null,null,null,null,null,null,{"$f":"IF('Kollega oplysninger'!M95=\"\",\"\",'Kollega oplysninger'!M95)","v":""}]
[null,{"$f":"IF('Kollega oplysninger'!B96=\"\",\"\",'Kollega oplysninger'!B96)","v":""},{"$f":"IF('Kollega oplysninger'!C96=\"\",\"\",'Kollega oplysninger'!C96)","v":""},null,null,null,null,null,null,null,null,null,{"$f":"IF('Kollega oplysninger'!M96=\"\",\"\",'Kollega oplysninger'!M96)","v":""}]
[null,{"$f":"IF('Kollega oplysninger'!B97=\"\",\"\",'Kollega oplysninger'!B97)","v":""},{"$f":"IF('Kollega oplysninger'!C97=\"\",\"\",'Kollega oplysninger'!C97)","v":""},null,null,null,null,null,null,null,null,null,{"$f":"IF('Kollega oplysninger'!M97=\"\",\"\",'Kollega oplysninger'!M97)","v":""}]
[null,{"$f":"IF('Kollega oplysninger'!B98=\"\",\"\",'Kollega oplysninger'!B98)","v":""},{"$f":"IF('Kollega oplysninger'!C98=\"\",\"\",'Kollega oplysninger'!C98)","v":""},null,null,null,null,null,null,null,null,null,{"$f":"IF('Kollega oplysninger'!M98=\"\",\"\",'Kollega oplysninger'!M98)","v":""}]
[null,{"$f":"IF('Kollega oplysninger'!B99=\"\",\"\",'Kollega oplysninger'!B99)","v":""},{"$f":"IF('Kollega oplysninger'!C99=\"\",\"\",'Kollega oplysninger'!C99)","v":""},null,null,null,null,null,null,null,null,null,{"$f":"IF('Kollega oplysninger'!M99=\"\",\"\",'Kollega oplysninger'!M99)","v":""}]
[null,{"$f":"IF('Kollega oplysninger'!B100=\"\",\"\",'Kollega oplysninger'!B100)","v":""},{"$f":"IF('Kollega oplysninger'!C100=\"\",\"\",'Kollega oplysninger'!C100)","v":""},null,null,null,null,null,null,null,null,null,{"$f":"IF('Kollega oplysninger'!M100=\"\",\"\",'Kollega oplysninger'!M100)","v":""}]
[null,{"$f":"IF('Kollega oplysninger'!B101=\"\",\"\",'Kollega oplysninger'!B101)","v":""},{"$f":"IF('Kollega oplysninger'!C101=\"\",\"\",'Kollega oplysninger'!C101)","v":""},null,null,null,null,null,null,null,null,null,{"$f":"IF('Kollega oplysninger'!M101=\"\",\"\",'Kollega oplysninger'!M101)","v":""}]
[null,{"$f":"IF('Kollega oplysninger'!B102=\"\",\"\",'Kollega oplysninger'!B102)","v":""},{"$f":"IF('Kollega oplysninger'!C102=\"\",\"\",'Kollega oplysninger'!C102)","v":""},null,null,null,null,null,null,null,null,null,{"$f":"IF('Kollega oplysninger'!M102=\"\",\"\",'Kollega oplysninger'!M102)","v":""}]
[null,{"$f":"IF('Kollega oplysninger'!B103=\"\",\"\",'Kollega oplysninger'!B103)","v":""},{"$f":"IF('Kollega oplysninger'!C103=\"\",\"\",'Kollega oplysninger'!C103)","v":""},null,null,null,null,null,null,null,null,null,{"$f":"IF('Kollega oplysninger'!M103=\"\",\"\",'Kollega oplysninger'!M103)","v":""}]
[null,{"$f":"IF('Kollega oplysninger'!B104=\"\",\"\",'Kollega oplysninger'!B104)","v":""},{"$f":"IF('Kollega oplysninger'!C104=\"\",\"\",'Kollega oplysninger'!C104)","v":""},null,null,null,null,null,null,null,null,null,{"$f":"IF('Kollega oplysninger'!M104=\"\",\"\",'Kollega oplysninger'!M104)","v":""}]
[null,{"$f":"IF('Kollega oplysninger'!B105=\"\",\"\",'Kollega oplysninger'!B105)","v":""},{"$f":"IF('Kollega oplysninger'!C105=\"\",\"\",'Kollega oplysninger'!C105)","v":""},null,null,null,null,null,null,null,null,null,{"$f":"IF('Kollega oplysninger'!M105=\"\",\"\",'Kollega oplysninger'!M105)","v":""}]
[null,{"$f":"IF('Kollega oplysninger'!B106=\"\",\"\",'Kollega oplysninger'!B106)","v":""},{"$f":"IF('Kollega oplysninger'!C106=\"\",\"\",'Kollega oplysninger'!C106)","v":""},null,null,null,null,null,null,null,null,null,{"$f":"IF('Kollega oplysninger'!M106=\"\",\"\",'Kollega oplysninger'!M106)","v":""}]
[null,{"$f":"IF('Kollega oplysninger'!B107=\"\",\"\",'Kollega oplysninger'!B107)","v":""},{"$f":"IF('Kollega oplysninger'!C107=\"\",\"\",'Kollega oplysninger'!C107)","v":""},null,null,null,null,null,null,null,null,null,{"$f":"IF('Kollega oplysninger'!M107=\"\",\"\",'Kollega oplysninger'!M107)","v":""}]
[null,{"$f":"IF('Kollega oplysninger'!B108=\"\",\"\",'Kollega oplysninger'!B108)","v":""},{"$f":"IF('Kollega oplysninger'!C108=\"\",\"\",'Kollega oplysninger'!C108)","v":""},null,null,null,null,null,null,null,null,null,{"$f":"IF('Kollega oplysninger'!M108=\"\",\"\",'Kollega oplysninger'!M108)","v":""}]
[null,{"$f":"IF('Kollega oplysninger'!B109=\"\",\"\",'Kollega oplysninger'!B109)","v":""},{"$f":"IF('Kollega oplysninger'!C109=\"\",\"\",'Kollega oplysninger'!C109)","v":""},null,null,null,null,null,null,null,null,null,{"$f":"IF('Kollega oplysninger'!M109=\"\",\"\",'Kollega oplysninger'!M109)","v":""}]
[null,{"$f":"IF('Kollega oplysninger'!B110=\"\",\"\",'Kollega oplysninger'!B110)","v":""},{"$f":"IF('Kollega oplysninger'!C110=\"\",\"\",'Kollega oplysninger'!C110)","v":""},null,null,null,null,null,null,null,null,null,{"$f":"IF('Kollega oplysninger'!M110=\"\",\"\",'Kollega oplysninger'!M110)","v":""}]
[null,{"$f":"IF('Kollega oplysninger'!B111=\"\",\"\",'Kollega oplysninger'!B111)","v":""},{"$f":"IF('Kollega oplysninger'!C111=\"\",\"\",'Kollega oplysninger'!C111)","v":""},null,null,null,null,null,null,null,null,null,{"$f":"IF('Kollega oplysninger'!M111=\"\",\"\",'Kollega oplysninger'!M111)","v":""}]
[null,{"$f":"IF('Kollega oplysninger'!B112=\"\",\"\",'Kollega oplysninger'!B112)","v":""},{"$f":"IF('Kollega oplysninger'!C112=\"\",\"\",'Kollega oplysninger'!C112)","v":""},null,null,null,null,null,null,null,null,null,{"$f":"IF('Kollega oplysninger'!M112=\"\",\"\",'Kollega oplysninger'!M112)","v":""}]
[null,{"$f":"IF('Kollega oplysninger'!B113=\"\",\"\",'Kollega oplysninger'!B113)","v":""},{"$f":"IF('Kollega oplysninger'!C113=\"\",\"\",'Kollega oplysninger'!C113)","v":""},null,null,null,null,null,null,null,null,null,{"$f":"IF('Kollega oplysninger'!M113=\"\",\"\",'Kollega oplysninger'!M113)","v":""}]
[null,{"$f":"IF('Kollega oplysninger'!B114=\"\",\"\",'Kollega oplysninger'!B114)","v":""},{"$f":"IF('Kollega oplysninger'!C114=\"\",\"\",'Kollega oplysninger'!C114)","v":""},null,null,null,null,null,null,null,null,null,{"$f":"IF('Kollega oplysninger'!M114=\"\",\"\",'Kollega oplysninger'!M114)","v":""}]
[null,{"$f":"IF('Kollega oplysninger'!B115=\"\",\"\",'Kollega oplysninger'!B115)","v":""},{"$f":"IF('Kollega oplysninger'!C115=\"\",\"\",'Kollega oplysninger'!C115)","v":""},null,null,null,null,null,null,null,null,null,{"$f":"IF('Kollega oplysninger'!M115=\"\",\"\",'Kollega oplysninger'!M115)","v":""}]
[null,{"$f":"IF('Kollega oplysninger'!B116=\"\",\"\",'Kollega oplysninger'!B116)","v":""},{"$f":"IF('Kollega oplysninger'!C116=\"\",\"\",'Kollega oplysninger'!C116)","v":""},null,null,null,null,null,null,null,null,null,{"$f":"IF('Kollega oplysninger'!M116=\"\",\"\",'Kollega oplysninger'!M116)","v":""}]
[null,{"$f":"IF('Kollega oplysninger'!B117=\"\",\"\",'Kollega oplysninger'!B117)","v":""},{"$f":"IF('Kollega oplysninger'!C117=\"\",\"\",'Kollega oplysninger'!C117)","v":""},null,null,null,null,null,null,null,null,null,{"$f":"IF('Kollega oplysninger'!M117=\"\",\"\",'Kollega oplysninger'!M117)","v":""}]
[null,{"$f":"IF('Kollega oplysninger'!B118=\"\",\"\",'Kollega oplysninger'!B118)","v":""},{"$f":"IF('Kollega oplysninger'!C118=\"\",\"\",'Kollega oplysninger'!C118)","v":""},null,null,null,null,null,null,null,null,null,{"$f":"IF('Kollega oplysninger'!M118=\"\",\"\",'Kollega oplysninger'!M118)","v":""}]
[null,{"$f":"IF('Kollega oplysninger'!B119=\"\",\"\",'Kollega oplysninger'!B119)","v":""},{"$f":"IF('Kollega oplysninger'!C119=\"\",\"\",'Kollega oplysninger'!C119)","v":""},null,null,null,null,null,null,null,null,null,{"$f":"IF('Kollega oplysninger'!M119=\"\",\"\",'Kollega oplysninger'!M119)","v":""}]
[null,{"$f":"IF('Kollega oplysninger'!B120=\"\",\"\",'Kollega oplysninger'!B120)","v":""},{"$f":"IF('Kollega oplysninger'!C120=\"\",\"\",'Kollega oplysninger'!C120)","v":""},null,null,null,null,null,null,null,null,null,{"$f":"IF('Kollega oplysninger'!M120=\"\",\"\",'Kollega oplysninger'!M120)","v":""}]
[null,{"$f":"IF('Kollega oplysninger'!B121=\"\",\"\",'Kollega oplysninger'!B121)","v":""},{"$f":"IF('Kollega oplysninger'!C121=\"\",\"\",'Kollega oplysninger'!C121)","v":""},null,null,null,null,null,null,null,null,null,{"$f":"IF('Kollega oplysninger'!M121=\"\",\"\",'Kollega oplysninger'!M121)","v":""}]
[null,{"$f":"IF('Kollega oplysninger'!B122=\"\",\"\",'Kollega oplysninger'!B122)","v":""},{"$f":"IF('Kollega oplysninger'!C122=\"\",\"\",'Kollega oplysninger'!C122)","v":""},null,null,null,null,null,null,null,null,null,{"$f":"IF('Kollega oplysninger'!M122=\"\",\"\",'Kollega oplysninger'!M122)","v":""}]
[null,{"$f":"IF('Kollega oplysninger'!B123=\"\",\"\",'Kollega oplysninger'!B123)","v":""},{"$f":"IF('Kollega oplysninger'!C123=\"\",\"\",'Kollega oplysninger'!C123)","v":""},null,null,null,null,null,null,null,null,null,{"$f":"IF('Kollega oplysninger'!M123=\"\",\"\",'Kollega oplysninger'!M123)","v":""}]
[null,{"$f":"IF('Kollega oplysninger'!B124=\"\",\"\",'Kollega oplysninger'!B124)","v":""},{"$f":"IF('Kollega oplysninger'!C124=\"\",\"\",'Kollega oplysninger'!C124)","v":""},null,null,null,null,null,null,null,null,null,{"$f":"IF('Kollega oplysninger'!M124=\"\",\"\",'Kollega oplysninger'!M124)","v":""}]
[null,{"$f":"IF('Kollega oplysninger'!B125=\"\",\"\",'Kollega oplysninger'!B125)","v":""},{"$f":"IF('Kollega oplysninger'!C125=\"\",\"\",'Kollega oplysninger'!C125)","v":""},null,null,null,null,null,null,null,null,null,{"$f":"IF('Kollega oplysninger'!M125=\"\",\"\",'Kollega oplysninger'!M125)","v":""}]
[null,{"$f":"IF('Kollega oplysninger'!B126=\"\",\"\",'Kollega oplysninger'!B126)","v":""},{"$f":"IF('Kollega oplysninger'!C126=\"\",\"\",'Kollega oplysninger'!C126)","v":""},null,null,null,null,null,null,null,null,null,{"$f":"IF('Kollega oplysninger'!M126=\"\",\"\",'Kollega oplysninger'!M126)","v":""}]
[null,{"$f":"IF('Kollega oplysninger'!B127=\"\",\"\",'Kollega oplysninger'!B127)","v":""},{"$f":"IF('Kollega oplysninger'!C127=\"\",\"\",'Kollega oplysninger'!C127)","v":""},null,null,null,null,null,null,null,null,null,{"$f":"IF('Kollega oplysninger'!M127=\"\",\"\",'Kollega oplysninger'!M127)","v":""}]
[null,{"$f":"IF('Kollega oplysninger'!B128=\"\",\"\",'Kollega oplysninger'!B128)","v":""},{"$f":"IF('Kollega oplysninger'!C128=\"\",\"\",'Kollega oplysninger'!C128)","v":""},null,null,null,null,null,null,null,null,null,{"$f":"IF('Kollega oplysninger'!M128=\"\",\"\",'Kollega oplysninger'!M128)","v":""}]
[null,{"$f":"IF('Kollega oplysninger'!B129=\"\",\"\",'Kollega oplysninger'!B129)","v":""},{"$f":"IF('Kollega oplysninger'!C129=\"\",\"\",'Kollega oplysninger'!C129)","v":""},null,null,null,null,null,null,null,null,null,{"$f":"IF('Kollega oplysninger'!M129=\"\",\"\",'Kollega oplysninger'!M129)","v":""}]
[null,{"$f":"IF('Kollega oplysninger'!B130=\"\",\"\",'Kollega oplysninger'!B130)","v":""},{"$f":"IF('Kollega oplysninger'!C130=\"\",\"\",'Kollega oplysninger'!C130)","v":""},null,null,null,null,null,null,null,null,null,{"$f":"IF('Kollega oplysninger'!M130=\"\",\"\",'Kollega oplysninger'!M130)","v":""}]
[null,{"$f":"IF('Kollega oplysninger'!B131=\"\",\"\",'Kollega oplysninger'!B131)","v":""},{"$f":"IF('Kollega oplysninger'!C131=\"\",\"\",'Kollega oplysninger'!C131)","v":""},null,null,null,null,null,null,null,null,null,{"$f":"IF('Kollega oplysninger'!M131=\"\",\"\",'Kollega oplysninger'!M131)","v":""}]
[null,{"$f":"IF('Kollega oplysninger'!B132=\"\",\"\",'Kollega oplysninger'!B132)","v":""},{"$f":"IF('Kollega oplysninger'!C132=\"\",\"\",'Kollega oplysninger'!C132)","v":""},null,null,null,null,null,null,null,null,null,{"$f":"IF('Kollega oplysninger'!M132=\"\",\"\",'Kollega oplysninger'!M132)","v":""}]
[null,{"$f":"IF('Kollega oplysninger'!B133=\"\",\"\",'Kollega oplysninger'!B133)","v":""},{"$f":"IF('Kollega oplysninger'!C133=\"\",\"\",'Kollega oplysninger'!C133)","v":""},null,null,null,null,null,null,null,null,null,{"$f":"IF('Kollega oplysninger'!M133=\"\",\"\",'Kollega oplysninger'!M133)","v":""}]
[null,{"$f":"IF('Kollega oplysninger'!B134=\"\",\"\",'Kollega oplysninger'!B134)","v":""},{"$f":"IF('Kollega oplysninger'!C134=\"\",\"\",'Kollega oplysninger'!C134)","v":""},null,null,null,null,null,null,null,null,null,{"$f":"IF('Kollega oplysninger'!M134=\"\",\"\",'Kollega oplysninger'!M134)","v":""}]
[null,{"$f":"IF('Kollega oplysninger'!B135=\"\",\"\",'Kollega oplysninger'!B135)","v":""},{"$f":"IF('Kollega oplysninger'!C135=\"\",\"\",'Kollega oplysninger'!C135)","v":""},null,null,null,null,null,null,null,null,null,{"$f":"IF('Kollega oplysninger'!M135=\"\",\"\",'Kollega oplysninger'!M135)","v":""}]
[null,{"$f":"IF('Kollega oplysninger'!B136=\"\",\"\",'Kollega oplysninger'!B136)","v":""},{"$f":"IF('Kollega oplysninger'!C136=\"\",\"\",'Kollega oplysninger'!C136)","v":""},null,null,null,null,null,null,null,null,null,{"$f":"IF('Kollega oplysninger'!M136=\"\",\"\",'Kollega oplysninger'!M136)","v":""}]
[null,{"$f":"IF('Kollega oplysninger'!B137=\"\",\"\",'Kollega oplysninger'!B137)","v":""},{"$f":"IF('Kollega oplysninger'!C137=\"\",\"\",'Kollega oplysninger'!C137)","v":""},null,null,null,null,null,null,null,null,null,{"$f":"IF('Kollega oplysninger'!M137=\"\",\"\",'Kollega oplysninger'!M137)","v":""}]
[null,{"$f":"IF('Kollega oplysninger'!B138=\"\",\"\",'Kollega oplysninger'!B138)","v":""},{"$f":"IF('Kollega oplysninger'!C138=\"\",\"\",'Kollega oplysninger'!C138)","v":""},null,null,null,null,null,null,null,null,null,{"$f":"IF('Kollega oplysninger'!M138=\"\",\"\",'Kollega oplysninger'!M138)","v":""}]
[null,{"$f":"IF('Kollega oplysninger'!B139=\"\",\"\",'Kollega oplysninger'!B139)","v":""},{"$f":"IF('Kollega oplysninger'!C139=\"\",\"\",'Kollega oplysninger'!C139)","v":""},null,null,null,null,null,null,null,null,null,{"$f":"IF('Kollega oplysninger'!M139=\"\",\"\",'Kollega oplysninger'!M139)","v":""}]
[null,{"$f":"IF('Kollega oplysninger'!B140=\"\",\"\",'Kollega oplysninger'!B140)","v":""},{"$f":"IF('Kollega oplysninger'!C140=\"\",\"\",'Kollega oplysninger'!C140)","v":""},null,null,null,null,null,null,null,null,null,{"$f":"IF('Kollega oplysninger'!M140=\"\",\"\",'Kollega oplysninger'!M140)","v":""}]
[null,{"$f":"IF('Kollega oplysninger'!B141=\"\",\"\",'Kollega oplysninger'!B141)","v":""},{"$f":"IF('Kollega oplysninger'!C141=\"\",\"\",'Kollega oplysninger'!C141)","v":""},null,null,null,null,null,null,null,null,null,{"$f":"IF('Kollega oplysninger'!M141=\"\",\"\",'Kollega oplysninger'!M141)","v":""}]
[null,{"$f":"IF('Kollega oplysninger'!B142=\"\",\"\",'Kollega oplysninger'!B142)","v":""},{"$f":"IF('Kollega oplysninger'!C142=\"\",\"\",'Kollega oplysninger'!C142)","v":""},null,null,null,null,null,null,null,null,null,{"$f":"IF('Kollega oplysninger'!M142=\"\",\"\",'Kollega oplysninger'!M142)","v":""}]
[null,{"$f":"IF('Kollega oplysninger'!B143=\"\",\"\",'Kollega oplysninger'!B143)","v":""},{"$f":"IF('Kollega oplysninger'!C143=\"\",\"\",'Kollega oplysninger'!C143)","v":""},null,null,null,null,null,null,null,null,null,{"$f":"IF('Kollega oplysninger'!M143=\"\",\"\",'Kollega oplysninger'!M143)","v":""}]
[null,{"$f":"IF('Kollega oplysninger'!B144=\"\",\"\",'Kollega oplysninger'!B144)","v":""},{"$f":"IF('Kollega oplysninger'!C144=\"\",\"\",'Kollega oplysninger'!C144)","v":""},null,null,null,null,null,null,null,null,null,{"$f":"IF('Kollega oplysninger'!M144=\"\",\"\",'Kollega oplysninger'!M144)","v":""}]
[null,{"$f":"IF('Kollega oplysninger'!B145=\"\",\"\",'Kollega oplysninger'!B145)","v":""},{"$f":"IF('Kollega oplysninger'!C145=\"\",\"\",'Kollega oplysninger'!C145)","v":""},null,null,null,null,null,null,null,null,null,{"$f":"IF('Kollega oplysninger'!M145=\"\",\"\",'Kollega oplysninger'!M145)","v":""}]
[null,{"$f":"IF('Kollega oplysninger'!B146=\"\",\"\",'Kollega oplysninger'!B146)","v":""},{"$f":"IF('Kollega oplysninger'!C146=\"\",\"\",'Kollega oplysninger'!C146)","v":""},null,null,null,null,null,null,null,null,null,{"$f":"IF('Kollega oplysninger'!M146=\"\",\"\",'Kollega oplysninger'!M146)","v":""}]
[null,{"$f":"IF('Kollega oplysninger'!B147=\"\",\"\",'Kollega oplysninger'!B147)","v":""},{"$f":"IF('Kollega oplysninger'!C147=\"\",\"\",'Kollega oplysninger'!C147)","v":""},null,null,null,null,null,null,null,null,null,{"$f":"IF('Kollega oplysninger'!M147=\"\",\"\",'Kollega oplysninger'!M147)","v":""}]
[null,{"$f":"IF('Kollega oplysninger'!B148=\"\",\"\",'Kollega oplysninger'!B148)","v":""},{"$f":"IF('Kollega oplysninger'!C148=\"\",\"\",'Kollega oplysninger'!C148)","v":""},null,null,null,null,null,null,null,null,null,{"$f":"IF('Kollega oplysninger'!M148=\"\",\"\",'Kollega oplysninger'!M148)","v":""}]
[null,{"$f":"IF('Kollega oplysninger'!B149=\"\",\"\",'Kollega oplysninger'!B149)","v":""},{"$f":"IF('Kollega oplysninger'!C149=\"\",\"\",'Kollega oplysninger'!C149)","v":""},null,null,null,null,null,null,null,null,null,{"$f":"IF('Kollega oplysninger'!M149=\"\",\"\",'Kollega oplysninger'!M149)","v":""}]
[null,{"$f":"IF('Kollega oplysninger'!B150=\"\",\"\",'Kollega oplysninger'!B150)","v":""},{"$f":"IF('Kollega oplysninger'!C150=\"\",\"\",'Kollega oplysninger'!C150)","v":""},null,null,null,null,null,null,null,null,null,{"$f":"IF('Kollega oplysninger'!M150=\"\",\"\",'Kollega oplysninger'!M150)","v":""}]
[null,{"$f":"IF('Kollega oplysninger'!B151=\"\",\"\",'Kollega oplysninger'!B151)","v":""},{"$f":"IF('Kollega oplysninger'!C151=\"\",\"\",'Kollega oplysninger'!C151)","v":""},null,null,null,null,null,null,null,null,null,{"$f":"IF('Kollega oplysninger'!M151=\"\",\"\",'Kollega oplysninger'!M151)","v":""}]
[null,{"$f":"IF('Kollega oplysninger'!B152=\"\",\"\",'Kollega oplysninger'!B152)","v":""},{"$f":"IF('Kollega oplysninger'!C152=\"\",\"\",'Kollega oplysninger'!C152)","v":""},null,null,null,null,null,null,null,null,null,{"$f":"IF('Kollega oplysninger'!M152=\"\",\"\",'Kollega oplysninger'!M152)","v":""}]
[null,{"$f":"IF('Kollega oplysninger'!B153=\"\",\"\",'Kollega oplysninger'!B153)","v":""},{"$f":"IF('Kollega oplysninger'!C153=\"\",\"\",'Kollega oplysninger'!C153)","v":""},null,null,null,null,null,null,null,null,null,{"$f":"IF('Kollega oplysninger'!M153=\"\",\"\",'Kollega oplysninger'!M153)","v":""}]
[null,{"$f":"IF('Kollega oplysninger'!B154=\"\",\"\",'Kollega oplysninger'!B154)","v":""},{"$f":"IF('Kollega oplysninger'!C154=\"\",\"\",'Kollega oplysninger'!C154)","v":""},null,null,null,null,null,null,null,null,null,{"$f":"IF('Kollega oplysninger'!M154=\"\",\"\",'Kollega oplysninger'!M154)","v":""}]
[null,{"$f":"IF('Kollega oplysninger'!B155=\"\",\"\",'Kollega oplysninger'!B155)","v":""},{"$f":"IF('Kollega oplysninger'!C155=\"\",\"\",'Kollega oplysninger'!C155)","v":""},null,null,null,null,null,null,null,null,null,{"$f":"IF('Kollega oplysninger'!M155=\"\",\"\",'Kollega oplysninger'!M155)","v":""}]
[null,{"$f":"IF('Kollega oplysninger'!B156=\"\",\"\",'Kollega oplysninger'!B156)","v":""},{"$f":"IF('Kollega oplysninger'!C156=\"\",\"\",'Kollega oplysninger'!C156)","v":""},null,null,null,null,null,null,null,null,null,{"$f":"IF('Kollega oplysninger'!M156=\"\",\"\",'Kollega oplysninger'!M156)","v":""}]
[null,{"$f":"IF('Kollega oplysninger'!B157=\"\",\"\",'Kollega oplysninger'!B157)","v":""},{"$f":"IF('Kollega oplysninger'!C157=\"\",\"\",'Kollega oplysninger'!C157)","v":""},null,null,null,null,null,null,null,null,null,{"$f":"IF('Kollega oplysninger'!M157=\"\",\"\",'Kollega oplysninger'!M157)","v":""}]
[null,{"$f":"IF('Kollega oplysninger'!B158=\"\",\"\",'Kollega oplysninger'!B158)","v":""},{"$f":"IF('Kollega oplysninger'!C158=\"\",\"\",'Kollega oplysninger'!C158)","v":""},null,null,null,null,null,null,null,null,null,{"$f":"IF('Kollega oplysninger'!M158=\"\",\"\",'Kollega oplysninger'!M158)","v":""}]
[null,{"$f":"IF('Kollega oplysninger'!B159=\"\",\"\",'Kollega oplysninger'!B159)","v":""},{"$f":"IF('Kollega oplysninger'!C159=\"\",\"\",'Kollega oplysninger'!C159)","v":""},null,null,null,null,null,null,null,null,null,{"$f":"IF('Kollega oplysninger'!M159=\"\",\"\",'Kollega oplysninger'!M159)","v":""}]
[null,{"$f":"IF('Kollega oplysninger'!B160=\"\",\"\",'Kollega oplysninger'!B160)","v":""},{"$f":"IF('Kollega oplysninger'!C160=\"\",\"\",'Kollega oplysninger'!C160)","v":""},null,null,null,null,null,null,null,null,null,{"$f":"IF('Kollega oplysninger'!M160=\"\",\"\",'Kollega oplysninger'!M160)","v":""}]
[null,{"$f":"IF('Kollega oplysninger'!B161=\"\",\"\",'Kollega oplysninger'!B161)","v":""},{"$f":"IF('Kollega oplysninger'!C161=\"\",\"\",'Kollega oplysninger'!C161)","v":""},null,null,null,null,null,null,null,null,null,{"$f":"IF('Kollega oplysninger'!M161=\"\",\"\",'Kollega oplysninger'!M161)","v":""}]
[null,{"$f":"IF('Kollega oplysninger'!B162=\"\",\"\",'Kollega oplysninger'!B162)","v":""},{"$f":"IF('Kollega oplysninger'!C162=\"\",\"\",'Kollega oplysninger'!C162)","v":""},null,null,null,null,null,null,null,null,null,{"$f":"IF('Kollega oplysninger'!M162=\"\",\"\",'Kollega oplysninger'!M162)","v":""}]
[null,{"$f":"IF('Kollega oplysninger'!B163=\"\",\"\",'Kollega oplysninger'!B163)","v":""},{"$f":"IF('Kollega oplysninger'!C163=\"\",\"\",'Kollega oplysninger'!C163)","v":""},null,null,null,null,null,null,null,null,null,{"$f":"IF('Kollega oplysninger'!M163=\"\",\"\",'Kollega oplysninger'!M163)","v":""}]
[null,{"$f":"IF('Kollega oplysninger'!B164=\"\",\"\",'Kollega oplysninger'!B164)","v":""},{"$f":"IF('Kollega oplysninger'!C164=\"\",\"\",'Kollega oplysninger'!C164)","v":""},null,null,null,null,null,null,null,null,null,{"$f":"IF('Kollega oplysninger'!M164=\"\",\"\",'Kollega oplysninger'!M164)","v":""}]
[null,{"$f":"IF('Kollega oplysninger'!B165=\"\",\"\",'Kollega oplysninger'!B165)","v":""},{"$f":"IF('Kollega oplysninger'!C165=\"\",\"\",'Kollega oplysninger'!C165)","v":""},null,null,null,null,null,null,null,null,null,{"$f":"IF('Kollega oplysninger'!M165=\"\",\"\",'Kollega oplysninger'!M165)","v":""}]
[null,{"$f":"IF('Kollega oplysninger'!B166=\"\",\"\",'Kollega oplysninger'!B166)","v":""},{"$f":"IF('Kollega oplysninger'!C166=\"\",\"\",'Kollega oplysninger'!C166)","v":""},null,null,null,null,null,null,null,null,null,{"$f":"IF('Kollega oplysninger'!M166=\"\",\"\",'Kollega oplysninger'!M166)","v":""}]
[null,{"$f":"IF('Kollega oplysninger'!B167=\"\",\"\",'Kollega oplysninger'!B167)","v":""},{"$f":"IF('Kollega oplysninger'!C167=\"\",\"\",'Kollega oplysninger'!C167)","v":""},null,null,null,null,null,null,null,null,null,{"$f":"IF('Kollega oplysninger'!M167=\"\",\"\",'Kollega oplysninger'!M167)","v":""}]
[null,{"$f":"IF('Kollega oplysninger'!B168=\"\",\"\",'Kollega oplysninger'!B168)","v":""},{"$f":"IF('Kollega oplysninger'!C168=\"\",\"\",'Kollega oplysninger'!C168)","v":""},null,null,null,null,null,null,null,null,null,{"$f":"IF('Kollega oplysninger'!M168=\"\",\"\",'Kollega oplysninger'!M168)","v":""}]
[null,{"$f":"IF('Kollega oplysninger'!B169=\"\",\"\",'Kollega oplysninger'!B169)","v":""},{"$f":"IF('Kollega oplysninger'!C169=\"\",\"\",'Kollega oplysninger'!C169)","v":""},null,null,null,null,null,null,null,null,null,{"$f":"IF('Kollega oplysninger'!M169=\"\",\"\",'Kollega oplysninger'!M169)","v":""}]
[null,{"$f":"IF('Kollega oplysninger'!B170=\"\",\"\",'Kollega oplysninger'!B170)","v":""},{"$f":"IF('Kollega oplysninger'!C170=\"\",\"\",'Kollega oplysninger'!C170)","v":""},null,null,null,null,null,null,null,null,null,{"$f":"IF('Kollega oplysninger'!M170=\"\",\"\",'Kollega oplysninger'!M170)","v":""}]
[null,{"$f":"IF('Kollega oplysninger'!B171=\"\",\"\",'Kollega oplysninger'!B171)","v":""},{"$f":"IF('Kollega oplysninger'!C171=\"\",\"\",'Kollega oplysninger'!C171)","v":""},null,null,null,null,null,null,null,null,null,{"$f":"IF('Kollega oplysninger'!M171=\"\",\"\",'Kollega oplysninger'!M171)","v":""}]
[null,{"$f":"IF('Kollega oplysninger'!B172=\"\",\"\",'Kollega oplysninger'!B172)","v":""},{"$f":"IF('Kollega oplysninger'!C172=\"\",\"\",'Kollega oplysninger'!C172)","v":""},null,null,null,null,null,null,null,null,null,{"$f":"IF('Kollega oplysninger'!M172=\"\",\"\",'Kollega oplysninger'!M172)","v":""}]
[null,{"$f":"IF('Kollega oplysninger'!B173=\"\",\"\",'Kollega oplysninger'!B173)","v":""},{"$f":"IF('Kollega oplysninger'!C173=\"\",\"\",'Kollega oplysninger'!C173)","v":""},null,null,null,null,null,null,null,null,null,{"$f":"IF('Kollega oplysninger'!M173=\"\",\"\",'Kollega oplysninger'!M173)","v":""}]
[null,{"$f":"IF('Kollega oplysninger'!B174=\"\",\"\",'Kollega oplysninger'!B174)","v":""},{"$f":"IF('Kollega oplysninger'!C174=\"\",\"\",'Kollega oplysninger'!C174)","v":""},null,null,null,null,null,null,null,null,null,{"$f":"IF('Kollega oplysninger'!M174=\"\",\"\",'Kollega oplysninger'!M174)","v":""}]
[null,{"$f":"IF('Kollega oplysninger'!B175=\"\",\"\",'Kollega oplysninger'!B175)","v":""},{"$f":"IF('Kollega oplysninger'!C175=\"\",\"\",'Kollega oplysninger'!C175)","v":""},null,null,null,null,null,null,null,null,null,{"$f":"IF('Kollega oplysninger'!M175=\"\",\"\",'Kollega oplysninger'!M175)","v":""}]
[null,{"$f":"IF('Kollega oplysninger'!B176=\"\",\"\",'Kollega oplysninger'!B176)","v":""},{"$f":"IF('Kollega oplysninger'!C176=\"\",\"\",'Kollega oplysninger'!C176)","v":""},null,null,null,null,null,null,null,null,null,{"$f":"IF('Kollega oplysninger'!M176=\"\",\"\",'Kollega oplysninger'!M176)","v":""}]
[null,{"$f":"IF('Kollega oplysninger'!B177=\"\",\"\",'Kollega oplysninger'!B177)","v":""},{"$f":"IF('Kollega oplysninger'!C177=\"\",\"\",'Kollega oplysninger'!C177)","v":""},null,null,null,null,null,null,null,null,null,{"$f":"IF('Kollega oplysninger'!M177=\"\",\"\",'Kollega oplysninger'!M177)","v":""}]
[null,{"$f":"IF('Kollega oplysninger'!B178=\"\",\"\",'Kollega oplysninger'!B178)","v":""},{"$f":"IF('Kollega oplysninger'!C178=\"\",\"\",'Kollega oplysninger'!C178)","v":""},null,null,null,null,null,null,null,null,null,{"$f":"IF('Kollega oplysninger'!M178=\"\",\"\",'Kollega oplysninger'!M178)","v":""}]
[null,{"$f":"IF('Kollega oplysninger'!B179=\"\",\"\",'Kollega oplysninger'!B179)","v":""},{"$f":"IF('Kollega oplysninger'!C179=\"\",\"\",'Kollega oplysninger'!C179)","v":""},null,null,null,null,null,null,null,null,null,{"$f":"IF('Kollega oplysninger'!M179=\"\",\"\",'Kollega oplysninger'!M179)","v":""}]
[null,{"$f":"IF('Kollega oplysninger'!B180=\"\",\"\",'Kollega oplysninger'!B180)","v":""},{"$f":"IF('Kollega oplysninger'!C180=\"\",\"\",'Kollega oplysninger'!C180)","v":""},null,null,null,null,null,null,null,null,null,{"$f":"IF('Kollega oplysninger'!M180=\"\",\"\",'Kollega oplysninger'!M180)","v":""}]
[null,{"$f":"IF('Kollega oplysninger'!B181=\"\",\"\",'Kollega oplysninger'!B181)","v":""},{"$f":"IF('Kollega oplysninger'!C181=\"\",\"\",'Kollega oplysninger'!C181)","v":""},null,null,null,null,null,null,null,null,null,{"$f":"IF('Kollega oplysninger'!M181=\"\",\"\",'Kollega oplysninger'!M181)","v":""}]
[null,{"$f":"IF('Kollega oplysninger'!B182=\"\",\"\",'Kollega oplysninger'!B182)","v":""},{"$f":"IF('Kollega oplysninger'!C182=\"\",\"\",'Kollega oplysninger'!C182)","v":""},null,null,null,null,null,null,null,null,null,{"$f":"IF('Kollega oplysninger'!M182=\"\",\"\",'Kollega oplysninger'!M182)","v":""}]
[null,{"$f":"IF('Kollega oplysninger'!B183=\"\",\"\",'Kollega oplysninger'!B183)","v":""},{"$f":"IF('Kollega oplysninger'!C183=\"\",\"\",'Kollega oplysninger'!C183)","v":""},null,null,null,null,null,null,null,null,null,{"$f":"IF('Kollega oplysninger'!M183=\"\",\"\",'Kollega oplysninger'!M183)","v":""}]
[null,{"$f":"IF('Kollega oplysninger'!B184=\"\",\"\",'Kollega oplysninger'!B184)","v":""},{"$f":"IF('Kollega oplysninger'!C184=\"\",\"\",'Kollega oplysninger'!C184)","v":""},null,null,null,null,null,null,null,null,null,{"$f":"IF('Kollega oplysninger'!M184=\"\",\"\",'Kollega oplysninger'!M184)","v":""}]
[null,{"$f":"IF('Kollega oplysninger'!B185=\"\",\"\",'Kollega oplysninger'!B185)","v":""},{"$f":"IF('Kollega oplysninger'!C185=\"\",\"\",'Kollega oplysninger'!C185)","v":""},null,null,null,null,null,null,null,null,null,{"$f":"IF('Kollega oplysninger'!M185=\"\",\"\",'Kollega oplysninger'!M185)","v":""}]
[null,{"$f":"IF('Kollega oplysninger'!B186=\"\",\"\",'Kollega oplysninger'!B186)","v":""},{"$f":"IF('Kollega oplysninger'!C186=\"\",\"\",'Kollega oplysninger'!C186)","v":""},null,null,null,null,null,null,null,null,null,{"$f":"IF('Kollega oplysninger'!M186=\"\",\"\",'Kollega oplysninger'!M186)","v":""}]
[null,{"$f":"IF('Kollega oplysninger'!B187=\"\",\"\",'Kollega oplysninger'!B187)","v":""},{"$f":"IF('Kollega oplysninger'!C187=\"\",\"\",'Kollega oplysninger'!C187)","v":""},null,null,null,null,null,null,null,null,null,{"$f":"IF('Kollega oplysninger'!M187=\"\",\"\",'Kollega oplysninger'!M187)","v":""}]
[null,{"$f":"IF('Kollega oplysninger'!B188=\"\",\"\",'Kollega oplysninger'!B188)","v":""},{"$f":"IF('Kollega oplysninger'!C188=\"\",\"\",'Kollega oplysninger'!C188)","v":""},null,null,null,null,null,null,null,null,null,{"$f":"IF('Kollega oplysninger'!M188=\"\",\"\",'Kollega oplysninger'!M188)","v":""}]
[null,{"$f":"IF('Kollega oplysninger'!B189=\"\",\"\",'Kollega oplysninger'!B189)","v":""},{"$f":"IF('Kollega oplysninger'!C189=\"\",\"\",'Kollega oplysninger'!C189)","v":""},null,null,null,null,null,null,null,null,null,{"$f":"IF('Kollega oplysninger'!M189=\"\",\"\",'Kollega oplysninger'!M189)","v":""}]
[null,{"$f":"IF('Kollega oplysninger'!B190=\"\",\"\",'Kollega oplysninger'!B190)","v":""},{"$f":"IF('Kollega oplysninger'!C190=\"\",\"\",'Kollega oplysninger'!C190)","v":""},null,null,null,null,null,null,null,null,null,{"$f":"IF('Kollega oplysninger'!M190=\"\",\"\",'Kollega oplysninger'!M190)","v":""}]
[null,{"$f":"IF('Kollega oplysninger'!B191=\"\",\"\",'Kollega oplysninger'!B191)","v":""},{"$f":"IF('Kollega oplysninger'!C191=\"\",\"\",'Kollega oplysninger'!C191)","v":""},null,null,null,null,null,null,null,null,null,{"$f":"IF('Kollega oplysninger'!M191=\"\",\"\",'Kollega oplysninger'!M191)","v":""}]
[null,{"$f":"IF('Kollega oplysninger'!B192=\"\",\"\",'Kollega oplysninger'!B192)","v":""},{"$f":"IF('Kollega oplysninger'!C192=\"\",\"\",'Kollega oplysninger'!C192)","v":""},null,null,null,null,null,null,null,null,null,{"$f":"IF('Kollega oplysninger'!M192=\"\",\"\",'Kollega oplysninger'!M192)","v":""}]
[null,{"$f":"IF('Kollega oplysninger'!B193=\"\",\"\",'Kollega oplysninger'!B193)","v":""},{"$f":"IF('Kollega oplysninger'!C193=\"\",\"\",'Kollega oplysninger'!C193)","v":""},null,null,null,null,null,null,null,null,null,{"$f":"IF('Kollega oplysninger'!M193=\"\",\"\",'Kollega oplysninger'!M193)","v":""}]
[null,{"$f":"IF('Kollega oplysninger'!B194=\"\",\"\",'Kollega oplysninger'!B194)","v":""},{"$f":"IF('Kollega oplysninger'!C194=\"\",\"\",'Kollega oplysninger'!C194)","v":""},null,null,null,null,null,null,null,null,null,{"$f":"IF('Kollega oplysninger'!M194=\"\",\"\",'Kollega oplysninger'!M194)","v":""}]
[null,{"$f":"IF('Kollega oplysninger'!B195=\"\",\"\",'Kollega oplysninger'!B195)","v":""},{"$f":"IF('Kollega oplysninger'!C195=\"\",\"\",'Kollega oplysninger'!C195)","v":""},null,null,null,null,null,null,null,null,null,{"$f":"IF('Kollega oplysninger'!M195=\"\",\"\",'Kollega oplysninger'!M195)","v":""}]
[null,{"$f":"IF('Kollega oplysninger'!B196=\"\",\"\",'Kollega oplysninger'!B196)","v":""},{"$f":"IF('Kollega oplysninger'!C196=\"\",\"\",'Kollega oplysninger'!C196)","v":""},null,null,null,null,null,null,null,null,null,{"$f":"IF('Kollega oplysninger'!M196=\"\",\"\",'Kollega oplysninger'!M196)","v":""}]
[null,{"$f":"IF('Kollega oplysninger'!B197=\"\",\"\",'Kollega oplysninger'!B197)","v":""},{"$f":"IF('Kollega oplysninger'!C197=\"\",\"\",'Kollega oplysninger'!C197)","v":""},null,null,null,null,null,null,null,null,null,{"$f":"IF('Kollega oplysninger'!M197=\"\",\"\",'Kollega oplysninger'!M197)","v":""}]
[null,{"$f":"IF('Kollega oplysninger'!B198=\"\",\"\",'Kollega oplysninger'!B198)","v":""},{"$f":"IF('Kollega oplysninger'!C198=\"\",\"\",'Kollega oplysninger'!C198)","v":""},null,null,null,null,null,null,null,null,null,{"$f":"IF('Kollega oplysninger'!M198=\"\",\"\",'Kollega oplysninger'!M198)","v":""}]
[null,{"$f":"IF('Kollega oplysninger'!B199=\"\",\"\",'Kollega oplysninger'!B199)","v":""},{"$f":"IF('Kollega oplysninger'!C199=\"\",\"\",'Kollega oplysninger'!C199)","v":""},null,null,null,null,null,null,null,null,null,{"$f":"IF('Kollega oplysninger'!M199=\"\",\"\",'Kollega oplysninger'!M199)","v":""}]
[null,{"$f":"IF('Kollega oplysninger'!B200=\"\",\"\",'Kollega oplysninger'!B200)","v":""},{"$f":"IF('Kollega oplysninger'!C200=\"\",\"\",'Kollega oplysninger'!C200)","v":""},null,null,null,null,null,null,null,null,null,{"$f":"IF('Kollega oplysninger'!M200=\"\",\"\",'Kollega oplysninger'!M200)","v":""}]
[null,{"$f":"IF('Kollega oplysninger'!B201=\"\",\"\",'Kollega oplysninger'!B201)","v":""},{"$f":"IF('Kollega oplysninger'!C201=\"\",\"\",'Kollega oplysninger'!C201)","v":""},null,null,null,null,null,null,null,null,null,{"$f":"IF('Kollega oplysninger'!M201=\"\",\"\",'Kollega oplysninger'!M201)","v":""}]
[null,{"$f":"IF('Kollega oplysninger'!B202=\"\",\"\",'Kollega oplysninger'!B202)","v":""},{"$f":"IF('Kollega oplysninger'!C202=\"\",\"\",'Kollega oplysninger'!C202)","v":""},null,null,null,null,null,null,null,null,null,{"$f":"IF('Kollega oplysninger'!M202=\"\",\"\",'Kollega oplysninger'!M202)","v":""}]
[null,{"$f":"IF('Kollega oplysninger'!B203=\"\",\"\",'Kollega oplysninger'!B203)","v":""},{"$f":"IF('Kollega oplysninger'!C203=\"\",\"\",'Kollega oplysninger'!C203)","v":""},null,null,null,null,null,null,null,null,null,{"$f":"IF('Kollega oplysninger'!M203=\"\",\"\",'Kollega oplysninger'!M203)","v":""}]
[null,{"$f":"IF('Kollega oplysninger'!B204=\"\",\"\",'Kollega oplysninger'!B204)","v":""},{"$f":"IF('Kollega oplysninger'!C204=\"\",\"\",'Kollega oplysninger'!C204)","v":""},null,null,null,null,null,null,null,null,null,{"$f":"IF('Kollega oplysninger'!M204=\"\",\"\",'Kollega oplysninger'!M204)","v":""}]
[null,{"$f":"IF('Kollega oplysninger'!B205=\"\",\"\",'Kollega oplysninger'!B205)","v":""},{"$f":"IF('Kollega oplysninger'!C205=\"\",\"\",'Kollega oplysninger'!C205)","v":""},null,null,null,null,null,null,null,null,null,{"$f":"IF('Kollega oplysninger'!M205=\"\",\"\",'Kollega oplysninger'!M205)","v":""}]
[null,{"$f":"IF('Kollega oplysninger'!B206=\"\",\"\",'Kollega oplysninger'!B206)","v":""},{"$f":"IF('Kollega oplysninger'!C206=\"\",\"\",'Kollega oplysninger'!C206)","v":""},null,null,null,null,null,null,null,null,null,{"$f":"IF('Kollega oplysninger'!M206=\"\",\"\",'Kollega oplysninger'!M206)","v":""}]
[null,{"$f":"IF('Kollega oplysninger'!B207=\"\",\"\",'Kollega oplysninger'!B207)","v":""},{"$f":"IF('Kollega oplysninger'!C207=\"\",\"\",'Kollega oplysninger'!C207)","v":""},null,null,null,null,null,null,null,null,null,{"$f":"IF('Kollega oplysninger'!M207=\"\",\"\",'Kollega oplysninger'!M207)","v":""}]
[null,{"$f":"IF('Kollega oplysninger'!B208=\"\",\"\",'Kollega oplysninger'!B208)","v":""},{"$f":"IF('Kollega oplysninger'!C208=\"\",\"\",'Kollega oplysninger'!C208)","v":""},null,null,null,null,null,null,null,null,null,{"$f":"IF('Kollega oplysninger'!M208=\"\",\"\",'Kollega oplysninger'!M208)","v":""}]
[null,{"$f":"IF('Kollega oplysninger'!B209=\"\",\"\",'Kollega oplysninger'!B209)","v":""},{"$f":"IF('Kollega oplysninger'!C209=\"\",\"\",'Kollega oplysninger'!C209)","v":""},null,null,null,null,null,null,null,null,null,{"$f":"IF('Kollega oplysninger'!M209=\"\",\"\",'Kollega oplysninger'!M209)","v":""}]
[null,{"$f":"IF('Kollega oplysninger'!B210=\"\",\"\",'Kollega oplysninger'!B210)","v":""},{"$f":"IF('Kollega oplysninger'!C210=\"\",\"\",'Kollega oplysninger'!C210)","v":""},null,null,null,null,null,null,null,null,null,{"$f":"IF('Kollega oplysninger'!M210=\"\",\"\",'Kollega oplysninger'!M210)","v":""}]
[null,{"$f":"IF('Kollega oplysninger'!B211=\"\",\"\",'Kollega oplysninger'!B211)","v":""},{"$f":"IF('Kollega oplysninger'!C211=\"\",\"\",'Kollega oplysninger'!C211)","v":""},null,null,null,null,null,null,null,null,null,{"$f":"IF('Kollega oplysninger'!M211=\"\",\"\",'Kollega oplysninger'!M211)","v":""}]
[null,{"$f":"IF('Kollega oplysninger'!B212=\"\",\"\",'Kollega oplysninger'!B212)","v":""},{"$f":"IF('Kollega oplysninger'!C212=\"\",\"\",'Kollega oplysninger'!C212)","v":""},null,null,null,null,null,null,null,null,null,{"$f":"IF('Kollega oplysninger'!M212=\"\",\"\",'Kollega oplysninger'!M212)","v":""}]
[null,{"$f":"IF('Kollega oplysninger'!B213=\"\",\"\",'Kollega oplysninger'!B213)","v":""},{"$f":"IF('Kollega oplysninger'!C213=\"\",\"\",'Kollega oplysninger'!C213)","v":""},null,null,null,null,null,null,null,null,null,{"$f":"IF('Kollega oplysninger'!M213=\"\",\"\",'Kollega oplysninger'!M213)","v":""}]
[null,{"$f":"IF('Kollega oplysninger'!B214=\"\",\"\",'Kollega oplysninger'!B214)","v":""},{"$f":"IF('Kollega oplysninger'!C214=\"\",\"\",'Kollega oplysninger'!C214)","v":""},null,null,null,null,null,null,null,null,null,{"$f":"IF('Kollega oplysninger'!M214=\"\",\"\",'Kollega oplysninger'!M214)","v":""}]
[null,{"$f":"IF('Kollega oplysninger'!B215=\"\",\"\",'Kollega oplysninger'!B215)","v":""},{"$f":"IF('Kollega oplysninger'!C215=\"\",\"\",'Kollega oplysninger'!C215)","v":""},null,null,null,null,null,null,null,null,null,{"$f":"IF('Kollega oplysninger'!M215=\"\",\"\",'Kollega oplysninger'!M215)","v":""}]
[null,{"$f":"IF('Kollega oplysninger'!B216=\"\",\"\",'Kollega oplysninger'!B216)","v":""},{"$f":"IF('Kollega oplysninger'!C216=\"\",\"\",'Kollega oplysninger'!C216)","v":""},null,null,null,null,null,null,null,null,null,{"$f":"IF('Kollega oplysninger'!M216=\"\",\"\",'Kollega oplysninger'!M216)","v":""}]
[null,{"$f":"IF('Kollega oplysninger'!B217=\"\",\"\",'Kollega oplysninger'!B217)","v":""},{"$f":"IF('Kollega oplysninger'!C217=\"\",\"\",'Kollega oplysninger'!C217)","v":""},null,null,null,null,null,null,null,null,null,{"$f":"IF('Kollega oplysninger'!M217=\"\",\"\",'Kollega oplysninger'!M217)","v":""}]
[null,{"$f":"IF('Kollega oplysninger'!B218=\"\",\"\",'Kollega oplysninger'!B218)","v":""},{"$f":"IF('Kollega oplysninger'!C218=\"\",\"\",'Kollega oplysninger'!C218)","v":""},null,null,null,null,null,null,null,null,null,{"$f":"IF('Kollega oplysninger'!M218=\"\",\"\",'Kollega oplysninger'!M218)","v":""}]
[null,{"$f":"IF('Kollega oplysninger'!B219=\"\",\"\",'Kollega oplysninger'!B219)","v":""},{"$f":"IF('Kollega oplysninger'!C219=\"\",\"\",'Kollega oplysninger'!C219)","v":""},null,null,null,null,null,null,null,null,null,{"$f":"IF('Kollega oplysninger'!M219=\"\",\"\",'Kollega oplysninger'!M219)","v":""}]
[null,{"$f":"IF('Kollega oplysninger'!B220=\"\",\"\",'Kollega oplysninger'!B220)","v":""},{"$f":"IF('Kollega oplysninger'!C220=\"\",\"\",'Kollega oplysninger'!C220)","v":""},null,null,null,null,null,null,null,null,null,{"$f":"IF('Kollega oplysninger'!M220=\"\",\"\",'Kollega oplysninger'!M220)","v":""}]
[null,{"$f":"IF('Kollega oplysninger'!B221=\"\",\"\",'Kollega oplysninger'!B221)","v":""},{"$f":"IF('Kollega oplysninger'!C221=\"\",\"\",'Kollega oplysninger'!C221)","v":""},null,null,null,null,null,null,null,null,null,{"$f":"IF('Kollega oplysninger'!M221=\"\",\"\",'Kollega oplysninger'!M221)","v":""}]
[null,{"$f":"IF('Kollega oplysninger'!B222=\"\",\"\",'Kollega oplysninger'!B222)","v":""},{"$f":"IF('Kollega oplysninger'!C222=\"\",\"\",'Kollega oplysninger'!C222)","v":""},null,null,null,null,null,null,null,null,null,{"$f":"IF('Kollega oplysninger'!M222=\"\",\"\",'Kollega oplysninger'!M222)","v":""}]
[null,{"$f":"IF('Kollega oplysninger'!B223=\"\",\"\",'Kollega oplysninger'!B223)","v":""},{"$f":"IF('Kollega oplysninger'!C223=\"\",\"\",'Kollega oplysninger'!C223)","v":""},null,null,null,null,null,null,null,null,null,{"$f":"IF('Kollega oplysninger'!M223=\"\",\"\",'Kollega oplysninger'!M223)","v":""}]
[null,{"$f":"IF('Kollega oplysninger'!B224=\"\",\"\",'Kollega oplysninger'!B224)","v":""},{"$f":"IF('Kollega oplysninger'!C224=\"\",\"\",'Kollega oplysninger'!C224)","v":""},null,null,null,null,null,null,null,null,null,{"$f":"IF('Kollega oplysninger'!M224=\"\",\"\",'Kollega oplysninger'!M224)","v":""}]
[null,{"$f":"IF('Kollega oplysninger'!B225=\"\",\"\",'Kollega oplysninger'!B225)","v":""},{"$f":"IF('Kollega oplysninger'!C225=\"\",\"\",'Kollega oplysninger'!C225)","v":""},null,null,null,null,null,null,null,null,null,{"$f":"IF('Kollega oplysninger'!M225=\"\",\"\",'Kollega oplysninger'!M225)","v":""}]
[null,{"$f":"IF('Kollega oplysninger'!B226=\"\",\"\",'Kollega oplysninger'!B226)","v":""},{"$f":"IF('Kollega oplysninger'!C226=\"\",\"\",'Kollega oplysninger'!C226)","v":""},null,null,null,null,null,null,null,null,null,{"$f":"IF('Kollega oplysninger'!M226=\"\",\"\",'Kollega oplysninger'!M226)","v":""}]
[null,{"$f":"IF('Kollega oplysninger'!B227=\"\",\"\",'Kollega oplysninger'!B227)","v":""},{"$f":"IF('Kollega oplysninger'!C227=\"\",\"\",'Kollega oplysninger'!C227)","v":""},null,null,null,null,null,null,null,null,null,{"$f":"IF('Kollega oplysninger'!M227=\"\",\"\",'Kollega oplysninger'!M227)","v":""}]
[null,{"$f":"IF('Kollega oplysninger'!B228=\"\",\"\",'Kollega oplysninger'!B228)","v":""},{"$f":"IF('Kollega oplysninger'!C228=\"\",\"\",'Kollega oplysninger'!C228)","v":""},null,null,null,null,null,null,null,null,null,{"$f":"IF('Kollega oplysninger'!M228=\"\",\"\",'Kollega oplysninger'!M228)","v":""}]
[null,{"$f":"IF('Kollega oplysninger'!B229=\"\",\"\",'Kollega oplysninger'!B229)","v":""},{"$f":"IF('Kollega oplysninger'!C229=\"\",\"\",'Kollega oplysninger'!C229)","v":""},null,null,null,null,null,null,null,null,null,{"$f":"IF('Kollega oplysninger'!M229=\"\",\"\",'Kollega oplysninger'!M229)","v":""}]
[null,{"$f":"IF('Kollega oplysninger'!B230=\"\",\"\",'Kollega oplysninger'!B230)","v":""},{"$f":"IF('Kollega oplysninger'!C230=\"\",\"\",'Kollega oplysninger'!C230)","v":""},null,null,null,null,null,null,null,null,null,{"$f":"IF('Kollega oplysninger'!M230=\"\",\"\",'Kollega oplysninger'!M230)","v":""}]
[null,{"$f":"IF('Kollega oplysninger'!B231=\"\",\"\",'Kollega oplysninger'!B231)","v":""},{"$f":"IF('Kollega oplysninger'!C231=\"\",\"\",'Kollega oplysninger'!C231)","v":""},null,null,null,null,null,null,null,null,null,{"$f":"IF('Kollega oplysninger'!M231=\"\",\"\",'Kollega oplysninger'!M231)","v":""}]
[null,{"$f":"IF('Kollega oplysninger'!B232=\"\",\"\",'Kollega oplysninger'!B232)","v":""},{"$f":"IF('Kollega oplysninger'!C232=\"\",\"\",'Kollega oplysninger'!C232)","v":""},null,null,null,null,null,null,null,null,null,{"$f":"IF('Kollega oplysninger'!M232=\"\",\"\",'Kollega oplysninger'!M232)","v":""}]
[null,{"$f":"IF('Kollega oplysninger'!B233=\"\",\"\",'Kollega oplysninger'!B233)","v":""},{"$f":"IF('Kollega oplysninger'!C233=\"\",\"\",'Kollega oplysninger'!C233)","v":""},null,null,null,null,null,null,null,null,null,{"$f":"IF('Kollega oplysninger'!M233=\"\",\"\",'Kollega oplysninger'!M233)","v":""}]
[null,{"$f":"IF('Kollega oplysninger'!B234=\"\",\"\",'Kollega oplysninger'!B234)","v":""},{"$f":"IF('Kollega oplysninger'!C234=\"\",\"\",'Kollega oplysninger'!C234)","v":""},null,null,null,null,null,null,null,null,null,{"$f":"IF('Kollega oplysninger'!M234=\"\",\"\",'Kollega oplysninger'!M234)","v":""}]
[null,{"$f":"IF('Kollega oplysninger'!B235=\"\",\"\",'Kollega oplysninger'!B235)","v":""},{"$f":"IF('Kollega oplysninger'!C235=\"\",\"\",'Kollega oplysninger'!C235)","v":""},null,null,null,null,null,null,null,null,null,{"$f":"IF('Kollega oplysninger'!M235=\"\",\"\",'Kollega oplysninger'!M235)","v":""}]
[null,{"$f":"IF('Kollega oplysninger'!B236=\"\",\"\",'Kollega oplysninger'!B236)","v":""},{"$f":"IF('Kollega oplysninger'!C236=\"\",\"\",'Kollega oplysninger'!C236)","v":""},null,null,null,null,null,null,null,null,null,{"$f":"IF('Kollega oplysninger'!M236=\"\",\"\",'Kollega oplysninger'!M236)","v":""}]
[null,{"$f":"IF('Kollega oplysninger'!B237=\"\",\"\",'Kollega oplysninger'!B237)","v":""},{"$f":"IF('Kollega oplysninger'!C237=\"\",\"\",'Kollega oplysninger'!C237)","v":""},null,null,null,null,null,null,null,null,null,{"$f":"IF('Kollega oplysninger'!M237=\"\",\"\",'Kollega oplysninger'!M237)","v":""}]
[null,{"$f":"IF('Kollega oplysninger'!B238=\"\",\"\",'Kollega oplysninger'!B238)","v":""},{"$f":"IF('Kollega oplysninger'!C238=\"\",\"\",'Kollega oplysninger'!C238)","v":""},null,null,null,null,null,null,null,null,null,{"$f":"IF('Kollega oplysninger'!M238=\"\",\"\",'Kollega oplysninger'!M238)","v":""}]
[null,{"$f":"IF('Kollega oplysninger'!B239=\"\",\"\",'Kollega oplysninger'!B239)","v":""},{"$f":"IF('Kollega oplysninger'!C239=\"\",\"\",'Kollega oplysninger'!C239)","v":""},null,null,null,null,null,null,null,null,null,{"$f":"IF('Kollega oplysninger'!M239=\"\",\"\",'Kollega oplysninger'!M239)","v":""}]
[null,{"$f":"IF('Kollega oplysninger'!B240=\"\",\"\",'Kollega oplysninger'!B240)","v":""},{"$f":"IF('Kollega oplysninger'!C240=\"\",\"\",'Kollega oplysninger'!C240)","v":""},null,null,null,null,null,null,null,null,null,{"$f":"IF('Kollega oplysninger'!M240=\"\",\"\",'Kollega oplysninger'!M240)","v":""}]
[null,{"$f":"IF('Kollega oplysninger'!B241=\"\",\"\",'Kollega oplysninger'!B241)","v":""},{"$f":"IF('Kollega oplysninger'!C241=\"\",\"\",'Kollega oplysninger'!C241)","v":""},null,null,null,null,null,null,null,null,null,{"$f":"IF('Kollega oplysninger'!M241=\"\",\"\",'Kollega oplysninger'!M241)","v":""}]
[null,{"$f":"IF('Kollega oplysninger'!B242=\"\",\"\",'Kollega oplysninger'!B242)","v":""},{"$f":"IF('Kollega oplysninger'!C242=\"\",\"\",'Kollega oplysninger'!C242)","v":""},null,null,null,null,null,null,null,null,null,{"$f":"IF('Kollega oplysninger'!M242=\"\",\"\",'Kollega oplysninger'!M242)","v":""}]
[null,{"$f":"IF('Kollega oplysninger'!B243=\"\",\"\",'Kollega oplysninger'!B243)","v":""},{"$f":"IF('Kollega oplysninger'!C243=\"\",\"\",'Kollega oplysninger'!C243)","v":""},null,null,null,null,null,null,null,null,null,{"$f":"IF('Kollega oplysninger'!M243=\"\",\"\",'Kollega oplysninger'!M243)","v":""}]
[null,{"$f":"IF('Kollega oplysninger'!B244=\"\",\"\",'Kollega oplysninger'!B244)","v":""},{"$f":"IF('Kollega oplysninger'!C244=\"\",\"\",'Kollega oplysninger'!C244)","v":""},null,null,null,null,null,null,null,null,null,{"$f":"IF('Kollega oplysninger'!M244=\"\",\"\",'Kollega oplysninger'!M244)","v":""}]
[null,{"$f":"IF('Kollega oplysninger'!B245=\"\",\"\",'Kollega oplysninger'!B245)","v":""},{"$f":"IF('Kollega oplysninger'!C245=\"\",\"\",'Kollega oplysninger'!C245)","v":""},null,null,null,null,null,null,null,null,null,{"$f":"IF('Kollega oplysninger'!M245=\"\",\"\",'Kollega oplysninger'!M245)","v":""}]
[null,{"$f":"IF('Kollega oplysninger'!B246=\"\",\"\",'Kollega oplysninger'!B246)","v":""},{"$f":"IF('Kollega oplysninger'!C246=\"\",\"\",'Kollega oplysninger'!C246)","v":""},null,null,null,null,null,null,null,null,null,{"$f":"IF('Kollega oplysninger'!M246=\"\",\"\",'Kollega oplysninger'!M246)","v":""}]
[null,{"$f":"IF('Kollega oplysninger'!B247=\"\",\"\",'Kollega oplysninger'!B247)","v":""},{"$f":"IF('Kollega oplysninger'!C247=\"\",\"\",'Kollega oplysninger'!C247)","v":""},null,null,null,null,null,null,null,null,null,{"$f":"IF('Kollega oplysninger'!M247=\"\",\"\",'Kollega oplysninger'!M247)","v":""}]
[null,{"$f":"IF('Kollega oplysninger'!B248=\"\",\"\",'Kollega oplysninger'!B248)","v":""},{"$f":"IF('Kollega oplysninger'!C248=\"\",\"\",'Kollega oplysninger'!C248)","v":""},null,null,null,null,null,null,null,null,null,{"$f":"IF('Kollega oplysninger'!M248=\"\",\"\",'Kollega oplysninger'!M248)","v":""}]
[null,{"$f":"IF('Kollega oplysninger'!B249=\"\",\"\",'Kollega oplysninger'!B249)","v":""},{"$f":"IF('Kollega oplysninger'!C249=\"\",\"\",'Kollega oplysninger'!C249)","v":""},null,null,null,null,null,null,null,null,null,{"$f":"IF('Kollega oplysninger'!M249=\"\",\"\",'Kollega oplysninger'!M249)","v":""}]
[null,{"$f":"IF('Kollega oplysninger'!B250=\"\",\"\",'Kollega oplysninger'!B250)","v":""},{"$f":"IF('Kollega oplysninger'!C250=\"\",\"\",'Kollega oplysninger'!C250)","v":""},null,null,null,null,null,null,null,null,null,{"$f":"IF('Kollega oplysninger'!M250=\"\",\"\",'Kollega oplysninger'!M250)","v":""}]
[null,{"$f":"IF('Kollega oplysninger'!B251=\"\",\"\",'Kollega oplysninger'!B251)","v":""},{"$f":"IF('Kollega oplysninger'!C251=\"\",\"\",'Kollega oplysninger'!C251)","v":""},null,null,null,null,null,null,null,null,null,{"$f":"IF('Kollega oplysninger'!M251=\"\",\"\",'Kollega oplysninger'!M251)","v":""}]
[null,{"$f":"IF('Kollega oplysninger'!B252=\"\",\"\",'Kollega oplysninger'!B252)","v":""},{"$f":"IF('Kollega oplysninger'!C252=\"\",\"\",'Kollega oplysninger'!C252)","v":""},null,null,null,null,null,null,null,null,null,{"$f":"IF('Kollega oplysninger'!M252=\"\",\"\",'Kollega oplysninger'!M252)","v":""}]
[null,{"$f":"IF('Kollega oplysninger'!B253=\"\",\"\",'Kollega oplysninger'!B253)","v":""},{"$f":"IF('Kollega oplysninger'!C253=\"\",\"\",'Kollega oplysninger'!C253)","v":""},null,null,null,null,null,null,null,null,null,{"$f":"IF('Kollega oplysninger'!M253=\"\",\"\",'Kollega oplysninger'!M253)","v":""}]
[null,{"$f":"IF('Kollega oplysninger'!B254=\"\",\"\",'Kollega oplysninger'!B254)","v":""},{"$f":"IF('Kollega oplysninger'!C254=\"\",\"\",'Kollega oplysninger'!C254)","v":""},null,null,null,null,null,null,null,null,null,{"$f":"IF('Kollega oplysninger'!M254=\"\",\"\",'Kollega oplysninger'!M254)","v":""}]
[null,{"$f":"IF('Kollega oplysninger'!B255=\"\",\"\",'Kollega oplysninger'!B255)","v":""},{"$f":"IF('Kollega oplysninger'!C255=\"\",\"\",'Kollega oplysninger'!C255)","v":""},null,null,null,null,null,null,null,null,null,{"$f":"IF('Kollega oplysninger'!M255=\"\",\"\",'Kollega oplysninger'!M255)","v":""}]
[null,{"$f":"IF('Kollega oplysninger'!B256=\"\",\"\",'Kollega oplysninger'!B256)","v":""},{"$f":"IF('Kollega oplysninger'!C256=\"\",\"\",'Kollega oplysninger'!C256)","v":""},null,null,null,null,null,null,null,null,null,{"$f":"IF('Kollega oplysninger'!M256=\"\",\"\",'Kollega oplysninger'!M256)","v":""}]
[null,{"$f":"IF('Kollega oplysninger'!B257=\"\",\"\",'Kollega oplysninger'!B257)","v":""},{"$f":"IF('Kollega oplysninger'!C257=\"\",\"\",'Kollega oplysninger'!C257)","v":""},null,null,null,null,null,null,null,null,null,{"$f":"IF('Kollega oplysninger'!M257=\"\",\"\",'Kollega oplysninger'!M257)","v":""}]
[null,{"$f":"IF('Kollega oplysninger'!B258=\"\",\"\",'Kollega oplysninger'!B258)","v":""},{"$f":"IF('Kollega oplysninger'!C258=\"\",\"\",'Kollega oplysninger'!C258)","v":""},null,null,null,null,null,null,null,null,null,{"$f":"IF('Kollega oplysninger'!M258=\"\",\"\",'Kollega oplysninger'!M258)","v":""}]
[null,{"$f":"IF('Kollega oplysninger'!B259=\"\",\"\",'Kollega oplysninger'!B259)","v":""},{"$f":"IF('Kollega oplysninger'!C259=\"\",\"\",'Kollega oplysninger'!C259)","v":""},null,null,null,null,null,null,null,null,null,{"$f":"IF('Kollega oplysninger'!M259=\"\",\"\",'Kollega oplysninger'!M259)","v":""}]
[null,{"$f":"IF('Kollega oplysninger'!B260=\"\",\"\",'Kollega oplysninger'!B260)","v":""},{"$f":"IF('Kollega oplysninger'!C260=\"\",\"\",'Kollega oplysninger'!C260)","v":""},null,null,null,null,null,null,null,null,null,{"$f":"IF('Kollega oplysninger'!M260=\"\",\"\",'Kollega oplysninger'!M260)","v":""}]
[null,{"$f":"IF('Kollega oplysninger'!B261=\"\",\"\",'Kollega oplysninger'!B261)","v":""},{"$f":"IF('Kollega oplysninger'!C261=\"\",\"\",'Kollega oplysninger'!C261)","v":""},null,null,null,null,null,null,null,null,null,{"$f":"IF('Kollega oplysninger'!M261=\"\",\"\",'Kollega oplysninger'!M261)","v":""}]
[null,{"$f":"IF('Kollega oplysninger'!B262=\"\",\"\",'Kollega oplysninger'!B262)","v":""},{"$f":"IF('Kollega oplysninger'!C262=\"\",\"\",'Kollega oplysninger'!C262)","v":""},null,null,null,null,null,null,null,null,null,{"$f":"IF('Kollega oplysninger'!M262=\"\",\"\",'Kollega oplysninger'!M262)","v":""}]
[null,{"$f":"IF('Kollega oplysninger'!B263=\"\",\"\",'Kollega oplysninger'!B263)","v":""},{"$f":"IF('Kollega oplysninger'!C263=\"\",\"\",'Kollega oplysninger'!C263)","v":""},null,null,null,null,null,null,null,null,null,{"$f":"IF('Kollega oplysninger'!M263=\"\",\"\",'Kollega oplysninger'!M263)","v":""}]
[null,{"$f":"IF('Kollega oplysninger'!B264=\"\",\"\",'Kollega oplysninger'!B264)","v":""},{"$f":"IF('Kollega oplysninger'!C264=\"\",\"\",'Kollega oplysninger'!C264)","v":""},null,null,null,null,null,null,null,null,null,{"$f":"IF('Kollega oplysninger'!M264=\"\",\"\",'Kollega oplysninger'!M264)","v":""}]
[null,{"$f":"IF('Kollega oplysninger'!B265=\"\",\"\",'Kollega oplysninger'!B265)","v":""},{"$f":"IF('Kollega oplysninger'!C265=\"\",\"\",'Kollega oplysninger'!C265)","v":""},null,null,null,null,null,null,null,null,null,{"$f":"IF('Kollega oplysninger'!M265=\"\",\"\",'Kollega oplysninger'!M265)","v":""}]
[null,{"$f":"IF('Kollega oplysninger'!B266=\"\",\"\",'Kollega oplysninger'!B266)","v":""},{"$f":"IF('Kollega oplysninger'!C266=\"\",\"\",'Kollega oplysninger'!C266)","v":""},null,null,null,null,null,null,null,null,null,{"$f":"IF('Kollega oplysninger'!M266=\"\",\"\",'Kollega oplysninger'!M266)","v":""}]
[null,{"$f":"IF('Kollega oplysninger'!B267=\"\",\"\",'Kollega oplysninger'!B267)","v":""},{"$f":"IF('Kollega oplysninger'!C267=\"\",\"\",'Kollega oplysninger'!C267)","v":""},null,null,null,null,null,null,null,null,null,{"$f":"IF('Kollega oplysninger'!M267=\"\",\"\",'Kollega oplysninger'!M267)","v":""}]
[null,{"$f":"IF('Kollega oplysninger'!B268=\"\",\"\",'Kollega oplysninger'!B268)","v":""},{"$f":"IF('Kollega oplysninger'!C268=\"\",\"\",'Kollega oplysninger'!C268)","v":""},null,null,null,null,null,null,null,null,null,{"$f":"IF('Kollega oplysninger'!M268=\"\",\"\",'Kollega oplysninger'!M268)","v":""}]
[null,{"$f":"IF('Kollega oplysninger'!B269=\"\",\"\",'Kollega oplysninger'!B269)","v":""},{"$f":"IF('Kollega oplysninger'!C269=\"\",\"\",'Kollega oplysninger'!C269)","v":""},null,null,null,null,null,null,null,null,null,{"$f":"IF('Kollega oplysninger'!M269=\"\",\"\",'Kollega oplysninger'!M269)","v":""}]
[null,{"$f":"IF('Kollega oplysninger'!B270=\"\",\"\",'Kollega oplysninger'!B270)","v":""},{"$f":"IF('Kollega oplysninger'!C270=\"\",\"\",'Kollega oplysninger'!C270)","v":""},null,null,null,null,null,null,null,null,null,{"$f":"IF('Kollega oplysninger'!M270=\"\",\"\",'Kollega oplysninger'!M270)","v":""}]
[null,{"$f":"IF('Kollega oplysninger'!B271=\"\",\"\",'Kollega oplysninger'!B271)","v":""},{"$f":"IF('Kollega oplysninger'!C271=\"\",\"\",'Kollega oplysninger'!C271)","v":""},null,null,null,null,null,null,null,null,null,{"$f":"IF('Kollega oplysninger'!M271=\"\",\"\",'Kollega oplysninger'!M271)","v":""}]
[null,{"$f":"IF('Kollega oplysninger'!B272=\"\",\"\",'Kollega oplysninger'!B272)","v":""},{"$f":"IF('Kollega oplysninger'!C272=\"\",\"\",'Kollega oplysninger'!C272)","v":""},null,null,null,null,null,null,null,null,null,{"$f":"IF('Kollega oplysninger'!M272=\"\",\"\",'Kollega oplysninger'!M272)","v":""}]
[null,{"$f":"IF('Kollega oplysninger'!B273=\"\",\"\",'Kollega oplysninger'!B273)","v":""},{"$f":"IF('Kollega oplysninger'!C273=\"\",\"\",'Kollega oplysninger'!C273)","v":""},null,null,null,null,null,null,null,null,null,{"$f":"IF('Kollega oplysninger'!M273=\"\",\"\",'Kollega oplysninger'!M273)","v":""}]
[null,{"$f":"IF('Kollega oplysninger'!B274=\"\",\"\",'Kollega oplysninger'!B274)","v":""},{"$f":"IF('Kollega oplysninger'!C274=\"\",\"\",'Kollega oplysninger'!C274)","v":""},null,null,null,null,null,null,null,null,null,{"$f":"IF('Kollega oplysninger'!M274=\"\",\"\",'Kollega oplysninger'!M274)","v":""}]
[null,{"$f":"IF('Kollega oplysninger'!B275=\"\",\"\",'Kollega oplysninger'!B275)","v":""},{"$f":"IF('Kollega oplysninger'!C275=\"\",\"\",'Kollega oplysninger'!C275)","v":""},null,null,null,null,null,null,null,null,null,{"$f":"IF('Kollega oplysninger'!M275=\"\",\"\",'Kollega oplysninger'!M275)","v":""}]
[null,{"$f":"IF('Kollega oplysninger'!B276=\"\",\"\",'Kollega oplysninger'!B276)","v":""},{"$f":"IF('Kollega oplysninger'!C276=\"\",\"\",'Kollega oplysninger'!C276)","v":""},null,null,null,null,null,null,null,null,null,{"$f":"IF('Kollega oplysninger'!M276=\"\",\"\",'Kollega oplysninger'!M276)","v":""}]
[null,{"$f":"IF('Kollega oplysninger'!B277=\"\",\"\",'Kollega oplysninger'!B277)","v":""},{"$f":"IF('Kollega oplysninger'!C277=\"\",\"\",'Kollega oplysninger'!C277)","v":""},null,null,null,null,null,null,null,null,null,{"$f":"IF('Kollega oplysninger'!M277=\"\",\"\",'Kollega oplysninger'!M277)","v":""}]
[null,{"$f":"IF('Kollega oplysninger'!B278=\"\",\"\",'Kollega oplysninger'!B278)","v":""},{"$f":"IF('Kollega oplysninger'!C278=\"\",\"\",'Kollega oplysninger'!C278)","v":""},null,null,null,null,null,null,null,null,null,{"$f":"IF('Kollega oplysninger'!M278=\"\",\"\",'Kollega oplysninger'!M278)","v":""}]
[null,{"$f":"IF('Kollega oplysninger'!B279=\"\",\"\",'Kollega oplysninger'!B279)","v":""},{"$f":"IF('Kollega oplysninger'!C279=\"\",\"\",'Kollega oplysninger'!C279)","v":""},null,null,null,null,null,null,null,null,null,{"$f":"IF('Kollega oplysninger'!M279=\"\",\"\",'Kollega oplysninger'!M279)","v":""}]
[null,{"$f":"IF('Kollega oplysninger'!B280=\"\",\"\",'Kollega oplysninger'!B280)","v":""},{"$f":"IF('Kollega oplysninger'!C280=\"\",\"\",'Kollega oplysninger'!C280)","v":""},null,null,null,null,null,null,null,null,null,{"$f":"IF('Kollega oplysninger'!M280=\"\",\"\",'Kollega oplysninger'!M280)","v":""}]
[null,{"$f":"IF('Kollega oplysninger'!B281=\"\",\"\",'Kollega oplysninger'!B281)","v":""},{"$f":"IF('Kollega oplysninger'!C281=\"\",\"\",'Kollega oplysninger'!C281)","v":""},null,null,null,null,null,null,null,null,null,{"$f":"IF('Kollega oplysninger'!M281=\"\",\"\",'Kollega oplysninger'!M281)","v":""}]
[null,{"$f":"IF('Kollega oplysninger'!B282=\"\",\"\",'Kollega oplysninger'!B282)","v":""},{"$f":"IF('Kollega oplysninger'!C282=\"\",\"\",'Kollega oplysninger'!C282)","v":""},null,null,null,null,null,null,null,null,null,{"$f":"IF('Kollega oplysninger'!M282=\"\",\"\",'Kollega oplysninger'!M282)","v":""}]
[null,{"$f":"IF('Kollega oplysninger'!B283=\"\",\"\",'Kollega oplysninger'!B283)","v":""},{"$f":"IF('Kollega oplysninger'!C283=\"\",\"\",'Kollega oplysninger'!C283)","v":""},null,null,null,null,null,null,null,null,null,{"$f":"IF('Kollega oplysninger'!M283=\"\",\"\",'Kollega oplysninger'!M283)","v":""}]
[null,{"$f":"IF('Kollega oplysninger'!B284=\"\",\"\",'Kollega oplysninger'!B284)","v":""},{"$f":"IF('Kollega oplysninger'!C284=\"\",\"\",'Kollega oplysninger'!C284)","v":""},null,null,null,null,null,null,null,null,null,{"$f":"IF('Kollega oplysninger'!M284=\"\",\"\",'Kollega oplysninger'!M284)","v":""}]
[null,{"$f":"IF('Kollega oplysninger'!B285=\"\",\"\",'Kollega oplysninger'!B285)","v":""},{"$f":"IF('Kollega oplysninger'!C285=\"\",\"\",'Kollega oplysninger'!C285)","v":""},null,null,null,null,null,null,null,null,null,{"$f":"IF('Kollega oplysninger'!M285=\"\",\"\",'Kollega oplysninger'!M285)","v":""}]
[null,{"$f":"IF('Kollega oplysninger'!B286=\"\",\"\",'Kollega oplysninger'!B286)","v":""},{"$f":"IF('Kollega oplysninger'!C286=\"\",\"\",'Kollega oplysninger'!C286)","v":""},null,null,null,null,null,null,null,null,null,{"$f":"IF('Kollega oplysninger'!M286=\"\",\"\",'Kollega oplysninger'!M286)","v":""}]
[null,{"$f":"IF('Kollega oplysninger'!B287=\"\",\"\",'Kollega oplysninger'!B287)","v":""},{"$f":"IF('Kollega oplysninger'!C287=\"\",\"\",'Kollega oplysninger'!C287)","v":""},null,null,null,null,null,null,null,null,null,{"$f":"IF('Kollega oplysninger'!M287=\"\",\"\",'Kollega oplysninger'!M287)","v":""}]
[null,{"$f":"IF('Kollega oplysninger'!B288=\"\",\"\",'Kollega oplysninger'!B288)","v":""},{"$f":"IF('Kollega oplysninger'!C288=\"\",\"\",'Kollega oplysninger'!C288)","v":""},null,null,null,null,null,null,null,null,null,{"$f":"IF('Kollega oplysninger'!M288=\"\",\"\",'Kollega oplysninger'!M288)","v":""}]
[null,{"$f":"IF('Kollega oplysninger'!B289=\"\",\"\",'Kollega oplysninger'!B289)","v":""},{"$f":"IF('Kollega oplysninger'!C289=\"\",\"\",'Kollega oplysninger'!C289)","v":""},null,null,null,null,null,null,null,null,null,{"$f":"IF('Kollega oplysninger'!M289=\"\",\"\",'Kollega oplysninger'!M289)","v":""}]
[null,{"$f":"IF('Kollega oplysninger'!B290=\"\",\"\",'Kollega oplysninger'!B290)","v":""},{"$f":"IF('Kollega oplysninger'!C290=\"\",\"\",'Kollega oplysninger'!C290)","v":""},null,null,null,null,null,null,null,null,null,{"$f":"IF('Kollega oplysninger'!M290=\"\",\"\",'Kollega oplysninger'!M290)","v":""}]
[null,{"$f":"IF('Kollega oplysninger'!B291=\"\",\"\",'Kollega oplysninger'!B291)","v":""},{"$f":"IF('Kollega oplysninger'!C291=\"\",\"\",'Kollega oplysninger'!C291)","v":""},null,null,null,null,null,null,null,null,null,{"$f":"IF('Kollega oplysninger'!M291=\"\",\"\",'Kollega oplysninger'!M291)","v":""}]
[null,{"$f":"IF('Kollega oplysninger'!B292=\"\",\"\",'Kollega oplysninger'!B292)","v":""},{"$f":"IF('Kollega oplysninger'!C292=\"\",\"\",'Kollega oplysninger'!C292)","v":""},null,null,null,null,null,null,null,null,null,{"$f":"IF('Kollega oplysninger'!M292=\"\",\"\",'Kollega oplysninger'!M292)","v":""}]
[null,{"$f":"IF('Kollega oplysninger'!B293=\"\",\"\",'Kollega oplysninger'!B293)","v":""},{"$f":"IF('Kollega oplysninger'!C293=\"\",\"\",'Kollega oplysninger'!C293)","v":""},null,null,null,null,null,null,null,null,null,{"$f":"IF('Kollega oplysninger'!M293=\"\",\"\",'Kollega oplysninger'!M293)","v":""}]
[null,{"$f":"IF('Kollega oplysninger'!B294=\"\",\"\",'Kollega oplysninger'!B294)","v":""},{"$f":"IF('Kollega oplysninger'!C294=\"\",\"\",'Kollega oplysninger'!C294)","v":""},null,null,null,null,null,null,null,null,null,{"$f":"IF('Kollega oplysninger'!M294=\"\",\"\",'Kollega oplysninger'!M294)","v":""}]
[null,{"$f":"IF('Kollega oplysninger'!B295=\"\",\"\",'Kollega oplysninger'!B295)","v":""},{"$f":"IF('Kollega oplysninger'!C295=\"\",\"\",'Kollega oplysninger'!C295)","v":""},null,null,null,null,null,null,null,null,null,{"$f":"IF('Kollega oplysninger'!M295=\"\",\"\",'Kollega oplysninger'!M295)","v":""}]
[null,{"$f":"IF('Kollega oplysninger'!B296=\"\",\"\",'Kollega oplysninger'!B296)","v":""},{"$f":"IF('Kollega oplysninger'!C296=\"\",\"\",'Kollega oplysninger'!C296)","v":""},null,null,null,null,null,null,null,null,null,{"$f":"IF('Kollega oplysninger'!M296=\"\",\"\",'Kollega oplysninger'!M296)","v":""}]
[null,{"$f":"IF('Kollega oplysninger'!B297=\"\",\"\",'Kollega oplysninger'!B297)","v":""},{"$f":"IF('Kollega oplysninger'!C297=\"\",\"\",'Kollega oplysninger'!C297)","v":""},null,null,null,null,null,null,null,null,null,{"$f":"IF('Kollega oplysninger'!M297=\"\",\"\",'Kollega oplysninger'!M297)","v":""}]
[null,{"$f":"IF('Kollega oplysninger'!B298=\"\",\"\",'Kollega oplysninger'!B298)","v":""},{"$f":"IF('Kollega oplysninger'!C298=\"\",\"\",'Kollega oplysninger'!C298)","v":""},null,null,null,null,null,null,null,null,null,{"$f":"IF('Kollega oplysninger'!M298=\"\",\"\",'Kollega oplysninger'!M298)","v":""}]
[null,{"$f":"IF('Kollega oplysninger'!B299=\"\",\"\",'Kollega oplysninger'!B299)","v":""},{"$f":"IF('Kollega oplysninger'!C299=\"\",\"\",'Kollega oplysninger'!C299)","v":""},null,null,null,null,null,null,null,null,null,{"$f":"IF('Kollega oplysninger'!M299=\"\",\"\",'Kollega oplysninger'!M299)","v":""}]
[null,{"$f":"IF('Kollega oplysninger'!B300=\"\",\"\",'Kollega oplysninger'!B300)","v":""},{"$f":"IF('Kollega oplysninger'!C300=\"\",\"\",'Kollega oplysninger'!C300)","v":""},null,null,null,null,null,null,null,null,null,{"$f":"IF('Kollega oplysninger'!M300=\"\",\"\",'Kollega oplysninger'!M300)","v":""}]
[null,{"$f":"IF('Kollega oplysninger'!B301=\"\",\"\",'Kollega oplysninger'!B301)","v":""},{"$f":"IF('Kollega oplysninger'!C301=\"\",\"\",'Kollega oplysninger'!C301)","v":""},null,null,null,null,null,null,null,null,null,{"$f":"IF('Kollega oplysninger'!M301=\"\",\"\",'Kollega oplysninger'!M301)","v":""}]
[null,{"$f":"IF('Kollega oplysninger'!B302=\"\",\"\",'Kollega oplysninger'!B302)","v":""},{"$f":"IF('Kollega oplysninger'!C302=\"\",\"\",'Kollega oplysninger'!C302)","v":""},null,null,null,null,null,null,null,null,null,{"$f":"IF('Kollega oplysninger'!M302=\"\",\"\",'Kollega oplysninger'!M302)","v":""}]
[null,{"$f":"IF('Kollega oplysninger'!B303=\"\",\"\",'Kollega oplysninger'!B303)","v":""},{"$f":"IF('Kollega oplysninger'!C303=\"\",\"\",'Kollega oplysninger'!C303)","v":""},null,null,null,null,null,null,null,null,null,{"$f":"IF('Kollega oplysninger'!M303=\"\",\"\",'Kollega oplysninger'!M303)","v":""}]
[null,{"$f":"IF('Kollega oplysninger'!B304=\"\",\"\",'Kollega oplysninger'!B304)","v":""},{"$f":"IF('Kollega oplysninger'!C304=\"\",\"\",'Kollega oplysninger'!C304)","v":""},null,null,null,null,null,null,null,null,null,{"$f":"IF('Kollega oplysninger'!M304=\"\",\"\",'Kollega oplysninger'!M304)","v":""}]
[null,{"$f":"IF('Kollega oplysninger'!B305=\"\",\"\",'Kollega oplysninger'!B305)","v":""},{"$f":"IF('Kollega oplysninger'!C305=\"\",\"\",'Kollega oplysninger'!C305)","v":""},null,null,null,null,null,null,null,null,null,{"$f":"IF('Kollega oplysninger'!M305=\"\",\"\",'Kollega oplysninger'!M305)","v":""}]
[null,{"$f":"IF('Kollega oplysninger'!B306=\"\",\"\",'Kollega oplysninger'!B306)","v":""},{"$f":"IF('Kollega oplysninger'!C306=\"\",\"\",'Kollega oplysninger'!C306)","v":""},null,null,null,null,null,null,null,null,null,{"$f":"IF('Kollega oplysninger'!M306=\"\",\"\",'Kollega oplysninger'!M306)","v":""}]
[null,{"$f":"IF('Kollega oplysninger'!B307=\"\",\"\",'Kollega oplysninger'!B307)","v":""},{"$f":"IF('Kollega oplysninger'!C307=\"\",\"\",'Kollega oplysninger'!C307)","v":""},null,null,null,null,null,null,null,null,null,{"$f":"IF('Kollega oplysninger'!M307=\"\",\"\",'Kollega oplysninger'!M307)","v":""}]
[null,{"$f":"IF('Kollega oplysninger'!B308=\"\",\"\",'Kollega oplysninger'!B308)","v":""},{"$f":"IF('Kollega oplysninger'!C308=\"\",\"\",'Kollega oplysninger'!C308)","v":""},null,null,null,null,null,null,null,null,null,{"$f":"IF('Kollega oplysninger'!M308=\"\",\"\",'Kollega oplysninger'!M308)","v":""}]
[null,{"$f":"IF('Kollega oplysninger'!B309=\"\",\"\",'Kollega oplysninger'!B309)","v":""},{"$f":"IF('Kollega oplysninger'!C309=\"\",\"\",'Kollega oplysninger'!C309)","v":""},null,null,null,null,null,null,null,null,null,{"$f":"IF('Kollega oplysninger'!M309=\"\",\"\",'Kollega oplysninger'!M309)","v":""}]
[null,{"$f":"IF('Kollega oplysninger'!B310=\"\",\"\",'Kollega oplysninger'!B310)","v":""},{"$f":"IF('Kollega oplysninger'!C310=\"\",\"\",'Kollega oplysninger'!C310)","v":""},null,null,null,null,null,null,null,null,null,{"$f":"IF('Kollega oplysninger'!M310=\"\",\"\",'Kollega oplysninger'!M310)","v":""}]
[null,{"$f":"IF('Kollega oplysninger'!B311=\"\",\"\",'Kollega oplysninger'!B311)","v":""},{"$f":"IF('Kollega oplysninger'!C311=\"\",\"\",'Kollega oplysninger'!C311)","v":""},null,null,null,null,null,null,null,null,null,{"$f":"IF('Kollega oplysninger'!M311=\"\",\"\",'Kollega oplysninger'!M311)","v":""}]
[null,{"$f":"IF('Kollega oplysninger'!B312=\"\",\"\",'Kollega oplysninger'!B312)","v":""},{"$f":"IF('Kollega oplysninger'!C312=\"\",\"\",'Kollega oplysninger'!C312)","v":""},null,null,null,null,null,null,null,null,null,{"$f":"IF('Kollega oplysninger'!M312=\"\",\"\",'Kollega oplysninger'!M312)","v":""}]
[null,{"$f":"IF('Kollega oplysninger'!B313=\"\",\"\",'Kollega oplysninger'!B313)","v":""},{"$f":"IF('Kollega oplysninger'!C313=\"\",\"\",'Kollega oplysninger'!C313)","v":""},null,null,null,null,null,null,null,null,null,{"$f":"IF('Kollega oplysninger'!M313=\"\",\"\",'Kollega oplysninger'!M313)","v":""}]
[null,{"$f":"IF('Kollega oplysninger'!B314=\"\",\"\",'Kollega oplysninger'!B314)","v":""},{"$f":"IF('Kollega oplysninger'!C314=\"\",\"\",'Kollega oplysninger'!C314)","v":""},null,null,null,null,null,null,null,null,null,{"$f":"IF('Kollega oplysninger'!M314=\"\",\"\",'Kollega oplysninger'!M314)","v":""}]
[null,{"$f":"IF('Kollega oplysninger'!B315=\"\",\"\",'Kollega oplysninger'!B315)","v":""},{"$f":"IF('Kollega oplysninger'!C315=\"\",\"\",'Kollega oplysninger'!C315)","v":""},null,null,null,null,null,null,null,null,null,{"$f":"IF('Kollega oplysninger'!M315=\"\",\"\",'Kollega oplysninger'!M315)","v":""}]
[null,{"$f":"IF('Kollega oplysninger'!B316=\"\",\"\",'Kollega oplysninger'!B316)","v":""},{"$f":"IF('Kollega oplysninger'!C316=\"\",\"\",'Kollega oplysninger'!C316)","v":""},null,null,null,null,null,null,null,null,null,{"$f":"IF('Kollega oplysninger'!M316=\"\",\"\",'Kollega oplysninger'!M316)","v":""}]
[null,{"$f":"IF('Kollega oplysninger'!B317=\"\",\"\",'Kollega oplysninger'!B317)","v":""},{"$f":"IF('Kollega oplysninger'!C317=\"\",\"\",'Kollega oplysninger'!C317)","v":""},null,null,null,null,null,null,null,null,null,{"$f":"IF('Kollega oplysninger'!M317=\"\",\"\",'Kollega oplysninger'!M317)","v":""}]
[null,{"$f":"IF('Kollega oplysninger'!B318=\"\",\"\",'Kollega oplysninger'!B318)","v":""},{"$f":"IF('Kollega oplysninger'!C318=\"\",\"\",'Kollega oplysninger'!C318)","v":""},null,null,null,null,null,null,null,null,null,{"$f":"IF('Kollega oplysninger'!M318=\"\",\"\",'Kollega oplysninger'!M318)","v":""}]
[null,{"$f":"IF('Kollega oplysninger'!B319=\"\",\"\",'Kollega oplysninger'!B319)","v":""},{"$f":"IF('Kollega oplysninger'!C319=\"\",\"\",'Kollega oplysninger'!C319)","v":""},null,null,null,null,null,null,null,null,null,{"$f":"IF('Kollega oplysninger'!M319=\"\",\"\",'Kollega oplysninger'!M319)","v":""}]
[null,{"$f":"IF('Kollega oplysninger'!B320=\"\",\"\",'Kollega oplysninger'!B320)","v":""},{"$f":"IF('Kollega oplysninger'!C320=\"\",\"\",'Kollega oplysninger'!C320)","v":""},null,null,null,null,null,null,null,null,null,{"$f":"IF('Kollega oplysninger'!M320=\"\",\"\",'Kollega oplysninger'!M320)","v":""}]
[null,{"$f":"IF('Kollega oplysninger'!B321=\"\",\"\",'Kollega oplysninger'!B321)","v":""},{"$f":"IF('Kollega oplysninger'!C321=\"\",\"\",'Kollega oplysninger'!C321)","v":""},null,null,null,null,null,null,null,null,null,{"$f":"IF('Kollega oplysninger'!M321=\"\",\"\",'Kollega oplysninger'!M321)","v":""}]
[null,{"$f":"IF('Kollega oplysninger'!B322=\"\",\"\",'Kollega oplysninger'!B322)","v":""},{"$f":"IF('Kollega oplysninger'!C322=\"\",\"\",'Kollega oplysninger'!C322)","v":""},null,null,null,null,null,null,null,null,null,{"$f":"IF('Kollega oplysninger'!M322=\"\",\"\",'Kollega oplysninger'!M322)","v":""}]
[null,{"$f":"IF('Kollega oplysninger'!B323=\"\",\"\",'Kollega oplysninger'!B323)","v":""},{"$f":"IF('Kollega oplysninger'!C323=\"\",\"\",'Kollega oplysninger'!C323)","v":""},null,null,null,null,null,null,null,null,null,{"$f":"IF('Kollega oplysninger'!M323=\"\",\"\",'Kollega oplysninger'!M323)","v":""}]
[null,{"$f":"IF('Kollega oplysninger'!B324=\"\",\"\",'Kollega oplysninger'!B324)","v":""},{"$f":"IF('Kollega oplysninger'!C324=\"\",\"\",'Kollega oplysninger'!C324)","v":""},null,null,null,null,null,null,null,null,null,{"$f":"IF('Kollega oplysninger'!M324=\"\",\"\",'Kollega oplysninger'!M324)","v":""}]
[null,{"$f":"IF('Kollega oplysninger'!B325=\"\",\"\",'Kollega oplysninger'!B325)","v":""},{"$f":"IF('Kollega oplysninger'!C325=\"\",\"\",'Kollega oplysninger'!C325)","v":""},null,null,null,null,null,null,null,null,null,{"$f":"IF('Kollega oplysninger'!M325=\"\",\"\",'Kollega oplysninger'!M325)","v":""}]
[null,{"$f":"IF('Kollega oplysninger'!B326=\"\",\"\",'Kollega oplysninger'!B326)","v":""},{"$f":"IF('Kollega oplysninger'!C326=\"\",\"\",'Kollega oplysninger'!C326)","v":""},null,null,null,null,null,null,null,null,null,{"$f":"IF('Kollega oplysninger'!M326=\"\",\"\",'Kollega oplysninger'!M326)","v":""}]
[null,{"$f":"IF('Kollega oplysninger'!B327=\"\",\"\",'Kollega oplysninger'!B327)","v":""},{"$f":"IF('Kollega oplysninger'!C327=\"\",\"\",'Kollega oplysninger'!C327)","v":""},null,null,null,null,null,null,null,null,null,{"$f":"IF('Kollega oplysninger'!M327=\"\",\"\",'Kollega oplysninger'!M327)","v":""}]
[null,{"$f":"IF('Kollega oplysninger'!B328=\"\",\"\",'Kollega oplysninger'!B328)","v":""},{"$f":"IF('Kollega oplysninger'!C328=\"\",\"\",'Kollega oplysninger'!C328)","v":""},null,null,null,null,null,null,null,null,null,{"$f":"IF('Kollega oplysninger'!M328=\"\",\"\",'Kollega oplysninger'!M328)","v":""}]
[null,{"$f":"IF('Kollega oplysninger'!B329=\"\",\"\",'Kollega oplysninger'!B329)","v":""},{"$f":"IF('Kollega oplysninger'!C329=\"\",\"\",'Kollega oplysninger'!C329)","v":""},null,null,null,null,null,null,null,null,null,{"$f":"IF('Kollega oplysninger'!M329=\"\",\"\",'Kollega oplysninger'!M329)","v":""}]
[null,{"$f":"IF('Kollega oplysninger'!B330=\"\",\"\",'Kollega oplysninger'!B330)","v":""},{"$f":"IF('Kollega oplysninger'!C330=\"\",\"\",'Kollega oplysninger'!C330)","v":""},null,null,null,null,null,null,null,null,null,{"$f":"IF('Kollega oplysninger'!M330=\"\",\"\",'Kollega oplysninger'!M330)","v":""}]
[null,{"$f":"IF('Kollega oplysninger'!B331=\"\",\"\",'Kollega oplysninger'!B331)","v":""},{"$f":"IF('Kollega oplysninger'!C331=\"\",\"\",'Kollega oplysninger'!C331)","v":""},null,null,null,null,null,null,null,null,null,{"$f":"IF('Kollega oplysninger'!M331=\"\",\"\",'Kollega oplysninger'!M331)","v":""}]
[null,{"$f":"IF('Kollega oplysninger'!B332=\"\",\"\",'Kollega oplysninger'!B332)","v":""},{"$f":"IF('Kollega oplysninger'!C332=\"\",\"\",'Kollega oplysninger'!C332)","v":""},null,null,null,null,null,null,null,null,null,{"$f":"IF('Kollega oplysninger'!M332=\"\",\"\",'Kollega oplysninger'!M332)","v":""}]
[null,{"$f":"IF('Kollega oplysninger'!B333=\"\",\"\",'Kollega oplysninger'!B333)","v":""},{"$f":"IF('Kollega oplysninger'!C333=\"\",\"\",'Kollega oplysninger'!C333)","v":""},null,null,null,null,null,null,null,null,null,{"$f":"IF('Kollega oplysninger'!M333=\"\",\"\",'Kollega oplysninger'!M333)","v":""}]
[null,{"$f":"IF('Kollega oplysninger'!B334=\"\",\"\",'Kollega oplysninger'!B334)","v":""},{"$f":"IF('Kollega oplysninger'!C334=\"\",\"\",'Kollega oplysninger'!C334)","v":""},null,null,null,null,null,null,null,null,null,{"$f":"IF('Kollega oplysninger'!M334=\"\",\"\",'Kollega oplysninger'!M334)","v":""}]
[null,{"$f":"IF('Kollega oplysninger'!B335=\"\",\"\",'Kollega oplysninger'!B335)","v":""},{"$f":"IF('Kollega oplysninger'!C335=\"\",\"\",'Kollega oplysninger'!C335)","v":""},null,null,null,null,null,null,null,null,null,{"$f":"IF('Kollega oplysninger'!M335=\"\",\"\",'Kollega oplysninger'!M335)","v":""}]
[null,{"$f":"IF('Kollega oplysninger'!B336=\"\",\"\",'Kollega oplysninger'!B336)","v":""},{"$f":"IF('Kollega oplysninger'!C336=\"\",\"\",'Kollega oplysninger'!C336)","v":""},null,null,null,null,null,null,null,null,null,{"$f":"IF('Kollega oplysninger'!M336=\"\",\"\",'Kollega oplysninger'!M336)","v":""}]
[null,{"$f":"IF('Kollega oplysninger'!B337=\"\",\"\",'Kollega oplysninger'!B337)","v":""},{"$f":"IF('Kollega oplysninger'!C337=\"\",\"\",'Kollega oplysninger'!C337)","v":""},null,null,null,null,null,null,null,null,null,{"$f":"IF('Kollega oplysninger'!M337=\"\",\"\",'Kollega oplysninger'!M337)","v":""}]
[null,{"$f":"IF('Kollega oplysninger'!B338=\"\",\"\",'Kollega oplysninger'!B338)","v":""},{"$f":"IF('Kollega oplysninger'!C338=\"\",\"\",'Kollega oplysninger'!C338)","v":""},null,null,null,null,null,null,null,null,null,{"$f":"IF('Kollega oplysninger'!M338=\"\",\"\",'Kollega oplysninger'!M338)","v":""}]
[null,{"$f":"IF('Kollega oplysninger'!B339=\"\",\"\",'Kollega oplysninger'!B339)","v":""},{"$f":"IF('Kollega oplysninger'!C339=\"\",\"\",'Kollega oplysninger'!C339)","v":""},null,null,null,null,null,null,null,null,null,{"$f":"IF('Kollega oplysninger'!M339=\"\",\"\",'Kollega oplysninger'!M339)","v":""}]
[null,{"$f":"IF('Kollega oplysninger'!B340=\"\",\"\",'Kollega oplysninger'!B340)","v":""},{"$f":"IF('Kollega oplysninger'!C340=\"\",\"\",'Kollega oplysninger'!C340)","v":""},null,null,null,null,null,null,null,null,null,{"$f":"IF('Kollega oplysninger'!M340=\"\",\"\",'Kollega oplysninger'!M340)","v":""}]
[null,{"$f":"IF('Kollega oplysninger'!B341=\"\",\"\",'Kollega oplysninger'!B341)","v":""},{"$f":"IF('Kollega oplysninger'!C341=\"\",\"\",'Kollega oplysninger'!C341)","v":""},null,null,null,null,null,null,null,null,null,{"$f":"IF('Kollega oplysninger'!M341=\"\",\"\",'Kollega oplysninger'!M341)","v":""}]
[null,{"$f":"IF('Kollega oplysninger'!B342=\"\",\"\",'Kollega oplysninger'!B342)","v":""},{"$f":"IF('Kollega oplysninger'!C342=\"\",\"\",'Kollega oplysninger'!C342)","v":""},null,null,null,null,null,null,null,null,null,{"$f":"IF('Kollega oplysninger'!M342=\"\",\"\",'Kollega oplysninger'!M342)","v":""}]
[null,{"$f":"IF('Kollega oplysninger'!B343=\"\",\"\",'Kollega oplysninger'!B343)","v":""},{"$f":"IF('Kollega oplysninger'!C343=\"\",\"\",'Kollega oplysninger'!C343)","v":""},null,null,null,null,null,null,null,null,null,{"$f":"IF('Kollega oplysninger'!M343=\"\",\"\",'Kollega oplysninger'!M343)","v":""}]
[null,{"$f":"IF('Kollega oplysninger'!B344=\"\",\"\",'Kollega oplysninger'!B344)","v":""},{"$f":"IF('Kollega oplysninger'!C344=\"\",\"\",'Kollega oplysninger'!C344)","v":""},null,null,null,null,null,null,null,null,null,{"$f":"IF('Kollega oplysninger'!M344=\"\",\"\",'Kollega oplysninger'!M344)","v":""}]
[null,{"$f":"IF('Kollega oplysninger'!B345=\"\",\"\",'Kollega oplysninger'!B345)","v":""},{"$f":"IF('Kollega oplysninger'!C345=\"\",\"\",'Kollega oplysninger'!C345)","v":""},null,null,null,null,null,null,null,null,null,{"$f":"IF('Kollega oplysninger'!M345=\"\",\"\",'Kollega oplysninger'!M345)","v":""}]
[null,{"$f":"IF('Kollega oplysninger'!B346=\"\",\"\",'Kollega oplysninger'!B346)","v":""},{"$f":"IF('Kollega oplysninger'!C346=\"\",\"\",'Kollega oplysninger'!C346)","v":""},null,null,null,null,null,null,null,null,null,{"$f":"IF('Kollega oplysninger'!M346=\"\",\"\",'Kollega oplysninger'!M346)","v":""}]
[null,{"$f":"IF('Kollega oplysninger'!B347=\"\",\"\",'Kollega oplysninger'!B347)","v":""},{"$f":"IF('Kollega oplysninger'!C347=\"\",\"\",'Kollega oplysninger'!C347)","v":""},null,null,null,null,null,null,null,null,null,{"$f":"IF('Kollega oplysninger'!M347=\"\",\"\",'Kollega oplysninger'!M347)","v":""}]
[null,{"$f":"IF('Kollega oplysninger'!B348=\"\",\"\",'Kollega oplysninger'!B348)","v":""},{"$f":"IF('Kollega oplysninger'!C348=\"\",\"\",'Kollega oplysninger'!C348)","v":""},null,null,null,null,null,null,null,null,null,{"$f":"IF('Kollega oplysninger'!M348=\"\",\"\",'Kollega oplysninger'!M348)","v":""}]
[null,{"$f":"IF('Kollega oplysninger'!B349=\"\",\"\",'Kollega oplysninger'!B349)","v":""},{"$f":"IF('Kollega oplysninger'!C349=\"\",\"\",'Kollega oplysninger'!C349)","v":""},null,null,null,null,null,null,null,null,null,{"$f":"IF('Kollega oplysninger'!M349=\"\",\"\",'Kollega oplysninger'!M349)","v":""}]
[null,{"$f":"IF('Kollega oplysninger'!B350=\"\",\"\",'Kollega oplysninger'!B350)","v":""},{"$f":"IF('Kollega oplysninger'!C350=\"\",\"\",'Kollega oplysninger'!C350)","v":""},null,null,null,null,null,null,null,null,null,{"$f":"IF('Kollega oplysninger'!M350=\"\",\"\",'Kollega oplysninger'!M350)","v":""}]
[null,{"$f":"IF('Kollega oplysninger'!B351=\"\",\"\",'Kollega oplysninger'!B351)","v":""},{"$f":"IF('Kollega oplysninger'!C351=\"\",\"\",'Kollega oplysninger'!C351)","v":""},null,null,null,null,null,null,null,null,null,{"$f":"IF('Kollega oplysninger'!M351=\"\",\"\",'Kollega oplysninger'!M351)","v":""}]
[null,{"$f":"IF('Kollega oplysninger'!B352=\"\",\"\",'Kollega oplysninger'!B352)","v":""},{"$f":"IF('Kollega oplysninger'!C352=\"\",\"\",'Kollega oplysninger'!C352)","v":""},null,null,null,null,null,null,null,null,null,{"$f":"IF('Kollega oplysninger'!M352=\"\",\"\",'Kollega oplysninger'!M352)","v":""}]
[null,{"$f":"IF('Kollega oplysninger'!B353=\"\",\"\",'Kollega oplysninger'!B353)","v":""},{"$f":"IF('Kollega oplysninger'!C353=\"\",\"\",'Kollega oplysninger'!C353)","v":""},null,null,null,null,null,null,null,null,null,{"$f":"IF('Kollega oplysninger'!M353=\"\",\"\",'Kollega oplysninger'!M353)","v":""}]
[null,{"$f":"IF('Kollega oplysninger'!B354=\"\",\"\",'Kollega oplysninger'!B354)","v":""},{"$f":"IF('Kollega oplysninger'!C354=\"\",\"\",'Kollega oplysninger'!C354)","v":""},null,null,null,null,null,null,null,null,null,{"$f":"IF('Kollega oplysninger'!M354=\"\",\"\",'Kollega oplysninger'!M354)","v":""}]
[null,{"$f":"IF('Kollega oplysninger'!B355=\"\",\"\",'Kollega oplysninger'!B355)","v":""},{"$f":"IF('Kollega oplysninger'!C355=\"\",\"\",'Kollega oplysninger'!C355)","v":""},null,null,null,null,null,null,null,null,null,{"$f":"IF('Kollega oplysninger'!M355=\"\",\"\",'Kollega oplysninger'!M355)","v":""}]
[null,{"$f":"IF('Kollega oplysninger'!B356=\"\",\"\",'Kollega oplysninger'!B356)","v":""},{"$f":"IF('Kollega oplysninger'!C356=\"\",\"\",'Kollega oplysninger'!C356)","v":""},null,null,null,null,null,null,null,null,null,{"$f":"IF('Kollega oplysninger'!M356=\"\",\"\",'Kollega oplysninger'!M356)","v":""}]
[null,{"$f":"IF('Kollega oplysninger'!B357=\"\",\"\",'Kollega oplysninger'!B357)","v":""},{"$f":"IF('Kollega oplysninger'!C357=\"\",\"\",'Kollega oplysninger'!C357)","v":""},null,null,null,null,null,null,null,null,null,{"$f":"IF('Kollega oplysninger'!M357=\"\",\"\",'Kollega oplysninger'!M357)","v":""}]
[null,{"$f":"IF('Kollega oplysninger'!B358=\"\",\"\",'Kollega oplysninger'!B358)","v":""},{"$f":"IF('Kollega oplysninger'!C358=\"\",\"\",'Kollega oplysninger'!C358)","v":""},null,null,null,null,null,null,null,null,null,{"$f":"IF('Kollega oplysninger'!M358=\"\",\"\",'Kollega oplysninger'!M358)","v":""}]
[null,{"$f":"IF('Kollega oplysninger'!B359=\"\",\"\",'Kollega oplysninger'!B359)","v":""},{"$f":"IF('Kollega oplysninger'!C359=\"\",\"\",'Kollega oplysninger'!C359)","v":""},null,null,null,null,null,null,null,null,null,{"$f":"IF('Kollega oplysninger'!M359=\"\",\"\",'Kollega oplysninger'!M359)","v":""}]
[null,{"$f":"IF('Kollega oplysninger'!B360=\"\",\"\",'Kollega oplysninger'!B360)","v":""},{"$f":"IF('Kollega oplysninger'!C360=\"\",\"\",'Kollega oplysninger'!C360)","v":""},null,null,null,null,null,null,null,null,null,{"$f":"IF('Kollega oplysninger'!M360=\"\",\"\",'Kollega oplysninger'!M360)","v":""}]
[null,{"$f":"IF('Kollega oplysninger'!B361=\"\",\"\",'Kollega oplysninger'!B361)","v":""},{"$f":"IF('Kollega oplysninger'!C361=\"\",\"\",'Kollega oplysninger'!C361)","v":""},null,null,null,null,null,null,null,null,null,{"$f":"IF('Kollega oplysninger'!M361=\"\",\"\",'Kollega oplysninger'!M361)","v":""}]
[null,{"$f":"IF('Kollega oplysninger'!B362=\"\",\"\",'Kollega oplysninger'!B362)","v":""},{"$f":"IF('Kollega oplysninger'!C362=\"\",\"\",'Kollega oplysninger'!C362)","v":""},null,null,null,null,null,null,null,null,null,{"$f":"IF('Kollega oplysninger'!M362=\"\",\"\",'Kollega oplysninger'!M362)","v":""}]
[null,{"$f":"IF('Kollega oplysninger'!B363=\"\",\"\",'Kollega oplysninger'!B363)","v":""},{"$f":"IF('Kollega oplysninger'!C363=\"\",\"\",'Kollega oplysninger'!C363)","v":""},null,null,null,null,null,null,null,null,null,{"$f":"IF('Kollega oplysninger'!M363=\"\",\"\",'Kollega oplysninger'!M363)","v":""}]
[null,{"$f":"IF('Kollega oplysninger'!B364=\"\",\"\",'Kollega oplysninger'!B364)","v":""},{"$f":"IF('Kollega oplysninger'!C364=\"\",\"\",'Kollega oplysninger'!C364)","v":""},null,null,null,null,null,null,null,null,null,{"$f":"IF('Kollega oplysninger'!M364=\"\",\"\",'Kollega oplysninger'!M364)","v":""}]
[null,{"$f":"IF('Kollega oplysninger'!B365=\"\",\"\",'Kollega oplysninger'!B365)","v":""},{"$f":"IF('Kollega oplysninger'!C365=\"\",\"\",'Kollega oplysninger'!C365)","v":""},null,null,null,null,null,null,null,null,null,{"$f":"IF('Kollega oplysninger'!M365=\"\",\"\",'Kollega oplysninger'!M365)","v":""}]
[null,{"$f":"IF('Kollega oplysninger'!B366=\"\",\"\",'Kollega oplysninger'!B366)","v":""},{"$f":"IF('Kollega oplysninger'!C366=\"\",\"\",'Kollega oplysninger'!C366)","v":""},null,null,null,null,null,null,null,null,null,{"$f":"IF('Kollega oplysninger'!M366=\"\",\"\",'Kollega oplysninger'!M366)","v":""}]
[null,{"$f":"IF('Kollega oplysninger'!B367=\"\",\"\",'Kollega oplysninger'!B367)","v":""},{"$f":"IF('Kollega oplysninger'!C367=\"\",\"\",'Kollega oplysninger'!C367)","v":""},null,null,null,null,null,null,null,null,null,{"$f":"IF('Kollega oplysninger'!M367=\"\",\"\",'Kollega oplysninger'!M367)","v":""}]
[null,{"$f":"IF('Kollega oplysninger'!B368=\"\",\"\",'Kollega oplysninger'!B368)","v":""},{"$f":"IF('Kollega oplysninger'!C368=\"\",\"\",'Kollega oplysninger'!C368)","v":""},null,null,null,null,null,null,null,null,null,{"$f":"IF('Kollega oplysninger'!M368=\"\",\"\",'Kollega oplysninger'!M368)","v":""}]
[null,{"$f":"IF('Kollega oplysninger'!B369=\"\",\"\",'Kollega oplysninger'!B369)","v":""},{"$f":"IF('Kollega oplysninger'!C369=\"\",\"\",'Kollega oplysninger'!C369)","v":""},null,null,null,null,null,null,null,null,null,{"$f":"IF('Kollega oplysninger'!M369=\"\",\"\",'Kollega oplysninger'!M369)","v":""}]
[null,{"$f":"IF('Kollega oplysninger'!B370=\"\",\"\",'Kollega oplysninger'!B370)","v":""},{"$f":"IF('Kollega oplysninger'!C370=\"\",\"\",'Kollega oplysninger'!C370)","v":""},null,null,null,null,null,null,null,null,null,{"$f":"IF('Kollega oplysninger'!M370=\"\",\"\",'Kollega oplysninger'!M370)","v":""}]
[null,{"$f":"IF('Kollega oplysninger'!B371=\"\",\"\",'Kollega oplysninger'!B371)","v":""},{"$f":"IF('Kollega oplysninger'!C371=\"\",\"\",'Kollega oplysninger'!C371)","v":""},null,null,null,null,null,null,null,null,null,{"$f":"IF('Kollega oplysninger'!M371=\"\",\"\",'Kollega oplysninger'!M371)","v":""}]
[null,{"$f":"IF('Kollega oplysninger'!B372=\"\",\"\",'Kollega oplysninger'!B372)","v":""},{"$f":"IF('Kollega oplysninger'!C372=\"\",\"\",'Kollega oplysninger'!C372)","v":""},null,null,null,null,null,null,null,null,null,{"$f":"IF('Kollega oplysninger'!M372=\"\",\"\",'Kollega oplysninger'!M372)","v":""}]
[null,{"$f":"IF('Kollega oplysninger'!B373=\"\",\"\",'Kollega oplysninger'!B373)","v":""},{"$f":"IF('Kollega oplysninger'!C373=\"\",\"\",'Kollega oplysninger'!C373)","v":""},null,null,null,null,null,null,null,null,null,{"$f":"IF('Kollega oplysninger'!M373=\"\",\"\",'Kollega oplysninger'!M373)","v":""}]
[null,{"$f":"IF('Kollega oplysninger'!B374=\"\",\"\",'Kollega oplysninger'!B374)","v":""},{"$f":"IF('Kollega oplysninger'!C374=\"\",\"\",'Kollega oplysninger'!C374)","v":""},null,null,null,null,null,null,null,null,null,{"$f":"IF('Kollega oplysninger'!M374=\"\",\"\",'Kollega oplysninger'!M374)","v":""}]
[null,{"$f":"IF('Kollega oplysninger'!B375=\"\",\"\",'Kollega oplysninger'!B375)","v":""},{"$f":"IF('Kollega oplysninger'!C375=\"\",\"\",'Kollega oplysninger'!C375)","v":""},null,null,null,null,null,null,null,null,null,{"$f":"IF('Kollega oplysninger'!M375=\"\",\"\",'Kollega oplysninger'!M375)","v":""}]
[null,{"$f":"IF('Kollega oplysninger'!B376=\"\",\"\",'Kollega oplysninger'!B376)","v":""},{"$f":"IF('Kollega oplysninger'!C376=\"\",\"\",'Kollega oplysninger'!C376)","v":""},null,null,null,null,null,null,null,null,null,{"$f":"IF('Kollega oplysninger'!M376=\"\",\"\",'Kollega oplysninger'!M376)","v":""}]
[null,{"$f":"IF('Kollega oplysninger'!B377=\"\",\"\",'Kollega oplysninger'!B377)","v":""},{"$f":"IF('Kollega oplysninger'!C377=\"\",\"\",'Kollega oplysninger'!C377)","v":""},null,null,null,null,null,null,null,null,null,{"$f":"IF('Kollega oplysninger'!M377=\"\",\"\",'Kollega oplysninger'!M377)","v":""}]
[null,{"$f":"IF('Kollega oplysninger'!B378=\"\",\"\",'Kollega oplysninger'!B378)","v":""},{"$f":"IF('Kollega oplysninger'!C378=\"\",\"\",'Kollega oplysninger'!C378)","v":""},null,null,null,null,null,null,null,null,null,{"$f":"IF('Kollega oplysninger'!M378=\"\",\"\",'Kollega oplysninger'!M378)","v":""}]
[null,{"$f":"IF('Kollega oplysninger'!B379=\"\",\"\",'Kollega oplysninger'!B379)","v":""},{"$f":"IF('Kollega oplysninger'!C379=\"\",\"\",'Kollega oplysninger'!C379)","v":""},null,null,null,null,null,null,null,null,null,{"$f":"IF('Kollega oplysninger'!M379=\"\",\"\",'Kollega oplysninger'!M379)","v":""}]
[null,{"$f":"IF('Kollega oplysninger'!B380=\"\",\"\",'Kollega oplysninger'!B380)","v":""},{"$f":"IF('Kollega oplysninger'!C380=\"\",\"\",'Kollega oplysninger'!C380)","v":""},null,null,null,null,null,null,null,null,null,{"$f":"IF('Kollega oplysninger'!M380=\"\",\"\",'Kollega oplysninger'!M380)","v":""}]
[null,{"$f":"IF('Kollega oplysninger'!B381=\"\",\"\",'Kollega oplysninger'!B381)","v":""},{"$f":"IF('Kollega oplysninger'!C381=\"\",\"\",'Kollega oplysninger'!C381)","v":""},null,null,null,null,null,null,null,null,null,{"$f":"IF('Kollega oplysninger'!M381=\"\",\"\",'Kollega oplysninger'!M381)","v":""}]
[null,{"$f":"IF('Kollega oplysninger'!B382=\"\",\"\",'Kollega oplysninger'!B382)","v":""},{"$f":"IF('Kollega oplysninger'!C382=\"\",\"\",'Kollega oplysninger'!C382)","v":""},null,null,null,null,null,null,null,null,null,{"$f":"IF('Kollega oplysninger'!M382=\"\",\"\",'Kollega oplysninger'!M382)","v":""}]
[null,{"$f":"IF('Kollega oplysninger'!B383=\"\",\"\",'Kollega oplysninger'!B383)","v":""},{"$f":"IF('Kollega oplysninger'!C383=\"\",\"\",'Kollega oplysninger'!C383)","v":""},null,null,null,null,null,null,null,null,null,{"$f":"IF('Kollega oplysninger'!M383=\"\",\"\",'Kollega oplysninger'!M383)","v":""}]
[null,{"$f":"IF('Kollega oplysninger'!B384=\"\",\"\",'Kollega oplysninger'!B384)","v":""},{"$f":"IF('Kollega oplysninger'!C384=\"\",\"\",'Kollega oplysninger'!C384)","v":""},null,null,null,null,null,null,null,null,null,{"$f":"IF('Kollega oplysninger'!M384=\"\",\"\",'Kollega oplysninger'!M384)","v":""}]
[null,{"$f":"IF('Kollega oplysninger'!B385=\"\",\"\",'Kollega oplysninger'!B385)","v":""},{"$f":"IF('Kollega oplysninger'!C385=\"\",\"\",'Kollega oplysninger'!C385)","v":""},null,null,null,null,null,null,null,null,null,{"$f":"IF('Kollega oplysninger'!M385=\"\",\"\",'Kollega oplysninger'!M385)","v":""}]
[null,{"$f":"IF('Kollega oplysninger'!B386=\"\",\"\",'Kollega oplysninger'!B386)","v":""},{"$f":"IF('Kollega oplysninger'!C386=\"\",\"\",'Kollega oplysninger'!C386)","v":""},null,null,null,null,null,null,null,null,null,{"$f":"IF('Kollega oplysninger'!M386=\"\",\"\",'Kollega oplysninger'!M386)","v":""}]
[null,{"$f":"IF('Kollega oplysninger'!B387=\"\",\"\",'Kollega oplysninger'!B387)","v":""},{"$f":"IF('Kollega oplysninger'!C387=\"\",\"\",'Kollega oplysninger'!C387)","v":""},null,null,null,null,null,null,null,null,null,{"$f":"IF('Kollega oplysninger'!M387=\"\",\"\",'Kollega oplysninger'!M387)","v":""}]
[null,{"$f":"IF('Kollega oplysninger'!B388=\"\",\"\",'Kollega oplysninger'!B388)","v":""},{"$f":"IF('Kollega oplysninger'!C388=\"\",\"\",'Kollega oplysninger'!C388)","v":""},null,null,null,null,null,null,null,null,null,{"$f":"IF('Kollega oplysninger'!M388=\"\",\"\",'Kollega oplysninger'!M388)","v":""}]
[null,{"$f":"IF('Kollega oplysninger'!B389=\"\",\"\",'Kollega oplysninger'!B389)","v":""},{"$f":"IF('Kollega oplysninger'!C389=\"\",\"\",'Kollega oplysninger'!C389)","v":""},null,null,null,null,null,null,null,null,null,{"$f":"IF('Kollega oplysninger'!M389=\"\",\"\",'Kollega oplysninger'!M389)","v":""}]
[null,{"$f":"IF('Kollega oplysninger'!B390=\"\",\"\",'Kollega oplysninger'!B390)","v":""},{"$f":"IF('Kollega oplysninger'!C390=\"\",\"\",'Kollega oplysninger'!C390)","v":""},null,null,null,null,null,null,null,null,null,{"$f":"IF('Kollega oplysninger'!M390=\"\",\"\",'Kollega oplysninger'!M390)","v":""}]
[null,{"$f":"IF('Kollega oplysninger'!B391=\"\",\"\",'Kollega oplysninger'!B391)","v":""},{"$f":"IF('Kollega oplysninger'!C391=\"\",\"\",'Kollega oplysninger'!C391)","v":""},null,null,null,null,null,null,null,null,null,{"$f":"IF('Kollega oplysninger'!M391=\"\",\"\",'Kollega oplysninger'!M391)","v":""}]
[null,{"$f":"IF('Kollega oplysninger'!B392=\"\",\"\",'Kollega oplysninger'!B392)","v":""},{"$f":"IF('Kollega oplysninger'!C392=\"\",\"\",'Kollega oplysninger'!C392)","v":""},null,null,null,null,null,null,null,null,null,{"$f":"IF('Kollega oplysninger'!M392=\"\",\"\",'Kollega oplysninger'!M392)","v":""}]
[null,{"$f":"IF('Kollega oplysninger'!B393=\"\",\"\",'Kollega oplysninger'!B393)","v":""},{"$f":"IF('Kollega oplysninger'!C393=\"\",\"\",'Kollega oplysninger'!C393)","v":""},null,null,null,null,null,null,null,null,null,{"$f":"IF('Kollega oplysninger'!M393=\"\",\"\",'Kollega oplysninger'!M393)","v":""}]
[null,{"$f":"IF('Kollega oplysninger'!B394=\"\",\"\",'Kollega oplysninger'!B394)","v":""},{"$f":"IF('Kollega oplysninger'!C394=\"\",\"\",'Kollega oplysninger'!C394)","v":""},null,null,null,null,null,null,null,null,null,{"$f":"IF('Kollega oplysninger'!M394=\"\",\"\",'Kollega oplysninger'!M394)","v":""}]
[null,{"$f":"IF('Kollega oplysninger'!B395=\"\",\"\",'Kollega oplysninger'!B395)","v":""},{"$f":"IF('Kollega oplysninger'!C395=\"\",\"\",'Kollega oplysninger'!C395)","v":""},null,null,null,null,null,null,null,null,null,{"$f":"IF('Kollega oplysninger'!M395=\"\",\"\",'Kollega oplysninger'!M395)","v":""}]
[null,{"$f":"IF('Kollega oplysninger'!B396=\"\",\"\",'Kollega oplysninger'!B396)","v":""},{"$f":"IF('Kollega oplysninger'!C396=\"\",\"\",'Kollega oplysninger'!C396)","v":""},null,null,null,null,null,null,null,null,null,{"$f":"IF('Kollega oplysninger'!M396=\"\",\"\",'Kollega oplysninger'!M396)","v":""}]
[null,{"$f":"IF('Kollega oplysninger'!B397=\"\",\"\",'Kollega oplysninger'!B397)","v":""},{"$f":"IF('Kollega oplysninger'!C397=\"\",\"\",'Kollega oplysninger'!C397)","v":""},null,null,null,null,null,null,null,null,null,{"$f":"IF('Kollega oplysninger'!M397=\"\",\"\",'Kollega oplysninger'!M397)","v":""}]
[null,{"$f":"IF('Kollega oplysninger'!B398=\"\",\"\",'Kollega oplysninger'!B398)","v":""},{"$f":"IF('Kollega oplysninger'!C398=\"\",\"\",'Kollega oplysninger'!C398)","v":""},null,null,null,null,null,null,null,null,null,{"$f":"IF('Kollega oplysninger'!M398=\"\",\"\",'Kollega oplysninger'!M398)","v":""}]
[null,{"$f":"IF('Kollega oplysninger'!B399=\"\",\"\",'Kollega oplysninger'!B399)","v":""},{"$f":"IF('Kollega oplysninger'!C399=\"\",\"\",'Kollega oplysninger'!C399)","v":""},null,null,null,null,null,null,null,null,null,{"$f":"IF('Kollega oplysninger'!M399=\"\",\"\",'Kollega oplysninger'!M399)","v":""}]
[null,{"$f":"IF('Kollega oplysninger'!B400=\"\",\"\",'Kollega oplysninger'!B400)","v":""},{"$f":"IF('Kollega oplysninger'!C400=\"\",\"\",'Kollega oplysninger'!C400)","v":""},null,null,null,null,null,null,null,null,null,{"$f":"IF('Kollega oplysninger'!M400=\"\",\"\",'Kollega oplysninger'!M400)","v":""}]
[null,{"$f":"IF('Kollega oplysninger'!B401=\"\",\"\",'Kollega oplysninger'!B401)","v":""},{"$f":"IF('Kollega oplysninger'!C401=\"\",\"\",'Kollega oplysninger'!C401)","v":""},null,null,null,null,null,null,null,null,null,{"$f":"IF('Kollega oplysninger'!M401=\"\",\"\",'Kollega oplysninger'!M401)","v":""}]
[null,{"$f":"IF('Kollega oplysninger'!B402=\"\",\"\",'Kollega oplysninger'!B402)","v":""},{"$f":"IF('Kollega oplysninger'!C402=\"\",\"\",'Kollega oplysninger'!C402)","v":""},null,null,null,null,null,null,null,null,null,{"$f":"IF('Kollega oplysninger'!M402=\"\",\"\",'Kollega oplysninger'!M402)","v":""}]
[null,{"$f":"IF('Kollega oplysninger'!B403=\"\",\"\",'Kollega oplysninger'!B403)","v":""},{"$f":"IF('Kollega oplysninger'!C403=\"\",\"\",'Kollega oplysninger'!C403)","v":""},null,null,null,null,null,null,null,null,null,{"$f":"IF('Kollega oplysninger'!M403=\"\",\"\",'Kollega oplysninger'!M403)","v":""}]
[null,{"$f":"IF('Kollega oplysninger'!B404=\"\",\"\",'Kollega oplysninger'!B404)","v":""},{"$f":"IF('Kollega oplysninger'!C404=\"\",\"\",'Kollega oplysninger'!C404)","v":""},null,null,null,null,null,null,null,null,null,{"$f":"IF('Kollega oplysninger'!M404=\"\",\"\",'Kollega oplysninger'!M404)","v":""}]
[null,{"$f":"IF('Kollega oplysninger'!B405=\"\",\"\",'Kollega oplysninger'!B405)","v":""},{"$f":"IF('Kollega oplysninger'!C405=\"\",\"\",'Kollega oplysninger'!C405)","v":""},null,null,null,null,null,null,null,null,null,{"$f":"IF('Kollega oplysninger'!M405=\"\",\"\",'Kollega oplysninger'!M405)","v":""}]
[null,{"$f":"IF('Kollega oplysninger'!B406=\"\",\"\",'Kollega oplysninger'!B406)","v":""},{"$f":"IF('Kollega oplysninger'!C406=\"\",\"\",'Kollega oplysninger'!C406)","v":""},null,null,null,null,null,null,null,null,null,{"$f":"IF('Kollega oplysninger'!M406=\"\",\"\",'Kollega oplysninger'!M406)","v":""}]
[null,{"$f":"IF('Kollega oplysninger'!B407=\"\",\"\",'Kollega oplysninger'!B407)","v":""},{"$f":"IF('Kollega oplysninger'!C407=\"\",\"\",'Kollega oplysninger'!C407)","v":""},null,null,null,null,null,null,null,null,null,{"$f":"IF('Kollega oplysninger'!M407=\"\",\"\",'Kollega oplysninger'!M407)","v":""}]
[null,{"$f":"IF('Kollega oplysninger'!B408=\"\",\"\",'Kollega oplysninger'!B408)","v":""},{"$f":"IF('Kollega oplysninger'!C408=\"\",\"\",'Kollega oplysninger'!C408)","v":""},null,null,null,null,null,null,null,null,null,{"$f":"IF('Kollega oplysninger'!M408=\"\",\"\",'Kollega oplysninger'!M408)","v":""}]
[null,{"$f":"IF('Kollega oplysninger'!B409=\"\",\"\",'Kollega oplysninger'!B409)","v":""},{"$f":"IF('Kollega oplysninger'!C409=\"\",\"\",'Kollega oplysninger'!C409)","v":""},null,null,null,null,null,null,null,null,null,{"$f":"IF('Kollega oplysninger'!M409=\"\",\"\",'Kollega oplysninger'!M409)","v":""}]
[null,{"$f":"IF('Kollega oplysninger'!B410=\"\",\"\",'Kollega oplysninger'!B410)","v":""},{"$f":"IF('Kollega oplysninger'!C410=\"\",\"\",'Kollega oplysninger'!C410)","v":""},null,null,null,null,null,null,null,null,null,{"$f":"IF('Kollega oplysninger'!M410=\"\",\"\",'Kollega oplysninger'!M410)","v":""}]
[null,{"$f":"IF('Kollega oplysninger'!B411=\"\",\"\",'Kollega oplysninger'!B411)","v":""},{"$f":"IF('Kollega oplysninger'!C411=\"\",\"\",'Kollega oplysninger'!C411)","v":""},null,null,null,null,null,null,null,null,null,{"$f":"IF('Kollega oplysninger'!M411=\"\",\"\",'Kollega oplysninger'!M411)","v":""}]
[null,{"$f":"IF('Kollega oplysninger'!B412=\"\",\"\",'Kollega oplysninger'!B412)","v":""},{"$f":"IF('Kollega oplysninger'!C412=\"\",\"\",'Kollega oplysninger'!C412)","v":""},null,null,null,null,null,null,null,null,null,{"$f":"IF('Kollega oplysninger'!M412=\"\",\"\",'Kollega oplysninger'!M412)","v":""}]
[null,{"$f":"IF('Kollega oplysninger'!B413=\"\",\"\",'Kollega oplysninger'!B413)","v":""},{"$f":"IF('Kollega oplysninger'!C413=\"\",\"\",'Kollega oplysninger'!C413)","v":""},null,null,null,null,null,null,null,null,null,{"$f":"IF('Kollega oplysninger'!M413=\"\",\"\",'Kollega oplysninger'!M413)","v":""}]
[null,{"$f":"IF('Kollega oplysninger'!B414=\"\",\"\",'Kollega oplysninger'!B414)","v":""},{"$f":"IF('Kollega oplysninger'!C414=\"\",\"\",'Kollega oplysninger'!C414)","v":""},null,null,null,null,null,null,null,null,null,{"$f":"IF('Kollega oplysninger'!M414=\"\",\"\",'Kollega oplysninger'!M414)","v":""}]
[null,{"$f":"IF('Kollega oplysninger'!B415=\"\",\"\",'Kollega oplysninger'!B415)","v":""},{"$f":"IF('Kollega oplysninger'!C415=\"\",\"\",'Kollega oplysninger'!C415)","v":""},null,null,null,null,null,null,null,null,null,{"$f":"IF('Kollega oplysninger'!M415=\"\",\"\",'Kollega oplysninger'!M415)","v":""}]
[null,{"$f":"IF('Kollega oplysninger'!B416=\"\",\"\",'Kollega oplysninger'!B416)","v":""},{"$f":"IF('Kollega oplysninger'!C416=\"\",\"\",'Kollega oplysninger'!C416)","v":""},null,null,null,null,null,null,null,null,null,{"$f":"IF('Kollega oplysninger'!M416=\"\",\"\",'Kollega oplysninger'!M416)","v":""}]
[null,{"$f":"IF('Kollega oplysninger'!B417=\"\",\"\",'Kollega oplysninger'!B417)","v":""},{"$f":"IF('Kollega oplysninger'!C417=\"\",\"\",'Kollega oplysninger'!C417)","v":""},null,null,null,null,null,null,null,null,null,{"$f":"IF('Kollega oplysninger'!M417=\"\",\"\",'Kollega oplysninger'!M417)","v":""}]
[null,{"$f":"IF('Kollega oplysninger'!B418=\"\",\"\",'Kollega oplysninger'!B418)","v":""},{"$f":"IF('Kollega oplysninger'!C418=\"\",\"\",'Kollega oplysninger'!C418)","v":""},null,null,null,null,null,null,null,null,null,{"$f":"IF('Kollega oplysninger'!M418=\"\",\"\",'Kollega oplysninger'!M418)","v":""}]
[null,{"$f":"IF('Kollega oplysninger'!B419=\"\",\"\",'Kollega oplysninger'!B419)","v":""},{"$f":"IF('Kollega oplysninger'!C419=\"\",\"\",'Kollega oplysninger'!C419)","v":""},null,null,null,null,null,null,null,null,null,{"$f":"IF('Kollega oplysninger'!M419=\"\",\"\",'Kollega oplysninger'!M419)","v":""}]
[null,{"$f":"IF('Kollega oplysninger'!B420=\"\",\"\",'Kollega oplysninger'!B420)","v":""},{"$f":"IF('Kollega oplysninger'!C420=\"\",\"\",'Kollega oplysninger'!C420)","v":""},null,null,null,null,null,null,null,null,null,{"$f":"IF('Kollega oplysninger'!M420=\"\",\"\",'Kollega oplysninger'!M420)","v":""}]
[null,{"$f":"IF('Kollega oplysninger'!B421=\"\",\"\",'Kollega oplysninger'!B421)","v":""},{"$f":"IF('Kollega oplysninger'!C421=\"\",\"\",'Kollega oplysninger'!C421)","v":""},null,null,null,null,null,null,null,null,null,{"$f":"IF('Kollega oplysninger'!M421=\"\",\"\",'Kollega oplysninger'!M421)","v":""}]
[null,{"$f":"IF('Kollega oplysninger'!B422=\"\",\"\",'Kollega oplysninger'!B422)","v":""},{"$f":"IF('Kollega oplysninger'!C422=\"\",\"\",'Kollega oplysninger'!C422)","v":""},null,null,null,null,null,null,null,null,null,{"$f":"IF('Kollega oplysninger'!M422=\"\",\"\",'Kollega oplysninger'!M422)","v":""}]
[null,{"$f":"IF('Kollega oplysninger'!B423=\"\",\"\",'Kollega oplysninger'!B423)","v":""},{"$f":"IF('Kollega oplysninger'!C423=\"\",\"\",'Kollega oplysninger'!C423)","v":""},null,null,null,null,null,null,null,null,null,{"$f":"IF('Kollega oplysninger'!M423=\"\",\"\",'Kollega oplysninger'!M423)","v":""}]
[null,{"$f":"IF('Kollega oplysninger'!B424=\"\",\"\",'Kollega oplysninger'!B424)","v":""},{"$f":"IF('Kollega oplysninger'!C424=\"\",\"\",'Kollega oplysninger'!C424)","v":""},null,null,null,null,null,null,null,null,null,{"$f":"IF('Kollega oplysninger'!M424=\"\",\"\",'Kollega oplysninger'!M424)","v":""}]
[null,{"$f":"IF('Kollega oplysninger'!B425=\"\",\"\",'Kollega oplysninger'!B425)","v":""},{"$f":"IF('Kollega oplysninger'!C425=\"\",\"\",'Kollega oplysninger'!C425)","v":""},null,null,null,null,null,null,null,null,null,{"$f":"IF('Kollega oplysninger'!M425=\"\",\"\",'Kollega oplysninger'!M425)","v":""}]
[null,{"$f":"IF('Kollega oplysninger'!B426=\"\",\"\",'Kollega oplysninger'!B426)","v":""},{"$f":"IF('Kollega oplysninger'!C426=\"\",\"\",'Kollega oplysninger'!C426)","v":""},null,null,null,null,null,null,null,null,null,{"$f":"IF('Kollega oplysninger'!M426=\"\",\"\",'Kollega oplysninger'!M426)","v":""}]
[null,{"$f":"IF('Kollega oplysninger'!B427=\"\",\"\",'Kollega oplysninger'!B427)","v":""},{"$f":"IF('Kollega oplysninger'!C427=\"\",\"\",'Kollega oplysninger'!C427)","v":""},null,null,null,null,null,null,null,null,null,{"$f":"IF('Kollega oplysninger'!M427=\"\",\"\",'Kollega oplysninger'!M427)","v":""}]
[null,{"$f":"IF('Kollega oplysninger'!B428=\"\",\"\",'Kollega oplysninger'!B428)","v":""},{"$f":"IF('Kollega oplysninger'!C428=\"\",\"\",'Kollega oplysninger'!C428)","v":""},null,null,null,null,null,null,null,null,null,{"$f":"IF('Kollega oplysninger'!M428=\"\",\"\",'Kollega oplysninger'!M428)","v":""}]
[null,{"$f":"IF('Kollega oplysninger'!B429=\"\",\"\",'Kollega oplysninger'!B429)","v":""},{"$f":"IF('Kollega oplysninger'!C429=\"\",\"\",'Kollega oplysninger'!C429)","v":""},null,null,null,null,null,null,null,null,null,{"$f":"IF('Kollega oplysninger'!M429=\"\",\"\",'Kollega oplysninger'!M429)","v":""}]
[null,{"$f":"IF('Kollega oplysninger'!B430=\"\",\"\",'Kollega oplysninger'!B430)","v":""},{"$f":"IF('Kollega oplysninger'!C430=\"\",\"\",'Kollega oplysninger'!C430)","v":""},null,null,null,null,null,null,null,null,null,{"$f":"IF('Kollega oplysninger'!M430=\"\",\"\",'Kollega oplysninger'!M430)","v":""}]
[null,{"$f":"IF('Kollega oplysninger'!B431=\"\",\"\",'Kollega oplysninger'!B431)","v":""},{"$f":"IF('Kollega oplysninger'!C431=\"\",\"\",'Kollega oplysninger'!C431)","v":""},null,null,null,null,null,null,null,null,null,{"$f":"IF('Kollega oplysninger'!M431=\"\",\"\",'Kollega oplysninger'!M431)","v":""}]
[null,{"$f":"IF('Kollega oplysninger'!B432=\"\",\"\",'Kollega oplysninger'!B432)","v":""},{"$f":"IF('Kollega oplysninger'!C432=\"\",\"\",'Kollega oplysninger'!C432)","v":""},null,null,null,null,null,null,null,null,null,{"$f":"IF('Kollega oplysninger'!M432=\"\",\"\",'Kollega oplysninger'!M432)","v":""}]
[null,{"$f":"IF('Kollega oplysninger'!B433=\"\",\"\",'Kollega oplysninger'!B433)","v":""},{"$f":"IF('Kollega oplysninger'!C433=\"\",\"\",'Kollega oplysninger'!C433)","v":""},null,null,null,null,null,null,null,null,null,{"$f":"IF('Kollega oplysninger'!M433=\"\",\"\",'Kollega oplysninger'!M433)","v":""}]
[null,{"$f":"IF('Kollega oplysninger'!B434=\"\",\"\",'Kollega oplysninger'!B434)","v":""},{"$f":"IF('Kollega oplysninger'!C434=\"\",\"\",'Kollega oplysninger'!C434)","v":""},null,null,null,null,null,null,null,null,null,{"$f":"IF('Kollega oplysninger'!M434=\"\",\"\",'Kollega oplysninger'!M434)","v":""}]
[null,{"$f":"IF('Kollega oplysninger'!B435=\"\",\"\",'Kollega oplysninger'!B435)","v":""},{"$f":"IF('Kollega oplysninger'!C435=\"\",\"\",'Kollega oplysninger'!C435)","v":""},null,null,null,null,null,null,null,null,null,{"$f":"IF('Kollega oplysninger'!M435=\"\",\"\",'Kollega oplysninger'!M435)","v":""}]
[null,{"$f":"IF('Kollega oplysninger'!B436=\"\",\"\",'Kollega oplysninger'!B436)","v":""},{"$f":"IF('Kollega oplysninger'!C436=\"\",\"\",'Kollega oplysninger'!C436)","v":""},null,null,null,null,null,null,null,null,null,{"$f":"IF('Kollega oplysninger'!M436=\"\",\"\",'Kollega oplysninger'!M436)","v":""}]
[null,{"$f":"IF('Kollega oplysninger'!B437=\"\",\"\",'Kollega oplysninger'!B437)","v":""},{"$f":"IF('Kollega oplysninger'!C437=\"\",\"\",'Kollega oplysninger'!C437)","v":""},null,null,null,null,null,null,null,null,null,{"$f":"IF('Kollega oplysninger'!M437=\"\",\"\",'Kollega oplysninger'!M437)","v":""}]
[null,{"$f":"IF('Kollega oplysninger'!B438=\"\",\"\",'Kollega oplysninger'!B438)","v":""},{"$f":"IF('Kollega oplysninger'!C438=\"\",\"\",'Kollega oplysninger'!C438)","v":""},null,null,null,null,null,null,null,null,null,{"$f":"IF('Kollega oplysninger'!M438=\"\",\"\",'Kollega oplysninger'!M438)","v":""}]
[null,{"$f":"IF('Kollega oplysninger'!B439=\"\",\"\",'Kollega oplysninger'!B439)","v":""},{"$f":"IF('Kollega oplysninger'!C439=\"\",\"\",'Kollega oplysninger'!C439)","v":""},null,null,null,null,null,null,null,null,null,{"$f":"IF('Kollega oplysninger'!M439=\"\",\"\",'Kollega oplysninger'!M439)","v":""}]
[null,{"$f":"IF('Kollega oplysninger'!B440=\"\",\"\",'Kollega oplysninger'!B440)","v":""},{"$f":"IF('Kollega oplysninger'!C440=\"\",\"\",'Kollega oplysninger'!C440)","v":""},null,null,null,null,null,null,null,null,null,{"$f":"IF('Kollega oplysninger'!M440=\"\",\"\",'Kollega oplysninger'!M440)","v":""}]
[null,{"$f":"IF('Kollega oplysninger'!B441=\"\",\"\",'Kollega oplysninger'!B441)","v":""},{"$f":"IF('Kollega oplysninger'!C441=\"\",\"\",'Kollega oplysninger'!C441)","v":""},null,null,null,null,null,null,null,null,null,{"$f":"IF('Kollega oplysninger'!M441=\"\",\"\",'Kollega oplysninger'!M441)","v":""}]
[null,{"$f":"IF('Kollega oplysninger'!B442=\"\",\"\",'Kollega oplysninger'!B442)","v":""},{"$f":"IF('Kollega oplysninger'!C442=\"\",\"\",'Kollega oplysninger'!C442)","v":""},null,null,null,null,null,null,null,null,null,{"$f":"IF('Kollega oplysninger'!M442=\"\",\"\",'Kollega oplysninger'!M442)","v":""}]
[null,{"$f":"IF('Kollega oplysninger'!B443=\"\",\"\",'Kollega oplysninger'!B443)","v":""},{"$f":"IF('Kollega oplysninger'!C443=\"\",\"\",'Kollega oplysninger'!C443)","v":""},null,null,null,null,null,null,null,null,null,{"$f":"IF('Kollega oplysninger'!M443=\"\",\"\",'Kollega oplysninger'!M443)","v":""}]
[null,{"$f":"IF('Kollega oplysninger'!B444=\"\",\"\",'Kollega oplysninger'!B444)","v":""},{"$f":"IF('Kollega oplysninger'!C444=\"\",\"\",'Kollega oplysninger'!C444)","v":""},null,null,null,null,null,null,null,null,null,{"$f":"IF('Kollega oplysninger'!M444=\"\",\"\",'Kollega oplysninger'!M444)","v":""}]
[null,{"$f":"IF('Kollega oplysninger'!B445=\"\",\"\",'Kollega oplysninger'!B445)","v":""},{"$f":"IF('Kollega oplysninger'!C445=\"\",\"\",'Kollega oplysninger'!C445)","v":""},null,null,null,null,null,null,null,null,null,{"$f":"IF('Kollega oplysninger'!M445=\"\",\"\",'Kollega oplysninger'!M445)","v":""}]
[null,{"$f":"IF('Kollega oplysninger'!B446=\"\",\"\",'Kollega oplysninger'!B446)","v":""},{"$f":"IF('Kollega oplysninger'!C446=\"\",\"\",'Kollega oplysninger'!C446)","v":""},null,null,null,null,null,null,null,null,null,{"$f":"IF('Kollega oplysninger'!M446=\"\",\"\",'Kollega oplysninger'!M446)","v":""}]
[null,{"$f":"IF('Kollega oplysninger'!B447=\"\",\"\",'Kollega oplysninger'!B447)","v":""},{"$f":"IF('Kollega oplysninger'!C447=\"\",\"\",'Kollega oplysninger'!C447)","v":""},null,null,null,null,null,null,null,null,null,{"$f":"IF('Kollega oplysninger'!M447=\"\",\"\",'Kollega oplysninger'!M447)","v":""}]
[null,{"$f":"IF('Kollega oplysninger'!B448=\"\",\"\",'Kollega oplysninger'!B448)","v":""},{"$f":"IF('Kollega oplysninger'!C448=\"\",\"\",'Kollega oplysninger'!C448)","v":""},null,null,null,null,null,null,null,null,null,{"$f":"IF('Kollega oplysninger'!M448=\"\",\"\",'Kollega oplysninger'!M448)","v":""}]
[null,{"$f":"IF('Kollega oplysninger'!B449=\"\",\"\",'Kollega oplysninger'!B449)","v":""},{"$f":"IF('Kollega oplysninger'!C449=\"\",\"\",'Kollega oplysninger'!C449)","v":""},null,null,null,null,null,null,null,null,null,{"$f":"IF('Kollega oplysninger'!M449=\"\",\"\",'Kollega oplysninger'!M449)","v":""}]
[null,{"$f":"IF('Kollega oplysninger'!B450=\"\",\"\",'Kollega oplysninger'!B450)","v":""},{"$f":"IF('Kollega oplysninger'!C450=\"\",\"\",'Kollega oplysninger'!C450)","v":""},null,null,null,null,null,null,null,null,null,{"$f":"IF('Kollega oplysninger'!M450=\"\",\"\",'Kollega oplysninger'!M450)","v":""}]
[null,{"$f":"IF('Kollega oplysninger'!B451=\"\",\"\",'Kollega oplysninger'!B451)","v":""},{"$f":"IF('Kollega oplysninger'!C451=\"\",\"\",'Kollega oplysninger'!C451)","v":""},null,null,null,null,null,null,null,null,null,{"$f":"IF('Kollega oplysninger'!M451=\"\",\"\",'Kollega oplysninger'!M451)","v":""}]
[null,{"$f":"IF('Kollega oplysninger'!B452=\"\",\"\",'Kollega oplysninger'!B452)","v":""},{"$f":"IF('Kollega oplysninger'!C452=\"\",\"\",'Kollega oplysninger'!C452)","v":""},null,null,null,null,null,null,null,null,null,{"$f":"IF('Kollega oplysninger'!M452=\"\",\"\",'Kollega oplysninger'!M452)","v":""}]
[null,{"$f":"IF('Kollega oplysninger'!B453=\"\",\"\",'Kollega oplysninger'!B453)","v":""},{"$f":"IF('Kollega oplysninger'!C453=\"\",\"\",'Kollega oplysninger'!C453)","v":""},null,null,null,null,null,null,null,null,null,{"$f":"IF('Kollega oplysninger'!M453=\"\",\"\",'Kollega oplysninger'!M453)","v":""}]
[null,{"$f":"IF('Kollega oplysninger'!B454=\"\",\"\",'Kollega oplysninger'!B454)","v":""},{"$f":"IF('Kollega oplysninger'!C454=\"\",\"\",'Kollega oplysninger'!C454)","v":""},null,null,null,null,null,null,null,null,null,{"$f":"IF('Kollega oplysninger'!M454=\"\",\"\",'Kollega oplysninger'!M454)","v":""}]
[null,{"$f":"IF('Kollega oplysninger'!B455=\"\",\"\",'Kollega oplysninger'!B455)","v":""},{"$f":"IF('Kollega oplysninger'!C455=\"\",\"\",'Kollega oplysninger'!C455)","v":""},null,null,null,null,null,null,null,null,null,{"$f":"IF('Kollega oplysninger'!M455=\"\",\"\",'Kollega oplysninger'!M455)","v":""}]
[null,{"$f":"IF('Kollega oplysninger'!B456=\"\",\"\",'Kollega oplysninger'!B456)","v":""},{"$f":"IF('Kollega oplysninger'!C456=\"\",\"\",'Kollega oplysninger'!C456)","v":""},null,null,null,null,null,null,null,null,null,{"$f":"IF('Kollega oplysninger'!M456=\"\",\"\",'Kollega oplysninger'!M456)","v":""}]
[null,{"$f":"IF('Kollega oplysninger'!B457=\"\",\"\",'Kollega oplysninger'!B457)","v":""},{"$f":"IF('Kollega oplysninger'!C457=\"\",\"\",'Kollega oplysninger'!C457)","v":""},null,null,null,null,null,null,null,null,null,{"$f":"IF('Kollega oplysninger'!M457=\"\",\"\",'Kollega oplysninger'!M457)","v":""}]
[null,{"$f":"IF('Kollega oplysninger'!B458=\"\",\"\",'Kollega oplysninger'!B458)","v":""},{"$f":"IF('Kollega oplysninger'!C458=\"\",\"\",'Kollega oplysninger'!C458)","v":""},null,null,null,null,null,null,null,null,null,{"$f":"IF('Kollega oplysninger'!M458=\"\",\"\",'Kollega oplysninger'!M458)","v":""}]
[null,{"$f":"IF('Kollega oplysninger'!B459=\"\",\"\",'Kollega oplysninger'!B459)","v":""},{"$f":"IF('Kollega oplysninger'!C459=\"\",\"\",'Kollega oplysninger'!C459)","v":""},null,null,null,null,null,null,null,null,null,{"$f":"IF('Kollega oplysninger'!M459=\"\",\"\",'Kollega oplysninger'!M459)","v":""}]
[null,{"$f":"IF('Kollega oplysninger'!B460=\"\",\"\",'Kollega oplysninger'!B460)","v":""},{"$f":"IF('Kollega oplysninger'!C460=\"\",\"\",'Kollega oplysninger'!C460)","v":""},null,null,null,null,null,null,null,null,null,{"$f":"IF('Kollega oplysninger'!M460=\"\",\"\",'Kollega oplysninger'!M460)","v":""}]
[null,{"$f":"IF('Kollega oplysninger'!B461=\"\",\"\",'Kollega oplysninger'!B461)","v":""},{"$f":"IF('Kollega oplysninger'!C461=\"\",\"\",'Kollega oplysninger'!C461)","v":""},null,null,null,null,null,null,null,null,null,{"$f":"IF('Kollega oplysninger'!M461=\"\",\"\",'Kollega oplysninger'!M461)","v":""}]
[null,{"$f":"IF('Kollega oplysninger'!B462=\"\",\"\",'Kollega oplysninger'!B462)","v":""},{"$f":"IF('Kollega oplysninger'!C462=\"\",\"\",'Kollega oplysninger'!C462)","v":""},null,null,null,null,null,null,null,null,null,{"$f":"IF('Kollega oplysninger'!M462=\"\",\"\",'Kollega oplysninger'!M462)","v":""}]
[null,{"$f":"IF('Kollega oplysninger'!B463=\"\",\"\",'Kollega oplysninger'!B463)","v":""},{"$f":"IF('Kollega oplysninger'!C463=\"\",\"\",'Kollega oplysninger'!C463)","v":""},null,null,null,null,null,null,null,null,null,{"$f":"IF('Kollega oplysninger'!M463=\"\",\"\",'Kollega oplysninger'!M463)","v":""}]
[null,{"$f":"IF('Kollega oplysninger'!B464=\"\",\"\",'Kollega oplysninger'!B464)","v":""},{"$f":"IF('Kollega oplysninger'!C464=\"\",\"\",'Kollega oplysninger'!C464)","v":""},null,null,null,null,null,null,null,null,null,{"$f":"IF('Kollega oplysninger'!M464=\"\",\"\",'Kollega oplysninger'!M464)","v":""}]
[null,{"$f":"IF('Kollega oplysninger'!B465=\"\",\"\",'Kollega oplysninger'!B465)","v":""},{"$f":"IF('Kollega oplysninger'!C465=\"\",\"\",'Kollega oplysninger'!C465)","v":""},null,null,null,null,null,null,null,null,null,{"$f":"IF('Kollega oplysninger'!M465=\"\",\"\",'Kollega oplysninger'!M465)","v":""}]
[null,{"$f":"IF('Kollega oplysninger'!B466=\"\",\"\",'Kollega oplysninger'!B466)","v":""},{"$f":"IF('Kollega oplysninger'!C466=\"\",\"\",'Kollega oplysninger'!C466)","v":""},null,null,null,null,null,null,null,null,null,{"$f":"IF('Kollega oplysninger'!M466=\"\",\"\",'Kollega oplysninger'!M466)","v":""}]
[null,{"$f":"IF('Kollega oplysninger'!B467=\"\",\"\",'Kollega oplysninger'!B467)","v":""},{"$f":"IF('Kollega oplysninger'!C467=\"\",\"\",'Kollega oplysninger'!C467)","v":""},null,null,null,null,null,null,null,null,null,{"$f":"IF('Kollega oplysninger'!M467=\"\",\"\",'Kollega oplysninger'!M467)","v":""}]
[null,{"$f":"IF('Kollega oplysninger'!B468=\"\",\"\",'Kollega oplysninger'!B468)","v":""},{"$f":"IF('Kollega oplysninger'!C468=\"\",\"\",'Kollega oplysninger'!C468)","v":""},null,null,null,null,null,null,null,null,null,{"$f":"IF('Kollega oplysninger'!M468=\"\",\"\",'Kollega oplysninger'!M468)","v":""}]
[null,{"$f":"IF('Kollega oplysninger'!B469=\"\",\"\",'Kollega oplysninger'!B469)","v":""},{"$f":"IF('Kollega oplysninger'!C469=\"\",\"\",'Kollega oplysninger'!C469)","v":""},null,null,null,null,null,null,null,null,null,{"$f":"IF('Kollega oplysninger'!M469=\"\",\"\",'Kollega oplysninger'!M469)","v":""}]
[null,{"$f":"IF('Kollega oplysninger'!B470=\"\",\"\",'Kollega oplysninger'!B470)","v":""},{"$f":"IF('Kollega oplysninger'!C470=\"\",\"\",'Kollega oplysninger'!C470)","v":""},null,null,null,null,null,null,null,null,null,{"$f":"IF('Kollega oplysninger'!M470=\"\",\"\",'Kollega oplysninger'!M470)","v":""}]
[null,{"$f":"IF('Kollega oplysninger'!B471=\"\",\"\",'Kollega oplysninger'!B471)","v":""},{"$f":"IF('Kollega oplysninger'!C471=\"\",\"\",'Kollega oplysninger'!C471)","v":""},null,null,null,null,null,null,null,null,null,{"$f":"IF('Kollega oplysninger'!M471=\"\",\"\",'Kollega oplysninger'!M471)","v":""}]
[null,{"$f":"IF('Kollega oplysninger'!B472=\"\",\"\",'Kollega oplysninger'!B472)","v":""},{"$f":"IF('Kollega oplysninger'!C472=\"\",\"\",'Kollega oplysninger'!C472)","v":""},null,null,null,null,null,null,null,null,null,{"$f":"IF('Kollega oplysninger'!M472=\"\",\"\",'Kollega oplysninger'!M472)","v":""}]
[null,{"$f":"IF('Kollega oplysninger'!B473=\"\",\"\",'Kollega oplysninger'!B473)","v":""},{"$f":"IF('Kollega oplysninger'!C473=\"\",\"\",'Kollega oplysninger'!C473)","v":""},null,null,null,null,null,null,null,null,null,{"$f":"IF('Kollega oplysninger'!M473=\"\",\"\",'Kollega oplysninger'!M473)","v":""}]
[null,{"$f":"IF('Kollega oplysninger'!B474=\"\",\"\",'Kollega oplysninger'!B474)","v":""},{"$f":"IF('Kollega oplysninger'!C474=\"\",\"\",'Kollega oplysninger'!C474)","v":""},null,null,null,null,null,null,null,null,null,{"$f":"IF('Kollega oplysninger'!M474=\"\",\"\",'Kollega oplysninger'!M474)","v":""}]
[null,{"$f":"IF('Kollega oplysninger'!B475=\"\",\"\",'Kollega oplysninger'!B475)","v":""},{"$f":"IF('Kollega oplysninger'!C475=\"\",\"\",'Kollega oplysninger'!C475)","v":""},null,null,null,null,null,null,null,null,null,{"$f":"IF('Kollega oplysninger'!M475=\"\",\"\",'Kollega oplysninger'!M475)","v":""}]
[null,{"$f":"IF('Kollega oplysninger'!B476=\"\",\"\",'Kollega oplysninger'!B476)","v":""},{"$f":"IF('Kollega oplysninger'!C476=\"\",\"\",'Kollega oplysninger'!C476)","v":""},null,null,null,null,null,null,null,null,null,{"$f":"IF('Kollega oplysninger'!M476=\"\",\"\",'Kollega oplysninger'!M476)","v":""}]
[null,{"$f":"IF('Kollega oplysninger'!B477=\"\",\"\",'Kollega oplysninger'!B477)","v":""},{"$f":"IF('Kollega oplysninger'!C477=\"\",\"\",'Kollega oplysninger'!C477)","v":""},null,null,null,null,null,null,null,null,null,{"$f":"IF('Kollega oplysninger'!M477=\"\",\"\",'Kollega oplysninger'!M477)","v":""}]
[null,{"$f":"IF('Kollega oplysninger'!B478=\"\",\"\",'Kollega oplysninger'!B478)","v":""},{"$f":"IF('Kollega oplysninger'!C478=\"\",\"\",'Kollega oplysninger'!C478)","v":""},null,null,null,null,null,null,null,null,null,{"$f":"IF('Kollega oplysninger'!M478=\"\",\"\",'Kollega oplysninger'!M478)","v":""}]
[null,{"$f":"IF('Kollega oplysninger'!B479=\"\",\"\",'Kollega oplysninger'!B479)","v":""},{"$f":"IF('Kollega oplysninger'!C479=\"\",\"\",'Kollega oplysninger'!C479)","v":""},null,null,null,null,null,null,null,null,null,{"$f":"IF('Kollega oplysninger'!M479=\"\",\"\",'Kollega oplysninger'!M479)","v":""}]
[null,{"$f":"IF('Kollega oplysninger'!B480=\"\",\"\",'Kollega oplysninger'!B480)","v":""},{"$f":"IF('Kollega oplysninger'!C480=\"\",\"\",'Kollega oplysninger'!C480)","v":""},null,null,null,null,null,null,null,null,null,{"$f":"IF('Kollega oplysninger'!M480=\"\",\"\",'Kollega oplysninger'!M480)","v":""}]
[null,{"$f":"IF('Kollega oplysninger'!B481=\"\",\"\",'Kollega oplysninger'!B481)","v":""},{"$f":"IF('Kollega oplysninger'!C481=\"\",\"\",'Kollega oplysninger'!C481)","v":""},null,null,null,null,null,null,null,null,null,{"$f":"IF('Kollega oplysninger'!M481=\"\",\"\",'Kollega oplysninger'!M481)","v":""}]
[null,{"$f":"IF('Kollega oplysninger'!B482=\"\",\"\",'Kollega oplysninger'!B482)","v":""},{"$f":"IF('Kollega oplysninger'!C482=\"\",\"\",'Kollega oplysninger'!C482)","v":""},null,null,null,null,null,null,null,null,null,{"$f":"IF('Kollega oplysninger'!M482=\"\",\"\",'Kollega oplysninger'!M482)","v":""}]
[null,{"$f":"IF('Kollega oplysninger'!B483=\"\",\"\",'Kollega oplysninger'!B483)","v":""},{"$f":"IF('Kollega oplysninger'!C483=\"\",\"\",'Kollega oplysninger'!C483)","v":""},null,null,null,null,null,null,null,null,null,{"$f":"IF('Kollega oplysninger'!M483=\"\",\"\",'Kollega oplysninger'!M483)","v":""}]
[null,{"$f":"IF('Kollega oplysninger'!B484=\"\",\"\",'Kollega oplysninger'!B484)","v":""},{"$f":"IF('Kollega oplysninger'!C484=\"\",\"\",'Kollega oplysninger'!C484)","v":""},null,null,null,null,null,null,null,null,null,{"$f":"IF('Kollega oplysninger'!M484=\"\",\"\",'Kollega oplysninger'!M484)","v":""}]
[null,{"$f":"IF('Kollega oplysninger'!B485=\"\",\"\",'Kollega oplysninger'!B485)","v":""},{"$f":"IF('Kollega oplysninger'!C485=\"\",\"\",'Kollega oplysninger'!C485)","v":""},null,null,null,null,null,null,null,null,null,{"$f":"IF('Kollega oplysninger'!M485=\"\",\"\",'Kollega oplysninger'!M485)","v":""}]
[null,{"$f":"IF('Kollega oplysninger'!B486=\"\",\"\",'Kollega oplysninger'!B486)","v":""},{"$f":"IF('Kollega oplysninger'!C486=\"\",\"\",'Kollega oplysninger'!C486)","v":""},null,null,null,null,null,null,null,null,null,{"$f":"IF('Kollega oplysninger'!M486=\"\",\"\",'Kollega oplysninger'!M486)","v":""}]
[null,{"$f":"IF('Kollega oplysninger'!B487=\"\",\"\",'Kollega oplysninger'!B487)","v":""},{"$f":"IF('Kollega oplysninger'!C487=\"\",\"\",'Kollega oplysninger'!C487)","v":""},null,null,null,null,null,null,null,null,null,{"$f":"IF('Kollega oplysninger'!M487=\"\",\"\",'Kollega oplysninger'!M487)","v":""}]
[null,{"$f":"IF('Kollega oplysninger'!B488=\"\",\"\",'Kollega oplysninger'!B488)","v":""},{"$f":"IF('Kollega oplysninger'!C488=\"\",\"\",'Kollega oplysninger'!C488)","v":""},null,null,null,null,null,null,null,null,null,{"$f":"IF('Kollega oplysninger'!M488=\"\",\"\",'Kollega oplysninger'!M488)","v":""}]
[null,{"$f":"IF('Kollega oplysninger'!B489=\"\",\"\",'Kollega oplysninger'!B489)","v":""},{"$f":"IF('Kollega oplysninger'!C489=\"\",\"\",'Kollega oplysninger'!C489)","v":""},null,null,null,null,null,null,null,null,null,{"$f":"IF('Kollega oplysninger'!M489=\"\",\"\",'Kollega oplysninger'!M489)","v":""}]
[null,{"$f":"IF('Kollega oplysninger'!B490=\"\",\"\",'Kollega oplysninger'!B490)","v":""},{"$f":"IF('Kollega oplysninger'!C490=\"\",\"\",'Kollega oplysninger'!C490)","v":""},null,null,null,null,null,null,null,null,null,{"$f":"IF('Kollega oplysninger'!M490=\"\",\"\",'Kollega oplysninger'!M490)","v":""}]
[null,{"$f":"IF('Kollega oplysninger'!B491=\"\",\"\",'Kollega oplysninger'!B491)","v":""},{"$f":"IF('Kollega oplysninger'!C491=\"\",\"\",'Kollega oplysninger'!C491)","v":""},null,null,null,null,null,null,null,null,null,{"$f":"IF('Kollega oplysninger'!M491=\"\",\"\",'Kollega oplysninger'!M491)","v":""}]
[null,{"$f":"IF('Kollega oplysninger'!B492=\"\",\"\",'Kollega oplysninger'!B492)","v":""},{"$f":"IF('Kollega oplysninger'!C492=\"\",\"\",'Kollega oplysninger'!C492)","v":""},null,null,null,null,null,null,null,null,null,{"$f":"IF('Kollega oplysninger'!M492=\"\",\"\",'Kollega oplysninger'!M492)","v":""}]
[null,{"$f":"IF('Kollega oplysninger'!B493=\"\",\"\",'Kollega oplysninger'!B493)","v":""},{"$f":"IF('Kollega oplysninger'!C493=\"\",\"\",'Kollega oplysninger'!C493)","v":""},null,null,null,null,null,null,null,null,null,{"$f":"IF('Kollega oplysninger'!M493=\"\",\"\",'Kollega oplysninger'!M493)","v":""}]
[null,{"$f":"IF('Kollega oplysninger'!B494=\"\",\"\",'Kollega oplysninger'!B494)","v":""},{"$f":"IF('Kollega oplysninger'!C494=\"\",\"\",'Kollega oplysninger'!C494)","v":""},null,null,null,null,null,null,null,null,null,{"$f":"IF('Kollega oplysninger'!M494=\"\",\"\",'Kollega oplysninger'!M494)","v":""}]
[null,{"$f":"IF('Kollega oplysninger'!B495=\"\",\"\",'Kollega oplysninger'!B495)","v":""},{"$f":"IF('Kollega oplysninger'!C495=\"\",\"\",'Kollega oplysninger'!C495)","v":""},null,null,null,null,null,null,null,null,null,{"$f":"IF('Kollega oplysninger'!M495=\"\",\"\",'Kollega oplysninger'!M495)","v":""}]
[null,{"$f":"IF('Kollega oplysninger'!B496=\"\",\"\",'Kollega oplysninger'!B496)","v":""},{"$f":"IF('Kollega oplysninger'!C496=\"\",\"\",'Kollega oplysninger'!C496)","v":""},null,null,null,null,null,null,null,null,null,{"$f":"IF('Kollega oplysninger'!M496=\"\",\"\",'Kollega oplysninger'!M496)","v":""}]
[null,{"$f":"IF('Kollega oplysninger'!B497=\"\",\"\",'Kollega oplysninger'!B497)","v":""},{"$f":"IF('Kollega oplysninger'!C497=\"\",\"\",'Kollega oplysninger'!C497)","v":""},null,null,null,null,null,null,null,null,null,{"$f":"IF('Kollega oplysninger'!M497=\"\",\"\",'Kollega oplysninger'!M497)","v":""}]
[null,{"$f":"IF('Kollega oplysninger'!B498=\"\",\"\",'Kollega oplysninger'!B498)","v":""},{"$f":"IF('Kollega oplysninger'!C498=\"\",\"\",'Kollega oplysninger'!C498)","v":""},null,null,null,null,null,null,null,null,null,{"$f":"IF('Kollega oplysninger'!M498=\"\",\"\",'Kollega oplysninger'!M498)","v":""}]
[null,{"$f":"IF('Kollega oplysninger'!B499=\"\",\"\",'Kollega oplysninger'!B499)","v":""},{"$f":"IF('Kollega oplysninger'!C499=\"\",\"\",'Kollega oplysninger'!C499)","v":""},null,null,null,null,null,null,null,null,null,{"$f":"IF('Kollega oplysninger'!M499=\"\",\"\",'Kollega oplysninger'!M499)","v":""}]
[null,{"$f":"IF('Kollega oplysninger'!B500=\"\",\"\",'Kollega oplysninger'!B500)","v":""},{"$f":"IF('Kollega oplysninger'!C500=\"\",\"\",'Kollega oplysninger'!C500)","v":""},null,null,null,null,null,null,null,null,null,{"$f":"IF('Kollega oplysninger'!M500=\"\",\"\",'Kollega oplysninger'!M500)","v":""}]
[null,{"$f":"IF('Kollega oplysninger'!B501=\"\",\"\",'Kollega oplysninger'!B501)","v":""},{"$f":"IF('Kollega oplysninger'!C501=\"\",\"\",'Kollega oplysninger'!C501)","v":""},null,null,null,null,null,null,null,null,null,{"$f":"IF('Kollega oplysninger'!M501=\"\",\"\",'Kollega oplysninger'!M501)","v":""}]
[null,{"$f":"IF('Kollega oplysninger'!B502=\"\",\"\",'Kollega oplysninger'!B502)","v":""},{"$f":"IF('Kollega oplysninger'!C502=\"\",\"\",'Kollega oplysninger'!C502)","v":""},null,null,null,null,null,null,null,null,null,{"$f":"IF('Kollega oplysninger'!M502=\"\",\"\",'Kollega oplysninger'!M502)","v":""}]
[null,{"$f":"IF('Kollega oplysninger'!B503=\"\",\"\",'Kollega oplysninger'!B503)","v":""},{"$f":"IF('Kollega oplysninger'!C503=\"\",\"\",'Kollega oplysninger'!C503)","v":""},null,null,null,null,null,null,null,null,null,{"$f":"IF('Kollega oplysninger'!M503=\"\",\"\",'Kollega oplysninger'!M503)","v":""}]
[null,{"$f":"IF('Kollega oplysninger'!B504=\"\",\"\",'Kollega oplysninger'!B504)","v":""},{"$f":"IF('Kollega oplysninger'!C504=\"\",\"\",'Kollega oplysninger'!C504)","v":""},null,null,null,null,null,null,null,null,null,{"$f":"IF('Kollega oplysninger'!M504=\"\",\"\",'Kollega oplysninger'!M504)","v":""}]
[null,{"$f":"IF('Kollega oplysninger'!B505=\"\",\"\",'Kollega oplysninger'!B505)","v":""},{"$f":"IF('Kollega oplysninger'!C505=\"\",\"\",'Kollega oplysninger'!C505)","v":""},null,null,null,null,null,null,null,null,null,{"$f":"IF('Kollega oplysninger'!M505=\"\",\"\",'Kollega oplysninger'!M505)","v":""}]

{"sheet":"Økonomisk råderum","index":4,"n_rows":44,"n_cols":2,"rows_kept":44,"cut":false,"hidden":false,"merged":[]}
[]
[null,"Økonomisk råderum"]
[]
[null,"Samlet lønsum"]
[]
[]
[]
[]
[]
[]
[]
[null,"Forlodsfinancering (Forhåndsaftaler)"]
[]
[]
[]
[]
[]
[]
[]
[null,"Forskellen mellem budgetteret løn og udmøntet løn (Tilbageløbsmidler)"]
[]
[]
[]
[]
[]
[]
[]
[null,"Lønmidler, som er gået fra forlodsfinancering til centralt forhandlet løn"]
[]
[]
[]
[]
[]
[]
[]
[null,"Evt. tilgodehavende fra tidligere forhandlinger"]
[]
[]
[]
[]
[]
[]
[]
[null,"Samlet løn %"]

{"sheet":"Hjælpeark til beregning","index":5,"n_rows":35,"n_cols":14,"rows_kept":35,"cut":false,"hidden":false,"merged":[[18,13,23,16],[3,26,4,26],[6,13,9,16],[10,13,15,16],[1,4,1,5],[2,9,2,10],[2,12,2,14],[2,16,2,18],[2,20,2,21]]}
[]
[null,null,null,null,"Regulerings-%:   ",null,1.4285110000000001,"(lønmagasinets side 3)"]
[]
[]
[null,"Lønsammensætning",null,"Timetal:",35]
[]
[null,null,null,"Kr. på  ","Type","centralt ","ikke","omregnet","Andel af",null,"Lokalløn","Lokalløn",null,"Dette ark er et ark der kan hjælpe dig i at beregne lokalløns-procenten for de enkelte kolleger.  "]
[null,"Beskrivelse","Løntrin","lønsedlen","g/k/f/r","lokalt c/l","Reduceret","2000-03-31","lokal løn","Løn i alt","Kvalifikation","Funktion"]
[null,"Grundløn",22,23421,"g","c",null,{"$f":"IF(G9=\"\",IF(C9=\"\",IF(D9=0,\"\",IF($E$5>0,D9/$E$5*37*12/$G$2,\"\")),\"\"),IF(C9=\"\",IF(D9=0,\"\",IF($E$5>0,D9/37*37*12/$G$2,\"\")),\"\"))","v":""},{"$f":"IF(D9=\"\",\"\",IF(F9=\"l\",D9,\"\"))","v":""},{"$f":"IF(D9=\"\",\"\",D9)","v":23421},{"$f":"IF(I9=\"\",\"\",IF(E9=\"k\",D9,\"\"))","v":""},{"$f":"IF(I9=\"\",\"\",IF(E9=\"f\",I9,\"\"))","v":""}]
[null,"Erfaring",1,433.42,"k","c",null,"","",433.42,"",{"$f":"IF(I10=\"\",\"\",IF(E10=\"f\",I10,\"\"))","v":""}]
[null,"Tillidsrepræsentant",null,714.26,"f","l","x",6000.0378015990063,714.26,714.26,"",714.26,null,"Når du har beregnet procenter for den næste kollega skal du slette alle de indtastninger der er i det område markeret med grønt, så er du klar til at taste den næste kollega. "]
[null,"Fleksibilitet",null,433.42,"k","l",null,3848.9324098409361,433.42,433.42,433.42,""]
[null,null,null,null,null,null,null,"","","","",""]
[null,null,null,null,null,null,null,"","","","",""]
[null,null,null,null,null,null,null,"","","","",""]
[null,null,null,null,null,null,null,"","","","",""]
[null,null,null,null,null,null,null,"","","","",""]
[null,null,null,null,null,null,null,"","","","",""]
[null,null,null,null,null,null,null,"","","","","",null,"OBS! hvis du klikker her sletter du alle data i dette ark!"]
[null,null,null,null,null,null,null,"","","","",""]
[null,null,null,null,null,null,null,"","","","",""]
[null,null,null,null,null,null,null,"","","","",""]
[null,null,null,null,null,null,null,{"$f":"IF(C23=\"\",IF(D23=0,\"\",IF($E$5>0,D23/$E$5*37*12/$G$2,\"\")),\"\")","v":""},"","","",""]
[null,null,null,null,null,null,null,"","","","",""]
[null,null,null,null,null,null,null,"","","","",""]
[null,null,null,null,null,null,null,"","","","",""]
[null,null,null,null,null,null,null,"","","","",""]
[null,null,null,null,null,null,null,"","","","",""]
[null,null,null,null,null,null,null,"","","","",""]
[null,null,null,null,null,null,null,"","","","",""]
[null,null,null,null,null,null,null,"","","","",""]
[null,null,null,null,null,null,null,"","","","",""]
[null,null,null,null,null,null,null,"","","","",""]
[null,"I alt",null,null,null,null,null,"",{"$f":"SUM(I9:I33)","v":1147.68},{"$f":"SUM(J9:J33)","v":25002.099999999995},{"$f":"SUM(K9:K33)","v":433.42},714.26]
[null,"Lokallønprocenten",null,null,null,null,null,null,{"$f":"IF(I34=0,\"\",I34/J34*100)","v":4.5903344119094012},null,{"$f":"IF(K34=0,\"\",K34/J34*100)","v":1.7335343831118191},{"$f":"IF(L34=0,\"\",L34/J34*100)","v":2.8568000287975814}]

{"sheet":"NULSTIL","index":6,"n_rows":17,"n_cols":4,"rows_kept":17,"cut":false,"hidden":false,"merged":[[14,3,15,10],[16,3,16,10]]}
[]
[]
[]
[]
[]
[]
[]
[]
[]
[]
[]
[]
[]
[]
[null,null,null,"OBS!!! Vær helt sikker på at du vil nulstille arket inden du trykker på knappen "]
[]
[null,null,null,"ALLE INDTASTEDE DATA VIL GÅ TABT!"]